{"text_format":"1","workbook":"xlsx","n_sheets":30,"sheets":["Home","Invul_Basis_Alg","Invul_Basis_Materialen","Invul_Basis_Bewerking","Invul_Basis_Distributie","Invul_Basis_Gebruik","Invul_Basis_EindeL","Resultaten_Basis","Graph_Basis","Rekensheet NN-Basis","Invul_Alt_Alg","Invul_Alt_Materialen","Invul_Alt_Bewerking","Invul_Alt_Distributie","Invul_Alt_Gebruik","Invul_Alt_EindeL","Resultaten_Alt","Graph_Alt","Rekensheet NN-Alt","Resultaten vergelijken","Informatie_Tool","Informatie_IntroLCA","Informatie_ImpactCat","Informatie_Ontwik","Lijsten_Tekst","MKI","MI materialen","Lijsten NN","Forfaitaire afvalscenario's","Toelichting_milieu_effecten"],"not_rendered":{"charts":8,"images":34,"macros":1,"external_links":0,"defined_names":16,"comments":0,"pivot_tables":0},"unopened":[],"bounds":{"document_bytes":16777216,"sheet_cells":100000,"rows_first":2000,"rows_last":500,"rows_between":2000,"halvings":0,"cell_chars":16384,"cell_head_chars":4096},"cells_cut":0,"cells_raw":0,"read":"whole","date_system":"1900"}

{"sheet":"Home","index":0,"n_rows":88,"n_cols":24,"rows_kept":88,"cut":false,"hidden":false,"merged":[[37,17,37,21],[39,23,53,27],[37,23,37,27],[39,17,53,21],[11,5,12,12],[16,5,17,12],[32,5,51,13],[23,5,25,13],[27,5,29,13],[10,17,23,26],[74,5,84,13],[55,23,55,27],[57,23,71,27],[61,5,71,13],[57,5,58,12],[76,17,77,22],[55,17,55,21],[57,17,71,21],[73,17,74,22]]}
[]
[null,null,null,null,{"$f":"UPPER(IF(F58=0, \"Productnaam\", F58))","v":"PRODUCTNAAM"}]
[null,null,null,null,{"$f":"UPPER(IF(F12=0, \"Naam producent\", F12))","v":"NAAM PRODUCENT"}]
[]
[]
[]
[]
[]
[null,null,null,null,null,"Document gegevens",null,null,null,null,null,null,null,null,null,null,null,"MEET DE IMPACT VAN JE PRODUCT OF ORGANISATIE"]
[]
[null,null,null,null,null,"Producent",null,null,null,null,null,null,null,null,null,null,null,"Deze tool kan worden gebruikt om een schatting te maken van de milieu-impact en circulariteit van uw product en deze eventueel vergelijken met een alternatief product. Door te spelen met de variabelen kunt u inzicht verkrijgen in de effecten van materiaalkeuzes en interventies. Wat is het effect als u besluit om gebruikte producten terug te nemen voor hergebruik? Houd er rekening mee dat het slechts een indicatieve berekening is, dus denk niet te precies!\n\nWilt u met grotere precieze rekenen aan de milieu-impact van uw product? \nDan kunt u kiezen voor een uitgebreide LCA of EPD conform de geldende normen. Neemt u hiervoor contact op met een gespecialiseerd adviseur.\n\nDeze pagina verteld hoe u direct aan de slag kan gaan met de analyse op basis van uw eigen gegevens. Specificaties en beperkingen van de tool zijn op de 'informatie'-pagina beschreven."]
[]
[]
[]
[]
[null,null,null,null,null,"Invuller document"]
[]
[]
[]
[]
[]
[]
[null,null,null,null,null,"Doel"]
[null,null,null,null,null,"De tool kan voor verschillende doeleinden gebruikt worden.  Deze tool wordt gebruikt om:"]
[]
[null,null,null,null,null,null,null,null,null,null,null,null,null,null,null,null,null,"Hoe werkt het?"]
[]
[null,null,null,null,null,"Inzicht te krijgen in het verschil in milieu-impact tussen twee ontwerpvarianten"]
[]
[]
[]
[null,null,null,null,null,"Uitleg gebruik tool"]
[null,null,null,null,null,{"$f":"VLOOKUP(F28,Lijsten_Tekst!H2:I7,2,FALSE)","v":"Wanneer u inzicht wilt krijgen in de verschillen in milieu-impact tussen twee varianten dient u de tool op de volgende manier te gebruiken:\n\n- Vul de gegevens van het product in op de invulpagina van het 'basis' product. Wees zo volledig mogelijk en probeer dit te doen voor alle levenscyclusfasen. Op verschillende plekken wordt u geholpen door de standaard waarden. Voor een vergelijking is het belangrijk om goed te kijken naar de levensduur/gebruiksduur. Dit kunt u invullen op de algemene informatie-pagina van het 'basis' product.\n\n- Op de resultaten-pagina van het 'basis' product kunt u de resultaten op basis van de door u ingevulde gegevens zien.\n\n- Vul de gegevens van de variant van het basis product in op de invulpagina van het 'alternatief'.\n\n- Op de resultaten-pagina van het 'alternatief' kunt u de resultaten op basis van de door u ingevulde gegevens zien.\n\n- Ga naar de vergelijken-pagina. Daar kunt u inzicht krijgen in de verschillen tussen de ontwerpvarianten wat betreft milieu-impact."}]
[]
[]
[]
[]
[null,null,null,null,null,null,null,null,null,null,null,null,null,null,null,null,null,"Invulpagina",null,null,null,null,null,"Resultaten"]
[]
[null,null,null,null,null,null,null,null,null,null,null,null,null,null,null,null,null,"Op de 'invulpagina' kunnen de gegevens over uw product worden ingevult. Deze gegevens worden gebruikt voor het bepalen van de milieu-impact van uw product. Deze pagina is zowel beschikbaar voor het basis product als het alternatief, zodat twee producten vergeleken kunnen worden. De gegevens voor de volgende levenscyclusfasen kunnen worden ingevuld:\n- Materialen\n- Bewerking\n- Distributie\n- Gebruik\n- Einde levensfase",null,null,null,null,null,"Op de 'resultaten'-pagina kunnen de resultaten van de milieu-analyse worden ingezien, dit betreft;\n- De milieu-impact uitgedrukt in de \n  Milieu Kosten Indicator (MKI)\n- De Circulariteits Indicator (MCI)\n- De herkomst van de milieu-impact\n      - per levenscyclusfase\n      - per impact categorie\n- De milieuprofielen\n\nDe resultaten zijn gebaseerd op de zelf ingevulde gegevens in de invulpagina. De resultaten pagina is beschikbaar voor zowel het basis product als het alternatief."]
[]
[]
[]
[]
[]
[]
[]
[]
[]
[]
[]
[]
[]
[]
[null,null,null,null,null,"Product"]
[null,null,null,null,null,null,null,null,null,null,null,null,null,null,null,null,null,"Vergelijken",null,null,null,null,null,"Informatie"]
[null,null,null,null,null,"Productnaam"]
[null,null,null,null,null,null,null,null,null,null,null,null,null,null,null,null,null,"Op de 'vergelijken' -pagina kunnen de resultaten van milieu-analyse voor het basisproduct gemakkelijk met het alternatieve ontwerpscenario worden vergeleken. Dit wordt gedaan aan de hand van;\n- De milieu-impact uitgedrukt in de \n  Milieu Kosten Indicator\n      - voor het totale product\n      - over een levensduur/gebruiksduur\n- De CirculariteitsIndicator\n- De herkomst van de milieu-impact\n      - per levenscyclusfase\n      - per impact categorie\n",null,null,null,null,null,"Op de 'informatie'-pagina wordt er meer achtergrondinformatie gegeven over:\n- De tool\n      - Hoe werkt het?\n      - Specificaties en beperkingen\n      - Legenda\n- Introductie LCA\n- Impact categorieën\n- Ontwikkelaars"]
[]
[]
[null,null,null,null,null,"Beschrijving product"]
[null,null,null,null,null,"*Beschrijving product *"]
[]
[]
[]
[]
[]
[]
[]
[]
[]
[]
[]
[null,null,null,null,null,"Optioneel: Beschrijving alternatief",null,null,null,null,null,null,null,null,null,null,null,"Ontwikkeld door:"]
[null,null,null,null,null,"*Beschrijving alternatief*"]
[]
[]
[]
[]
[]
[]
[]
[]
[]
[]
[]
[]
[null,null,null,null,null,null,null,null,null,null,null,null,null,null,null,null,null,"Ondersteund door:"]

{"sheet":"Invul_Basis_Alg","index":1,"n_rows":13,"n_cols":9,"rows_kept":13,"cut":false,"hidden":false,"merged":[[9,8,9,12],[10,8,10,12],[11,8,11,12],[12,8,12,12]]}
[]
[null,null,null,null,{"$f":"Home!E2","v":"PRODUCTNAAM"}]
[null,null,null,null,{"$f":"Home!E3","v":"NAAM PRODUCENT"}]
[]
[]
[]
[]
[]
[null,null,null,null,null,"Algemene product informatie - Basis"]
[null,null,null,null,null,null,"Hoeveelheid","Eenheid","Uitleg"]
[null,null,null,null,null,"Producteenheid",null,"Leeg","…"]
[null,null,null,null,null,"Totaal aanbod project",null,{"$f":"H11","v":"Leeg"},"…"]
[null,null,null,null,null,"Levensduur/Gebruiksduur",null,"Leeg","…"]

{"sheet":"Invul_Basis_Materialen","index":2,"n_rows":35,"n_cols":21,"rows_kept":35,"cut":false,"hidden":false,"merged":[[13,17,13,18],[10,17,10,18],[11,9,11,12],[12,9,12,12],[13,9,13,12],[11,13,11,16],[12,13,12,16],[10,9,10,12],[10,13,10,16],[13,13,13,16],[11,17,11,18],[12,17,12,18],[17,17,17,18],[18,9,18,12],[18,13,18,16],[18,17,18,18],[14,17,14,18],[15,9,15,12],[15,13,15,16],[15,17,15,18],[16,9,16,12],[16,13,16,16],[16,17,16,18],[14,9,14,12],[14,13,14,16],[17,9,17,12],[17,13,17,16],[19,9,19,12],[19,13,19,16],[19,17,19,18],[20,9,20,12],[20,13,20,16],[20,17,20,18],[21,9,21,12],[21,13,21,16],[21,17,21,18],[22,9,22,12],[22,13,22,16],[22,17,22,18],[23,9,23,12],[23,13,23,16],[23,17,23,18],[24,9,24,12],[24,13,24,16],[24,17,24,18],[25,9,25,12],[25,13,25,16],[25,17,25,18],[26,9,26,12],[26,13,26,16],[26,17,26,18],[27,17,27,18],[28,9,28,12],[28,13,28,16],[28,17,28,18],[31,9,31,16],[31,17,31,18],[29,9,29,12],[29,13,29,16],[29,17,29,18],[30,9,30,12],[30,13,30,16],[30,17,30,18],[27,9,27,12],[27,13,27,16]]}
[]
[null,null,null,null,{"$f":"Home!E2","v":"PRODUCTNAAM"}]
[null,null,null,null,{"$f":"Home!E3","v":"NAAM PRODUCENT"}]
[]
[]
[]
[]
[]
[null,null,null,null,null,"Gebruikte materialen - Basis"]
[null,null,null,null,null,"In deze levenscyclusfase worden de gebruikte materialen meegenomen. Vul deze tabel in aan de hand van de BOM van het product. Houd rekening met productieverlies. Indien een materiaal of massa niet bekend is maak dan een beargumenteerde schatting."]
[null,null,null,null,null,"Materiaalgroep","Materiaal","Massa (kg)\ninclusief productieverlies","Secundaire content*; Standaard gegevens of eigen gegevens","Secundaire content* (%)\nStandaard gegevens",null,null,null,"Secundaire content* (%)\nEigen gegevens**",null,null,null,"Toelichting",null,null,"Milieu-impact\nper producteenheid"]
[null,null,null,null,null,"Leeg","Leeg",null,"Standaard",{"$f":"VLOOKUP($G12,'MI materialen'!$B$2:$AS$291,3,FALSE)","v":0},null,null,null,0,null,null,null,"…",null,null,{"$f":"'Rekensheet NN-Basis'!E14","v":0}]
[null,null,null,null,null,"Leeg","Leeg",0,"Standaard",{"$f":"VLOOKUP($G13,'MI materialen'!$B$2:$AS$291,3,FALSE)","v":0},null,null,null,0,null,null,null,"…",null,null,{"$f":"'Rekensheet NN-Basis'!E15","v":0}]
[null,null,null,null,null,"Leeg","Leeg",0,"Standaard",{"$f":"VLOOKUP($G14,'MI materialen'!$B$2:$AS$291,3,FALSE)","v":0},null,null,null,0,null,null,null,"…",null,null,{"$f":"'Rekensheet NN-Basis'!E16","v":0}]
[null,null,null,null,null,"Leeg","Leeg",0,"Standaard",{"$f":"VLOOKUP($G15,'MI materialen'!$B$2:$AS$291,3,FALSE)","v":0},null,null,null,0,null,null,null,"…",null,null,{"$f":"'Rekensheet NN-Basis'!E17","v":0}]
[null,null,null,null,null,"Leeg","Leeg",0,"Standaard",{"$f":"VLOOKUP($G16,'MI materialen'!$B$2:$AS$291,3,FALSE)","v":0},null,null,null,0,null,null,null,"…",null,null,{"$f":"'Rekensheet NN-Basis'!E18","v":0}]
[null,null,null,null,null,"Leeg","Leeg",0,"Standaard",{"$f":"VLOOKUP($G17,'MI materialen'!$B$2:$AS$291,3,FALSE)","v":0},null,null,null,0,null,null,null,"…",null,null,{"$f":"'Rekensheet NN-Basis'!E19","v":0}]
[null,null,null,null,null,"Leeg","Leeg",0,"Standaard",{"$f":"VLOOKUP($G18,'MI materialen'!$B$2:$AS$291,3,FALSE)","v":0},null,null,null,0,null,null,null,"…",null,null,{"$f":"'Rekensheet NN-Basis'!E20","v":0}]
[null,null,null,null,null,"Leeg","Leeg",0,"Standaard",{"$f":"VLOOKUP($G19,'MI materialen'!$B$2:$AS$291,3,FALSE)","v":0},null,null,null,0,null,null,null,"…",null,null,{"$f":"'Rekensheet NN-Basis'!E21","v":0}]
[null,null,null,null,null,"Leeg","Leeg",0,"Standaard",{"$f":"VLOOKUP($G20,'MI materialen'!$B$2:$AS$291,3,FALSE)","v":0},null,null,null,0,null,null,null,"…",null,null,{"$f":"'Rekensheet NN-Basis'!E22","v":0}]
[null,null,null,null,null,"Leeg","Leeg",0,"Standaard",{"$f":"VLOOKUP($G21,'MI materialen'!$B$2:$AS$291,3,FALSE)","v":0},null,null,null,0,null,null,null,"…",null,null,{"$f":"'Rekensheet NN-Basis'!E23","v":0}]
[null,null,null,null,null,"Leeg","Leeg",0,"Standaard",{"$f":"VLOOKUP($G22,'MI materialen'!$B$2:$AS$291,3,FALSE)","v":0},null,null,null,0,null,null,null,"…",null,null,{"$f":"'Rekensheet NN-Basis'!E24","v":0}]
[null,null,null,null,null,"Leeg","Leeg",0,"Standaard",{"$f":"VLOOKUP($G23,'MI materialen'!$B$2:$AS$291,3,FALSE)","v":0},null,null,null,0,null,null,null,"…",null,null,{"$f":"'Rekensheet NN-Basis'!E25","v":0}]
[null,null,null,null,null,"Leeg","Leeg",0,"Standaard",{"$f":"VLOOKUP($G24,'MI materialen'!$B$2:$AS$291,3,FALSE)","v":0},null,null,null,0,null,null,null,"…",null,null,{"$f":"'Rekensheet NN-Basis'!E26","v":0}]
[null,null,null,null,null,"Leeg","Leeg",0,"Standaard",{"$f":"VLOOKUP($G25,'MI materialen'!$B$2:$AS$291,3,FALSE)","v":0},null,null,null,0,null,null,null,"…",null,null,{"$f":"'Rekensheet NN-Basis'!E27","v":0}]
[null,null,null,null,null,"Leeg","Leeg",0,"Standaard",{"$f":"VLOOKUP($G26,'MI materialen'!$B$2:$AS$291,3,FALSE)","v":0},null,null,null,0,null,null,null,"…",null,null,{"$f":"'Rekensheet NN-Basis'!E28","v":0}]
[null,null,null,null,null,"Leeg","Leeg",0,"Standaard",{"$f":"VLOOKUP($G27,'MI materialen'!$B$2:$AS$291,3,FALSE)","v":0},null,null,null,0,null,null,null,"…",null,null,{"$f":"'Rekensheet NN-Basis'!E29","v":0}]
[null,null,null,null,null,"Leeg","Leeg",0,"Standaard",{"$f":"VLOOKUP($G28,'MI materialen'!$B$2:$AS$291,3,FALSE)","v":0},null,null,null,0,null,null,null,"…",null,null,{"$f":"'Rekensheet NN-Basis'!E30","v":0}]
[null,null,null,null,null,"Leeg","Leeg",0,"Standaard",{"$f":"VLOOKUP($G29,'MI materialen'!$B$2:$AS$291,3,FALSE)","v":0},null,null,null,0,null,null,null,"…",null,null,{"$f":"'Rekensheet NN-Basis'!E31","v":0}]
[null,null,null,null,null,"Leeg","Leeg",0,"Standaard",{"$f":"VLOOKUP($G30,'MI materialen'!$B$2:$AS$291,3,FALSE)","v":0},null,null,null,0,null,null,null,"…",null,null,{"$f":"'Rekensheet NN-Basis'!E32","v":0}]
[null,null,null,null,null,"Leeg","Leeg",0,"Standaard",{"$f":"VLOOKUP($G31,'MI materialen'!$B$2:$AS$291,3,FALSE)","v":0},null,null,null,0,null,null,null,"…",null,null,{"$f":"'Rekensheet NN-Basis'!E33","v":0}]
[null,null,null,null,null,"Totaal",null,{"$f":"'Rekensheet NN-Basis'!C34","v":0},null,{"$f":"'Rekensheet NN-Basis'!D34","v":{"$error":"#DIV/0!"}}]
[]
[null,null,null,null,null,"*secundaire content is de hoeveelheid gerecyclede of hergebruikte materialen in het product"]
[null,null,null,null,null,"**Eigen gegevens van secundaire content worden niet meegenomen in de berekening van de MKI-impact en milieuprofielen voor deze tool. Dit heeft alleen invloed op de circulariteitsindex"]

{"sheet":"Invul_Basis_Bewerking","index":3,"n_rows":19,"n_cols":12,"rows_kept":19,"cut":false,"hidden":false,"merged":[]}
[]
[null,null,null,null,{"$f":"Home!E2","v":"PRODUCTNAAM"}]
[null,null,null,null,{"$f":"Home!E3","v":"NAAM PRODUCENT"}]
[]
[]
[]
[]
[]
[null,null,null,null,null,"Bewerking - Basis"]
[null,null,null,null,null,"De milieu-impact voor de productieprocessen wordt berekend aan de hand van de energie die nodig is voor de productie. Geef daarom hier het gebruik van energiedragers van de meest veelomvattende bewerkingen weer per producteenheid."]
[null,null,null,null,null,"Energie intensieve processen","Energiedrager","Verbruik per producteenheid","Eenheid","Toelichting",null,"Milieu-impact\nper producteenheid"]
[null,null,null,null,null,"Naam proces 1","Leeg",0,{"$f":"VLOOKUP(G12,'Lijsten NN'!A15:B45,2,FALSE)","v":"-"},"…",null,{"$f":"'Rekensheet NN-Basis'!E38","v":0}]
[null,null,null,null,null,"Naam proces 2","Leeg",0,{"$f":"VLOOKUP(G13,'Lijsten NN'!A16:B46,2,FALSE)","v":"-"},"…",null,{"$f":"'Rekensheet NN-Basis'!E39","v":0}]
[null,null,null,null,null,"Naam proces 3","Leeg",0,{"$f":"VLOOKUP(G14,'Lijsten NN'!A17:B47,2,FALSE)","v":"-"},"…",null,{"$f":"'Rekensheet NN-Basis'!E40","v":0}]
[null,null,null,null,null,"Naam proces 4","Leeg",0,{"$f":"VLOOKUP(G15,'Lijsten NN'!A18:B48,2,FALSE)","v":"-"},"…",null,{"$f":"'Rekensheet NN-Basis'!E41","v":0}]
[null,null,null,null,null,"Naam proces 5","Leeg",0,{"$f":"VLOOKUP(G16,'Lijsten NN'!A19:B49,2,FALSE)","v":"-"},"…",null,{"$f":"'Rekensheet NN-Basis'!E42","v":0}]
[null,null,null,null,null,"Naam proces 6","Leeg",0,{"$f":"VLOOKUP(G17,'Lijsten NN'!A20:B50,2,FALSE)","v":"-"},"…",null,{"$f":"'Rekensheet NN-Basis'!E43","v":0}]
[null,null,null,null,null,"Naam proces 7","Leeg",0,{"$f":"VLOOKUP(G18,'Lijsten NN'!A21:B51,2,FALSE)","v":"-"},"…",null,{"$f":"'Rekensheet NN-Basis'!E44","v":0}]
[null,null,null,null,null,"Naam proces 8","Leeg",0,{"$f":"VLOOKUP(G19,'Lijsten NN'!A22:B52,2,FALSE)","v":"-"},"…",null,{"$f":"'Rekensheet NN-Basis'!E45","v":0}]

{"sheet":"Invul_Basis_Distributie","index":4,"n_rows":22,"n_cols":21,"rows_kept":22,"cut":false,"hidden":false,"merged":[[14,17,14,18],[15,9,15,12],[15,13,15,16],[15,17,15,18],[16,9,16,12],[16,13,16,16],[16,17,16,18],[14,9,14,12],[14,13,14,16],[19,13,19,16],[17,9,17,12],[17,13,17,16],[17,17,17,18],[18,9,18,12],[18,13,18,16],[18,17,18,18],[13,17,13,18],[10,17,10,18],[11,9,11,12],[11,13,11,16],[11,17,11,18],[12,9,12,12],[12,13,12,16],[12,17,12,18],[13,9,13,12],[13,13,13,16],[10,9,10,12],[10,13,10,16]]}
[]
[null,null,null,null,{"$f":"Home!E2","v":"PRODUCTNAAM"}]
[null,null,null,null,{"$f":"Home!E3","v":"NAAM PRODUCENT"}]
[]
[]
[]
[]
[]
[null,null,null,null,null,"Distributie - Basis"]
[null,null,null,null,null,"De ze levenscyclusfase beschrijft de milieu-impact die ontstaat bij het transport van de productielocatie(s) tot de plaats van gebruik. Dit zijn de kilometers om het product bij de projectlocatie te krijgen."]
[null,null,null,null,null,"Transportmethoden","Transport afstand;\nStandaard gegevens of eigen gegevens","Transport afstand (km)\nStandaard gegevens*","Transport afstand (km)\nEigen gegevens","Transportgewicht (kg)",null,null,null,"Aantal tonkilometers (tkm)",null,null,null,"Toelichting",null,null,"Milieu-impact\nper producteenheid"]
[null,null,null,null,null,"Leeg","Standaard",{"$f":"VLOOKUP(F12,'Lijsten NN'!C15:D45,2,FALSE)","v":0},0,0,null,null,null,{"$f":"IF(G12=\"standaard\",H12,I12)*J12/1000","v":0},null,null,null,"…",null,null,{"$f":"'Rekensheet NN-Basis'!E50","v":0}]
[null,null,null,null,null,"Leeg","Standaard",{"$f":"VLOOKUP(F13,'Lijsten NN'!C16:D46,2,FALSE)","v":0},0,0,null,null,null,{"$f":"IF(G13=\"standaard\",H13,I13)*J13/1000","v":0},null,null,null,"…",null,null,{"$f":"'Rekensheet NN-Basis'!E51","v":0}]
[null,null,null,null,null,"Leeg","Standaard",{"$f":"VLOOKUP(F14,'Lijsten NN'!C17:D47,2,FALSE)","v":0},0,0,null,null,null,0,null,null,null,"…",null,null,{"$f":"'Rekensheet NN-Basis'!E52","v":0}]
[null,null,null,null,null,"Leeg","Standaard",{"$f":"VLOOKUP(F15,'Lijsten NN'!C18:D48,2,FALSE)","v":0},0,0,null,null,null,0,null,null,null,"…",null,null,{"$f":"'Rekensheet NN-Basis'!E53","v":0}]
[null,null,null,null,null,"Leeg","Standaard",{"$f":"VLOOKUP(F16,'Lijsten NN'!C19:D49,2,FALSE)","v":0},0,0,null,null,null,0,null,null,null,"…",null,null,{"$f":"'Rekensheet NN-Basis'!E54","v":0}]
[null,null,null,null,null,"Leeg","Standaard",{"$f":"VLOOKUP(F17,'Lijsten NN'!C20:D50,2,FALSE)","v":0},0,0,null,null,null,0,null,null,null,"…",null,null,{"$f":"'Rekensheet NN-Basis'!E55","v":0}]
[null,null,null,null,null,"Leeg","Standaard",{"$f":"VLOOKUP(F18,'Lijsten NN'!C21:D51,2,FALSE)","v":0},0,0,null,null,null,0,null,null,null,"…",null,null,{"$f":"'Rekensheet NN-Basis'!E56","v":0}]
[null,null,null,null,null,"Leeg","Standaard",{"$f":"VLOOKUP(F19,'Lijsten NN'!C22:D52,2,FALSE)","v":0},0,0,null,null,null,0,null,null,null,"…",null,null,{"$f":"'Rekensheet NN-Basis'!E57","v":0}]
[null,null,null,null,null,"Totaal",null,null,null,null,null,null,null,{"$f":"SUM(N12:Q19)","v":0}]
[]
[null,null,null,null,null,"* Niet voor alle transportmethode zijn de standaardgegevens beschikbaar. In dat geval dient u uw eigen gegevens in te voeren. Het vakje zal rood kleuren wanneer dat het geval is."]

{"sheet":"Invul_Basis_Gebruik","index":5,"n_rows":15,"n_cols":11,"rows_kept":15,"cut":false,"hidden":false,"merged":[]}
[]
[null,null,null,null,{"$f":"Home!E2","v":"PRODUCTNAAM"}]
[null,null,null,null,{"$f":"Home!E3","v":"NAAM PRODUCENT"}]
[]
[]
[]
[]
[]
[null,null,null,null,null,"Energiegebruik door gebruiker van product - Basis"]
[null,null,null,null,null,"Tijdens de gebruiksfase kan het voorkomen dat het product energie nodig heeft. Hieronder kunt u - indien van toepassing- het energiegebruik door de gebruiker van het product per producteenheid specificeren."]
[null,null,null,null,null,"Energiedrager","Verbruik per producteenheid","Eenheid","Toelichting",null,"Milieu-impact\nper producteenheid"]
[null,null,null,null,null,"Leeg",0,{"$f":"VLOOKUP(F12,'Lijsten NN'!$E$25:$F$29,2,FALSE)","v":"-"},"…",null,{"$f":"'Rekensheet NN-Basis'!E61","v":0}]
[null,null,null,null,null,"Leeg",0,{"$f":"VLOOKUP(F13,'Lijsten NN'!$E$25:$F$29,2,FALSE)","v":"-"},"…",null,{"$f":"'Rekensheet NN-Basis'!E62","v":0}]
[null,null,null,null,null,"Leeg",0,{"$f":"VLOOKUP(F14,'Lijsten NN'!$E$25:$F$29,2,FALSE)","v":"-"},"…",null,{"$f":"'Rekensheet NN-Basis'!E63","v":0}]
[null,null,null,null,null,"Leeg",0,{"$f":"VLOOKUP(F15,'Lijsten NN'!$E$25:$F$29,2,FALSE)","v":"-"},"…",null,{"$f":"'Rekensheet NN-Basis'!E64","v":0}]

{"sheet":"Invul_Basis_EindeL","index":6,"n_rows":35,"n_cols":21,"rows_kept":35,"cut":false,"hidden":false,"merged":[[10,20,11,20],[10,5,11,5],[10,6,11,6],[10,7,11,7],[10,8,11,8],[10,13,10,17],[10,18,11,18],[10,9,10,12]]}
[]
[null,null,null,null,{"$f":"Home!E2","v":"PRODUCTNAAM"}]
[null,null,null,null,{"$f":"Home!E3","v":"NAAM PRODUCENT"}]
[]
[]
[]
[]
[]
[null,null,null,null,null,"Einde levensfase - Basis"]
[null,null,null,null,null,"Wat gebeurt er met de materialen nadat ze in dit product zijn gebruikt? U kunt deze levenscyclusfase beschrijven door het specifceren van het afvalscenario per materiaal."]
[null,null,null,null,null,"Materiaal","Massa (kg)","Percentage recycling / hergebruik","Afvalscenario;\nStandaard gegevens of eigen gegevens","Afvalscenario - Standaard gegevens",null,null,null,"Afvalscenario - Eigen gegevens",null,null,null,null,"Toelichting",null,"Milieu-impact\nper producteenheid"]
[null,null,null,null,null,null,null,null,null,"Stort","Verbranding","Recycling","Hergebruik*","Stort","Verbranding","Recycling","Hergebruik*","Check"]
[null,null,null,null,null,{"$f":"Invul_Basis_Materialen!G12","v":"Leeg"},{"$f":"Invul_Basis_Materialen!H12","v":0},{"$f":"IF(I13=\"standaard\",L13+M13,P13+Q13)*(IF(F13=\"Leeg\",0,1))","v":0},"Standaard",{"$f":"VLOOKUP($F13,'MI materialen'!$B$2:$AS$291,37,FALSE)","v":0},{"$f":"VLOOKUP($F13,'MI materialen'!$B$2:$AS$291,38,FALSE)","v":0},{"$f":"VLOOKUP($F13,'MI materialen'!$B$2:$AS$291,39,FALSE)","v":0},{"$f":"VLOOKUP($F13,'MI materialen'!$B$2:$AS$291,40,FALSE)","v":0},0,0,0,0,{"$f":"SUM(N13:Q13)","v":0},null,null,{"$f":"'Rekensheet NN-Basis'!E69","v":0}]
[null,null,null,null,null,{"$f":"Invul_Basis_Materialen!G13","v":"Leeg"},{"$f":"Invul_Basis_Materialen!H13","v":0},{"$f":"IF(I14=\"standaard\",L14+M14,P14+Q14)*(IF(F14=\"Leeg\",0,1))","v":0},"Standaard",{"$f":"VLOOKUP($F14,'MI materialen'!$B$2:$AS$291,37,FALSE)","v":0},{"$f":"VLOOKUP($F14,'MI materialen'!$B$2:$AS$291,38,FALSE)","v":0},{"$f":"VLOOKUP($F14,'MI materialen'!$B$2:$AS$291,39,FALSE)","v":0},{"$f":"VLOOKUP($F14,'MI materialen'!$B$2:$AS$291,40,FALSE)","v":0},0,0,0,0,{"$f":"SUM(N14:Q14)","v":0},null,null,{"$f":"'Rekensheet NN-Basis'!E74","v":0}]
[null,null,null,null,null,{"$f":"Invul_Basis_Materialen!G14","v":"Leeg"},{"$f":"Invul_Basis_Materialen!H14","v":0},0,"Standaard",{"$f":"VLOOKUP($F15,'MI materialen'!$B$2:$AS$291,37,FALSE)","v":0},{"$f":"VLOOKUP($F15,'MI materialen'!$B$2:$AS$291,38,FALSE)","v":0},{"$f":"VLOOKUP($F15,'MI materialen'!$B$2:$AS$291,39,FALSE)","v":0},{"$f":"VLOOKUP($F15,'MI materialen'!$B$2:$AS$291,40,FALSE)","v":0},0,0,0,0,0,null,null,{"$f":"'Rekensheet NN-Basis'!E79","v":0}]
[null,null,null,null,null,{"$f":"Invul_Basis_Materialen!G15","v":"Leeg"},{"$f":"Invul_Basis_Materialen!H15","v":0},0,"Standaard",{"$f":"VLOOKUP($F16,'MI materialen'!$B$2:$AS$291,37,FALSE)","v":0},{"$f":"VLOOKUP($F16,'MI materialen'!$B$2:$AS$291,38,FALSE)","v":0},{"$f":"VLOOKUP($F16,'MI materialen'!$B$2:$AS$291,39,FALSE)","v":0},{"$f":"VLOOKUP($F16,'MI materialen'!$B$2:$AS$291,40,FALSE)","v":0},0,0,0,0,0,null,null,{"$f":"'Rekensheet NN-Basis'!E84","v":0}]
[null,null,null,null,null,{"$f":"Invul_Basis_Materialen!G16","v":"Leeg"},{"$f":"Invul_Basis_Materialen!H16","v":0},0,"Standaard",{"$f":"VLOOKUP($F17,'MI materialen'!$B$2:$AS$291,37,FALSE)","v":0},{"$f":"VLOOKUP($F17,'MI materialen'!$B$2:$AS$291,38,FALSE)","v":0},{"$f":"VLOOKUP($F17,'MI materialen'!$B$2:$AS$291,39,FALSE)","v":0},{"$f":"VLOOKUP($F17,'MI materialen'!$B$2:$AS$291,40,FALSE)","v":0},0,0,0,0,0,null,null,{"$f":"'Rekensheet NN-Basis'!E89","v":0}]
[null,null,null,null,null,{"$f":"Invul_Basis_Materialen!G17","v":"Leeg"},{"$f":"Invul_Basis_Materialen!H17","v":0},0,"Standaard",{"$f":"VLOOKUP($F18,'MI materialen'!$B$2:$AS$291,37,FALSE)","v":0},{"$f":"VLOOKUP($F18,'MI materialen'!$B$2:$AS$291,38,FALSE)","v":0},{"$f":"VLOOKUP($F18,'MI materialen'!$B$2:$AS$291,39,FALSE)","v":0},{"$f":"VLOOKUP($F18,'MI materialen'!$B$2:$AS$291,40,FALSE)","v":0},0,0,0,0,0,null,null,{"$f":"'Rekensheet NN-Basis'!E94","v":0}]
[null,null,null,null,null,{"$f":"Invul_Basis_Materialen!G18","v":"Leeg"},{"$f":"Invul_Basis_Materialen!H18","v":0},0,"Standaard",{"$f":"VLOOKUP($F19,'MI materialen'!$B$2:$AS$291,37,FALSE)","v":0},{"$f":"VLOOKUP($F19,'MI materialen'!$B$2:$AS$291,38,FALSE)","v":0},{"$f":"VLOOKUP($F19,'MI materialen'!$B$2:$AS$291,39,FALSE)","v":0},{"$f":"VLOOKUP($F19,'MI materialen'!$B$2:$AS$291,40,FALSE)","v":0},0,0,0,0,0,null,null,{"$f":"'Rekensheet NN-Basis'!E99","v":0}]
[null,null,null,null,null,{"$f":"Invul_Basis_Materialen!G19","v":"Leeg"},{"$f":"Invul_Basis_Materialen!H19","v":0},0,"Standaard",{"$f":"VLOOKUP($F20,'MI materialen'!$B$2:$AS$291,37,FALSE)","v":0},{"$f":"VLOOKUP($F20,'MI materialen'!$B$2:$AS$291,38,FALSE)","v":0},{"$f":"VLOOKUP($F20,'MI materialen'!$B$2:$AS$291,39,FALSE)","v":0},{"$f":"VLOOKUP($F20,'MI materialen'!$B$2:$AS$291,40,FALSE)","v":0},0,0,0,0,0,null,null,{"$f":"'Rekensheet NN-Basis'!E104","v":0}]
[null,null,null,null,null,{"$f":"Invul_Basis_Materialen!G20","v":"Leeg"},{"$f":"Invul_Basis_Materialen!H20","v":0},0,"Standaard",{"$f":"VLOOKUP($F21,'MI materialen'!$B$2:$AS$291,37,FALSE)","v":0},{"$f":"VLOOKUP($F21,'MI materialen'!$B$2:$AS$291,38,FALSE)","v":0},{"$f":"VLOOKUP($F21,'MI materialen'!$B$2:$AS$291,39,FALSE)","v":0},{"$f":"VLOOKUP($F21,'MI materialen'!$B$2:$AS$291,40,FALSE)","v":0},0,0,0,0,0,null,null,{"$f":"'Rekensheet NN-Basis'!E109","v":0}]
[null,null,null,null,null,{"$f":"Invul_Basis_Materialen!G21","v":"Leeg"},{"$f":"Invul_Basis_Materialen!H21","v":0},0,"Standaard",{"$f":"VLOOKUP($F22,'MI materialen'!$B$2:$AS$291,37,FALSE)","v":0},{"$f":"VLOOKUP($F22,'MI materialen'!$B$2:$AS$291,38,FALSE)","v":0},{"$f":"VLOOKUP($F22,'MI materialen'!$B$2:$AS$291,39,FALSE)","v":0},{"$f":"VLOOKUP($F22,'MI materialen'!$B$2:$AS$291,40,FALSE)","v":0},0,0,0,0,0,null,null,{"$f":"'Rekensheet NN-Basis'!E114","v":0}]
[null,null,null,null,null,{"$f":"Invul_Basis_Materialen!G22","v":"Leeg"},{"$f":"Invul_Basis_Materialen!H22","v":0},0,"Standaard",{"$f":"VLOOKUP($F23,'MI materialen'!$B$2:$AS$291,37,FALSE)","v":0},{"$f":"VLOOKUP($F23,'MI materialen'!$B$2:$AS$291,38,FALSE)","v":0},{"$f":"VLOOKUP($F23,'MI materialen'!$B$2:$AS$291,39,FALSE)","v":0},{"$f":"VLOOKUP($F23,'MI materialen'!$B$2:$AS$291,40,FALSE)","v":0},0,0,0,0,0,null,null,{"$f":"'Rekensheet NN-Basis'!E119","v":0}]
[null,null,null,null,null,{"$f":"Invul_Basis_Materialen!G23","v":"Leeg"},{"$f":"Invul_Basis_Materialen!H23","v":0},0,"Standaard",{"$f":"VLOOKUP($F24,'MI materialen'!$B$2:$AS$291,37,FALSE)","v":0},{"$f":"VLOOKUP($F24,'MI materialen'!$B$2:$AS$291,38,FALSE)","v":0},{"$f":"VLOOKUP($F24,'MI materialen'!$B$2:$AS$291,39,FALSE)","v":0},{"$f":"VLOOKUP($F24,'MI materialen'!$B$2:$AS$291,40,FALSE)","v":0},0,0,0,0,0,null,null,{"$f":"'Rekensheet NN-Basis'!E124","v":0}]
[null,null,null,null,null,{"$f":"Invul_Basis_Materialen!G24","v":"Leeg"},{"$f":"Invul_Basis_Materialen!H24","v":0},0,"Standaard",{"$f":"VLOOKUP($F25,'MI materialen'!$B$2:$AS$291,37,FALSE)","v":0},{"$f":"VLOOKUP($F25,'MI materialen'!$B$2:$AS$291,38,FALSE)","v":0},{"$f":"VLOOKUP($F25,'MI materialen'!$B$2:$AS$291,39,FALSE)","v":0},{"$f":"VLOOKUP($F25,'MI materialen'!$B$2:$AS$291,40,FALSE)","v":0},0,0,0,0,0,null,null,{"$f":"'Rekensheet NN-Basis'!E129","v":0}]
[null,null,null,null,null,{"$f":"Invul_Basis_Materialen!G25","v":"Leeg"},{"$f":"Invul_Basis_Materialen!H25","v":0},0,"Standaard",{"$f":"VLOOKUP($F26,'MI materialen'!$B$2:$AS$291,37,FALSE)","v":0},{"$f":"VLOOKUP($F26,'MI materialen'!$B$2:$AS$291,38,FALSE)","v":0},{"$f":"VLOOKUP($F26,'MI materialen'!$B$2:$AS$291,39,FALSE)","v":0},{"$f":"VLOOKUP($F26,'MI materialen'!$B$2:$AS$291,40,FALSE)","v":0},0,0,0,0,0,null,null,{"$f":"'Rekensheet NN-Basis'!E134","v":0}]
[null,null,null,null,null,{"$f":"Invul_Basis_Materialen!G26","v":"Leeg"},{"$f":"Invul_Basis_Materialen!H26","v":0},0,"Standaard",{"$f":"VLOOKUP($F27,'MI materialen'!$B$2:$AS$291,37,FALSE)","v":0},{"$f":"VLOOKUP($F27,'MI materialen'!$B$2:$AS$291,38,FALSE)","v":0},{"$f":"VLOOKUP($F27,'MI materialen'!$B$2:$AS$291,39,FALSE)","v":0},{"$f":"VLOOKUP($F27,'MI materialen'!$B$2:$AS$291,40,FALSE)","v":0},0,0,0,0,0,null,null,{"$f":"'Rekensheet NN-Basis'!E139","v":0}]
[null,null,null,null,null,{"$f":"Invul_Basis_Materialen!G27","v":"Leeg"},{"$f":"Invul_Basis_Materialen!H27","v":0},0,"Standaard",{"$f":"VLOOKUP($F28,'MI materialen'!$B$2:$AS$291,37,FALSE)","v":0},{"$f":"VLOOKUP($F28,'MI materialen'!$B$2:$AS$291,38,FALSE)","v":0},{"$f":"VLOOKUP($F28,'MI materialen'!$B$2:$AS$291,39,FALSE)","v":0},{"$f":"VLOOKUP($F28,'MI materialen'!$B$2:$AS$291,40,FALSE)","v":0},0,0,0,0,0,null,null,{"$f":"'Rekensheet NN-Basis'!E144","v":0}]
[null,null,null,null,null,{"$f":"Invul_Basis_Materialen!G28","v":"Leeg"},{"$f":"Invul_Basis_Materialen!H28","v":0},0,"Standaard",{"$f":"VLOOKUP($F29,'MI materialen'!$B$2:$AS$291,37,FALSE)","v":0},{"$f":"VLOOKUP($F29,'MI materialen'!$B$2:$AS$291,38,FALSE)","v":0},{"$f":"VLOOKUP($F29,'MI materialen'!$B$2:$AS$291,39,FALSE)","v":0},{"$f":"VLOOKUP($F29,'MI materialen'!$B$2:$AS$291,40,FALSE)","v":0},0,0,0,0,0,null,null,{"$f":"'Rekensheet NN-Basis'!E149","v":0}]
[null,null,null,null,null,{"$f":"Invul_Basis_Materialen!G29","v":"Leeg"},{"$f":"Invul_Basis_Materialen!H29","v":0},0,"Standaard",{"$f":"VLOOKUP($F30,'MI materialen'!$B$2:$AS$291,37,FALSE)","v":0},{"$f":"VLOOKUP($F30,'MI materialen'!$B$2:$AS$291,38,FALSE)","v":0},{"$f":"VLOOKUP($F30,'MI materialen'!$B$2:$AS$291,39,FALSE)","v":0},{"$f":"VLOOKUP($F30,'MI materialen'!$B$2:$AS$291,40,FALSE)","v":0},0,0,0,0,0,null,null,{"$f":"'Rekensheet NN-Basis'!E154","v":0}]
[null,null,null,null,null,{"$f":"Invul_Basis_Materialen!G30","v":"Leeg"},{"$f":"Invul_Basis_Materialen!H30","v":0},0,"Standaard",{"$f":"VLOOKUP($F31,'MI materialen'!$B$2:$AS$291,37,FALSE)","v":0},{"$f":"VLOOKUP($F31,'MI materialen'!$B$2:$AS$291,38,FALSE)","v":0},{"$f":"VLOOKUP($F31,'MI materialen'!$B$2:$AS$291,39,FALSE)","v":0},{"$f":"VLOOKUP($F31,'MI materialen'!$B$2:$AS$291,40,FALSE)","v":0},0,0,0,0,0,null,null,{"$f":"'Rekensheet NN-Basis'!E159","v":0}]
[null,null,null,null,null,{"$f":"Invul_Basis_Materialen!G31","v":"Leeg"},{"$f":"Invul_Basis_Materialen!H31","v":0},0,"Standaard",{"$f":"VLOOKUP($F32,'MI materialen'!$B$2:$AS$291,37,FALSE)","v":0},{"$f":"VLOOKUP($F32,'MI materialen'!$B$2:$AS$291,38,FALSE)","v":0},{"$f":"VLOOKUP($F32,'MI materialen'!$B$2:$AS$291,39,FALSE)","v":0},{"$f":"VLOOKUP($F32,'MI materialen'!$B$2:$AS$291,40,FALSE)","v":0},0,0,0,0,0,null,null,{"$f":"'Rekensheet NN-Basis'!E164","v":0}]
[null,null,null,null,null,"Totaal",{"$f":"Invul_Basis_Materialen!H32","v":0},{"$f":"SUM((H13*G13+H14*G14+H15*G15+H16*G16+H17*G17+H18*G18+H19*G19+H20*G20+H21*G21+H22*G22+H23*G23+H24*G24+H25*G25+H26*G26+H27*G27+H28*G28+H29*G29+H30*G30+H31*G31+H32*G32))/G33","v":{"$error":"#DIV/0!"}}]
[]
[null,null,null,null,null,"*De milieu-impact and milieu-voordelen ten gevolgen van hergebruik zijn op basis van recycling. Voor hergebruik is de milieu-impact niet gedefineerd."]

{"sheet":"Resultaten_Basis","index":7,"n_rows":140,"n_cols":35,"rows_kept":140,"cut":false,"hidden":false,"merged":[[137,15,137,17],[138,15,138,17],[139,15,139,17],[128,18,128,19],[129,18,129,19],[130,18,130,19],[131,18,131,19],[132,18,132,19],[133,18,133,19],[134,18,134,19],[135,18,135,19],[136,18,136,19],[137,18,137,19],[138,18,138,19],[139,18,139,19],[132,15,132,17],[133,15,133,17],[134,15,134,17],[135,15,135,17],[136,15,136,17],[128,15,128,17],[129,15,129,17],[130,15,130,17],[138,12,138,14],[139,12,139,14],[134,12,134,14],[135,12,135,14],[124,12,124,14],[128,12,128,14],[129,12,129,14],[130,12,130,14],[131,12,131,14],[132,12,132,14],[133,12,133,14],[139,34,139,35],[124,6,124,11],[128,6,128,11],[129,6,129,11],[130,6,130,11],[131,6,131,11],[132,6,132,11],[134,34,134,35],[135,34,135,35],[136,34,136,35],[137,34,137,35],[138,34,138,35],[139,31,139,33],[128,34,128,35],[129,34,129,35],[130,34,130,35],[131,34,131,35],[132,34,132,35],[133,34,133,35],[134,31,134,33],[135,31,135,33],[131,15,131,17],[136,12,136,14],[137,12,137,14],[122,31,122,33],[123,31,123,33],[124,31,124,33],[125,31,125,33],[126,31,126,33],[127,31,127,33],[128,31,128,33],[133,6,133,11],[127,6,127,11],[127,12,127,14],[127,15,127,17],[127,18,127,19],[119,34,119,35],[120,34,120,35],[121,34,121,35],[122,34,122,35],[123,34,123,35],[124,34,124,35],[125,34,125,35],[126,34,126,35],[127,34,127,35],[135,26,135,30],[136,26,136,30],[137,26,137,30],[138,26,138,30],[129,31,129,33],[130,31,130,33],[131,31,131,33],[132,31,132,33],[133,31,133,33],[136,31,136,33],[137,31,137,33],[138,31,138,33],[139,26,139,30],[130,26,130,30],[131,26,131,30],[132,26,132,30],[133,26,133,30],[134,26,134,30],[116,34,116,35],[117,34,117,35],[118,23,118,35],[119,23,139,25],[119,26,119,30],[120,26,120,30],[121,26,121,30],[122,26,122,30],[123,26,123,30],[124,26,124,30],[125,26,125,30],[126,26,126,30],[127,26,127,30],[128,26,128,30],[129,26,129,30],[119,31,119,33],[120,31,120,33],[121,31,121,33],[106,26,106,30],[107,31,107,33],[112,23,112,35],[113,26,113,30],[113,23,117,25],[114,26,114,30],[115,26,115,30],[116,26,116,30],[117,26,117,30],[113,31,113,33],[114,31,114,33],[115,31,115,33],[116,31,116,33],[117,31,117,33],[113,34,113,35],[114,34,114,35],[115,34,115,35],[103,23,111,25],[107,26,107,30],[108,26,108,30],[109,26,109,30],[110,26,110,30],[111,26,111,30],[108,31,108,33],[109,31,109,33],[110,31,110,33],[111,31,111,33],[103,34,103,35],[104,34,104,35],[105,34,105,35],[106,34,106,35],[107,34,107,35],[108,34,108,35],[109,34,109,35],[110,34,110,35],[111,34,111,35],[103,31,103,33],[104,31,104,33],[105,31,105,33],[106,31,106,33],[71,34,71,35],[93,34,93,35],[94,34,94,35],[95,34,95,35],[96,34,96,35],[97,34,97,35],[93,31,93,33],[93,23,101,25],[94,31,94,33],[95,31,95,33],[96,31,96,33],[97,31,97,33],[98,31,98,33],[99,31,99,33],[100,31,100,33],[101,31,101,33],[95,26,95,30],[98,34,98,35],[99,34,99,35],[100,34,100,35],[101,34,101,35],[91,31,91,33],[71,23,91,25],[71,31,71,33],[101,26,101,30],[72,31,72,33],[73,31,73,33],[74,31,74,33],[75,31,75,33],[76,31,76,33],[77,31,77,33],[78,31,78,33],[79,31,79,33],[91,26,91,30],[81,31,81,33],[82,31,82,33],[80,26,80,30],[91,34,91,35],[92,23,92,35],[83,34,83,35],[84,34,84,35],[85,34,85,35],[86,34,86,35],[87,34,87,35],[88,31,88,33],[89,31,89,33],[90,31,90,33],[85,31,85,33],[86,31,86,33],[83,31,83,33],[103,26,103,30],[104,26,104,30],[105,26,105,30],[96,26,96,30],[97,26,97,30],[98,26,98,30],[99,26,99,30],[100,26,100,30],[81,26,81,30],[82,26,82,30],[83,26,83,30],[84,26,84,30],[85,26,85,30],[86,26,86,30],[93,26,93,30],[94,26,94,30],[102,23,102,35],[88,34,88,35],[89,34,89,35],[87,26,87,30],[88,26,88,30],[89,26,89,30],[90,26,90,30],[90,34,90,35],[68,6,70,11],[68,12,70,14],[68,15,70,17],[68,18,70,19],[83,18,83,19],[84,18,84,19],[85,18,85,19],[86,18,86,19],[78,18,78,19],[79,18,79,19],[80,18,80,19],[81,18,81,19],[82,18,82,19],[73,18,73,19],[74,18,74,19],[75,18,75,19],[76,18,76,19],[86,15,86,17],[81,15,81,17],[74,34,74,35],[75,34,75,35],[76,34,76,35],[77,34,77,35],[78,34,78,35],[79,34,79,35],[81,34,81,35],[84,31,84,33],[80,34,80,35],[72,34,72,35],[87,31,87,33],[82,34,82,35],[80,31,80,33],[77,18,77,19],[83,15,83,17],[84,15,84,17],[85,15,85,17],[71,12,71,14],[71,15,71,17],[72,12,72,14],[73,12,73,14],[74,12,74,14],[75,12,75,14],[76,12,76,14],[73,15,73,17],[74,15,74,17],[75,15,75,17],[76,15,76,17],[82,15,82,17],[77,15,77,17],[78,15,78,17],[79,15,79,17],[80,15,80,17],[11,29,14,31],[15,29,15,31],[19,30,20,31],[19,29,20,29],[17,29,18,29],[17,30,18,31],[156,41,158,46],[156,47,158,49],[156,50,158,52],[65,23,66,35],[68,23,70,25],[68,26,70,30],[68,31,70,33],[68,34,70,35],[76,26,76,30],[77,26,77,30],[78,26,78,30],[79,26,79,30],[71,26,71,30],[72,26,72,30],[73,26,73,30],[74,26,74,30],[75,26,75,30],[73,34,73,35],[156,53,158,54],[159,41,159,46],[159,47,159,49],[159,50,159,52],[159,53,159,54],[29,6,60,9],[45,40,46,42],[111,41,111,43],[71,6,71,11],[72,6,72,11],[73,6,73,11],[74,6,74,11],[75,6,75,11],[76,6,76,11],[72,15,72,17],[71,18,71,19],[72,18,72,19],[86,12,86,14],[77,12,77,14],[78,12,78,14],[79,12,79,14],[134,6,134,11],[135,6,135,11],[136,6,136,11],[160,41,160,46],[160,47,160,49],[160,50,160,52],[160,53,160,54],[161,41,161,46],[161,47,161,49],[161,50,161,52],[161,53,161,54],[162,41,162,46],[162,47,162,49],[162,50,162,52],[162,53,162,54],[163,41,163,46],[163,47,163,49],[163,50,163,52],[163,53,163,54],[164,41,164,46],[164,47,164,49],[164,50,164,52],[164,53,164,54],[165,41,165,46],[165,47,165,49],[165,50,165,52],[165,53,165,54],[166,41,166,46],[166,47,166,49],[166,50,166,52],[166,53,166,54],[167,41,167,46],[167,47,167,49],[167,50,167,52],[167,53,167,54],[168,41,168,46],[168,47,168,49],[168,50,168,52],[168,53,168,54],[169,41,169,46],[169,47,169,49],[169,50,169,52],[169,53,169,54],[170,41,170,46],[170,47,170,49],[170,50,170,52],[170,53,170,54],[171,41,171,46],[171,47,171,49],[171,50,171,52],[171,53,171,54],[172,47,172,49],[172,50,172,52],[172,53,172,54],[173,41,173,46],[173,47,173,49],[173,50,173,52],[173,53,173,54],[174,41,174,46],[174,47,174,49],[174,50,174,52],[174,53,174,54],[175,41,175,46],[175,47,175,49],[175,50,175,52],[175,53,175,54],[176,41,176,46],[176,47,176,49],[176,50,176,52],[176,53,176,54],[87,6,88,19],[114,6,115,19],[116,6,117,19],[119,6,121,11],[119,12,121,14],[119,15,121,17],[119,18,121,19],[122,6,122,11],[122,12,122,14],[122,15,122,17],[122,18,122,19],[123,6,123,11],[123,12,123,14],[123,15,123,17],[123,18,123,19],[172,41,172,46],[137,6,137,11],[138,6,138,11],[139,6,139,11],[27,29,39,35],[40,29,51,35],[53,29,60,35],[124,15,124,17],[124,18,124,19],[125,6,125,11],[125,12,125,14],[125,15,125,17],[125,18,125,19],[126,6,126,11],[126,12,126,14],[126,15,126,17],[126,18,126,19],[25,6,27,9],[80,12,80,14],[81,12,81,14],[65,6,66,19],[82,12,82,14],[83,12,83,14],[84,12,84,14],[85,12,85,14]]}
[]
[null,null,null,null,{"$f":"Home!E2","v":"PRODUCTNAAM"}]
[null,null,null,null,{"$f":"Home!E3","v":"NAAM PRODUCENT"}]
[]
[]
[]
[]
[]
[]
[]
[]
[]
[]
[]
[]
[]
[null,{"$f":"'Rekensheet NN-Basis'!E8/Invul_Basis_Alg!G13","v":{"$error":"#DIV/0!"}}]
[null,{"$f":"(Invul_Basis_Materialen!J32+Invul_Basis_EindeL!H33)/2","v":{"$error":"#DIV/0!"}}]
[]
[]
[]
[]
[]
[]
[]
[null,null,null,null,null,null,"Oorsprong milieu-impact",null,null,null,null,null,null,null,null,null,null,null,null,null,null,null,null,null,null,null,null,null,null,"Toelichting resultaten"]
[null,null,null,null,null,null,null,null,null,null,null,null,null,null,null,null,null,null,null,null,null,null,null,null,null,null,null,null,null,"Milieu-impact"]
[null,null,null,null,null,null,null,null,null,null,null,null,null,null,null,null,null,null,null,null,null,null,null,null,null,null,null,null,null,{"$f":"VLOOKUP(Graph_Basis!G84,Lijsten_Tekst!A1:C6,2,FALSE)","v":"In de binnenste cirkel is te zien dat het materiaalgebruik de grootste milieu-impact veroorzaakt. In de buitenste cirkel is af te lezen welk materiaal hieraan de grootste bijdrage heeft. Om de milieu-impact van het product te verlagen kunt u onderzoeken of het gebruik van circulaire materialen of andere minder milieubelastende primaire materialen tot minder milieubelasting leidt. Focus daarbij op de materialen die het grootste deel van de milieu-impact uitmaken. "}]
[]
[null,null,null,null,null,null,"Dit diagram geeft de verdeling van de milieukosten van het product over zijn levensloop aan. In de binnenste cirkel zijn de verschillende activiteiten die tijdens de levensduur van het project plaatsvinden weergegeven. In de buitenste circel is een meer gedetailleerde onderverdeling van de verschillende activiteiten weergegeven.\n\nZo is af te lezen welke materialen of processen de grootste bijdrage leveren aan bepaalde activiteit. Zo is inzichtelijk welke materialen of processen de grootste milieubelasting veroorzaken. Milieureductie kan behaald worden door te onderzoeken of er milieuvriendelijkere alternatieven zijn voor die materialen en processen waar: \n- je milieu impact van het huidige \n  ontwerp het grootst is \n- je als producent de meeste \n  invloed op hebt om \n  veranderingen door te voeren \n- waar milieu vriendelijkere \n  alternatieven beschikbaar en \n  rendabel zijn."]
[]
[]
[]
[]
[]
[]
[]
[]
[]
[]
[null,null,null,null,null,null,null,null,null,null,null,null,null,null,null,null,null,null,null,null,null,null,null,null,null,null,null,null,null,{"$f":"VLOOKUP(Graph_Basis!G85,Lijsten_Tekst!A1:C6,3,FALSE)","v":"De tweede gootste veroorzaker van de milieu-impact is het materiaal gebruik. In de buitenste cirkel is af te lezen welk materiaal hieraan de grootste bijdrage heeft. Om de milieu-impact van het product te verlagen kunt u onderzoeken of het gebruik van circulaire materialen of andere minder milieubelastende primaire materialen tot minder milieubelasting leidt. Focus daarbij op de materialen die het grootste deel van de milieu-impact uitmaken. "}]
[]
[]
[]
[]
[]
[]
[]
[]
[]
[]
[]
[null,null,null,null,null,null,null,null,null,null,null,null,null,null,null,null,null,null,null,null,null,null,null,null,null,null,null,null,null,"Circulariteit"]
[null,null,null,null,null,null,null,null,null,null,null,null,null,null,null,null,null,null,null,null,null,null,null,null,null,null,null,null,null,{"$f":"IF(AD12>75%,VLOOKUP(\">75%\",Lijsten_Tekst!E1:F6,2,FALSE),IF(AND(AD12<75%,AD12>50%),VLOOKUP(\"50%-75%\",Lijsten_Tekst!E1:F6,2,FALSE),IF(AND(AD12<50%,AD12>25%),VLOOKUP(\"25%-50%\",Lijsten_Tekst!E1:F6,2,FALSE),IF(AD12<25%,VLOOKUP(\"<25%\",Lijsten_Tekst!E1:F6,2,FALSE),0))))","v":"De circulariteitsindex is kleiner dan 25%. Dat betekent dat er nog genoeg ruimte is voor verbetering van de circulariteit van het product. Dit kunt u doen door ander of meer secundair materiaal te gebruiken of meer materialen te recyclen of hergebruik aan het einde van de levensduur."}]
[]
[]
[]
[]
[]
[]
[]
[]
[]
[]
[null,null,null,null,null,null,"Milieu-impact per impact categorie",null,null,null,null,null,null,null,null,null,null,null,null,null,null,null,null,"Milieu-impact per onderdeel"]
[null,null,null,null,null,null,"De tabel hieronder toont de bijdrage van het product per milieu-impact categorie aan de totale MilieuKostenIndicator. Een uitleg van de impact categorieën kan worden gevonden op de informatiepagina.",null,null,null,null,null,null,null,null,null,null,null,null,null,null,null,null,"Hieronder wordt de oorsprong van de milieu-impact in meer detail weergegeven. Op die manier kan de absolute en relatieve bijdrage per materiaal en process worden afgelezen."]
[]
[]
[null,null,null,null,null,null,"Milieueffect",null,null,null,null,null,"Hoeveelheid per product",null,null,{"$f":" \"Hoeveelheid per product per \" &  Invul_Basis_Alg!$H$13","v":"Hoeveelheid per product per Leeg"},null,null,"Hoeveelheid Relatief (%)",null,null,null,null,"Hoofdcategorie",null,null,"Sub-categorie",null,null,null,null,"MKI\nper product\nAbsoluut (€)",null,null,"MKI\nper product\nRelatief (%)"]
[]
[]
[null,null,null,null,null,null,"Totale milieu-kosten (MKI)",null,null,null,null,null,{"$f":"'Rekensheet NN-Basis'!$E$8","v":0},null,null,{"$f":"M72/Invul_Basis_Alg!$G$13","v":{"$error":"#DIV/0!"}},null,null,{"$f":"M72/$M$72","v":{"$error":"#DIV/0!"}},null,null,null,null,{"$f":"Graph_Basis!B3","v":"Materialen"},null,null,{"$f":"Graph_Basis!H3","v":"Leeg"},null,null,null,null,{"$f":"Graph_Basis!I3","v":0},null,null,{"$f":"AF72/'Rekensheet NN-Basis'!$E$8","v":{"$error":"#DIV/0!"}}]
[null,null,null,null,null,null,"Uitputting van abiotische stoffen , excl. fossiele brandstoffen",null,null,null,null,null,{"$f":"M124*MKI!C2","v":0},null,null,{"$f":"M73/Invul_Basis_Alg!$G$13","v":{"$error":"#DIV/0!"}},null,null,{"$f":"M73/$M$72","v":{"$error":"#DIV/0!"}},null,null,null,null,null,null,null,{"$f":"Graph_Basis!H4","v":"Leeg"},null,null,null,null,{"$f":"Graph_Basis!I4","v":0},null,null,{"$f":"AF73/'Rekensheet NN-Basis'!$E$8","v":{"$error":"#DIV/0!"}}]
[null,null,null,null,null,null,"Uitputting van fossiele brandstoffen",null,null,null,null,null,{"$f":"M125*MKI!C3","v":0},null,null,{"$f":"M74/Invul_Basis_Alg!$G$13","v":{"$error":"#DIV/0!"}},null,null,{"$error":"#DIV/0!"},null,null,null,null,null,null,null,{"$f":"Graph_Basis!H5","v":"Leeg"},null,null,null,null,{"$f":"Graph_Basis!I5","v":0},null,null,{"$f":"AF74/'Rekensheet NN-Basis'!$E$8","v":{"$error":"#DIV/0!"}}]
[null,null,null,null,null,null,"Klimaatverandering",null,null,null,null,null,{"$f":"M126*MKI!C4","v":0},null,null,{"$f":"M75/Invul_Basis_Alg!$G$13","v":{"$error":"#DIV/0!"}},null,null,{"$error":"#DIV/0!"},null,null,null,null,null,null,null,{"$f":"Graph_Basis!H6","v":"Leeg"},null,null,null,null,{"$f":"Graph_Basis!I6","v":0},null,null,{"$f":"AF75/'Rekensheet NN-Basis'!$E$8","v":{"$error":"#DIV/0!"}}]
[null,null,null,null,null,null,"Aantasting van de ozonlaag",null,null,null,null,null,{"$f":"M127*MKI!C5","v":0},null,null,{"$f":"M76/Invul_Basis_Alg!$G$13","v":{"$error":"#DIV/0!"}},null,null,{"$error":"#DIV/0!"},null,null,null,null,null,null,null,{"$f":"Graph_Basis!H7","v":"Leeg"},null,null,null,null,{"$f":"Graph_Basis!I7","v":0},null,null,{"$f":"AF76/'Rekensheet NN-Basis'!$E$8","v":{"$error":"#DIV/0!"}}]
[null,null,null,null,null,null,"Fotochemische oxidatie (zomersmog)",null,null,null,null,null,{"$f":"M128*MKI!C6","v":0},null,null,{"$f":"M77/Invul_Basis_Alg!$G$13","v":{"$error":"#DIV/0!"}},null,null,{"$error":"#DIV/0!"},null,null,null,null,null,null,null,{"$f":"Graph_Basis!H8","v":"Leeg"},null,null,null,null,{"$f":"Graph_Basis!I8","v":0},null,null,{"$f":"AF77/'Rekensheet NN-Basis'!$E$8","v":{"$error":"#DIV/0!"}}]
[null,null,null,null,null,null,"Verzuring",null,null,null,null,null,{"$f":"M129*MKI!C7","v":0},null,null,{"$f":"M78/Invul_Basis_Alg!$G$13","v":{"$error":"#DIV/0!"}},null,null,{"$error":"#DIV/0!"},null,null,null,null,null,null,null,{"$f":"Graph_Basis!H9","v":"Leeg"},null,null,null,null,{"$f":"Graph_Basis!I9","v":0},null,null,{"$f":"AF78/'Rekensheet NN-Basis'!$E$8","v":{"$error":"#DIV/0!"}}]
[null,null,null,null,null,null,"Vermesting",null,null,null,null,null,{"$f":"M130*MKI!C8","v":0},null,null,{"$f":"M79/Invul_Basis_Alg!$G$13","v":{"$error":"#DIV/0!"}},null,null,{"$error":"#DIV/0!"},null,null,null,null,null,null,null,{"$f":"Graph_Basis!H10","v":"Leeg"},null,null,null,null,{"$f":"Graph_Basis!I10","v":0},null,null,{"$f":"AF79/'Rekensheet NN-Basis'!$E$8","v":{"$error":"#DIV/0!"}}]
[null,null,null,null,null,null,"Humane toxiciteit",null,null,null,null,null,{"$f":"M131*MKI!C9","v":0},null,null,{"$f":"M80/Invul_Basis_Alg!$G$13","v":{"$error":"#DIV/0!"}},null,null,{"$error":"#DIV/0!"},null,null,null,null,null,null,null,{"$f":"Graph_Basis!H11","v":"Leeg"},null,null,null,null,{"$f":"Graph_Basis!I11","v":0},null,null,{"$f":"AF80/'Rekensheet NN-Basis'!$E$8","v":{"$error":"#DIV/0!"}}]
[null,null,null,null,null,null,"Zoetwater ecotoxiciteit",null,null,null,null,null,{"$f":"M132*MKI!C10","v":0},null,null,{"$f":"M81/Invul_Basis_Alg!$G$13","v":{"$error":"#DIV/0!"}},null,null,{"$error":"#DIV/0!"},null,null,null,null,null,null,null,{"$f":"Graph_Basis!H12","v":"Leeg"},null,null,null,null,{"$f":"Graph_Basis!I12","v":0},null,null,{"$f":"AF81/'Rekensheet NN-Basis'!$E$8","v":{"$error":"#DIV/0!"}}]
[null,null,null,null,null,null,"Zoutwater ecotoxiciteit",null,null,null,null,null,{"$f":"M133*MKI!C11","v":0},null,null,{"$f":"M82/Invul_Basis_Alg!$G$13","v":{"$error":"#DIV/0!"}},null,null,{"$error":"#DIV/0!"},null,null,null,null,null,null,null,{"$f":"Graph_Basis!H13","v":"Leeg"},null,null,null,null,{"$f":"Graph_Basis!I13","v":0},null,null,{"$f":"AF82/'Rekensheet NN-Basis'!$E$8","v":{"$error":"#DIV/0!"}}]
[null,null,null,null,null,null,"Terrestische ecotoxiciteit",null,null,null,null,null,{"$f":"M134*MKI!C12","v":0},null,null,{"$f":"M83/Invul_Basis_Alg!$G$13","v":{"$error":"#DIV/0!"}},null,null,{"$error":"#DIV/0!"},null,null,null,null,null,null,null,{"$f":"Graph_Basis!H14","v":"Leeg"},null,null,null,null,{"$f":"Graph_Basis!I14","v":0},null,null,{"$f":"AF83/'Rekensheet NN-Basis'!$E$8","v":{"$error":"#DIV/0!"}}]
[null,null,null,null,null,null,null,null,null,null,null,null,null,null,null,null,null,null,null,null,null,null,null,null,null,null,{"$f":"Graph_Basis!H15","v":"Leeg"},null,null,null,null,{"$f":"Graph_Basis!I15","v":0},null,null,{"$f":"AF84/'Rekensheet NN-Basis'!$E$8","v":{"$error":"#DIV/0!"}}]
[null,null,null,null,null,null,null,null,null,null,null,null,null,null,null,null,null,null,null,null,null,null,null,null,null,null,{"$f":"Graph_Basis!H16","v":"Leeg"},null,null,null,null,{"$f":"Graph_Basis!I16","v":0},null,null,{"$f":"AF85/'Rekensheet NN-Basis'!$E$8","v":{"$error":"#DIV/0!"}}]
[null,null,null,null,null,null,null,null,null,null,null,null,null,null,null,null,null,null,null,null,null,null,null,null,null,null,{"$f":"Graph_Basis!H17","v":"Leeg"},null,null,null,null,{"$f":"Graph_Basis!I17","v":0},null,null,{"$f":"AF86/'Rekensheet NN-Basis'!$E$8","v":{"$error":"#DIV/0!"}}]
[null,null,null,null,null,null,null,null,null,null,null,null,null,null,null,null,null,null,null,null,null,null,null,null,null,null,{"$f":"Graph_Basis!H18","v":"Leeg"},null,null,null,null,{"$f":"Graph_Basis!I18","v":0},null,null,{"$f":"AF87/'Rekensheet NN-Basis'!$E$8","v":{"$error":"#DIV/0!"}}]
[null,null,null,null,null,null,"Oorsprong milieu-impact categorie",null,null,null,null,null,null,null,null,null,null,null,null,null,null,null,null,null,null,null,{"$f":"Graph_Basis!H19","v":"Leeg"},null,null,null,null,{"$f":"Graph_Basis!I19","v":0},null,null,{"$f":"AF88/'Rekensheet NN-Basis'!$E$8","v":{"$error":"#DIV/0!"}}]
[null,null,null,null,null,null,null,null,null,null,null,null,null,null,null,null,null,null,null,null,null,null,null,null,null,null,{"$f":"Graph_Basis!H20","v":"Leeg"},null,null,null,null,{"$f":"Graph_Basis!I20","v":0},null,null,{"$f":"AF89/'Rekensheet NN-Basis'!$E$8","v":{"$error":"#DIV/0!"}}]
[null,null,null,null,null,null,null,null,null,null,null,null,null,null,null,null,null,null,null,null,null,null,null,null,null,null,{"$f":"Graph_Basis!H21","v":"Leeg"},null,null,null,null,{"$f":"Graph_Basis!I21","v":0},null,null,{"$f":"AF90/'Rekensheet NN-Basis'!$E$8","v":{"$error":"#DIV/0!"}}]
[null,null,null,null,null,null,null,null,null,null,null,null,null,null,null,null,null,null,null,null,null,null,null,null,null,null,{"$f":"Graph_Basis!H22","v":"Leeg"},null,null,null,null,{"$f":"Graph_Basis!I22","v":0},null,null,{"$f":"AF91/'Rekensheet NN-Basis'!$E$8","v":{"$error":"#DIV/0!"}}]
[null,null,null,null,null,null,null,null,null,null,null,null,null,null,null,null,null,null,null,null,null,null,null,null,null,null,{"$f":"Graph_Basis!H23","v":"Totaal"},null,null,null,null,{"$f":"Graph_Basis!I23","v":0},null,null,{"$f":"AF92/'Rekensheet NN-Basis'!$E$8","v":{"$error":"#DIV/0!"}}]
[]
[null,null,null,null,null,null,null,null,null,null,null,null,null,null,null,null,null,null,null,null,null,null,null,{"$f":"Graph_Basis!B29","v":"Bewerkingen"},null,null,{"$f":"Graph_Basis!H29","v":"Leeg"},null,null,null,null,{"$f":"Graph_Basis!I29","v":0},null,null,{"$f":"AF94/'Rekensheet NN-Basis'!$E$8","v":{"$error":"#DIV/0!"}}]
[null,null,null,null,null,null,null,null,null,null,null,null,null,null,null,null,null,null,null,null,null,null,null,null,null,null,{"$f":"Graph_Basis!H30","v":"Leeg"},null,null,null,null,{"$f":"Graph_Basis!I30","v":0},null,null,{"$f":"AF95/'Rekensheet NN-Basis'!$E$8","v":{"$error":"#DIV/0!"}}]
[null,null,null,null,null,null,null,null,null,null,null,null,null,null,null,null,null,null,null,null,null,null,null,null,null,null,{"$f":"Graph_Basis!H31","v":"Leeg"},null,null,null,null,{"$f":"Graph_Basis!I31","v":0},null,null,{"$f":"AF96/'Rekensheet NN-Basis'!$E$8","v":{"$error":"#DIV/0!"}}]
[null,null,null,null,null,null,null,null,null,null,null,null,null,null,null,null,null,null,null,null,null,null,null,null,null,null,{"$f":"Graph_Basis!H32","v":"Leeg"},null,null,null,null,{"$f":"Graph_Basis!I32","v":0},null,null,{"$f":"AF97/'Rekensheet NN-Basis'!$E$8","v":{"$error":"#DIV/0!"}}]
[null,null,null,null,null,null,null,null,null,null,null,null,null,null,null,null,null,null,null,null,null,null,null,null,null,null,{"$f":"Graph_Basis!H33","v":"Leeg"},null,null,null,null,{"$f":"Graph_Basis!I33","v":0},null,null,{"$f":"AF98/'Rekensheet NN-Basis'!$E$8","v":{"$error":"#DIV/0!"}}]
[null,null,null,null,null,null,null,null,null,null,null,null,null,null,null,null,null,null,null,null,null,null,null,null,null,null,{"$f":"Graph_Basis!H34","v":"Leeg"},null,null,null,null,{"$f":"Graph_Basis!I34","v":0},null,null,{"$f":"AF99/'Rekensheet NN-Basis'!$E$8","v":{"$error":"#DIV/0!"}}]
[null,null,null,null,null,null,null,null,null,null,null,null,null,null,null,null,null,null,null,null,null,null,null,null,null,null,{"$f":"Graph_Basis!H35","v":"Leeg"},null,null,null,null,{"$f":"Graph_Basis!I35","v":0},null,null,{"$f":"AF100/'Rekensheet NN-Basis'!$E$8","v":{"$error":"#DIV/0!"}}]
[null,null,null,null,null,null,null,null,null,null,null,null,null,null,null,null,null,null,null,null,null,null,null,null,null,null,{"$f":"Graph_Basis!H36","v":"Leeg"},null,null,null,null,{"$f":"Graph_Basis!I36","v":0},null,null,{"$f":"AF101/'Rekensheet NN-Basis'!$E$8","v":{"$error":"#DIV/0!"}}]
[null,null,null,null,null,null,null,null,null,null,null,null,null,null,null,null,null,null,null,null,null,null,null,null,null,null,{"$f":"Graph_Basis!H37","v":"Totaal"},null,null,null,null,{"$f":"Graph_Basis!I37","v":0},null,null,{"$f":"AF102/'Rekensheet NN-Basis'!$E$8","v":{"$error":"#DIV/0!"}}]
[]
[null,null,null,null,null,null,null,null,null,null,null,null,null,null,null,null,null,null,null,null,null,null,null,{"$f":"Graph_Basis!B41","v":"Distributie"},null,null,{"$f":"Graph_Basis!H41","v":"Leeg"},null,null,null,null,{"$f":"Graph_Basis!I41","v":0},null,null,{"$f":"AF104/'Rekensheet NN-Basis'!$E$8","v":{"$error":"#DIV/0!"}}]
[null,null,null,null,null,null,null,null,null,null,null,null,null,null,null,null,null,null,null,null,null,null,null,null,null,null,{"$f":"Graph_Basis!H42","v":"Leeg"},null,null,null,null,{"$f":"Graph_Basis!I42","v":0},null,null,{"$f":"AF105/'Rekensheet NN-Basis'!$E$8","v":{"$error":"#DIV/0!"}}]
[null,null,null,null,null,null,null,null,null,null,null,null,null,null,null,null,null,null,null,null,null,null,null,null,null,null,{"$f":"Graph_Basis!H43","v":"Leeg"},null,null,null,null,{"$f":"Graph_Basis!I43","v":0},null,null,{"$f":"AF106/'Rekensheet NN-Basis'!$E$8","v":{"$error":"#DIV/0!"}}]
[null,null,null,null,null,null,null,null,null,null,null,null,null,null,null,null,null,null,null,null,null,null,null,null,null,null,{"$f":"Graph_Basis!H44","v":"Leeg"},null,null,null,null,{"$f":"Graph_Basis!I44","v":0},null,null,{"$f":"AF107/'Rekensheet NN-Basis'!$E$8","v":{"$error":"#DIV/0!"}}]
[null,null,null,null,null,null,null,null,null,null,null,null,null,null,null,null,null,null,null,null,null,null,null,null,null,null,{"$f":"Graph_Basis!H45","v":"Leeg"},null,null,null,null,{"$f":"Graph_Basis!I45","v":0},null,null,{"$f":"AF108/'Rekensheet NN-Basis'!$E$8","v":{"$error":"#DIV/0!"}}]
[null,null,null,null,null,null,null,null,null,null,null,null,null,null,null,null,null,null,null,null,null,null,null,null,null,null,{"$f":"Graph_Basis!H46","v":"Leeg"},null,null,null,null,{"$f":"Graph_Basis!I46","v":0},null,null,{"$f":"AF109/'Rekensheet NN-Basis'!$E$8","v":{"$error":"#DIV/0!"}}]
[null,null,null,null,null,null,null,null,null,null,null,null,null,null,null,null,null,null,null,null,null,null,null,null,null,null,{"$f":"Graph_Basis!H47","v":"Leeg"},null,null,null,null,{"$f":"Graph_Basis!I47","v":0},null,null,{"$f":"AF110/'Rekensheet NN-Basis'!$E$8","v":{"$error":"#DIV/0!"}}]
[null,null,null,null,null,null,null,null,null,null,null,null,null,null,null,null,null,null,null,null,null,null,null,null,null,null,{"$f":"Graph_Basis!H48","v":"Leeg"},null,null,null,null,{"$f":"Graph_Basis!I48","v":0},null,null,{"$f":"AF111/'Rekensheet NN-Basis'!$E$8","v":{"$error":"#DIV/0!"}}]
[null,null,null,null,null,null,null,null,null,null,null,null,null,null,null,null,null,null,null,null,null,null,null,null,null,null,{"$f":"Graph_Basis!H49","v":"Totaal"},null,null,null,null,{"$f":"Graph_Basis!I49","v":0},null,null,{"$f":"AF112/'Rekensheet NN-Basis'!$E$8","v":{"$error":"#DIV/0!"}}]
[]
[null,null,null,null,null,null,null,null,null,null,null,null,null,null,null,null,null,null,null,null,null,null,null,{"$f":"Graph_Basis!B54","v":"Gebruik"},null,null,{"$f":"Graph_Basis!H54","v":"Leeg"},null,null,null,null,{"$f":"Graph_Basis!I54","v":0},null,null,{"$f":"AF114/'Rekensheet NN-Basis'!$E$8","v":{"$error":"#DIV/0!"}}]
[null,null,null,null,null,null,"Milieuprofiel",null,null,null,null,null,null,null,null,null,null,null,null,null,null,null,null,null,null,null,{"$f":"Graph_Basis!H55","v":"Leeg"},null,null,null,null,{"$f":"Graph_Basis!I55","v":0},null,null,{"$f":"AF115/'Rekensheet NN-Basis'!$E$8","v":{"$error":"#DIV/0!"}}]
[null,null,null,null,null,null,null,null,null,null,null,null,null,null,null,null,null,null,null,null,null,null,null,null,null,null,{"$f":"Graph_Basis!H56","v":"Leeg"},null,null,null,null,{"$f":"Graph_Basis!I56","v":0},null,null,{"$f":"AF116/'Rekensheet NN-Basis'!$E$8","v":{"$error":"#DIV/0!"}}]
[null,null,null,null,null,null,"De tabel hieronder toont het milieuprofiel van het product. Dit is de gebruikelijke uitkomst van een LCA-studie en toont de lijst met milieueffecten uitgedrukt in de verschillende milieu-impact categorieën.",null,null,null,null,null,null,null,null,null,null,null,null,null,null,null,null,null,null,null,{"$f":"Graph_Basis!H57","v":"Leeg"},null,null,null,null,{"$f":"Graph_Basis!I57","v":0},null,null,{"$f":"AF117/'Rekensheet NN-Basis'!$E$8","v":{"$error":"#DIV/0!"}}]
[null,null,null,null,null,null,null,null,null,null,null,null,null,null,null,null,null,null,null,null,null,null,null,null,null,null,{"$f":"Graph_Basis!H58","v":"Totaal"},null,null,null,null,{"$f":"Graph_Basis!I58","v":0},null,null,{"$f":"AF118/'Rekensheet NN-Basis'!$E$8","v":{"$error":"#DIV/0!"}}]
[]
[null,null,null,null,null,null,"Milieueffect",null,null,null,null,null,"Hoeveelheid per product",null,null,{"$f":" \"Hoeveelheid per product per \" &  Invul_Basis_Alg!$H$13","v":"Hoeveelheid per product per Leeg"},null,null,"Eenheid",null,null,null,null,{"$f":"Graph_Basis!B62","v":"Einde levensfase"},null,null,{"$f":"Graph_Basis!H62","v":"Leeg"},null,null,null,null,{"$f":"Graph_Basis!I62","v":0},null,null,{"$f":"AF120/'Rekensheet NN-Basis'!$E$8","v":{"$error":"#DIV/0!"}}]
[null,null,null,null,null,null,null,null,null,null,null,null,null,null,null,null,null,null,null,null,null,null,null,null,null,null,{"$f":"Graph_Basis!H63","v":"Leeg"},null,null,null,null,{"$f":"Graph_Basis!I63","v":0},null,null,{"$f":"AF121/'Rekensheet NN-Basis'!$E$8","v":{"$error":"#DIV/0!"}}]
[null,null,null,null,null,null,null,null,null,null,null,null,null,null,null,null,null,null,null,null,null,null,null,null,null,null,{"$f":"Graph_Basis!H64","v":"Leeg"},null,null,null,null,{"$f":"Graph_Basis!I64","v":0},null,null,{"$f":"AF122/'Rekensheet NN-Basis'!$E$8","v":{"$error":"#DIV/0!"}}]
[null,null,null,null,null,null,"Totale milieu-kosten (MKI)",null,null,null,null,null,{"$f":"'Rekensheet NN-Basis'!$E$8","v":0},null,null,{"$f":"M123/Invul_Basis_Alg!$G$13","v":{"$error":"#DIV/0!"}},null,null,"€",null,null,null,null,null,null,null,{"$f":"Graph_Basis!H65","v":"Leeg"},null,null,null,null,{"$f":"Graph_Basis!I65","v":0},null,null,{"$f":"AF123/'Rekensheet NN-Basis'!$E$8","v":{"$error":"#DIV/0!"}}]
[null,null,null,null,null,null,"Uitputting van abiotische stoffen , excl. fossiele brandstoffen",null,null,null,null,null,{"$f":"'Rekensheet NN-Basis'!$F$8","v":0},null,null,{"$f":"M124/Invul_Basis_Alg!$G$13","v":{"$error":"#DIV/0!"}},null,null,"kg Sb eq",null,null,null,null,null,null,null,{"$f":"Graph_Basis!H66","v":"Leeg"},null,null,null,null,{"$f":"Graph_Basis!I66","v":0},null,null,{"$f":"AF124/'Rekensheet NN-Basis'!$E$8","v":{"$error":"#DIV/0!"}}]
[null,null,null,null,null,null,"Uitputting van fossiele brandstoffen",null,null,null,null,null,{"$f":"'Rekensheet NN-Basis'!$G$8","v":0},null,null,{"$f":"M125/Invul_Basis_Alg!$G$13","v":{"$error":"#DIV/0!"}},null,null,"kg Sb eq",null,null,null,null,null,null,null,{"$f":"Graph_Basis!H67","v":"Leeg"},null,null,null,null,{"$f":"Graph_Basis!I67","v":0},null,null,{"$f":"AF125/'Rekensheet NN-Basis'!$E$8","v":{"$error":"#DIV/0!"}}]
[null,null,null,null,null,null,"Klimaatverandering",null,null,null,null,null,{"$f":"'Rekensheet NN-Basis'!$H$8","v":0},null,null,{"$f":"M126/Invul_Basis_Alg!$G$13","v":{"$error":"#DIV/0!"}},null,null,"kg CO2 eq",null,null,null,null,null,null,null,{"$f":"Graph_Basis!H68","v":"Leeg"},null,null,null,null,{"$f":"Graph_Basis!I68","v":0},null,null,{"$f":"AF126/'Rekensheet NN-Basis'!$E$8","v":{"$error":"#DIV/0!"}}]
[null,null,null,null,null,null,"Aantasting van de ozonlaag",null,null,null,null,null,{"$f":"'Rekensheet NN-Basis'!$I$8","v":0},null,null,{"$f":"M127/Invul_Basis_Alg!$G$13","v":{"$error":"#DIV/0!"}},null,null,"kg CFC-11 eq",null,null,null,null,null,null,null,{"$f":"Graph_Basis!H69","v":"Leeg"},null,null,null,null,{"$f":"Graph_Basis!I69","v":0},null,null,{"$f":"AF127/'Rekensheet NN-Basis'!$E$8","v":{"$error":"#DIV/0!"}}]
[null,null,null,null,null,null,"Fotochemische oxidatie (zomersmog)",null,null,null,null,null,{"$f":"'Rekensheet NN-Basis'!$J$8","v":0},null,null,{"$f":"M128/Invul_Basis_Alg!$G$13","v":{"$error":"#DIV/0!"}},null,null,"kg C2H4",null,null,null,null,null,null,null,{"$f":"Graph_Basis!H70","v":"Leeg"},null,null,null,null,{"$f":"Graph_Basis!I70","v":0},null,null,{"$f":"AF128/'Rekensheet NN-Basis'!$E$8","v":{"$error":"#DIV/0!"}}]
[null,null,null,null,null,null,"Verzuring",null,null,null,null,null,{"$f":"'Rekensheet NN-Basis'!$K$8","v":0},null,null,{"$f":"M129/Invul_Basis_Alg!$G$13","v":{"$error":"#DIV/0!"}},null,null,"kg SO2 eq",null,null,null,null,null,null,null,{"$f":"Graph_Basis!H71","v":"Leeg"},null,null,null,null,{"$f":"Graph_Basis!I71","v":0},null,null,{"$f":"AF129/'Rekensheet NN-Basis'!$E$8","v":{"$error":"#DIV/0!"}}]
[null,null,null,null,null,null,"Vermesting",null,null,null,null,null,{"$f":"'Rekensheet NN-Basis'!$L$8","v":0},null,null,{"$f":"M130/Invul_Basis_Alg!$G$13","v":{"$error":"#DIV/0!"}},null,null,"kg PO4 eq",null,null,null,null,null,null,null,{"$f":"Graph_Basis!H72","v":"Leeg"},null,null,null,null,{"$f":"Graph_Basis!I72","v":0},null,null,{"$f":"AF130/'Rekensheet NN-Basis'!$E$8","v":{"$error":"#DIV/0!"}}]
[null,null,null,null,null,null,"Humane toxiciteit",null,null,null,null,null,{"$f":"'Rekensheet NN-Basis'!$M$8","v":0},null,null,{"$f":"M131/Invul_Basis_Alg!$G$13","v":{"$error":"#DIV/0!"}},null,null,"kg 1,4-DB eq",null,null,null,null,null,null,null,{"$f":"Graph_Basis!H73","v":"Leeg"},null,null,null,null,{"$f":"Graph_Basis!I73","v":0},null,null,{"$f":"AF131/'Rekensheet NN-Basis'!$E$8","v":{"$error":"#DIV/0!"}}]
[null,null,null,null,null,null,"Zoetwater ecotoxiciteit",null,null,null,null,null,{"$f":"'Rekensheet NN-Basis'!$N$8","v":0},null,null,{"$f":"M132/Invul_Basis_Alg!$G$13","v":{"$error":"#DIV/0!"}},null,null,"kg 1,4-DB eq",null,null,null,null,null,null,null,{"$f":"Graph_Basis!H74","v":"Leeg"},null,null,null,null,{"$f":"Graph_Basis!I74","v":0},null,null,{"$f":"AF132/'Rekensheet NN-Basis'!$E$8","v":{"$error":"#DIV/0!"}}]
[null,null,null,null,null,null,"Zoutwater ecotoxiciteit",null,null,null,null,null,{"$f":"'Rekensheet NN-Basis'!$O$8","v":0},null,null,{"$f":"M133/Invul_Basis_Alg!$G$13","v":{"$error":"#DIV/0!"}},null,null,"kg 1,4-DB eq",null,null,null,null,null,null,null,{"$f":"Graph_Basis!H75","v":"Leeg"},null,null,null,null,{"$f":"Graph_Basis!I75","v":0},null,null,{"$f":"AF133/'Rekensheet NN-Basis'!$E$8","v":{"$error":"#DIV/0!"}}]
[null,null,null,null,null,null,"Terrestische ecotoxiciteit",null,null,null,null,null,{"$f":"'Rekensheet NN-Basis'!$P$8","v":0},null,null,{"$f":"M134/Invul_Basis_Alg!$G$13","v":{"$error":"#DIV/0!"}},null,null,"kg 1,4-DB eq",null,null,null,null,null,null,null,{"$f":"Graph_Basis!H76","v":"Leeg"},null,null,null,null,{"$f":"Graph_Basis!I76","v":0},null,null,{"$f":"AF134/'Rekensheet NN-Basis'!$E$8","v":{"$error":"#DIV/0!"}}]
[null,null,null,null,null,null,"Hernieuwbaar primair energiegebruik",null,null,null,null,null,{"$f":"'Rekensheet NN-Basis'!$Q$8","v":0},null,null,{"$f":"M135/Invul_Basis_Alg!$G$13","v":{"$error":"#DIV/0!"}},null,null,"MJ",null,null,null,null,null,null,null,{"$f":"Graph_Basis!H77","v":"Leeg"},null,null,null,null,{"$f":"Graph_Basis!I77","v":0},null,null,{"$f":"AF135/'Rekensheet NN-Basis'!$E$8","v":{"$error":"#DIV/0!"}}]
[null,null,null,null,null,null,"Niet-hernieuwbaar primair energiegebruik",null,null,null,null,null,{"$f":"'Rekensheet NN-Basis'!$R$8","v":0},null,null,{"$f":"M136/Invul_Basis_Alg!$G$13","v":{"$error":"#DIV/0!"}},null,null,"MJ",null,null,null,null,null,null,null,{"$f":"Graph_Basis!H78","v":"Leeg"},null,null,null,null,{"$f":"Graph_Basis!I78","v":0},null,null,{"$f":"AF136/'Rekensheet NN-Basis'!$E$8","v":{"$error":"#DIV/0!"}}]
[null,null,null,null,null,null,"Zoetwatergebruik",null,null,null,null,null,{"$f":"'Rekensheet NN-Basis'!$S$8","v":0},null,null,{"$f":"M137/Invul_Basis_Alg!$G$13","v":{"$error":"#DIV/0!"}},null,null,"M3",null,null,null,null,null,null,null,{"$f":"Graph_Basis!H79","v":"Leeg"},null,null,null,null,{"$f":"Graph_Basis!I79","v":0},null,null,{"$f":"AF137/'Rekensheet NN-Basis'!$E$8","v":{"$error":"#DIV/0!"}}]
[null,null,null,null,null,null,"Gevaarlijk afval",null,null,null,null,null,{"$f":"'Rekensheet NN-Basis'!$T$8","v":0},null,null,{"$f":"M138/Invul_Basis_Alg!$G$13","v":{"$error":"#DIV/0!"}},null,null,"kg",null,null,null,null,null,null,null,{"$f":"Graph_Basis!H80","v":"Leeg"},null,null,null,null,{"$f":"Graph_Basis!I80","v":0},null,null,{"$f":"AF138/'Rekensheet NN-Basis'!$E$8","v":{"$error":"#DIV/0!"}}]
[null,null,null,null,null,null,"Niet-gevaarlijk afval",null,null,null,null,null,{"$f":"'Rekensheet NN-Basis'!$U$8","v":0},null,null,{"$f":"M139/Invul_Basis_Alg!$G$13","v":{"$error":"#DIV/0!"}},null,null,"kg",null,null,null,null,null,null,null,{"$f":"Graph_Basis!H81","v":"Leeg"},null,null,null,null,{"$f":"Graph_Basis!I81","v":0},null,null,{"$f":"AF139/'Rekensheet NN-Basis'!$E$8","v":{"$error":"#DIV/0!"}}]
[null,null,null,null,null,null,"Radioactief afval",null,null,null,null,null,{"$f":"'Rekensheet NN-Basis'!$V$8","v":0},null,null,{"$f":"M140/Invul_Basis_Alg!$G$13","v":{"$error":"#DIV/0!"}},null,null,"kg",null,null,null,null,null,null,null,{"$f":"Graph_Basis!H82","v":"Totaal"},null,null,null,null,{"$f":"Graph_Basis!I82","v":0},null,null,{"$f":"AF140/'Rekensheet NN-Basis'!$E$8","v":{"$error":"#DIV/0!"}}]

{"sheet":"Graph_Basis","index":8,"n_rows":85,"n_cols":12,"rows_kept":85,"cut":false,"hidden":true,"merged":[]}
[]
[null,"Voor donut diagram (negatieve EOL MKI's worden afgetrokken vd materialen MKI.)"]
[null,"Materialen",{"$f":"Invul_Basis_Materialen!G12","v":"Leeg"},{"$f":"I3+IF(I62<0,I62,0)","v":0},null,null,null,{"$f":"C3","v":"Leeg"},{"$f":"Invul_Basis_Materialen!U12","v":0}]
[null,"Materialen",{"$f":"Invul_Basis_Materialen!G13","v":"Leeg"},{"$f":"I4+IF(I63<0,I63,0)","v":0},null,null,null,{"$f":"C4","v":"Leeg"},{"$f":"Invul_Basis_Materialen!U13","v":0}]
[null,"Materialen",{"$f":"Invul_Basis_Materialen!G14","v":"Leeg"},0,null,null,null,"Leeg",{"$f":"Invul_Basis_Materialen!U14","v":0}]
[null,"Materialen",{"$f":"Invul_Basis_Materialen!G15","v":"Leeg"},0,null,null,null,"Leeg",{"$f":"Invul_Basis_Materialen!U15","v":0}]
[null,"Materialen",{"$f":"Invul_Basis_Materialen!G16","v":"Leeg"},0,null,null,null,"Leeg",{"$f":"Invul_Basis_Materialen!U16","v":0}]
[null,"Materialen",{"$f":"Invul_Basis_Materialen!G17","v":"Leeg"},0,null,null,null,"Leeg",{"$f":"Invul_Basis_Materialen!U17","v":0}]
[null,"Materialen",{"$f":"Invul_Basis_Materialen!G18","v":"Leeg"},0,null,null,null,"Leeg",{"$f":"Invul_Basis_Materialen!U18","v":0}]
[null,"Materialen",{"$f":"Invul_Basis_Materialen!G19","v":"Leeg"},0,null,null,null,"Leeg",{"$f":"Invul_Basis_Materialen!U19","v":0}]
[null,"Materialen",{"$f":"Invul_Basis_Materialen!G20","v":"Leeg"},0,null,null,null,"Leeg",{"$f":"Invul_Basis_Materialen!U20","v":0}]
[null,"Materialen",{"$f":"Invul_Basis_Materialen!G21","v":"Leeg"},0,null,null,null,"Leeg",{"$f":"Invul_Basis_Materialen!U21","v":0}]
[null,"Materialen",{"$f":"Invul_Basis_Materialen!G22","v":"Leeg"},0,null,null,null,"Leeg",{"$f":"Invul_Basis_Materialen!U22","v":0}]
[null,"Materialen",{"$f":"Invul_Basis_Materialen!G23","v":"Leeg"},0,null,null,null,"Leeg",{"$f":"Invul_Basis_Materialen!U23","v":0}]
[null,"Materialen",{"$f":"Invul_Basis_Materialen!G24","v":"Leeg"},0,null,null,null,"Leeg",{"$f":"Invul_Basis_Materialen!U24","v":0}]
[null,"Materialen",{"$f":"Invul_Basis_Materialen!G25","v":"Leeg"},0,null,null,null,"Leeg",{"$f":"Invul_Basis_Materialen!U25","v":0}]
[null,"Materialen",{"$f":"Invul_Basis_Materialen!G26","v":"Leeg"},0,null,null,null,"Leeg",{"$f":"Invul_Basis_Materialen!U26","v":0}]
[null,"Materialen",{"$f":"Invul_Basis_Materialen!G27","v":"Leeg"},0,null,null,null,"Leeg",{"$f":"Invul_Basis_Materialen!U27","v":0}]
[null,"Materialen",{"$f":"Invul_Basis_Materialen!G28","v":"Leeg"},0,null,null,null,"Leeg",{"$f":"Invul_Basis_Materialen!U28","v":0}]
[null,"Materialen",{"$f":"Invul_Basis_Materialen!G29","v":"Leeg"},0,null,null,null,"Leeg",{"$f":"Invul_Basis_Materialen!U29","v":0}]
[null,"Materialen",{"$f":"Invul_Basis_Materialen!G30","v":"Leeg"},0,null,null,null,"Leeg",{"$f":"Invul_Basis_Materialen!U30","v":0}]
[null,"Materialen",{"$f":"Invul_Basis_Materialen!G31","v":"Leeg"},0,null,null,null,"Leeg",{"$f":"Invul_Basis_Materialen!U31","v":0}]
[null,null,null,null,"Totaal",{"$f":"SUM(D3:D22)","v":0},"Materiaal","Totaal",{"$f":"SUM(I3:I22)","v":0},"Totaal",{"$f":"SUM(I3:I22)","v":0},"Materiaal"]
[]
[]
[]
[]
[]
[null,"Bewerkingen",{"$f":"Invul_Basis_Bewerking!G12","v":"Leeg"},{"$f":"IF(I29<=0,I29*-1,I29)","v":0},null,null,null,{"$f":"C29","v":"Leeg"},{"$f":"Invul_Basis_Bewerking!L12","v":0}]
[null,"Bewerkingen",{"$f":"Invul_Basis_Bewerking!G13","v":"Leeg"},{"$f":"IF(I30<=0,I30*-1,I30)","v":0},null,null,null,{"$f":"C30","v":"Leeg"},{"$f":"Invul_Basis_Bewerking!L13","v":0}]
[null,"Bewerkingen",{"$f":"Invul_Basis_Bewerking!G14","v":"Leeg"},0,null,null,null,"Leeg",{"$f":"Invul_Basis_Bewerking!L14","v":0}]
[null,"Bewerkingen",{"$f":"Invul_Basis_Bewerking!G15","v":"Leeg"},0,null,null,null,"Leeg",{"$f":"Invul_Basis_Bewerking!L15","v":0}]
[null,"Bewerkingen",{"$f":"Invul_Basis_Bewerking!G16","v":"Leeg"},0,null,null,null,"Leeg",{"$f":"Invul_Basis_Bewerking!L16","v":0}]
[null,"Bewerkingen",{"$f":"Invul_Basis_Bewerking!G17","v":"Leeg"},0,null,null,null,"Leeg",{"$f":"Invul_Basis_Bewerking!L17","v":0}]
[null,"Bewerkingen",{"$f":"Invul_Basis_Bewerking!G18","v":"Leeg"},0,null,null,null,"Leeg",{"$f":"Invul_Basis_Bewerking!L18","v":0}]
[null,"Bewerkingen",{"$f":"Invul_Basis_Bewerking!G19","v":"Leeg"},0,null,null,null,{"$f":"C36","v":"Leeg"},{"$f":"Invul_Basis_Bewerking!L19","v":0}]
[null,null,null,null,"Totaal",{"$f":"SUM(D29:D36)","v":0},"Bewerking","Totaal",{"$f":"SUM(I29:I36)","v":0},"Totaal",{"$f":"SUM(I29:I36)","v":0},"Bewerking"]
[]
[]
[]
[null,"Distributie",{"$f":"Invul_Basis_Distributie!F12","v":"Leeg"},{"$f":"IF(I41<=0,I41*-1,I41)","v":0},null,null,null,{"$f":"C41","v":"Leeg"},{"$f":"Invul_Basis_Distributie!U12","v":0}]
[null,"Distributie",{"$f":"Invul_Basis_Distributie!F13","v":"Leeg"},0,null,null,null,"Leeg",{"$f":"Invul_Basis_Distributie!U13","v":0}]
[null,"Distributie",{"$f":"Invul_Basis_Distributie!F14","v":"Leeg"},0,null,null,null,"Leeg",{"$f":"Invul_Basis_Distributie!U14","v":0}]
[null,"Distributie",{"$f":"Invul_Basis_Distributie!F15","v":"Leeg"},0,null,null,null,"Leeg",{"$f":"Invul_Basis_Distributie!U15","v":0}]
[null,"Distributie",{"$f":"Invul_Basis_Distributie!F16","v":"Leeg"},0,null,null,null,"Leeg",{"$f":"Invul_Basis_Distributie!U16","v":0}]
[null,"Distributie",{"$f":"Invul_Basis_Distributie!F17","v":"Leeg"},0,null,null,null,"Leeg",{"$f":"Invul_Basis_Distributie!U17","v":0}]
[null,"Distributie",{"$f":"Invul_Basis_Distributie!F18","v":"Leeg"},0,null,null,null,"Leeg",{"$f":"Invul_Basis_Distributie!U18","v":0}]
[null,"Distributie",{"$f":"Invul_Basis_Distributie!F19","v":"Leeg"},0,null,null,null,"Leeg",{"$f":"Invul_Basis_Distributie!U19","v":0}]
[null,null,null,null,"Totaal",{"$f":"SUM(D41:D48)","v":0},"Distributie","Totaal",{"$f":"SUM(I41:I48)","v":0},"Totaal",{"$f":"SUM(I41:I48)","v":0},"Distributie"]
[]
[]
[]
[]
[null,"Gebruik",{"$f":"Invul_Basis_Gebruik!F12","v":"Leeg"},{"$f":"IF(I54<=0,I54*-1,I54)","v":0},null,null,null,{"$f":"C54","v":"Leeg"},{"$f":"Invul_Basis_Gebruik!K12","v":0}]
[null,"Gebruik",{"$f":"Invul_Basis_Gebruik!F13","v":"Leeg"},{"$f":"IF(I55<=0,I55*-1,I55)","v":0},null,null,null,{"$f":"C55","v":"Leeg"},{"$f":"Invul_Basis_Gebruik!K13","v":0}]
[null,"Gebruik",{"$f":"Invul_Basis_Gebruik!F14","v":"Leeg"},{"$f":"IF(I56<=0,I56*-1,I56)","v":0},null,null,null,{"$f":"C56","v":"Leeg"},{"$f":"Invul_Basis_Gebruik!K14","v":0}]
[null,"Gebruik",{"$f":"Invul_Basis_Gebruik!F15","v":"Leeg"},{"$f":"IF(I57<=0,I57*-1,I57)","v":0},null,null,null,{"$f":"C57","v":"Leeg"},{"$f":"Invul_Basis_Gebruik!K15","v":0}]
[null,null,null,null,"Totaal",{"$f":"SUM(D54:D57)","v":0},"Gebruik","Totaal",{"$f":"SUM(I54:I57)","v":0},"Totaal",{"$f":"SUM(I54:I57)","v":0},"Gebruik"]
[]
[]
[]
[null,"Einde levensfase",{"$f":"Invul_Basis_EindeL!F13","v":"Leeg"},{"$f":"IF(I62<=0,0,I62)","v":0},null,null,null,{"$f":"C62","v":"Leeg"},{"$f":"Invul_Basis_EindeL!U13","v":0}]
[null,"Einde levensfase",{"$f":"Invul_Basis_EindeL!F14","v":"Leeg"},{"$f":"IF(I63<=0,0,I63)","v":0},null,null,null,"Leeg",{"$f":"Invul_Basis_EindeL!U14","v":0}]
[null,"Einde levensfase",{"$f":"Invul_Basis_EindeL!F15","v":"Leeg"},0,null,null,null,"Leeg",{"$f":"Invul_Basis_EindeL!U15","v":0}]
[null,"Einde levensfase",{"$f":"Invul_Basis_EindeL!F16","v":"Leeg"},0,null,null,null,"Leeg",{"$f":"Invul_Basis_EindeL!U16","v":0}]
[null,"Einde levensfase",{"$f":"Invul_Basis_EindeL!F17","v":"Leeg"},0,null,null,null,"Leeg",{"$f":"Invul_Basis_EindeL!U17","v":0}]
[null,"Einde levensfase",{"$f":"Invul_Basis_EindeL!F18","v":"Leeg"},0,null,null,null,"Leeg",{"$f":"Invul_Basis_EindeL!U18","v":0}]
[null,"Einde levensfase",{"$f":"Invul_Basis_EindeL!F19","v":"Leeg"},0,null,null,null,"Leeg",{"$f":"Invul_Basis_EindeL!U19","v":0}]
[null,"Einde levensfase",{"$f":"Invul_Basis_EindeL!F20","v":"Leeg"},0,null,null,null,"Leeg",{"$f":"Invul_Basis_EindeL!U20","v":0}]
[null,"Einde levensfase",{"$f":"Invul_Basis_EindeL!F21","v":"Leeg"},0,null,null,null,"Leeg",{"$f":"Invul_Basis_EindeL!U21","v":0}]
[null,"Einde levensfase",{"$f":"Invul_Basis_EindeL!F22","v":"Leeg"},0,null,null,null,"Leeg",{"$f":"Invul_Basis_EindeL!U22","v":0}]
[null,"Einde levensfase",{"$f":"Invul_Basis_EindeL!F23","v":"Leeg"},0,null,null,null,"Leeg",{"$f":"Invul_Basis_EindeL!U23","v":0}]
[null,"Einde levensfase",{"$f":"Invul_Basis_EindeL!F24","v":"Leeg"},0,null,null,null,"Leeg",{"$f":"Invul_Basis_EindeL!U24","v":0}]
[null,"Einde levensfase",{"$f":"Invul_Basis_EindeL!F25","v":"Leeg"},0,null,null,null,"Leeg",{"$f":"Invul_Basis_EindeL!U25","v":0}]
[null,"Einde levensfase",{"$f":"Invul_Basis_EindeL!F26","v":"Leeg"},0,null,null,null,"Leeg",{"$f":"Invul_Basis_EindeL!U26","v":0}]
[null,"Einde levensfase",{"$f":"Invul_Basis_EindeL!F27","v":"Leeg"},0,null,null,null,"Leeg",{"$f":"Invul_Basis_EindeL!U27","v":0}]
[null,"Einde levensfase",{"$f":"Invul_Basis_EindeL!F28","v":"Leeg"},0,null,null,null,"Leeg",{"$f":"Invul_Basis_EindeL!U28","v":0}]
[null,"Einde levensfase",{"$f":"Invul_Basis_EindeL!F29","v":"Leeg"},0,null,null,null,"Leeg",{"$f":"Invul_Basis_EindeL!U29","v":0}]
[null,"Einde levensfase",{"$f":"Invul_Basis_EindeL!F30","v":"Leeg"},0,null,null,null,"Leeg",{"$f":"Invul_Basis_EindeL!U30","v":0}]
[null,"Einde levensfase",{"$f":"Invul_Basis_EindeL!F31","v":"Leeg"},0,null,null,null,"Leeg",{"$f":"Invul_Basis_EindeL!U31","v":0}]
[null,"Einde levensfase",{"$f":"Invul_Basis_EindeL!F32","v":"Leeg"},0,null,null,null,"Leeg",{"$f":"Invul_Basis_EindeL!U32","v":0}]
[null,null,null,null,"Totaal",{"$f":"SUM(D62:D81)","v":0},"Einde levensfase","Totaal",{"$f":"SUM(I62:I81)","v":0},"Totaal",{"$f":"SUM(I62:I81)","v":0},"Einde levensfase"]
[]
[null,"Voor toelichting grafiek:",null,null,"Grootste",{"$f":"LARGE(F3:F82,1)","v":0},{"$f":"VLOOKUP(F84,F3:G82,2,FALSE)","v":"Materiaal"},null,null,"Grootste",{"$f":"LARGE(K3:K82,1)","v":0},{"$f":"VLOOKUP(K84,K3:L82,2,FALSE)","v":"Materiaal"}]
[null,null,null,null,"2nd grootste",{"$f":"LARGE(F3:F82,2)","v":0},{"$f":"VLOOKUP(F85,F4:G83,2,FALSE)","v":"Materiaal"},null,null,"2nd grootste",{"$f":"LARGE(K3:K82,2)","v":0},{"$f":"VLOOKUP(K85,K4:L83,2,FALSE)","v":"Materiaal"}]

{"sheet":"Rekensheet NN-Basis","index":9,"n_rows":208,"n_cols":22,"rows_kept":208,"cut":false,"hidden":true,"merged":[[35,1,35,3],[203,1,206,1],[203,3,206,3],[203,4,206,4],[58,1,58,3],[11,1,11,3],[196,1,199,1],[196,3,199,3],[196,4,199,4],[200,1,202,1],[200,3,202,3],[200,4,202,4],[188,1,191,1],[188,3,191,3],[188,4,191,4],[192,1,195,1],[192,3,195,3],[192,4,195,4],[66,1,66,3],[187,1,187,5],[47,1,47,3]]}
[null,"Product",{"$f":"#REF!","v":{"$error":"#REF!"}}]
[null,"Productmassa",{"$f":"#REF!","v":{"$error":"#REF!"}},"kg"]
[null,"kg per gram",1E-3]
[null,"kg per kg",1]
[null,"kg per ton",1000]
[null,"kg per kton",1000000]
[null,null,null,null,"Totale milieu-kosten","1 abiotic depletion, non fuel (AD)","2 abiotic depletion, fuel (AD)","4 global warming (GWP)","5 ozone layer depletion (ODP)","6 photochemical oxidation (POCP)","7 acidification (AP)","8 eutrophication (EP)","9 human toxicity (HT)","10 Ecotoxicity, fresh water (FAETP)","12 Ecotoxcity, marine water (MAETP)","14 Ecotoxicity, terrestric (TETP)","101 Energy, primary, renewable (MJ)","102 Energy, primary, non-renewable (MJ)","104 Water, fresh water use (m3)","106 Waste, hazardous (kg)","105 Waste, non hazardous (kg)","107. Waste, radioactive (kg)"]
[null,null,null,null,{"$f":"SUM(E14:E33)+SUM(E38:E45)+SUM(E50:E57)+SUM(E61:E64)+E69+E74+E79+E84+E89+E94+E94+E99+E104+E109+E114+E119+E124+E129+E134+E139+E144+E149+E154+E159+E164","v":0},{"$f":"SUM(F14:F33)+SUM(F38:F45)+SUM(F50:F57)+SUM(F61:F64)+F69+F74+F79+F84+F89+F94+F94+F99+F104+F109+F114+F119+F124+F129+F134+F139+F144+F149+F154+F159+F164","v":0},0,0,0,0,0,0,0,0,0,0,0,0,0,0,0,0]
[]
[]
[null,null,null,null,null,5,6,7,8,9,10,11,12,13,14,15,18,21,25,26,27,28]
[null,"PRODUCTIE MI & MKI",null,null,"Totale milieu-kosten","1 abiotic depletion, non fuel (AD)","2 abiotic depletion, fuel (AD)","4 global warming (GWP)","5 ozone layer depletion (ODP)","6 photochemical oxidation (POCP)","7 acidification (AP)","8 eutrophication (EP)","9 human toxicity (HT)","10 Ecotoxicity, fresh water (FAETP)","12 Ecotoxcity, marine water (MAETP)","14 Ecotoxicity, terrestric (TETP)","101 Energy, primary, renewable (MJ)","102 Energy, primary, non-renewable (MJ)","104 Water, fresh water use (m3)","106 Waste, hazardous (kg)","105 Waste, non hazardous (kg)","107. Waste, radioactive (kg)"]
[null,{"$f":"#REF!","v":{"$error":"#REF!"}},"Massa (kg)","waarvan secundair\nZelf ingevulde waarden worden niet meegenomen in de MKI / in het milieuprofiel. "," €","kg Sb eq","kg Sb eq","kg CO2 eq","kg CFC-11 eq","kg C2H4","kg SO2 eq","kg PO4--- eq","kg 1,4-DB eq","kg 1,4-DB eq","kg 1,4-DB eq","kg 1,4-DB eq","MJ","MJ","m3","kg","kg","kg"]
[null,{"$f":"Invul_Basis_Materialen!G12","v":"Leeg"},{"$f":"Invul_Basis_Materialen!H12*(IF(B14=\"Leeg\",0,1))","v":0},{"$f":"IF(Invul_Basis_Materialen!I12=\"Standaard\",Invul_Basis_Materialen!J12,Invul_Basis_Materialen!N12)*(IF(B14=\"Leeg\",0,1))","v":0},{"$f":"VLOOKUP(B14,MKI!$B$1:$Z$263,5,FALSE)*C14","v":0},{"$f":"VLOOKUP($B14,'MI materialen'!$B:$AS,5,FALSE)*$C14","v":0},{"$f":"VLOOKUP($B14,'MI materialen'!$B:$AS,6,FALSE)*$C14","v":0},{"$f":"VLOOKUP($B14,'MI materialen'!$B:$AS,7,FALSE)*$C14","v":0},{"$f":"VLOOKUP($B14,'MI materialen'!$B:$AS,8,FALSE)*$C14","v":0},{"$f":"VLOOKUP($B14,'MI materialen'!$B:$AS,9,FALSE)*$C14","v":0},{"$f":"VLOOKUP($B14,'MI materialen'!$B:$AS,10,FALSE)*$C14","v":0},{"$f":"VLOOKUP($B14,'MI materialen'!$B:$AS,11,FALSE)*$C14","v":0},{"$f":"VLOOKUP($B14,'MI materialen'!$B:$AS,12,FALSE)*$C14","v":0},{"$f":"VLOOKUP($B14,'MI materialen'!$B:$AS,13,FALSE)*$C14","v":0},{"$f":"VLOOKUP($B14,'MI materialen'!$B:$AS,14,FALSE)*$C14","v":0},{"$f":"VLOOKUP($B14,'MI materialen'!$B:$AS,15,FALSE)*$C14","v":0},{"$f":"VLOOKUP($B14,'MI materialen'!$B:$AS,18,FALSE)*$C14","v":0},{"$f":"VLOOKUP($B14,'MI materialen'!$B:$AS,21,FALSE)*$C14","v":0},{"$f":"VLOOKUP($B14,'MI materialen'!$B:$AS,25,FALSE)*$C14","v":0},{"$f":"VLOOKUP($B14,'MI materialen'!$B:$AS,26,FALSE)*$C14","v":0},{"$f":"VLOOKUP($B14,'MI materialen'!$B:$AS,27,FALSE)*$C14","v":0},{"$f":"VLOOKUP($B14,'MI materialen'!$B:$AS,28,FALSE)*$C14","v":0}]
[null,{"$f":"Invul_Basis_Materialen!G13","v":"Leeg"},{"$f":"Invul_Basis_Materialen!H13*(IF(B15=\"Leeg\",0,1))","v":0},{"$f":"IF(Invul_Basis_Materialen!I13=\"Standaard\",Invul_Basis_Materialen!J13,Invul_Basis_Materialen!N13)*(IF(B15=\"Leeg\",0,1))","v":0},{"$f":"VLOOKUP(B15,MKI!$B$1:$Z$263,5,FALSE)*C15","v":0},{"$f":"VLOOKUP($B15,'MI materialen'!$B:$AS,5,FALSE)*$C15","v":0},{"$f":"VLOOKUP($B15,'MI materialen'!$B:$AS,6,FALSE)*$C15","v":0},{"$f":"VLOOKUP($B15,'MI materialen'!$B:$AS,7,FALSE)*$C15","v":0},{"$f":"VLOOKUP($B15,'MI materialen'!$B:$AS,8,FALSE)*$C15","v":0},{"$f":"VLOOKUP($B15,'MI materialen'!$B:$AS,9,FALSE)*$C15","v":0},{"$f":"VLOOKUP($B15,'MI materialen'!$B:$AS,10,FALSE)*$C15","v":0},{"$f":"VLOOKUP($B15,'MI materialen'!$B:$AS,11,FALSE)*$C15","v":0},{"$f":"VLOOKUP($B15,'MI materialen'!$B:$AS,12,FALSE)*$C15","v":0},{"$f":"VLOOKUP($B15,'MI materialen'!$B:$AS,13,FALSE)*$C15","v":0},{"$f":"VLOOKUP($B15,'MI materialen'!$B:$AS,14,FALSE)*$C15","v":0},{"$f":"VLOOKUP($B15,'MI materialen'!$B:$AS,15,FALSE)*$C15","v":0},{"$f":"VLOOKUP($B15,'MI materialen'!$B:$AS,18,FALSE)*$C15","v":0},{"$f":"VLOOKUP($B15,'MI materialen'!$B:$AS,21,FALSE)*$C15","v":0},{"$f":"VLOOKUP($B15,'MI materialen'!$B:$AS,25,FALSE)*$C15","v":0},{"$f":"VLOOKUP($B15,'MI materialen'!$B:$AS,26,FALSE)*$C15","v":0},{"$f":"VLOOKUP($B15,'MI materialen'!$B:$AS,27,FALSE)*$C15","v":0},{"$f":"VLOOKUP($B15,'MI materialen'!$B:$AS,28,FALSE)*$C15","v":0}]
[null,{"$f":"Invul_Basis_Materialen!G14","v":"Leeg"},{"$f":"Invul_Basis_Materialen!H14*(IF(B16=\"Leeg\",0,1))","v":0},{"$f":"IF(Invul_Basis_Materialen!I14=\"Standaard\",Invul_Basis_Materialen!J14,Invul_Basis_Materialen!N14)*(IF(B16=\"Leeg\",0,1))","v":0},{"$f":"VLOOKUP(B16,MKI!$B$1:$Z$263,5,FALSE)*C16","v":0},{"$f":"VLOOKUP($B16,'MI materialen'!$B:$AS,5,FALSE)*$C16","v":0},{"$f":"VLOOKUP($B16,'MI materialen'!$B:$AS,6,FALSE)*$C16","v":0},{"$f":"VLOOKUP($B16,'MI materialen'!$B:$AS,7,FALSE)*$C16","v":0},{"$f":"VLOOKUP($B16,'MI materialen'!$B:$AS,8,FALSE)*$C16","v":0},{"$f":"VLOOKUP($B16,'MI materialen'!$B:$AS,9,FALSE)*$C16","v":0},{"$f":"VLOOKUP($B16,'MI materialen'!$B:$AS,10,FALSE)*$C16","v":0},{"$f":"VLOOKUP($B16,'MI materialen'!$B:$AS,11,FALSE)*$C16","v":0},{"$f":"VLOOKUP($B16,'MI materialen'!$B:$AS,12,FALSE)*$C16","v":0},{"$f":"VLOOKUP($B16,'MI materialen'!$B:$AS,13,FALSE)*$C16","v":0},{"$f":"VLOOKUP($B16,'MI materialen'!$B:$AS,14,FALSE)*$C16","v":0},{"$f":"VLOOKUP($B16,'MI materialen'!$B:$AS,15,FALSE)*$C16","v":0},{"$f":"VLOOKUP($B16,'MI materialen'!$B:$AS,18,FALSE)*$C16","v":0},{"$f":"VLOOKUP($B16,'MI materialen'!$B:$AS,21,FALSE)*$C16","v":0},{"$f":"VLOOKUP($B16,'MI materialen'!$B:$AS,25,FALSE)*$C16","v":0},{"$f":"VLOOKUP($B16,'MI materialen'!$B:$AS,26,FALSE)*$C16","v":0},{"$f":"VLOOKUP($B16,'MI materialen'!$B:$AS,27,FALSE)*$C16","v":0},{"$f":"VLOOKUP($B16,'MI materialen'!$B:$AS,28,FALSE)*$C16","v":0}]
[null,{"$f":"Invul_Basis_Materialen!G15","v":"Leeg"},{"$f":"Invul_Basis_Materialen!H15*(IF(B17=\"Leeg\",0,1))","v":0},{"$f":"IF(Invul_Basis_Materialen!I15=\"Standaard\",Invul_Basis_Materialen!J15,Invul_Basis_Materialen!N15)*(IF(B17=\"Leeg\",0,1))","v":0},{"$f":"VLOOKUP(B17,MKI!$B$1:$Z$263,5,FALSE)*C17","v":0},{"$f":"VLOOKUP($B17,'MI materialen'!$B:$AS,5,FALSE)*$C17","v":0},{"$f":"VLOOKUP($B17,'MI materialen'!$B:$AS,6,FALSE)*$C17","v":0},{"$f":"VLOOKUP($B17,'MI materialen'!$B:$AS,7,FALSE)*$C17","v":0},{"$f":"VLOOKUP($B17,'MI materialen'!$B:$AS,8,FALSE)*$C17","v":0},{"$f":"VLOOKUP($B17,'MI materialen'!$B:$AS,9,FALSE)*$C17","v":0},{"$f":"VLOOKUP($B17,'MI materialen'!$B:$AS,10,FALSE)*$C17","v":0},{"$f":"VLOOKUP($B17,'MI materialen'!$B:$AS,11,FALSE)*$C17","v":0},{"$f":"VLOOKUP($B17,'MI materialen'!$B:$AS,12,FALSE)*$C17","v":0},{"$f":"VLOOKUP($B17,'MI materialen'!$B:$AS,13,FALSE)*$C17","v":0},{"$f":"VLOOKUP($B17,'MI materialen'!$B:$AS,14,FALSE)*$C17","v":0},{"$f":"VLOOKUP($B17,'MI materialen'!$B:$AS,15,FALSE)*$C17","v":0},{"$f":"VLOOKUP($B17,'MI materialen'!$B:$AS,18,FALSE)*$C17","v":0},{"$f":"VLOOKUP($B17,'MI materialen'!$B:$AS,21,FALSE)*$C17","v":0},{"$f":"VLOOKUP($B17,'MI materialen'!$B:$AS,25,FALSE)*$C17","v":0},{"$f":"VLOOKUP($B17,'MI materialen'!$B:$AS,26,FALSE)*$C17","v":0},{"$f":"VLOOKUP($B17,'MI materialen'!$B:$AS,27,FALSE)*$C17","v":0},{"$f":"VLOOKUP($B17,'MI materialen'!$B:$AS,28,FALSE)*$C17","v":0}]
[null,{"$f":"Invul_Basis_Materialen!G16","v":"Leeg"},{"$f":"Invul_Basis_Materialen!H16*(IF(B18=\"Leeg\",0,1))","v":0},{"$f":"IF(Invul_Basis_Materialen!I16=\"Standaard\",Invul_Basis_Materialen!J16,Invul_Basis_Materialen!N16)*(IF(B18=\"Leeg\",0,1))","v":0},{"$f":"VLOOKUP(B18,MKI!$B$1:$Z$263,5,FALSE)*C18","v":0},{"$f":"VLOOKUP($B18,'MI materialen'!$B:$AS,5,FALSE)*$C18","v":0},{"$f":"VLOOKUP($B18,'MI materialen'!$B:$AS,6,FALSE)*$C18","v":0},{"$f":"VLOOKUP($B18,'MI materialen'!$B:$AS,7,FALSE)*$C18","v":0},{"$f":"VLOOKUP($B18,'MI materialen'!$B:$AS,8,FALSE)*$C18","v":0},{"$f":"VLOOKUP($B18,'MI materialen'!$B:$AS,9,FALSE)*$C18","v":0},{"$f":"VLOOKUP($B18,'MI materialen'!$B:$AS,10,FALSE)*$C18","v":0},{"$f":"VLOOKUP($B18,'MI materialen'!$B:$AS,11,FALSE)*$C18","v":0},{"$f":"VLOOKUP($B18,'MI materialen'!$B:$AS,12,FALSE)*$C18","v":0},{"$f":"VLOOKUP($B18,'MI materialen'!$B:$AS,13,FALSE)*$C18","v":0},{"$f":"VLOOKUP($B18,'MI materialen'!$B:$AS,14,FALSE)*$C18","v":0},{"$f":"VLOOKUP($B18,'MI materialen'!$B:$AS,15,FALSE)*$C18","v":0},{"$f":"VLOOKUP($B18,'MI materialen'!$B:$AS,18,FALSE)*$C18","v":0},{"$f":"VLOOKUP($B18,'MI materialen'!$B:$AS,21,FALSE)*$C18","v":0},{"$f":"VLOOKUP($B18,'MI materialen'!$B:$AS,25,FALSE)*$C18","v":0},{"$f":"VLOOKUP($B18,'MI materialen'!$B:$AS,26,FALSE)*$C18","v":0},{"$f":"VLOOKUP($B18,'MI materialen'!$B:$AS,27,FALSE)*$C18","v":0},{"$f":"VLOOKUP($B18,'MI materialen'!$B:$AS,28,FALSE)*$C18","v":0}]
[null,{"$f":"Invul_Basis_Materialen!G17","v":"Leeg"},{"$f":"Invul_Basis_Materialen!H17*(IF(B19=\"Leeg\",0,1))","v":0},{"$f":"IF(Invul_Basis_Materialen!I17=\"Standaard\",Invul_Basis_Materialen!J17,Invul_Basis_Materialen!N17)*(IF(B19=\"Leeg\",0,1))","v":0},{"$f":"VLOOKUP(B19,MKI!$B$1:$Z$263,5,FALSE)*C19","v":0},{"$f":"VLOOKUP($B19,'MI materialen'!$B:$AS,5,FALSE)*$C19","v":0},{"$f":"VLOOKUP($B19,'MI materialen'!$B:$AS,6,FALSE)*$C19","v":0},{"$f":"VLOOKUP($B19,'MI materialen'!$B:$AS,7,FALSE)*$C19","v":0},{"$f":"VLOOKUP($B19,'MI materialen'!$B:$AS,8,FALSE)*$C19","v":0},{"$f":"VLOOKUP($B19,'MI materialen'!$B:$AS,9,FALSE)*$C19","v":0},{"$f":"VLOOKUP($B19,'MI materialen'!$B:$AS,10,FALSE)*$C19","v":0},{"$f":"VLOOKUP($B19,'MI materialen'!$B:$AS,11,FALSE)*$C19","v":0},{"$f":"VLOOKUP($B19,'MI materialen'!$B:$AS,12,FALSE)*$C19","v":0},{"$f":"VLOOKUP($B19,'MI materialen'!$B:$AS,13,FALSE)*$C19","v":0},{"$f":"VLOOKUP($B19,'MI materialen'!$B:$AS,14,FALSE)*$C19","v":0},{"$f":"VLOOKUP($B19,'MI materialen'!$B:$AS,15,FALSE)*$C19","v":0},{"$f":"VLOOKUP($B19,'MI materialen'!$B:$AS,18,FALSE)*$C19","v":0},{"$f":"VLOOKUP($B19,'MI materialen'!$B:$AS,21,FALSE)*$C19","v":0},{"$f":"VLOOKUP($B19,'MI materialen'!$B:$AS,25,FALSE)*$C19","v":0},{"$f":"VLOOKUP($B19,'MI materialen'!$B:$AS,26,FALSE)*$C19","v":0},{"$f":"VLOOKUP($B19,'MI materialen'!$B:$AS,27,FALSE)*$C19","v":0},{"$f":"VLOOKUP($B19,'MI materialen'!$B:$AS,28,FALSE)*$C19","v":0}]
[null,{"$f":"Invul_Basis_Materialen!G18","v":"Leeg"},{"$f":"Invul_Basis_Materialen!H18*(IF(B20=\"Leeg\",0,1))","v":0},{"$f":"IF(Invul_Basis_Materialen!I18=\"Standaard\",Invul_Basis_Materialen!J18,Invul_Basis_Materialen!N18)*(IF(B20=\"Leeg\",0,1))","v":0},{"$f":"VLOOKUP(B20,MKI!$B$1:$Z$263,5,FALSE)*C20","v":0},{"$f":"VLOOKUP($B20,'MI materialen'!$B:$AS,5,FALSE)*$C20","v":0},{"$f":"VLOOKUP($B20,'MI materialen'!$B:$AS,6,FALSE)*$C20","v":0},{"$f":"VLOOKUP($B20,'MI materialen'!$B:$AS,7,FALSE)*$C20","v":0},{"$f":"VLOOKUP($B20,'MI materialen'!$B:$AS,8,FALSE)*$C20","v":0},{"$f":"VLOOKUP($B20,'MI materialen'!$B:$AS,9,FALSE)*$C20","v":0},{"$f":"VLOOKUP($B20,'MI materialen'!$B:$AS,10,FALSE)*$C20","v":0},{"$f":"VLOOKUP($B20,'MI materialen'!$B:$AS,11,FALSE)*$C20","v":0},{"$f":"VLOOKUP($B20,'MI materialen'!$B:$AS,12,FALSE)*$C20","v":0},{"$f":"VLOOKUP($B20,'MI materialen'!$B:$AS,13,FALSE)*$C20","v":0},{"$f":"VLOOKUP($B20,'MI materialen'!$B:$AS,14,FALSE)*$C20","v":0},{"$f":"VLOOKUP($B20,'MI materialen'!$B:$AS,15,FALSE)*$C20","v":0},{"$f":"VLOOKUP($B20,'MI materialen'!$B:$AS,18,FALSE)*$C20","v":0},{"$f":"VLOOKUP($B20,'MI materialen'!$B:$AS,21,FALSE)*$C20","v":0},{"$f":"VLOOKUP($B20,'MI materialen'!$B:$AS,25,FALSE)*$C20","v":0},{"$f":"VLOOKUP($B20,'MI materialen'!$B:$AS,26,FALSE)*$C20","v":0},{"$f":"VLOOKUP($B20,'MI materialen'!$B:$AS,27,FALSE)*$C20","v":0},{"$f":"VLOOKUP($B20,'MI materialen'!$B:$AS,28,FALSE)*$C20","v":0}]
[null,{"$f":"Invul_Basis_Materialen!G19","v":"Leeg"},{"$f":"Invul_Basis_Materialen!H19*(IF(B21=\"Leeg\",0,1))","v":0},{"$f":"IF(Invul_Basis_Materialen!I19=\"Standaard\",Invul_Basis_Materialen!J19,Invul_Basis_Materialen!N19)*(IF(B21=\"Leeg\",0,1))","v":0},{"$f":"VLOOKUP(B21,MKI!$B$1:$Z$263,5,FALSE)*C21","v":0},{"$f":"VLOOKUP($B21,'MI materialen'!$B:$AS,5,FALSE)*$C21","v":0},{"$f":"VLOOKUP($B21,'MI materialen'!$B:$AS,6,FALSE)*$C21","v":0},{"$f":"VLOOKUP($B21,'MI materialen'!$B:$AS,7,FALSE)*$C21","v":0},{"$f":"VLOOKUP($B21,'MI materialen'!$B:$AS,8,FALSE)*$C21","v":0},{"$f":"VLOOKUP($B21,'MI materialen'!$B:$AS,9,FALSE)*$C21","v":0},{"$f":"VLOOKUP($B21,'MI materialen'!$B:$AS,10,FALSE)*$C21","v":0},{"$f":"VLOOKUP($B21,'MI materialen'!$B:$AS,11,FALSE)*$C21","v":0},{"$f":"VLOOKUP($B21,'MI materialen'!$B:$AS,12,FALSE)*$C21","v":0},{"$f":"VLOOKUP($B21,'MI materialen'!$B:$AS,13,FALSE)*$C21","v":0},{"$f":"VLOOKUP($B21,'MI materialen'!$B:$AS,14,FALSE)*$C21","v":0},{"$f":"VLOOKUP($B21,'MI materialen'!$B:$AS,15,FALSE)*$C21","v":0},{"$f":"VLOOKUP($B21,'MI materialen'!$B:$AS,18,FALSE)*$C21","v":0},{"$f":"VLOOKUP($B21,'MI materialen'!$B:$AS,21,FALSE)*$C21","v":0},{"$f":"VLOOKUP($B21,'MI materialen'!$B:$AS,25,FALSE)*$C21","v":0},{"$f":"VLOOKUP($B21,'MI materialen'!$B:$AS,26,FALSE)*$C21","v":0},{"$f":"VLOOKUP($B21,'MI materialen'!$B:$AS,27,FALSE)*$C21","v":0},{"$f":"VLOOKUP($B21,'MI materialen'!$B:$AS,28,FALSE)*$C21","v":0}]
[null,{"$f":"Invul_Basis_Materialen!G20","v":"Leeg"},{"$f":"Invul_Basis_Materialen!H20*(IF(B22=\"Leeg\",0,1))","v":0},{"$f":"IF(Invul_Basis_Materialen!I20=\"Standaard\",Invul_Basis_Materialen!J20,Invul_Basis_Materialen!N20)*(IF(B22=\"Leeg\",0,1))","v":0},{"$f":"VLOOKUP(B22,MKI!$B$1:$Z$263,5,FALSE)*C22","v":0},{"$f":"VLOOKUP($B22,'MI materialen'!$B:$AS,5,FALSE)*$C22","v":0},{"$f":"VLOOKUP($B22,'MI materialen'!$B:$AS,6,FALSE)*$C22","v":0},{"$f":"VLOOKUP($B22,'MI materialen'!$B:$AS,7,FALSE)*$C22","v":0},{"$f":"VLOOKUP($B22,'MI materialen'!$B:$AS,8,FALSE)*$C22","v":0},{"$f":"VLOOKUP($B22,'MI materialen'!$B:$AS,9,FALSE)*$C22","v":0},{"$f":"VLOOKUP($B22,'MI materialen'!$B:$AS,10,FALSE)*$C22","v":0},{"$f":"VLOOKUP($B22,'MI materialen'!$B:$AS,11,FALSE)*$C22","v":0},{"$f":"VLOOKUP($B22,'MI materialen'!$B:$AS,12,FALSE)*$C22","v":0},{"$f":"VLOOKUP($B22,'MI materialen'!$B:$AS,13,FALSE)*$C22","v":0},{"$f":"VLOOKUP($B22,'MI materialen'!$B:$AS,14,FALSE)*$C22","v":0},{"$f":"VLOOKUP($B22,'MI materialen'!$B:$AS,15,FALSE)*$C22","v":0},{"$f":"VLOOKUP($B22,'MI materialen'!$B:$AS,18,FALSE)*$C22","v":0},{"$f":"VLOOKUP($B22,'MI materialen'!$B:$AS,21,FALSE)*$C22","v":0},{"$f":"VLOOKUP($B22,'MI materialen'!$B:$AS,25,FALSE)*$C22","v":0},{"$f":"VLOOKUP($B22,'MI materialen'!$B:$AS,26,FALSE)*$C22","v":0},{"$f":"VLOOKUP($B22,'MI materialen'!$B:$AS,27,FALSE)*$C22","v":0},{"$f":"VLOOKUP($B22,'MI materialen'!$B:$AS,28,FALSE)*$C22","v":0}]
[null,{"$f":"Invul_Basis_Materialen!G21","v":"Leeg"},{"$f":"Invul_Basis_Materialen!H21*(IF(B23=\"Leeg\",0,1))","v":0},{"$f":"IF(Invul_Basis_Materialen!I21=\"Standaard\",Invul_Basis_Materialen!J21,Invul_Basis_Materialen!N21)*(IF(B23=\"Leeg\",0,1))","v":0},{"$f":"VLOOKUP(B23,MKI!$B$1:$Z$263,5,FALSE)*C23","v":0},{"$f":"VLOOKUP($B23,'MI materialen'!$B:$AS,5,FALSE)*$C23","v":0},{"$f":"VLOOKUP($B23,'MI materialen'!$B:$AS,6,FALSE)*$C23","v":0},{"$f":"VLOOKUP($B23,'MI materialen'!$B:$AS,7,FALSE)*$C23","v":0},{"$f":"VLOOKUP($B23,'MI materialen'!$B:$AS,8,FALSE)*$C23","v":0},{"$f":"VLOOKUP($B23,'MI materialen'!$B:$AS,9,FALSE)*$C23","v":0},{"$f":"VLOOKUP($B23,'MI materialen'!$B:$AS,10,FALSE)*$C23","v":0},{"$f":"VLOOKUP($B23,'MI materialen'!$B:$AS,11,FALSE)*$C23","v":0},{"$f":"VLOOKUP($B23,'MI materialen'!$B:$AS,12,FALSE)*$C23","v":0},{"$f":"VLOOKUP($B23,'MI materialen'!$B:$AS,13,FALSE)*$C23","v":0},{"$f":"VLOOKUP($B23,'MI materialen'!$B:$AS,14,FALSE)*$C23","v":0},{"$f":"VLOOKUP($B23,'MI materialen'!$B:$AS,15,FALSE)*$C23","v":0},{"$f":"VLOOKUP($B23,'MI materialen'!$B:$AS,18,FALSE)*$C23","v":0},{"$f":"VLOOKUP($B23,'MI materialen'!$B:$AS,21,FALSE)*$C23","v":0},{"$f":"VLOOKUP($B23,'MI materialen'!$B:$AS,25,FALSE)*$C23","v":0},{"$f":"VLOOKUP($B23,'MI materialen'!$B:$AS,26,FALSE)*$C23","v":0},{"$f":"VLOOKUP($B23,'MI materialen'!$B:$AS,27,FALSE)*$C23","v":0},{"$f":"VLOOKUP($B23,'MI materialen'!$B:$AS,28,FALSE)*$C23","v":0}]
[null,{"$f":"Invul_Basis_Materialen!G22","v":"Leeg"},{"$f":"Invul_Basis_Materialen!H22*(IF(B24=\"Leeg\",0,1))","v":0},{"$f":"IF(Invul_Basis_Materialen!I22=\"Standaard\",Invul_Basis_Materialen!J22,Invul_Basis_Materialen!N22)*(IF(B24=\"Leeg\",0,1))","v":0},{"$f":"VLOOKUP(B24,MKI!$B$1:$Z$263,5,FALSE)*C24","v":0},{"$f":"VLOOKUP($B24,'MI materialen'!$B:$AS,5,FALSE)*$C24","v":0},{"$f":"VLOOKUP($B24,'MI materialen'!$B:$AS,6,FALSE)*$C24","v":0},{"$f":"VLOOKUP($B24,'MI materialen'!$B:$AS,7,FALSE)*$C24","v":0},{"$f":"VLOOKUP($B24,'MI materialen'!$B:$AS,8,FALSE)*$C24","v":0},{"$f":"VLOOKUP($B24,'MI materialen'!$B:$AS,9,FALSE)*$C24","v":0},{"$f":"VLOOKUP($B24,'MI materialen'!$B:$AS,10,FALSE)*$C24","v":0},{"$f":"VLOOKUP($B24,'MI materialen'!$B:$AS,11,FALSE)*$C24","v":0},{"$f":"VLOOKUP($B24,'MI materialen'!$B:$AS,12,FALSE)*$C24","v":0},{"$f":"VLOOKUP($B24,'MI materialen'!$B:$AS,13,FALSE)*$C24","v":0},{"$f":"VLOOKUP($B24,'MI materialen'!$B:$AS,14,FALSE)*$C24","v":0},{"$f":"VLOOKUP($B24,'MI materialen'!$B:$AS,15,FALSE)*$C24","v":0},{"$f":"VLOOKUP($B24,'MI materialen'!$B:$AS,18,FALSE)*$C24","v":0},{"$f":"VLOOKUP($B24,'MI materialen'!$B:$AS,21,FALSE)*$C24","v":0},{"$f":"VLOOKUP($B24,'MI materialen'!$B:$AS,25,FALSE)*$C24","v":0},{"$f":"VLOOKUP($B24,'MI materialen'!$B:$AS,26,FALSE)*$C24","v":0},{"$f":"VLOOKUP($B24,'MI materialen'!$B:$AS,27,FALSE)*$C24","v":0},{"$f":"VLOOKUP($B24,'MI materialen'!$B:$AS,28,FALSE)*$C24","v":0}]
[null,{"$f":"Invul_Basis_Materialen!G23","v":"Leeg"},{"$f":"Invul_Basis_Materialen!H23*(IF(B25=\"Leeg\",0,1))","v":0},{"$f":"IF(Invul_Basis_Materialen!I23=\"Standaard\",Invul_Basis_Materialen!J23,Invul_Basis_Materialen!N23)*(IF(B25=\"Leeg\",0,1))","v":0},{"$f":"VLOOKUP(B25,MKI!$B$1:$Z$263,5,FALSE)*C25","v":0},{"$f":"VLOOKUP($B25,'MI materialen'!$B:$AS,5,FALSE)*$C25","v":0},{"$f":"VLOOKUP($B25,'MI materialen'!$B:$AS,6,FALSE)*$C25","v":0},{"$f":"VLOOKUP($B25,'MI materialen'!$B:$AS,7,FALSE)*$C25","v":0},{"$f":"VLOOKUP($B25,'MI materialen'!$B:$AS,8,FALSE)*$C25","v":0},{"$f":"VLOOKUP($B25,'MI materialen'!$B:$AS,9,FALSE)*$C25","v":0},{"$f":"VLOOKUP($B25,'MI materialen'!$B:$AS,10,FALSE)*$C25","v":0},{"$f":"VLOOKUP($B25,'MI materialen'!$B:$AS,11,FALSE)*$C25","v":0},{"$f":"VLOOKUP($B25,'MI materialen'!$B:$AS,12,FALSE)*$C25","v":0},{"$f":"VLOOKUP($B25,'MI materialen'!$B:$AS,13,FALSE)*$C25","v":0},{"$f":"VLOOKUP($B25,'MI materialen'!$B:$AS,14,FALSE)*$C25","v":0},{"$f":"VLOOKUP($B25,'MI materialen'!$B:$AS,15,FALSE)*$C25","v":0},{"$f":"VLOOKUP($B25,'MI materialen'!$B:$AS,18,FALSE)*$C25","v":0},{"$f":"VLOOKUP($B25,'MI materialen'!$B:$AS,21,FALSE)*$C25","v":0},{"$f":"VLOOKUP($B25,'MI materialen'!$B:$AS,25,FALSE)*$C25","v":0},{"$f":"VLOOKUP($B25,'MI materialen'!$B:$AS,26,FALSE)*$C25","v":0},{"$f":"VLOOKUP($B25,'MI materialen'!$B:$AS,27,FALSE)*$C25","v":0},{"$f":"VLOOKUP($B25,'MI materialen'!$B:$AS,28,FALSE)*$C25","v":0}]
[null,{"$f":"Invul_Basis_Materialen!G24","v":"Leeg"},{"$f":"Invul_Basis_Materialen!H24*(IF(B26=\"Leeg\",0,1))","v":0},{"$f":"IF(Invul_Basis_Materialen!I24=\"Standaard\",Invul_Basis_Materialen!J24,Invul_Basis_Materialen!N24)*(IF(B26=\"Leeg\",0,1))","v":0},{"$f":"VLOOKUP(B26,MKI!$B$1:$Z$263,5,FALSE)*C26","v":0},{"$f":"VLOOKUP($B26,'MI materialen'!$B:$AS,5,FALSE)*$C26","v":0},{"$f":"VLOOKUP($B26,'MI materialen'!$B:$AS,6,FALSE)*$C26","v":0},{"$f":"VLOOKUP($B26,'MI materialen'!$B:$AS,7,FALSE)*$C26","v":0},{"$f":"VLOOKUP($B26,'MI materialen'!$B:$AS,8,FALSE)*$C26","v":0},{"$f":"VLOOKUP($B26,'MI materialen'!$B:$AS,9,FALSE)*$C26","v":0},{"$f":"VLOOKUP($B26,'MI materialen'!$B:$AS,10,FALSE)*$C26","v":0},{"$f":"VLOOKUP($B26,'MI materialen'!$B:$AS,11,FALSE)*$C26","v":0},{"$f":"VLOOKUP($B26,'MI materialen'!$B:$AS,12,FALSE)*$C26","v":0},{"$f":"VLOOKUP($B26,'MI materialen'!$B:$AS,13,FALSE)*$C26","v":0},{"$f":"VLOOKUP($B26,'MI materialen'!$B:$AS,14,FALSE)*$C26","v":0},{"$f":"VLOOKUP($B26,'MI materialen'!$B:$AS,15,FALSE)*$C26","v":0},{"$f":"VLOOKUP($B26,'MI materialen'!$B:$AS,18,FALSE)*$C26","v":0},{"$f":"VLOOKUP($B26,'MI materialen'!$B:$AS,21,FALSE)*$C26","v":0},{"$f":"VLOOKUP($B26,'MI materialen'!$B:$AS,25,FALSE)*$C26","v":0},{"$f":"VLOOKUP($B26,'MI materialen'!$B:$AS,26,FALSE)*$C26","v":0},{"$f":"VLOOKUP($B26,'MI materialen'!$B:$AS,27,FALSE)*$C26","v":0},{"$f":"VLOOKUP($B26,'MI materialen'!$B:$AS,28,FALSE)*$C26","v":0}]
[null,{"$f":"Invul_Basis_Materialen!G25","v":"Leeg"},{"$f":"Invul_Basis_Materialen!H25*(IF(B27=\"Leeg\",0,1))","v":0},{"$f":"IF(Invul_Basis_Materialen!I25=\"Standaard\",Invul_Basis_Materialen!J25,Invul_Basis_Materialen!N25)*(IF(B27=\"Leeg\",0,1))","v":0},{"$f":"VLOOKUP(B27,MKI!$B$1:$Z$263,5,FALSE)*C27","v":0},{"$f":"VLOOKUP($B27,'MI materialen'!$B:$AS,5,FALSE)*$C27","v":0},{"$f":"VLOOKUP($B27,'MI materialen'!$B:$AS,6,FALSE)*$C27","v":0},{"$f":"VLOOKUP($B27,'MI materialen'!$B:$AS,7,FALSE)*$C27","v":0},{"$f":"VLOOKUP($B27,'MI materialen'!$B:$AS,8,FALSE)*$C27","v":0},{"$f":"VLOOKUP($B27,'MI materialen'!$B:$AS,9,FALSE)*$C27","v":0},{"$f":"VLOOKUP($B27,'MI materialen'!$B:$AS,10,FALSE)*$C27","v":0},{"$f":"VLOOKUP($B27,'MI materialen'!$B:$AS,11,FALSE)*$C27","v":0},{"$f":"VLOOKUP($B27,'MI materialen'!$B:$AS,12,FALSE)*$C27","v":0},{"$f":"VLOOKUP($B27,'MI materialen'!$B:$AS,13,FALSE)*$C27","v":0},{"$f":"VLOOKUP($B27,'MI materialen'!$B:$AS,14,FALSE)*$C27","v":0},{"$f":"VLOOKUP($B27,'MI materialen'!$B:$AS,15,FALSE)*$C27","v":0},{"$f":"VLOOKUP($B27,'MI materialen'!$B:$AS,18,FALSE)*$C27","v":0},{"$f":"VLOOKUP($B27,'MI materialen'!$B:$AS,21,FALSE)*$C27","v":0},{"$f":"VLOOKUP($B27,'MI materialen'!$B:$AS,25,FALSE)*$C27","v":0},{"$f":"VLOOKUP($B27,'MI materialen'!$B:$AS,26,FALSE)*$C27","v":0},{"$f":"VLOOKUP($B27,'MI materialen'!$B:$AS,27,FALSE)*$C27","v":0},{"$f":"VLOOKUP($B27,'MI materialen'!$B:$AS,28,FALSE)*$C27","v":0}]
[null,{"$f":"Invul_Basis_Materialen!G26","v":"Leeg"},{"$f":"Invul_Basis_Materialen!H26*(IF(B28=\"Leeg\",0,1))","v":0},{"$f":"IF(Invul_Basis_Materialen!I26=\"Standaard\",Invul_Basis_Materialen!J26,Invul_Basis_Materialen!N26)*(IF(B28=\"Leeg\",0,1))","v":0},{"$f":"VLOOKUP(B28,MKI!$B$1:$Z$263,5,FALSE)*C28","v":0},{"$f":"VLOOKUP($B28,'MI materialen'!$B:$AS,5,FALSE)*$C28","v":0},{"$f":"VLOOKUP($B28,'MI materialen'!$B:$AS,6,FALSE)*$C28","v":0},{"$f":"VLOOKUP($B28,'MI materialen'!$B:$AS,7,FALSE)*$C28","v":0},{"$f":"VLOOKUP($B28,'MI materialen'!$B:$AS,8,FALSE)*$C28","v":0},{"$f":"VLOOKUP($B28,'MI materialen'!$B:$AS,9,FALSE)*$C28","v":0},{"$f":"VLOOKUP($B28,'MI materialen'!$B:$AS,10,FALSE)*$C28","v":0},{"$f":"VLOOKUP($B28,'MI materialen'!$B:$AS,11,FALSE)*$C28","v":0},{"$f":"VLOOKUP($B28,'MI materialen'!$B:$AS,12,FALSE)*$C28","v":0},{"$f":"VLOOKUP($B28,'MI materialen'!$B:$AS,13,FALSE)*$C28","v":0},{"$f":"VLOOKUP($B28,'MI materialen'!$B:$AS,14,FALSE)*$C28","v":0},{"$f":"VLOOKUP($B28,'MI materialen'!$B:$AS,15,FALSE)*$C28","v":0},{"$f":"VLOOKUP($B28,'MI materialen'!$B:$AS,18,FALSE)*$C28","v":0},{"$f":"VLOOKUP($B28,'MI materialen'!$B:$AS,21,FALSE)*$C28","v":0},{"$f":"VLOOKUP($B28,'MI materialen'!$B:$AS,25,FALSE)*$C28","v":0},{"$f":"VLOOKUP($B28,'MI materialen'!$B:$AS,26,FALSE)*$C28","v":0},{"$f":"VLOOKUP($B28,'MI materialen'!$B:$AS,27,FALSE)*$C28","v":0},{"$f":"VLOOKUP($B28,'MI materialen'!$B:$AS,28,FALSE)*$C28","v":0}]
[null,{"$f":"Invul_Basis_Materialen!G27","v":"Leeg"},{"$f":"Invul_Basis_Materialen!H27*(IF(B29=\"Leeg\",0,1))","v":0},{"$f":"IF(Invul_Basis_Materialen!I27=\"Standaard\",Invul_Basis_Materialen!J27,Invul_Basis_Materialen!N27)*(IF(B29=\"Leeg\",0,1))","v":0},{"$f":"VLOOKUP(B29,MKI!$B$1:$Z$263,5,FALSE)*C29","v":0},{"$f":"VLOOKUP($B29,'MI materialen'!$B:$AS,5,FALSE)*$C29","v":0},{"$f":"VLOOKUP($B29,'MI materialen'!$B:$AS,6,FALSE)*$C29","v":0},{"$f":"VLOOKUP($B29,'MI materialen'!$B:$AS,7,FALSE)*$C29","v":0},{"$f":"VLOOKUP($B29,'MI materialen'!$B:$AS,8,FALSE)*$C29","v":0},{"$f":"VLOOKUP($B29,'MI materialen'!$B:$AS,9,FALSE)*$C29","v":0},{"$f":"VLOOKUP($B29,'MI materialen'!$B:$AS,10,FALSE)*$C29","v":0},{"$f":"VLOOKUP($B29,'MI materialen'!$B:$AS,11,FALSE)*$C29","v":0},{"$f":"VLOOKUP($B29,'MI materialen'!$B:$AS,12,FALSE)*$C29","v":0},{"$f":"VLOOKUP($B29,'MI materialen'!$B:$AS,13,FALSE)*$C29","v":0},{"$f":"VLOOKUP($B29,'MI materialen'!$B:$AS,14,FALSE)*$C29","v":0},{"$f":"VLOOKUP($B29,'MI materialen'!$B:$AS,15,FALSE)*$C29","v":0},{"$f":"VLOOKUP($B29,'MI materialen'!$B:$AS,18,FALSE)*$C29","v":0},{"$f":"VLOOKUP($B29,'MI materialen'!$B:$AS,21,FALSE)*$C29","v":0},{"$f":"VLOOKUP($B29,'MI materialen'!$B:$AS,25,FALSE)*$C29","v":0},{"$f":"VLOOKUP($B29,'MI materialen'!$B:$AS,26,FALSE)*$C29","v":0},{"$f":"VLOOKUP($B29,'MI materialen'!$B:$AS,27,FALSE)*$C29","v":0},{"$f":"VLOOKUP($B29,'MI materialen'!$B:$AS,28,FALSE)*$C29","v":0}]
[null,{"$f":"Invul_Basis_Materialen!G28","v":"Leeg"},{"$f":"Invul_Basis_Materialen!H28*(IF(B30=\"Leeg\",0,1))","v":0},{"$f":"IF(Invul_Basis_Materialen!I28=\"Standaard\",Invul_Basis_Materialen!J28,Invul_Basis_Materialen!N28)*(IF(B30=\"Leeg\",0,1))","v":0},{"$f":"VLOOKUP(B30,MKI!$B$1:$Z$263,5,FALSE)*C30","v":0},{"$f":"VLOOKUP($B30,'MI materialen'!$B:$AS,5,FALSE)*$C30","v":0},{"$f":"VLOOKUP($B30,'MI materialen'!$B:$AS,6,FALSE)*$C30","v":0},{"$f":"VLOOKUP($B30,'MI materialen'!$B:$AS,7,FALSE)*$C30","v":0},{"$f":"VLOOKUP($B30,'MI materialen'!$B:$AS,8,FALSE)*$C30","v":0},{"$f":"VLOOKUP($B30,'MI materialen'!$B:$AS,9,FALSE)*$C30","v":0},{"$f":"VLOOKUP($B30,'MI materialen'!$B:$AS,10,FALSE)*$C30","v":0},{"$f":"VLOOKUP($B30,'MI materialen'!$B:$AS,11,FALSE)*$C30","v":0},{"$f":"VLOOKUP($B30,'MI materialen'!$B:$AS,12,FALSE)*$C30","v":0},{"$f":"VLOOKUP($B30,'MI materialen'!$B:$AS,13,FALSE)*$C30","v":0},{"$f":"VLOOKUP($B30,'MI materialen'!$B:$AS,14,FALSE)*$C30","v":0},{"$f":"VLOOKUP($B30,'MI materialen'!$B:$AS,15,FALSE)*$C30","v":0},{"$f":"VLOOKUP($B30,'MI materialen'!$B:$AS,18,FALSE)*$C30","v":0},{"$f":"VLOOKUP($B30,'MI materialen'!$B:$AS,21,FALSE)*$C30","v":0},{"$f":"VLOOKUP($B30,'MI materialen'!$B:$AS,25,FALSE)*$C30","v":0},{"$f":"VLOOKUP($B30,'MI materialen'!$B:$AS,26,FALSE)*$C30","v":0},{"$f":"VLOOKUP($B30,'MI materialen'!$B:$AS,27,FALSE)*$C30","v":0},{"$f":"VLOOKUP($B30,'MI materialen'!$B:$AS,28,FALSE)*$C30","v":0}]
[null,{"$f":"Invul_Basis_Materialen!G29","v":"Leeg"},{"$f":"Invul_Basis_Materialen!H29*(IF(B31=\"Leeg\",0,1))","v":0},{"$f":"IF(Invul_Basis_Materialen!I29=\"Standaard\",Invul_Basis_Materialen!J29,Invul_Basis_Materialen!N29)*(IF(B31=\"Leeg\",0,1))","v":0},{"$f":"VLOOKUP(B31,MKI!$B$1:$Z$263,5,FALSE)*C31","v":0},{"$f":"VLOOKUP($B31,'MI materialen'!$B:$AS,5,FALSE)*$C31","v":0},{"$f":"VLOOKUP($B31,'MI materialen'!$B:$AS,6,FALSE)*$C31","v":0},{"$f":"VLOOKUP($B31,'MI materialen'!$B:$AS,7,FALSE)*$C31","v":0},{"$f":"VLOOKUP($B31,'MI materialen'!$B:$AS,8,FALSE)*$C31","v":0},{"$f":"VLOOKUP($B31,'MI materialen'!$B:$AS,9,FALSE)*$C31","v":0},{"$f":"VLOOKUP($B31,'MI materialen'!$B:$AS,10,FALSE)*$C31","v":0},{"$f":"VLOOKUP($B31,'MI materialen'!$B:$AS,11,FALSE)*$C31","v":0},{"$f":"VLOOKUP($B31,'MI materialen'!$B:$AS,12,FALSE)*$C31","v":0},{"$f":"VLOOKUP($B31,'MI materialen'!$B:$AS,13,FALSE)*$C31","v":0},{"$f":"VLOOKUP($B31,'MI materialen'!$B:$AS,14,FALSE)*$C31","v":0},{"$f":"VLOOKUP($B31,'MI materialen'!$B:$AS,15,FALSE)*$C31","v":0},{"$f":"VLOOKUP($B31,'MI materialen'!$B:$AS,18,FALSE)*$C31","v":0},{"$f":"VLOOKUP($B31,'MI materialen'!$B:$AS,21,FALSE)*$C31","v":0},{"$f":"VLOOKUP($B31,'MI materialen'!$B:$AS,25,FALSE)*$C31","v":0},{"$f":"VLOOKUP($B31,'MI materialen'!$B:$AS,26,FALSE)*$C31","v":0},{"$f":"VLOOKUP($B31,'MI materialen'!$B:$AS,27,FALSE)*$C31","v":0},{"$f":"VLOOKUP($B31,'MI materialen'!$B:$AS,28,FALSE)*$C31","v":0}]
[null,{"$f":"Invul_Basis_Materialen!G30","v":"Leeg"},{"$f":"Invul_Basis_Materialen!H30*(IF(B32=\"Leeg\",0,1))","v":0},{"$f":"IF(Invul_Basis_Materialen!I30=\"Standaard\",Invul_Basis_Materialen!J30,Invul_Basis_Materialen!N30)*(IF(B32=\"Leeg\",0,1))","v":0},{"$f":"VLOOKUP(B32,MKI!$B$1:$Z$263,5,FALSE)*C32","v":0},{"$f":"VLOOKUP($B32,'MI materialen'!$B:$AS,5,FALSE)*$C32","v":0},{"$f":"VLOOKUP($B32,'MI materialen'!$B:$AS,6,FALSE)*$C32","v":0},{"$f":"VLOOKUP($B32,'MI materialen'!$B:$AS,7,FALSE)*$C32","v":0},{"$f":"VLOOKUP($B32,'MI materialen'!$B:$AS,8,FALSE)*$C32","v":0},{"$f":"VLOOKUP($B32,'MI materialen'!$B:$AS,9,FALSE)*$C32","v":0},{"$f":"VLOOKUP($B32,'MI materialen'!$B:$AS,10,FALSE)*$C32","v":0},{"$f":"VLOOKUP($B32,'MI materialen'!$B:$AS,11,FALSE)*$C32","v":0},{"$f":"VLOOKUP($B32,'MI materialen'!$B:$AS,12,FALSE)*$C32","v":0},{"$f":"VLOOKUP($B32,'MI materialen'!$B:$AS,13,FALSE)*$C32","v":0},{"$f":"VLOOKUP($B32,'MI materialen'!$B:$AS,14,FALSE)*$C32","v":0},{"$f":"VLOOKUP($B32,'MI materialen'!$B:$AS,15,FALSE)*$C32","v":0},{"$f":"VLOOKUP($B32,'MI materialen'!$B:$AS,18,FALSE)*$C32","v":0},{"$f":"VLOOKUP($B32,'MI materialen'!$B:$AS,21,FALSE)*$C32","v":0},{"$f":"VLOOKUP($B32,'MI materialen'!$B:$AS,25,FALSE)*$C32","v":0},{"$f":"VLOOKUP($B32,'MI materialen'!$B:$AS,26,FALSE)*$C32","v":0},{"$f":"VLOOKUP($B32,'MI materialen'!$B:$AS,27,FALSE)*$C32","v":0},{"$f":"VLOOKUP($B32,'MI materialen'!$B:$AS,28,FALSE)*$C32","v":0}]
[null,{"$f":"Invul_Basis_Materialen!G31","v":"Leeg"},{"$f":"Invul_Basis_Materialen!H31*(IF(B33=\"Leeg\",0,1))","v":0},{"$f":"IF(Invul_Basis_Materialen!I31=\"Standaard\",Invul_Basis_Materialen!J31,Invul_Basis_Materialen!N31)*(IF(B33=\"Leeg\",0,1))","v":0},{"$f":"VLOOKUP(B33,MKI!$B$1:$Z$263,5,FALSE)*C33","v":0},{"$f":"VLOOKUP($B33,'MI materialen'!$B:$AS,5,FALSE)*$C33","v":0},{"$f":"VLOOKUP($B33,'MI materialen'!$B:$AS,6,FALSE)*$C33","v":0},{"$f":"VLOOKUP($B33,'MI materialen'!$B:$AS,7,FALSE)*$C33","v":0},{"$f":"VLOOKUP($B33,'MI materialen'!$B:$AS,8,FALSE)*$C33","v":0},{"$f":"VLOOKUP($B33,'MI materialen'!$B:$AS,9,FALSE)*$C33","v":0},{"$f":"VLOOKUP($B33,'MI materialen'!$B:$AS,10,FALSE)*$C33","v":0},{"$f":"VLOOKUP($B33,'MI materialen'!$B:$AS,11,FALSE)*$C33","v":0},{"$f":"VLOOKUP($B33,'MI materialen'!$B:$AS,12,FALSE)*$C33","v":0},{"$f":"VLOOKUP($B33,'MI materialen'!$B:$AS,13,FALSE)*$C33","v":0},{"$f":"VLOOKUP($B33,'MI materialen'!$B:$AS,14,FALSE)*$C33","v":0},{"$f":"VLOOKUP($B33,'MI materialen'!$B:$AS,15,FALSE)*$C33","v":0},{"$f":"VLOOKUP($B33,'MI materialen'!$B:$AS,18,FALSE)*$C33","v":0},{"$f":"VLOOKUP($B33,'MI materialen'!$B:$AS,21,FALSE)*$C33","v":0},{"$f":"VLOOKUP($B33,'MI materialen'!$B:$AS,25,FALSE)*$C33","v":0},{"$f":"VLOOKUP($B33,'MI materialen'!$B:$AS,26,FALSE)*$C33","v":0},{"$f":"VLOOKUP($B33,'MI materialen'!$B:$AS,27,FALSE)*$C33","v":0},{"$f":"VLOOKUP($B33,'MI materialen'!$B:$AS,28,FALSE)*$C33","v":0}]
[null,"Totaal",{"$f":"SUM(C14:C33)","v":0},{"$f":"SUM((D14*C14+D15*C15+D16*C16+D17*C17+D18*C18+D19*C19+D20*C20+D21*C21+D22*C22+D23*C23+D24*C24+D25*C25+D26*C26+D27*C27+D28*C28+D29*C29+D30*C30+D31*C31+D32*C32+D33*C33)/C34)","v":{"$error":"#DIV/0!"}}]
[]
[null,"Bewerkingen, ENERGIEVERBRUIK MI & MKI",null,null,"Totale milieu-kosten ","1 abiotic depletion, non fuel (AD)","2 abiotic depletion, fuel (AD)","4 global warming (GWP)","5 ozone layer depletion (ODP)","6 photochemical oxidation (POCP)","7 acidification (AP)","8 eutrophication (EP)","9 human toxicity (HT)","10 Ecotoxicity, fresh water (FAETP)","12 Ecotoxcity, marine water (MAETP)","14 Ecotoxicity, terrestric (TETP)","101 Energy, primary, renewable (MJ)","102 Energy, primary, non-renewable (MJ)","104 Water, fresh water use (m3)","106 Waste, hazardous (kg)","105 Waste, non hazardous (kg)","107. Waste, radioactive (kg)"]
[null,"Naam proces",{"$f":"#REF!","v":{"$error":"#REF!"}},{"$f":"#REF!","v":{"$error":"#REF!"}},"€","kg Sb eq","kg Sb eq","kg CO2 eq","kg CFC-11 eq","kg C2H4","kg SO2 eq","kg PO4--- eq","kg 1,4-DB eq","kg 1,4-DB eq","kg 1,4-DB eq","kg 1,4-DB eq","MJ","MJ","m3","kg","kg","kg"]
[null,{"$f":"Invul_Basis_Bewerking!F12","v":"Naam proces 1"},{"$f":"Invul_Basis_Bewerking!G12","v":"Leeg"},{"$f":"Invul_Basis_Bewerking!H12","v":0},{"$f":"VLOOKUP(C38,MKI!$B$1:$Z$263,5,FALSE)*D38","v":0},{"$f":"VLOOKUP($C38,'MI materialen'!$B:$AS,5,FALSE)*$D38","v":0},{"$f":"VLOOKUP($C38,'MI materialen'!$B:$AS,6,FALSE)*$D38","v":0},{"$f":"VLOOKUP($C38,'MI materialen'!$B:$AS,7,FALSE)*$D38","v":0},{"$f":"VLOOKUP($C38,'MI materialen'!$B:$AS,8,FALSE)*$D38","v":0},{"$f":"VLOOKUP($C38,'MI materialen'!$B:$AS,9,FALSE)*$D38","v":0},{"$f":"VLOOKUP($C38,'MI materialen'!$B:$AS,10,FALSE)*$D38","v":0},{"$f":"VLOOKUP($C38,'MI materialen'!$B:$AS,11,FALSE)*$D38","v":0},{"$f":"VLOOKUP($C38,'MI materialen'!$B:$AS,12,FALSE)*$D38","v":0},{"$f":"VLOOKUP($C38,'MI materialen'!$B:$AS,13,FALSE)*$D38","v":0},{"$f":"VLOOKUP($C38,'MI materialen'!$B:$AS,14,FALSE)*$D38","v":0},{"$f":"VLOOKUP($C38,'MI materialen'!$B:$AS,15,FALSE)*$D38","v":0},{"$f":"VLOOKUP($C38,'MI materialen'!$B:$AS,18,FALSE)*$D38","v":0},{"$f":"VLOOKUP($C38,'MI materialen'!$B:$AS,21,FALSE)*$D38","v":0},{"$f":"VLOOKUP($C38,'MI materialen'!$B:$AS,25,FALSE)*$D38","v":0},{"$f":"VLOOKUP($C38,'MI materialen'!$B:$AS,26,FALSE)*$D38","v":0},{"$f":"VLOOKUP($C38,'MI materialen'!$B:$AS,27,FALSE)*$D38","v":0},{"$f":"VLOOKUP($C38,'MI materialen'!$B:$AS,28,FALSE)*$D38","v":0}]
[null,{"$f":"Invul_Basis_Bewerking!F13","v":"Naam proces 2"},{"$f":"Invul_Basis_Bewerking!G13","v":"Leeg"},{"$f":"Invul_Basis_Bewerking!H13","v":0},{"$f":"VLOOKUP(C39,MKI!$B$1:$Z$263,5,FALSE)*D39","v":0},{"$f":"VLOOKUP($C39,'MI materialen'!$B:$AS,5,FALSE)*$D39","v":0},{"$f":"VLOOKUP($C39,'MI materialen'!$B:$AS,6,FALSE)*$D39","v":0},{"$f":"VLOOKUP($C39,'MI materialen'!$B:$AS,7,FALSE)*$D39","v":0},{"$f":"VLOOKUP($C39,'MI materialen'!$B:$AS,8,FALSE)*$D39","v":0},{"$f":"VLOOKUP($C39,'MI materialen'!$B:$AS,9,FALSE)*$D39","v":0},{"$f":"VLOOKUP($C39,'MI materialen'!$B:$AS,10,FALSE)*$D39","v":0},{"$f":"VLOOKUP($C39,'MI materialen'!$B:$AS,11,FALSE)*$D39","v":0},{"$f":"VLOOKUP($C39,'MI materialen'!$B:$AS,12,FALSE)*$D39","v":0},{"$f":"VLOOKUP($C39,'MI materialen'!$B:$AS,13,FALSE)*$D39","v":0},{"$f":"VLOOKUP($C39,'MI materialen'!$B:$AS,14,FALSE)*$D39","v":0},{"$f":"VLOOKUP($C39,'MI materialen'!$B:$AS,15,FALSE)*$D39","v":0},{"$f":"VLOOKUP($C39,'MI materialen'!$B:$AS,18,FALSE)*$D39","v":0},{"$f":"VLOOKUP($C39,'MI materialen'!$B:$AS,21,FALSE)*$D39","v":0},{"$f":"VLOOKUP($C39,'MI materialen'!$B:$AS,25,FALSE)*$D39","v":0},{"$f":"VLOOKUP($C39,'MI materialen'!$B:$AS,26,FALSE)*$D39","v":0},{"$f":"VLOOKUP($C39,'MI materialen'!$B:$AS,27,FALSE)*$D39","v":0},{"$f":"VLOOKUP($C39,'MI materialen'!$B:$AS,28,FALSE)*$D39","v":0}]
[null,{"$f":"Invul_Basis_Bewerking!F14","v":"Naam proces 3"},{"$f":"Invul_Basis_Bewerking!G14","v":"Leeg"},{"$f":"Invul_Basis_Bewerking!H14","v":0},{"$f":"VLOOKUP(C40,MKI!$B$1:$Z$263,5,FALSE)*D40","v":0},{"$f":"VLOOKUP($C40,'MI materialen'!$B:$AS,5,FALSE)*$D40","v":0},{"$f":"VLOOKUP($C40,'MI materialen'!$B:$AS,6,FALSE)*$D40","v":0},{"$f":"VLOOKUP($C40,'MI materialen'!$B:$AS,7,FALSE)*$D40","v":0},{"$f":"VLOOKUP($C40,'MI materialen'!$B:$AS,8,FALSE)*$D40","v":0},{"$f":"VLOOKUP($C40,'MI materialen'!$B:$AS,9,FALSE)*$D40","v":0},{"$f":"VLOOKUP($C40,'MI materialen'!$B:$AS,10,FALSE)*$D40","v":0},{"$f":"VLOOKUP($C40,'MI materialen'!$B:$AS,11,FALSE)*$D40","v":0},{"$f":"VLOOKUP($C40,'MI materialen'!$B:$AS,12,FALSE)*$D40","v":0},{"$f":"VLOOKUP($C40,'MI materialen'!$B:$AS,13,FALSE)*$D40","v":0},{"$f":"VLOOKUP($C40,'MI materialen'!$B:$AS,14,FALSE)*$D40","v":0},{"$f":"VLOOKUP($C40,'MI materialen'!$B:$AS,15,FALSE)*$D40","v":0},{"$f":"VLOOKUP($C40,'MI materialen'!$B:$AS,18,FALSE)*$D40","v":0},{"$f":"VLOOKUP($C40,'MI materialen'!$B:$AS,21,FALSE)*$D40","v":0},{"$f":"VLOOKUP($C40,'MI materialen'!$B:$AS,25,FALSE)*$D40","v":0},{"$f":"VLOOKUP($C40,'MI materialen'!$B:$AS,26,FALSE)*$D40","v":0},{"$f":"VLOOKUP($C40,'MI materialen'!$B:$AS,27,FALSE)*$D40","v":0},{"$f":"VLOOKUP($C40,'MI materialen'!$B:$AS,28,FALSE)*$D40","v":0}]
[null,{"$f":"Invul_Basis_Bewerking!F15","v":"Naam proces 4"},{"$f":"Invul_Basis_Bewerking!G15","v":"Leeg"},{"$f":"Invul_Basis_Bewerking!H15","v":0},{"$f":"VLOOKUP(C41,MKI!$B$1:$Z$263,5,FALSE)*D41","v":0},{"$f":"VLOOKUP($C41,'MI materialen'!$B:$AS,5,FALSE)*$D41","v":0},{"$f":"VLOOKUP($C41,'MI materialen'!$B:$AS,6,FALSE)*$D41","v":0},{"$f":"VLOOKUP($C41,'MI materialen'!$B:$AS,7,FALSE)*$D41","v":0},{"$f":"VLOOKUP($C41,'MI materialen'!$B:$AS,8,FALSE)*$D41","v":0},{"$f":"VLOOKUP($C41,'MI materialen'!$B:$AS,9,FALSE)*$D41","v":0},{"$f":"VLOOKUP($C41,'MI materialen'!$B:$AS,10,FALSE)*$D41","v":0},{"$f":"VLOOKUP($C41,'MI materialen'!$B:$AS,11,FALSE)*$D41","v":0},{"$f":"VLOOKUP($C41,'MI materialen'!$B:$AS,12,FALSE)*$D41","v":0},{"$f":"VLOOKUP($C41,'MI materialen'!$B:$AS,13,FALSE)*$D41","v":0},{"$f":"VLOOKUP($C41,'MI materialen'!$B:$AS,14,FALSE)*$D41","v":0},{"$f":"VLOOKUP($C41,'MI materialen'!$B:$AS,15,FALSE)*$D41","v":0},{"$f":"VLOOKUP($C41,'MI materialen'!$B:$AS,18,FALSE)*$D41","v":0},{"$f":"VLOOKUP($C41,'MI materialen'!$B:$AS,21,FALSE)*$D41","v":0},{"$f":"VLOOKUP($C41,'MI materialen'!$B:$AS,25,FALSE)*$D41","v":0},{"$f":"VLOOKUP($C41,'MI materialen'!$B:$AS,26,FALSE)*$D41","v":0},{"$f":"VLOOKUP($C41,'MI materialen'!$B:$AS,27,FALSE)*$D41","v":0},{"$f":"VLOOKUP($C41,'MI materialen'!$B:$AS,28,FALSE)*$D41","v":0}]
[null,{"$f":"Invul_Basis_Bewerking!F16","v":"Naam proces 5"},{"$f":"Invul_Basis_Bewerking!G16","v":"Leeg"},{"$f":"Invul_Basis_Bewerking!H16","v":0},{"$f":"VLOOKUP(C42,MKI!$B$1:$Z$263,5,FALSE)*D42","v":0},{"$f":"VLOOKUP($C42,'MI materialen'!$B:$AS,5,FALSE)*$D42","v":0},{"$f":"VLOOKUP($C42,'MI materialen'!$B:$AS,6,FALSE)*$D42","v":0},{"$f":"VLOOKUP($C42,'MI materialen'!$B:$AS,7,FALSE)*$D42","v":0},{"$f":"VLOOKUP($C42,'MI materialen'!$B:$AS,8,FALSE)*$D42","v":0},{"$f":"VLOOKUP($C42,'MI materialen'!$B:$AS,9,FALSE)*$D42","v":0},{"$f":"VLOOKUP($C42,'MI materialen'!$B:$AS,10,FALSE)*$D42","v":0},{"$f":"VLOOKUP($C42,'MI materialen'!$B:$AS,11,FALSE)*$D42","v":0},{"$f":"VLOOKUP($C42,'MI materialen'!$B:$AS,12,FALSE)*$D42","v":0},{"$f":"VLOOKUP($C42,'MI materialen'!$B:$AS,13,FALSE)*$D42","v":0},{"$f":"VLOOKUP($C42,'MI materialen'!$B:$AS,14,FALSE)*$D42","v":0},{"$f":"VLOOKUP($C42,'MI materialen'!$B:$AS,15,FALSE)*$D42","v":0},{"$f":"VLOOKUP($C42,'MI materialen'!$B:$AS,18,FALSE)*$D42","v":0},{"$f":"VLOOKUP($C42,'MI materialen'!$B:$AS,21,FALSE)*$D42","v":0},{"$f":"VLOOKUP($C42,'MI materialen'!$B:$AS,25,FALSE)*$D42","v":0},{"$f":"VLOOKUP($C42,'MI materialen'!$B:$AS,26,FALSE)*$D42","v":0},{"$f":"VLOOKUP($C42,'MI materialen'!$B:$AS,27,FALSE)*$D42","v":0},{"$f":"VLOOKUP($C42,'MI materialen'!$B:$AS,28,FALSE)*$D42","v":0}]
[null,{"$f":"Invul_Basis_Bewerking!F17","v":"Naam proces 6"},{"$f":"Invul_Basis_Bewerking!G17","v":"Leeg"},{"$f":"Invul_Basis_Bewerking!H17","v":0},{"$f":"VLOOKUP(C43,MKI!$B$1:$Z$263,5,FALSE)*D43","v":0},{"$f":"VLOOKUP($C43,'MI materialen'!$B:$AS,5,FALSE)*$D43","v":0},{"$f":"VLOOKUP($C43,'MI materialen'!$B:$AS,6,FALSE)*$D43","v":0},{"$f":"VLOOKUP($C43,'MI materialen'!$B:$AS,7,FALSE)*$D43","v":0},{"$f":"VLOOKUP($C43,'MI materialen'!$B:$AS,8,FALSE)*$D43","v":0},{"$f":"VLOOKUP($C43,'MI materialen'!$B:$AS,9,FALSE)*$D43","v":0},{"$f":"VLOOKUP($C43,'MI materialen'!$B:$AS,10,FALSE)*$D43","v":0},{"$f":"VLOOKUP($C43,'MI materialen'!$B:$AS,11,FALSE)*$D43","v":0},{"$f":"VLOOKUP($C43,'MI materialen'!$B:$AS,12,FALSE)*$D43","v":0},{"$f":"VLOOKUP($C43,'MI materialen'!$B:$AS,13,FALSE)*$D43","v":0},{"$f":"VLOOKUP($C43,'MI materialen'!$B:$AS,14,FALSE)*$D43","v":0},{"$f":"VLOOKUP($C43,'MI materialen'!$B:$AS,15,FALSE)*$D43","v":0},{"$f":"VLOOKUP($C43,'MI materialen'!$B:$AS,18,FALSE)*$D43","v":0},{"$f":"VLOOKUP($C43,'MI materialen'!$B:$AS,21,FALSE)*$D43","v":0},{"$f":"VLOOKUP($C43,'MI materialen'!$B:$AS,25,FALSE)*$D43","v":0},{"$f":"VLOOKUP($C43,'MI materialen'!$B:$AS,26,FALSE)*$D43","v":0},{"$f":"VLOOKUP($C43,'MI materialen'!$B:$AS,27,FALSE)*$D43","v":0},{"$f":"VLOOKUP($C43,'MI materialen'!$B:$AS,28,FALSE)*$D43","v":0}]
[null,{"$f":"Invul_Basis_Bewerking!F18","v":"Naam proces 7"},{"$f":"Invul_Basis_Bewerking!G18","v":"Leeg"},{"$f":"Invul_Basis_Bewerking!H18","v":0},{"$f":"VLOOKUP(C44,MKI!$B$1:$Z$263,5,FALSE)*D44","v":0},{"$f":"VLOOKUP($C44,'MI materialen'!$B:$AS,5,FALSE)*$D44","v":0},{"$f":"VLOOKUP($C44,'MI materialen'!$B:$AS,6,FALSE)*$D44","v":0},{"$f":"VLOOKUP($C44,'MI materialen'!$B:$AS,7,FALSE)*$D44","v":0},{"$f":"VLOOKUP($C44,'MI materialen'!$B:$AS,8,FALSE)*$D44","v":0},{"$f":"VLOOKUP($C44,'MI materialen'!$B:$AS,9,FALSE)*$D44","v":0},{"$f":"VLOOKUP($C44,'MI materialen'!$B:$AS,10,FALSE)*$D44","v":0},{"$f":"VLOOKUP($C44,'MI materialen'!$B:$AS,11,FALSE)*$D44","v":0},{"$f":"VLOOKUP($C44,'MI materialen'!$B:$AS,12,FALSE)*$D44","v":0},{"$f":"VLOOKUP($C44,'MI materialen'!$B:$AS,13,FALSE)*$D44","v":0},{"$f":"VLOOKUP($C44,'MI materialen'!$B:$AS,14,FALSE)*$D44","v":0},{"$f":"VLOOKUP($C44,'MI materialen'!$B:$AS,15,FALSE)*$D44","v":0},{"$f":"VLOOKUP($C44,'MI materialen'!$B:$AS,18,FALSE)*$D44","v":0},{"$f":"VLOOKUP($C44,'MI materialen'!$B:$AS,21,FALSE)*$D44","v":0},{"$f":"VLOOKUP($C44,'MI materialen'!$B:$AS,25,FALSE)*$D44","v":0},{"$f":"VLOOKUP($C44,'MI materialen'!$B:$AS,26,FALSE)*$D44","v":0},{"$f":"VLOOKUP($C44,'MI materialen'!$B:$AS,27,FALSE)*$D44","v":0},{"$f":"VLOOKUP($C44,'MI materialen'!$B:$AS,28,FALSE)*$D44","v":0}]
[null,{"$f":"Invul_Basis_Bewerking!F19","v":"Naam proces 8"},{"$f":"Invul_Basis_Bewerking!G19","v":"Leeg"},{"$f":"Invul_Basis_Bewerking!H19","v":0},{"$f":"VLOOKUP(C45,MKI!$B$1:$Z$263,5,FALSE)*D45","v":0},{"$f":"VLOOKUP($C45,'MI materialen'!$B:$AS,5,FALSE)*$D45","v":0},{"$f":"VLOOKUP($C45,'MI materialen'!$B:$AS,6,FALSE)*$D45","v":0},{"$f":"VLOOKUP($C45,'MI materialen'!$B:$AS,7,FALSE)*$D45","v":0},{"$f":"VLOOKUP($C45,'MI materialen'!$B:$AS,8,FALSE)*$D45","v":0},{"$f":"VLOOKUP($C45,'MI materialen'!$B:$AS,9,FALSE)*$D45","v":0},{"$f":"VLOOKUP($C45,'MI materialen'!$B:$AS,10,FALSE)*$D45","v":0},{"$f":"VLOOKUP($C45,'MI materialen'!$B:$AS,11,FALSE)*$D45","v":0},{"$f":"VLOOKUP($C45,'MI materialen'!$B:$AS,12,FALSE)*$D45","v":0},{"$f":"VLOOKUP($C45,'MI materialen'!$B:$AS,13,FALSE)*$D45","v":0},{"$f":"VLOOKUP($C45,'MI materialen'!$B:$AS,14,FALSE)*$D45","v":0},{"$f":"VLOOKUP($C45,'MI materialen'!$B:$AS,15,FALSE)*$D45","v":0},{"$f":"VLOOKUP($C45,'MI materialen'!$B:$AS,18,FALSE)*$D45","v":0},{"$f":"VLOOKUP($C45,'MI materialen'!$B:$AS,21,FALSE)*$D45","v":0},{"$f":"VLOOKUP($C45,'MI materialen'!$B:$AS,25,FALSE)*$D45","v":0},{"$f":"VLOOKUP($C45,'MI materialen'!$B:$AS,26,FALSE)*$D45","v":0},{"$f":"VLOOKUP($C45,'MI materialen'!$B:$AS,27,FALSE)*$D45","v":0},{"$f":"VLOOKUP($C45,'MI materialen'!$B:$AS,28,FALSE)*$D45","v":0}]
[]
[]
[null,"TRANSPORT MI & MKI (per producteenheid)",null,null,"Totale milieu-kosten ","1 abiotic depletion, non fuel (AD)","2 abiotic depletion, fuel (AD)","4 global warming (GWP)","5 ozone layer depletion (ODP)","6 photochemical oxidation (POCP)","7 acidification (AP)","8 eutrophication (EP)","9 human toxicity (HT)","10 Ecotoxicity, fresh water (FAETP)","12 Ecotoxcity, marine water (MAETP)","14 Ecotoxicity, terrestric (TETP)","101 Energy, primary, renewable (MJ)","102 Energy, primary, non-renewable (MJ)","104 Water, fresh water use (m3)","106 Waste, hazardous (kg)","105 Waste, non hazardous (kg)","107. Waste, radioactive (kg)"]
[null,{"$f":"#REF!","v":{"$error":"#REF!"}},{"$f":"#REF!","v":{"$error":"#REF!"}},"Tonkilometers","€","kg Sb eq","kg Sb eq","kg CO2 eq","kg CFC-11 eq","kg C2H4","kg SO2 eq","kg PO4--- eq","kg 1,4-DB eq","kg 1,4-DB eq","kg 1,4-DB eq","kg 1,4-DB eq","MJ","MJ","m3","kg","kg","kg"]
[null,{"$f":"Invul_Basis_Distributie!F12","v":"Leeg"},null,{"$f":"Invul_Basis_Distributie!N12","v":0},{"$f":"VLOOKUP(B50,MKI!$B$1:$Z$263,5,FALSE)*D50","v":0},{"$f":"VLOOKUP($B50,'MI materialen'!$B:$AS,5,FALSE)*$D50","v":0},{"$f":"VLOOKUP($B50,'MI materialen'!$B:$AS,6,FALSE)*$D50","v":0},{"$f":"VLOOKUP($B50,'MI materialen'!$B:$AS,7,FALSE)*$D50","v":0},{"$f":"VLOOKUP($B50,'MI materialen'!$B:$AS,8,FALSE)*$D50","v":0},{"$f":"VLOOKUP($B50,'MI materialen'!$B:$AS,9,FALSE)*$D50","v":0},{"$f":"VLOOKUP($B50,'MI materialen'!$B:$AS,10,FALSE)*$D50","v":0},{"$f":"VLOOKUP($B50,'MI materialen'!$B:$AS,11,FALSE)*$D50","v":0},{"$f":"VLOOKUP($B50,'MI materialen'!$B:$AS,12,FALSE)*$D50","v":0},{"$f":"VLOOKUP($B50,'MI materialen'!$B:$AS,13,FALSE)*$D50","v":0},{"$f":"VLOOKUP($B50,'MI materialen'!$B:$AS,14,FALSE)*$D50","v":0},{"$f":"VLOOKUP($B50,'MI materialen'!$B:$AS,15,FALSE)*$D50","v":0},{"$f":"VLOOKUP($B50,'MI materialen'!$B:$AS,18,FALSE)*$D50","v":0},{"$f":"VLOOKUP($B50,'MI materialen'!$B:$AS,21,FALSE)*$D50","v":0},{"$f":"VLOOKUP($B50,'MI materialen'!$B:$AS,25,FALSE)*$D50","v":0},{"$f":"VLOOKUP($B50,'MI materialen'!$B:$AS,26,FALSE)*$D50","v":0},{"$f":"VLOOKUP($B50,'MI materialen'!$B:$AS,27,FALSE)*$D50","v":0},{"$f":"VLOOKUP($B50,'MI materialen'!$B:$AS,28,FALSE)*$D50","v":0}]
[null,{"$f":"Invul_Basis_Distributie!F13","v":"Leeg"},null,{"$f":"Invul_Basis_Distributie!N13","v":0},{"$f":"VLOOKUP(B51,MKI!$B$1:$Z$263,5,FALSE)*D51","v":0},{"$f":"VLOOKUP($B51,'MI materialen'!$B:$AS,5,FALSE)*$D51","v":0},{"$f":"VLOOKUP($B51,'MI materialen'!$B:$AS,6,FALSE)*$D51","v":0},{"$f":"VLOOKUP($B51,'MI materialen'!$B:$AS,7,FALSE)*$D51","v":0},{"$f":"VLOOKUP($B51,'MI materialen'!$B:$AS,8,FALSE)*$D51","v":0},{"$f":"VLOOKUP($B51,'MI materialen'!$B:$AS,9,FALSE)*$D51","v":0},{"$f":"VLOOKUP($B51,'MI materialen'!$B:$AS,10,FALSE)*$D51","v":0},{"$f":"VLOOKUP($B51,'MI materialen'!$B:$AS,11,FALSE)*$D51","v":0},{"$f":"VLOOKUP($B51,'MI materialen'!$B:$AS,12,FALSE)*$D51","v":0},{"$f":"VLOOKUP($B51,'MI materialen'!$B:$AS,13,FALSE)*$D51","v":0},{"$f":"VLOOKUP($B51,'MI materialen'!$B:$AS,14,FALSE)*$D51","v":0},{"$f":"VLOOKUP($B51,'MI materialen'!$B:$AS,15,FALSE)*$D51","v":0},{"$f":"VLOOKUP($B51,'MI materialen'!$B:$AS,18,FALSE)*$D51","v":0},{"$f":"VLOOKUP($B51,'MI materialen'!$B:$AS,21,FALSE)*$D51","v":0},{"$f":"VLOOKUP($B51,'MI materialen'!$B:$AS,25,FALSE)*$D51","v":0},{"$f":"VLOOKUP($B51,'MI materialen'!$B:$AS,26,FALSE)*$D51","v":0},{"$f":"VLOOKUP($B51,'MI materialen'!$B:$AS,27,FALSE)*$D51","v":0},{"$f":"VLOOKUP($B51,'MI materialen'!$B:$AS,28,FALSE)*$D51","v":0}]
[null,{"$f":"Invul_Basis_Distributie!F14","v":"Leeg"},null,{"$f":"Invul_Basis_Distributie!N14","v":0},{"$f":"VLOOKUP(B52,MKI!$B$1:$Z$263,5,FALSE)*D52","v":0},{"$f":"VLOOKUP($B52,'MI materialen'!$B:$AS,5,FALSE)*$D52","v":0},{"$f":"VLOOKUP($B52,'MI materialen'!$B:$AS,6,FALSE)*$D52","v":0},{"$f":"VLOOKUP($B52,'MI materialen'!$B:$AS,7,FALSE)*$D52","v":0},{"$f":"VLOOKUP($B52,'MI materialen'!$B:$AS,8,FALSE)*$D52","v":0},{"$f":"VLOOKUP($B52,'MI materialen'!$B:$AS,9,FALSE)*$D52","v":0},{"$f":"VLOOKUP($B52,'MI materialen'!$B:$AS,10,FALSE)*$D52","v":0},{"$f":"VLOOKUP($B52,'MI materialen'!$B:$AS,11,FALSE)*$D52","v":0},{"$f":"VLOOKUP($B52,'MI materialen'!$B:$AS,12,FALSE)*$D52","v":0},{"$f":"VLOOKUP($B52,'MI materialen'!$B:$AS,13,FALSE)*$D52","v":0},{"$f":"VLOOKUP($B52,'MI materialen'!$B:$AS,14,FALSE)*$D52","v":0},{"$f":"VLOOKUP($B52,'MI materialen'!$B:$AS,15,FALSE)*$D52","v":0},{"$f":"VLOOKUP($B52,'MI materialen'!$B:$AS,18,FALSE)*$D52","v":0},{"$f":"VLOOKUP($B52,'MI materialen'!$B:$AS,21,FALSE)*$D52","v":0},{"$f":"VLOOKUP($B52,'MI materialen'!$B:$AS,25,FALSE)*$D52","v":0},{"$f":"VLOOKUP($B52,'MI materialen'!$B:$AS,26,FALSE)*$D52","v":0},{"$f":"VLOOKUP($B52,'MI materialen'!$B:$AS,27,FALSE)*$D52","v":0},{"$f":"VLOOKUP($B52,'MI materialen'!$B:$AS,28,FALSE)*$D52","v":0}]
[null,{"$f":"Invul_Basis_Distributie!F15","v":"Leeg"},null,{"$f":"Invul_Basis_Distributie!N15","v":0},{"$f":"VLOOKUP(B53,MKI!$B$1:$Z$263,5,FALSE)*D53","v":0},{"$f":"VLOOKUP($B53,'MI materialen'!$B:$AS,5,FALSE)*$D53","v":0},{"$f":"VLOOKUP($B53,'MI materialen'!$B:$AS,6,FALSE)*$D53","v":0},{"$f":"VLOOKUP($B53,'MI materialen'!$B:$AS,7,FALSE)*$D53","v":0},{"$f":"VLOOKUP($B53,'MI materialen'!$B:$AS,8,FALSE)*$D53","v":0},{"$f":"VLOOKUP($B53,'MI materialen'!$B:$AS,9,FALSE)*$D53","v":0},{"$f":"VLOOKUP($B53,'MI materialen'!$B:$AS,10,FALSE)*$D53","v":0},{"$f":"VLOOKUP($B53,'MI materialen'!$B:$AS,11,FALSE)*$D53","v":0},{"$f":"VLOOKUP($B53,'MI materialen'!$B:$AS,12,FALSE)*$D53","v":0},{"$f":"VLOOKUP($B53,'MI materialen'!$B:$AS,13,FALSE)*$D53","v":0},{"$f":"VLOOKUP($B53,'MI materialen'!$B:$AS,14,FALSE)*$D53","v":0},{"$f":"VLOOKUP($B53,'MI materialen'!$B:$AS,15,FALSE)*$D53","v":0},{"$f":"VLOOKUP($B53,'MI materialen'!$B:$AS,18,FALSE)*$D53","v":0},{"$f":"VLOOKUP($B53,'MI materialen'!$B:$AS,21,FALSE)*$D53","v":0},{"$f":"VLOOKUP($B53,'MI materialen'!$B:$AS,25,FALSE)*$D53","v":0},{"$f":"VLOOKUP($B53,'MI materialen'!$B:$AS,26,FALSE)*$D53","v":0},{"$f":"VLOOKUP($B53,'MI materialen'!$B:$AS,27,FALSE)*$D53","v":0},{"$f":"VLOOKUP($B53,'MI materialen'!$B:$AS,28,FALSE)*$D53","v":0}]
[null,{"$f":"Invul_Basis_Distributie!F16","v":"Leeg"},null,{"$f":"Invul_Basis_Distributie!N16","v":0},{"$f":"VLOOKUP(B54,MKI!$B$1:$Z$263,5,FALSE)*D54","v":0},{"$f":"VLOOKUP($B54,'MI materialen'!$B:$AS,5,FALSE)*$D54","v":0},{"$f":"VLOOKUP($B54,'MI materialen'!$B:$AS,6,FALSE)*$D54","v":0},{"$f":"VLOOKUP($B54,'MI materialen'!$B:$AS,7,FALSE)*$D54","v":0},{"$f":"VLOOKUP($B54,'MI materialen'!$B:$AS,8,FALSE)*$D54","v":0},{"$f":"VLOOKUP($B54,'MI materialen'!$B:$AS,9,FALSE)*$D54","v":0},{"$f":"VLOOKUP($B54,'MI materialen'!$B:$AS,10,FALSE)*$D54","v":0},{"$f":"VLOOKUP($B54,'MI materialen'!$B:$AS,11,FALSE)*$D54","v":0},{"$f":"VLOOKUP($B54,'MI materialen'!$B:$AS,12,FALSE)*$D54","v":0},{"$f":"VLOOKUP($B54,'MI materialen'!$B:$AS,13,FALSE)*$D54","v":0},{"$f":"VLOOKUP($B54,'MI materialen'!$B:$AS,14,FALSE)*$D54","v":0},{"$f":"VLOOKUP($B54,'MI materialen'!$B:$AS,15,FALSE)*$D54","v":0},{"$f":"VLOOKUP($B54,'MI materialen'!$B:$AS,18,FALSE)*$D54","v":0},{"$f":"VLOOKUP($B54,'MI materialen'!$B:$AS,21,FALSE)*$D54","v":0},{"$f":"VLOOKUP($B54,'MI materialen'!$B:$AS,25,FALSE)*$D54","v":0},{"$f":"VLOOKUP($B54,'MI materialen'!$B:$AS,26,FALSE)*$D54","v":0},{"$f":"VLOOKUP($B54,'MI materialen'!$B:$AS,27,FALSE)*$D54","v":0},{"$f":"VLOOKUP($B54,'MI materialen'!$B:$AS,28,FALSE)*$D54","v":0}]
[null,{"$f":"Invul_Basis_Distributie!F17","v":"Leeg"},null,{"$f":"Invul_Basis_Distributie!N17","v":0},{"$f":"VLOOKUP(B55,MKI!$B$1:$Z$263,5,FALSE)*D55","v":0},{"$f":"VLOOKUP($B55,'MI materialen'!$B:$AS,5,FALSE)*$D55","v":0},{"$f":"VLOOKUP($B55,'MI materialen'!$B:$AS,6,FALSE)*$D55","v":0},{"$f":"VLOOKUP($B55,'MI materialen'!$B:$AS,7,FALSE)*$D55","v":0},{"$f":"VLOOKUP($B55,'MI materialen'!$B:$AS,8,FALSE)*$D55","v":0},{"$f":"VLOOKUP($B55,'MI materialen'!$B:$AS,9,FALSE)*$D55","v":0},{"$f":"VLOOKUP($B55,'MI materialen'!$B:$AS,10,FALSE)*$D55","v":0},{"$f":"VLOOKUP($B55,'MI materialen'!$B:$AS,11,FALSE)*$D55","v":0},{"$f":"VLOOKUP($B55,'MI materialen'!$B:$AS,12,FALSE)*$D55","v":0},{"$f":"VLOOKUP($B55,'MI materialen'!$B:$AS,13,FALSE)*$D55","v":0},{"$f":"VLOOKUP($B55,'MI materialen'!$B:$AS,14,FALSE)*$D55","v":0},{"$f":"VLOOKUP($B55,'MI materialen'!$B:$AS,15,FALSE)*$D55","v":0},{"$f":"VLOOKUP($B55,'MI materialen'!$B:$AS,18,FALSE)*$D55","v":0},{"$f":"VLOOKUP($B55,'MI materialen'!$B:$AS,21,FALSE)*$D55","v":0},{"$f":"VLOOKUP($B55,'MI materialen'!$B:$AS,25,FALSE)*$D55","v":0},{"$f":"VLOOKUP($B55,'MI materialen'!$B:$AS,26,FALSE)*$D55","v":0},{"$f":"VLOOKUP($B55,'MI materialen'!$B:$AS,27,FALSE)*$D55","v":0},{"$f":"VLOOKUP($B55,'MI materialen'!$B:$AS,28,FALSE)*$D55","v":0}]
[null,{"$f":"Invul_Basis_Distributie!F18","v":"Leeg"},null,{"$f":"Invul_Basis_Distributie!N18","v":0},{"$f":"VLOOKUP(B56,MKI!$B$1:$Z$263,5,FALSE)*D56","v":0},{"$f":"VLOOKUP($B56,'MI materialen'!$B:$AS,5,FALSE)*$D56","v":0},{"$f":"VLOOKUP($B56,'MI materialen'!$B:$AS,6,FALSE)*$D56","v":0},{"$f":"VLOOKUP($B56,'MI materialen'!$B:$AS,7,FALSE)*$D56","v":0},{"$f":"VLOOKUP($B56,'MI materialen'!$B:$AS,8,FALSE)*$D56","v":0},{"$f":"VLOOKUP($B56,'MI materialen'!$B:$AS,9,FALSE)*$D56","v":0},{"$f":"VLOOKUP($B56,'MI materialen'!$B:$AS,10,FALSE)*$D56","v":0},{"$f":"VLOOKUP($B56,'MI materialen'!$B:$AS,11,FALSE)*$D56","v":0},{"$f":"VLOOKUP($B56,'MI materialen'!$B:$AS,12,FALSE)*$D56","v":0},{"$f":"VLOOKUP($B56,'MI materialen'!$B:$AS,13,FALSE)*$D56","v":0},{"$f":"VLOOKUP($B56,'MI materialen'!$B:$AS,14,FALSE)*$D56","v":0},{"$f":"VLOOKUP($B56,'MI materialen'!$B:$AS,15,FALSE)*$D56","v":0},{"$f":"VLOOKUP($B56,'MI materialen'!$B:$AS,18,FALSE)*$D56","v":0},{"$f":"VLOOKUP($B56,'MI materialen'!$B:$AS,21,FALSE)*$D56","v":0},{"$f":"VLOOKUP($B56,'MI materialen'!$B:$AS,25,FALSE)*$D56","v":0},{"$f":"VLOOKUP($B56,'MI materialen'!$B:$AS,26,FALSE)*$D56","v":0},{"$f":"VLOOKUP($B56,'MI materialen'!$B:$AS,27,FALSE)*$D56","v":0},{"$f":"VLOOKUP($B56,'MI materialen'!$B:$AS,28,FALSE)*$D56","v":0}]
[null,{"$f":"Invul_Basis_Distributie!F19","v":"Leeg"},null,{"$f":"Invul_Basis_Distributie!N19","v":0},{"$f":"VLOOKUP(B57,MKI!$B$1:$Z$263,5,FALSE)*D57","v":0},{"$f":"VLOOKUP($B57,'MI materialen'!$B:$AS,5,FALSE)*$D57","v":0},{"$f":"VLOOKUP($B57,'MI materialen'!$B:$AS,6,FALSE)*$D57","v":0},{"$f":"VLOOKUP($B57,'MI materialen'!$B:$AS,7,FALSE)*$D57","v":0},{"$f":"VLOOKUP($B57,'MI materialen'!$B:$AS,8,FALSE)*$D57","v":0},{"$f":"VLOOKUP($B57,'MI materialen'!$B:$AS,9,FALSE)*$D57","v":0},{"$f":"VLOOKUP($B57,'MI materialen'!$B:$AS,10,FALSE)*$D57","v":0},{"$f":"VLOOKUP($B57,'MI materialen'!$B:$AS,11,FALSE)*$D57","v":0},{"$f":"VLOOKUP($B57,'MI materialen'!$B:$AS,12,FALSE)*$D57","v":0},{"$f":"VLOOKUP($B57,'MI materialen'!$B:$AS,13,FALSE)*$D57","v":0},{"$f":"VLOOKUP($B57,'MI materialen'!$B:$AS,14,FALSE)*$D57","v":0},{"$f":"VLOOKUP($B57,'MI materialen'!$B:$AS,15,FALSE)*$D57","v":0},{"$f":"VLOOKUP($B57,'MI materialen'!$B:$AS,18,FALSE)*$D57","v":0},{"$f":"VLOOKUP($B57,'MI materialen'!$B:$AS,21,FALSE)*$D57","v":0},{"$f":"VLOOKUP($B57,'MI materialen'!$B:$AS,25,FALSE)*$D57","v":0},{"$f":"VLOOKUP($B57,'MI materialen'!$B:$AS,26,FALSE)*$D57","v":0},{"$f":"VLOOKUP($B57,'MI materialen'!$B:$AS,27,FALSE)*$D57","v":0},{"$f":"VLOOKUP($B57,'MI materialen'!$B:$AS,28,FALSE)*$D57","v":0}]
[]
[null,"Energiegebruik MI & MKI (per producteenheid)",null,null,"Totale milieu-kosten ","1 abiotic depletion, non fuel (AD)","2 abiotic depletion, fuel (AD)","4 global warming (GWP)","5 ozone layer depletion (ODP)","6 photochemical oxidation (POCP)","7 acidification (AP)","8 eutrophication (EP)","9 human toxicity (HT)","10 Ecotoxicity, fresh water (FAETP)","12 Ecotoxcity, marine water (MAETP)","14 Ecotoxicity, terrestric (TETP)","101 Energy, primary, renewable (MJ)","102 Energy, primary, non-renewable (MJ)","104 Water, fresh water use (m3)","106 Waste, hazardous (kg)","105 Waste, non hazardous (kg)","107. Waste, radioactive (kg)"]
[null,"Energiedrager","Verbruik",null,"€","kg Sb eq","kg Sb eq","kg CO2 eq","kg CFC-11 eq","kg C2H4","kg SO2 eq","kg PO4--- eq","kg 1,4-DB eq","kg 1,4-DB eq","kg 1,4-DB eq","kg 1,4-DB eq","MJ","MJ","m3","kg","kg","kg"]
[null,{"$f":"Invul_Basis_Gebruik!F12","v":"Leeg"},{"$f":"Invul_Basis_Gebruik!G12","v":0},null,{"$f":"VLOOKUP(B61,MKI!$B$1:$Z$263,5,FALSE)*C61","v":0},{"$f":"VLOOKUP($B61,'MI materialen'!$B:$AS,5,FALSE)*$C61","v":0},{"$f":"VLOOKUP($B61,'MI materialen'!$B:$AS,6,FALSE)*$C61","v":0},{"$f":"VLOOKUP($B61,'MI materialen'!$B:$AS,7,FALSE)*$C61","v":0},{"$f":"VLOOKUP($B61,'MI materialen'!$B:$AS,8,FALSE)*$C61","v":0},{"$f":"VLOOKUP($B61,'MI materialen'!$B:$AS,9,FALSE)*$C61","v":0},{"$f":"VLOOKUP($B61,'MI materialen'!$B:$AS,10,FALSE)*$C61","v":0},{"$f":"VLOOKUP($B61,'MI materialen'!$B:$AS,11,FALSE)*$C61","v":0},{"$f":"VLOOKUP($B61,'MI materialen'!$B:$AS,12,FALSE)*$C61","v":0},{"$f":"VLOOKUP($B61,'MI materialen'!$B:$AS,13,FALSE)*$C61","v":0},{"$f":"VLOOKUP($B61,'MI materialen'!$B:$AS,14,FALSE)*$C61","v":0},{"$f":"VLOOKUP($B61,'MI materialen'!$B:$AS,15,FALSE)*$C61","v":0},{"$f":"VLOOKUP($B61,'MI materialen'!$B:$AS,18,FALSE)*$C61","v":0},{"$f":"VLOOKUP($B61,'MI materialen'!$B:$AS,21,FALSE)*$C61","v":0},{"$f":"VLOOKUP($B61,'MI materialen'!$B:$AS,25,FALSE)*$C61","v":0},{"$f":"VLOOKUP($B61,'MI materialen'!$B:$AS,26,FALSE)*$C61","v":0},{"$f":"VLOOKUP($B61,'MI materialen'!$B:$AS,27,FALSE)*$C61","v":0},{"$f":"VLOOKUP($B61,'MI materialen'!$B:$AS,28,FALSE)*$C61","v":0}]
[null,{"$f":"Invul_Basis_Gebruik!F13","v":"Leeg"},{"$f":"Invul_Basis_Gebruik!G13","v":0},null,{"$f":"VLOOKUP(B62,MKI!$B$1:$Z$263,5,FALSE)*C62","v":0},{"$f":"VLOOKUP($B62,'MI materialen'!$B:$AS,5,FALSE)*$C62","v":0},{"$f":"VLOOKUP($B62,'MI materialen'!$B:$AS,6,FALSE)*$C62","v":0},{"$f":"VLOOKUP($B62,'MI materialen'!$B:$AS,7,FALSE)*$C62","v":0},{"$f":"VLOOKUP($B62,'MI materialen'!$B:$AS,8,FALSE)*$C62","v":0},{"$f":"VLOOKUP($B62,'MI materialen'!$B:$AS,9,FALSE)*$C62","v":0},{"$f":"VLOOKUP($B62,'MI materialen'!$B:$AS,10,FALSE)*$C62","v":0},{"$f":"VLOOKUP($B62,'MI materialen'!$B:$AS,11,FALSE)*$C62","v":0},{"$f":"VLOOKUP($B62,'MI materialen'!$B:$AS,12,FALSE)*$C62","v":0},{"$f":"VLOOKUP($B62,'MI materialen'!$B:$AS,13,FALSE)*$C62","v":0},{"$f":"VLOOKUP($B62,'MI materialen'!$B:$AS,14,FALSE)*$C62","v":0},{"$f":"VLOOKUP($B62,'MI materialen'!$B:$AS,15,FALSE)*$C62","v":0},{"$f":"VLOOKUP($B62,'MI materialen'!$B:$AS,18,FALSE)*$C62","v":0},{"$f":"VLOOKUP($B62,'MI materialen'!$B:$AS,21,FALSE)*$C62","v":0},{"$f":"VLOOKUP($B62,'MI materialen'!$B:$AS,25,FALSE)*$C62","v":0},{"$f":"VLOOKUP($B62,'MI materialen'!$B:$AS,26,FALSE)*$C62","v":0},{"$f":"VLOOKUP($B62,'MI materialen'!$B:$AS,27,FALSE)*$C62","v":0},{"$f":"VLOOKUP($B62,'MI materialen'!$B:$AS,28,FALSE)*$C62","v":0}]
[null,{"$f":"Invul_Basis_Gebruik!F14","v":"Leeg"},{"$f":"Invul_Basis_Gebruik!G14","v":0},null,{"$f":"VLOOKUP(B63,MKI!$B$1:$Z$263,5,FALSE)*C63","v":0},{"$f":"VLOOKUP($B63,'MI materialen'!$B:$AS,5,FALSE)*$C63","v":0},{"$f":"VLOOKUP($B63,'MI materialen'!$B:$AS,6,FALSE)*$C63","v":0},{"$f":"VLOOKUP($B63,'MI materialen'!$B:$AS,7,FALSE)*$C63","v":0},{"$f":"VLOOKUP($B63,'MI materialen'!$B:$AS,8,FALSE)*$C63","v":0},{"$f":"VLOOKUP($B63,'MI materialen'!$B:$AS,9,FALSE)*$C63","v":0},{"$f":"VLOOKUP($B63,'MI materialen'!$B:$AS,10,FALSE)*$C63","v":0},{"$f":"VLOOKUP($B63,'MI materialen'!$B:$AS,11,FALSE)*$C63","v":0},{"$f":"VLOOKUP($B63,'MI materialen'!$B:$AS,12,FALSE)*$C63","v":0},{"$f":"VLOOKUP($B63,'MI materialen'!$B:$AS,13,FALSE)*$C63","v":0},{"$f":"VLOOKUP($B63,'MI materialen'!$B:$AS,14,FALSE)*$C63","v":0},{"$f":"VLOOKUP($B63,'MI materialen'!$B:$AS,15,FALSE)*$C63","v":0},{"$f":"VLOOKUP($B63,'MI materialen'!$B:$AS,18,FALSE)*$C63","v":0},{"$f":"VLOOKUP($B63,'MI materialen'!$B:$AS,21,FALSE)*$C63","v":0},{"$f":"VLOOKUP($B63,'MI materialen'!$B:$AS,25,FALSE)*$C63","v":0},{"$f":"VLOOKUP($B63,'MI materialen'!$B:$AS,26,FALSE)*$C63","v":0},{"$f":"VLOOKUP($B63,'MI materialen'!$B:$AS,27,FALSE)*$C63","v":0},{"$f":"VLOOKUP($B63,'MI materialen'!$B:$AS,28,FALSE)*$C63","v":0}]
[null,{"$f":"Invul_Basis_Gebruik!F15","v":"Leeg"},{"$f":"Invul_Basis_Gebruik!G15","v":0},null,{"$f":"VLOOKUP(B64,MKI!$B$1:$Z$263,5,FALSE)*C64","v":0},{"$f":"VLOOKUP($B64,'MI materialen'!$B:$AS,5,FALSE)*$C64","v":0},{"$f":"VLOOKUP($B64,'MI materialen'!$B:$AS,6,FALSE)*$C64","v":0},{"$f":"VLOOKUP($B64,'MI materialen'!$B:$AS,7,FALSE)*$C64","v":0},{"$f":"VLOOKUP($B64,'MI materialen'!$B:$AS,8,FALSE)*$C64","v":0},{"$f":"VLOOKUP($B64,'MI materialen'!$B:$AS,9,FALSE)*$C64","v":0},{"$f":"VLOOKUP($B64,'MI materialen'!$B:$AS,10,FALSE)*$C64","v":0},{"$f":"VLOOKUP($B64,'MI materialen'!$B:$AS,11,FALSE)*$C64","v":0},{"$f":"VLOOKUP($B64,'MI materialen'!$B:$AS,12,FALSE)*$C64","v":0},{"$f":"VLOOKUP($B64,'MI materialen'!$B:$AS,13,FALSE)*$C64","v":0},{"$f":"VLOOKUP($B64,'MI materialen'!$B:$AS,14,FALSE)*$C64","v":0},{"$f":"VLOOKUP($B64,'MI materialen'!$B:$AS,15,FALSE)*$C64","v":0},{"$f":"VLOOKUP($B64,'MI materialen'!$B:$AS,18,FALSE)*$C64","v":0},{"$f":"VLOOKUP($B64,'MI materialen'!$B:$AS,21,FALSE)*$C64","v":0},{"$f":"VLOOKUP($B64,'MI materialen'!$B:$AS,25,FALSE)*$C64","v":0},{"$f":"VLOOKUP($B64,'MI materialen'!$B:$AS,26,FALSE)*$C64","v":0},{"$f":"VLOOKUP($B64,'MI materialen'!$B:$AS,27,FALSE)*$C64","v":0},{"$f":"VLOOKUP($B64,'MI materialen'!$B:$AS,28,FALSE)*$C64","v":0}]
[]
[null,null,null,null,"Kolom nr. (vert.zoeken):",2,3,4,5,6,7,8,9,10,11,12,15,18,22,23,24,25]
[null,"Einde levensfase",null,null,"Totale milieu-kosten ","1 abiotic depletion, non fuel (AD)","2 abiotic depletion, fuel (AD)","4 global warming (GWP)","5 ozone layer depletion (ODP)","6 photochemical oxidation (POCP)","7 acidification (AP)","8 eutrophication (EP)","9 human toxicity (HT)","10 Ecotoxicity, fresh water (FAETP)","12 Ecotoxcity, marine water (MAETP)","14 Ecotoxicity, terrestric (TETP)","101 Energy, primary, renewable (MJ)","102 Energy, primary, non-renewable (MJ)","104 Water, fresh water use (m3)","106 Waste, hazardous (kg)","105 Waste, non hazardous (kg)","107. Waste, radioactive (kg)"]
[null,"Materiaal, afvalscenario",{"$f":"#REF!","v":{"$error":"#REF!"}},"Koppelingproces","€","kg Sb eq","kg Sb eq","kg CO2 eq","kg CFC-11 eq","kg C2H4","kg SO2 eq","kg PO4--- eq","kg 1,4-DB eq","kg 1,4-DB eq","kg 1,4-DB eq","kg 1,4-DB eq","MJ","MJ","m3","kg","kg","kg"]
["Som",{"$f":"Invul_Basis_EindeL!$F$13","v":"Leeg"},{"$f":"Invul_Basis_EindeL!$G$13","v":0},null,{"$f":"SUM(E70:E73)","v":0},{"$f":"SUM(F70:F73)","v":0},0,0,0,0,0,0,0,0,0,0,0,0,0,0,0,0]
["Stort",{"$f":"IF(Invul_Basis_EindeL!$I$13=\"Standaard\",Invul_Basis_EindeL!$J$13,Invul_Basis_EindeL!$N$13)","v":0},{"$f":"C69","v":0},{"$f":"VLOOKUP($B69,'MI materialen'!B:AS,41,FALSE)","v":0},{"$f":"IF($B70=0,0,VLOOKUP($D70,MKI!E:K,2,FALSE)*$B70*$C70)","v":0},{"$f":"IF($B70=0,0,VLOOKUP($D70,'MI materialen'!$E:$AS,F$66,FALSE)*$B70*$C70)","v":0},{"$f":"IF($B70=0,0,VLOOKUP($D70,'MI materialen'!$E:$AS,G$66,FALSE)*$B70*$C70)","v":0},{"$f":"IF($B70=0,0,VLOOKUP($D70,'MI materialen'!$E:$AS,H$66,FALSE)*$B70*$C70)","v":0},{"$f":"IF($B70=0,0,VLOOKUP($D70,'MI materialen'!$E:$AS,I$66,FALSE)*$B70*$C70)","v":0},{"$f":"IF($B70=0,0,VLOOKUP($D70,'MI materialen'!$E:$AS,J$66,FALSE)*$B70*$C70)","v":0},{"$f":"IF($B70=0,0,VLOOKUP($D70,'MI materialen'!$E:$AS,K$66,FALSE)*$B70*$C70)","v":0},{"$f":"IF($B70=0,0,VLOOKUP($D70,'MI materialen'!$E:$AS,L$66,FALSE)*$B70*$C70)","v":0},{"$f":"IF($B70=0,0,VLOOKUP($D70,'MI materialen'!$E:$AS,M$66,FALSE)*$B70*$C70)","v":0},{"$f":"IF($B70=0,0,VLOOKUP($D70,'MI materialen'!$E:$AS,N$66,FALSE)*$B70*$C70)","v":0},{"$f":"IF($B70=0,0,VLOOKUP($D70,'MI materialen'!$E:$AS,O$66,FALSE)*$B70*$C70)","v":0},{"$f":"IF($B70=0,0,VLOOKUP($D70,'MI materialen'!$E:$AS,P$66,FALSE)*$B70*$C70)","v":0},{"$f":"IF($B70=0,0,VLOOKUP($D70,'MI materialen'!$E:$AS,Q$66,FALSE)*$B70*$C70)","v":0},{"$f":"IF($B70=0,0,VLOOKUP($D70,'MI materialen'!$E:$AS,R$66,FALSE)*$B70*$C70)","v":0},{"$f":"IF($B70=0,0,VLOOKUP($D70,'MI materialen'!$E:$AS,S$66,FALSE)*$B70*$C70)","v":0},{"$f":"IF($B70=0,0,VLOOKUP($D70,'MI materialen'!$E:$AS,T$66,FALSE)*$B70*$C70)","v":0},{"$f":"IF($B70=0,0,VLOOKUP($D70,'MI materialen'!$E:$AS,U$66,FALSE)*$B70*$C70)","v":0},{"$f":"IF($B70=0,0,VLOOKUP($D70,'MI materialen'!$E:$AS,V$66,FALSE)*$B70*$C70)","v":0}]
["Verbranding",{"$f":"IF(Invul_Basis_EindeL!$I$13=\"Standaard\",Invul_Basis_EindeL!$K$13,Invul_Basis_EindeL!$O$13)","v":0},{"$f":"C69","v":0},{"$f":"VLOOKUP($B69,'MI materialen'!B:AS,42,FALSE)","v":0},{"$f":"IF($B71=0,0,VLOOKUP($D71,MKI!E:K,2,FALSE)*$B71*$C71)","v":0},{"$f":"IF($B71=0,0,VLOOKUP($D71,'MI materialen'!$E:$AS,F$66,FALSE)*$B71*$C71)","v":0},{"$f":"IF($B71=0,0,VLOOKUP($D71,'MI materialen'!$E:$AS,G$66,FALSE)*$B71*$C71)","v":0},{"$f":"IF($B71=0,0,VLOOKUP($D71,'MI materialen'!$E:$AS,H$66,FALSE)*$B71*$C71)","v":0},{"$f":"IF($B71=0,0,VLOOKUP($D71,'MI materialen'!$E:$AS,I$66,FALSE)*$B71*$C71)","v":0},{"$f":"IF($B71=0,0,VLOOKUP($D71,'MI materialen'!$E:$AS,J$66,FALSE)*$B71*$C71)","v":0},{"$f":"IF($B71=0,0,VLOOKUP($D71,'MI materialen'!$E:$AS,K$66,FALSE)*$B71*$C71)","v":0},{"$f":"IF($B71=0,0,VLOOKUP($D71,'MI materialen'!$E:$AS,L$66,FALSE)*$B71*$C71)","v":0},{"$f":"IF($B71=0,0,VLOOKUP($D71,'MI materialen'!$E:$AS,M$66,FALSE)*$B71*$C71)","v":0},{"$f":"IF($B71=0,0,VLOOKUP($D71,'MI materialen'!$E:$AS,N$66,FALSE)*$B71*$C71)","v":0},{"$f":"IF($B71=0,0,VLOOKUP($D71,'MI materialen'!$E:$AS,O$66,FALSE)*$B71*$C71)","v":0},{"$f":"IF($B71=0,0,VLOOKUP($D71,'MI materialen'!$E:$AS,P$66,FALSE)*$B71*$C71)","v":0},{"$f":"IF($B71=0,0,VLOOKUP($D71,'MI materialen'!$E:$AS,Q$66,FALSE)*$B71*$C71)","v":0},{"$f":"IF($B71=0,0,VLOOKUP($D71,'MI materialen'!$E:$AS,R$66,FALSE)*$B71*$C71)","v":0},{"$f":"IF($B71=0,0,VLOOKUP($D71,'MI materialen'!$E:$AS,S$66,FALSE)*$B71*$C71)","v":0},{"$f":"IF($B71=0,0,VLOOKUP($D71,'MI materialen'!$E:$AS,T$66,FALSE)*$B71*$C71)","v":0},{"$f":"IF($B71=0,0,VLOOKUP($D71,'MI materialen'!$E:$AS,U$66,FALSE)*$B71*$C71)","v":0},{"$f":"IF($B71=0,0,VLOOKUP($D71,'MI materialen'!$E:$AS,V$66,FALSE)*$B71*$C71)","v":0}]
["Recycling baten",{"$f":"IF(Invul_Basis_EindeL!$I$13=\"Standaard\",Invul_Basis_EindeL!$L$13,Invul_Basis_EindeL!$P$13)*(100%-Invul_Basis_Materialen!$J$12)","v":0},{"$f":"C69","v":0},{"$f":"VLOOKUP($B69,'MI materialen'!B:AS,43,FALSE)","v":0},{"$f":"IF($B72=0,0,VLOOKUP($D72,MKI!E:K,2,FALSE)*$B72*$C72)","v":0},{"$f":"IF($B72=0,0,VLOOKUP($D72,'MI materialen'!$E:$AS,F$66,FALSE)*$B72*$C72)","v":0},{"$f":"IF($B72=0,0,VLOOKUP($D72,'MI materialen'!$E:$AS,G$66,FALSE)*$B72*$C72)","v":0},{"$f":"IF($B72=0,0,VLOOKUP($D72,'MI materialen'!$E:$AS,H$66,FALSE)*$B72*$C72)","v":0},{"$f":"IF($B72=0,0,VLOOKUP($D72,'MI materialen'!$E:$AS,I$66,FALSE)*$B72*$C72)","v":0},{"$f":"IF($B72=0,0,VLOOKUP($D72,'MI materialen'!$E:$AS,J$66,FALSE)*$B72*$C72)","v":0},{"$f":"IF($B72=0,0,VLOOKUP($D72,'MI materialen'!$E:$AS,K$66,FALSE)*$B72*$C72)","v":0},{"$f":"IF($B72=0,0,VLOOKUP($D72,'MI materialen'!$E:$AS,L$66,FALSE)*$B72*$C72)","v":0},{"$f":"IF($B72=0,0,VLOOKUP($D72,'MI materialen'!$E:$AS,M$66,FALSE)*$B72*$C72)","v":0},{"$f":"IF($B72=0,0,VLOOKUP($D72,'MI materialen'!$E:$AS,N$66,FALSE)*$B72*$C72)","v":0},{"$f":"IF($B72=0,0,VLOOKUP($D72,'MI materialen'!$E:$AS,O$66,FALSE)*$B72*$C72)","v":0},{"$f":"IF($B72=0,0,VLOOKUP($D72,'MI materialen'!$E:$AS,P$66,FALSE)*$B72*$C72)","v":0},{"$f":"IF($B72=0,0,VLOOKUP($D72,'MI materialen'!$E:$AS,Q$66,FALSE)*$B72*$C72)","v":0},{"$f":"IF($B72=0,0,VLOOKUP($D72,'MI materialen'!$E:$AS,R$66,FALSE)*$B72*$C72)","v":0},{"$f":"IF($B72=0,0,VLOOKUP($D72,'MI materialen'!$E:$AS,S$66,FALSE)*$B72*$C72)","v":0},{"$f":"IF($B72=0,0,VLOOKUP($D72,'MI materialen'!$E:$AS,T$66,FALSE)*$B72*$C72)","v":0},{"$f":"IF($B72=0,0,VLOOKUP($D72,'MI materialen'!$E:$AS,U$66,FALSE)*$B72*$C72)","v":0},{"$f":"IF($B72=0,0,VLOOKUP($D72,'MI materialen'!$E:$AS,V$66,FALSE)*$B72*$C72)","v":0}]
["Hergebruik",{"$f":"IF(Invul_Basis_EindeL!$I$13=\"Standaard\",Invul_Basis_EindeL!$M$13,Invul_Basis_EindeL!$Q$13)*(100%-Invul_Basis_Materialen!$J$12)","v":0},{"$f":"C69","v":0},{"$f":"VLOOKUP($B69,'MI materialen'!B:AS,43,FALSE)","v":0},{"$f":"IF($B73=0,0,VLOOKUP($D73,MKI!E:K,2,FALSE)*$B73*$C73)","v":0},{"$f":"IF($B73=0,0,VLOOKUP($D73,'MI materialen'!$E:$AS,F$66,FALSE)*$B73*$C73)","v":0},{"$f":"IF($B73=0,0,VLOOKUP($D73,'MI materialen'!$E:$AS,G$66,FALSE)*$B73*$C73)","v":0},{"$f":"IF($B73=0,0,VLOOKUP($D73,'MI materialen'!$E:$AS,H$66,FALSE)*$B73*$C73)","v":0},{"$f":"IF($B73=0,0,VLOOKUP($D73,'MI materialen'!$E:$AS,I$66,FALSE)*$B73*$C73)","v":0},{"$f":"IF($B73=0,0,VLOOKUP($D73,'MI materialen'!$E:$AS,J$66,FALSE)*$B73*$C73)","v":0},{"$f":"IF($B73=0,0,VLOOKUP($D73,'MI materialen'!$E:$AS,K$66,FALSE)*$B73*$C73)","v":0},{"$f":"IF($B73=0,0,VLOOKUP($D73,'MI materialen'!$E:$AS,L$66,FALSE)*$B73*$C73)","v":0},{"$f":"IF($B73=0,0,VLOOKUP($D73,'MI materialen'!$E:$AS,M$66,FALSE)*$B73*$C73)","v":0},{"$f":"IF($B73=0,0,VLOOKUP($D73,'MI materialen'!$E:$AS,N$66,FALSE)*$B73*$C73)","v":0},{"$f":"IF($B73=0,0,VLOOKUP($D73,'MI materialen'!$E:$AS,O$66,FALSE)*$B73*$C73)","v":0},{"$f":"IF($B73=0,0,VLOOKUP($D73,'MI materialen'!$E:$AS,P$66,FALSE)*$B73*$C73)","v":0},{"$f":"IF($B73=0,0,VLOOKUP($D73,'MI materialen'!$E:$AS,Q$66,FALSE)*$B73*$C73)","v":0},{"$f":"IF($B73=0,0,VLOOKUP($D73,'MI materialen'!$E:$AS,R$66,FALSE)*$B73*$C73)","v":0},{"$f":"IF($B73=0,0,VLOOKUP($D73,'MI materialen'!$E:$AS,S$66,FALSE)*$B73*$C73)","v":0},{"$f":"IF($B73=0,0,VLOOKUP($D73,'MI materialen'!$E:$AS,T$66,FALSE)*$B73*$C73)","v":0},{"$f":"IF($B73=0,0,VLOOKUP($D73,'MI materialen'!$E:$AS,U$66,FALSE)*$B73*$C73)","v":0},{"$f":"IF($B73=0,0,VLOOKUP($D73,'MI materialen'!$E:$AS,V$66,FALSE)*$B73*$C73)","v":0}]
["Som",{"$f":"Invul_Basis_EindeL!$F$14","v":"Leeg"},{"$f":"Invul_Basis_EindeL!$G$14","v":0},null,{"$f":"SUM(E75:E78)","v":0},0,0,0,0,0,0,0,0,0,0,0,0,0,0,0,0,0]
["Stort",{"$f":"IF(Invul_Basis_EindeL!$I$14=\"Standaard\",Invul_Basis_EindeL!$J$14,Invul_Basis_EindeL!$N$14)","v":0},{"$f":"C74","v":0},{"$f":"VLOOKUP($B74,'MI materialen'!B:AS,41,FALSE)","v":0},{"$f":"IF($B75=0,0,VLOOKUP($D75,MKI!E:K,2,FALSE)*$B75*$C75)","v":0},{"$f":"IF($B75=0,0,VLOOKUP($D75,'MI materialen'!$E:$AS,F$66,FALSE)*$B75*$C75)","v":0},{"$f":"IF($B75=0,0,VLOOKUP($D75,'MI materialen'!$E:$AS,G$66,FALSE)*$B75*$C75)","v":0},{"$f":"IF($B75=0,0,VLOOKUP($D75,'MI materialen'!$E:$AS,H$66,FALSE)*$B75*$C75)","v":0},{"$f":"IF($B75=0,0,VLOOKUP($D75,'MI materialen'!$E:$AS,I$66,FALSE)*$B75*$C75)","v":0},{"$f":"IF($B75=0,0,VLOOKUP($D75,'MI materialen'!$E:$AS,J$66,FALSE)*$B75*$C75)","v":0},{"$f":"IF($B75=0,0,VLOOKUP($D75,'MI materialen'!$E:$AS,K$66,FALSE)*$B75*$C75)","v":0},{"$f":"IF($B75=0,0,VLOOKUP($D75,'MI materialen'!$E:$AS,L$66,FALSE)*$B75*$C75)","v":0},{"$f":"IF($B75=0,0,VLOOKUP($D75,'MI materialen'!$E:$AS,M$66,FALSE)*$B75*$C75)","v":0},{"$f":"IF($B75=0,0,VLOOKUP($D75,'MI materialen'!$E:$AS,N$66,FALSE)*$B75*$C75)","v":0},{"$f":"IF($B75=0,0,VLOOKUP($D75,'MI materialen'!$E:$AS,O$66,FALSE)*$B75*$C75)","v":0},{"$f":"IF($B75=0,0,VLOOKUP($D75,'MI materialen'!$E:$AS,P$66,FALSE)*$B75*$C75)","v":0},{"$f":"IF($B75=0,0,VLOOKUP($D75,'MI materialen'!$E:$AS,Q$66,FALSE)*$B75*$C75)","v":0},{"$f":"IF($B75=0,0,VLOOKUP($D75,'MI materialen'!$E:$AS,R$66,FALSE)*$B75*$C75)","v":0},{"$f":"IF($B75=0,0,VLOOKUP($D75,'MI materialen'!$E:$AS,S$66,FALSE)*$B75*$C75)","v":0},{"$f":"IF($B75=0,0,VLOOKUP($D75,'MI materialen'!$E:$AS,T$66,FALSE)*$B75*$C75)","v":0},{"$f":"IF($B75=0,0,VLOOKUP($D75,'MI materialen'!$E:$AS,U$66,FALSE)*$B75*$C75)","v":0},{"$f":"IF($B75=0,0,VLOOKUP($D75,'MI materialen'!$E:$AS,V$66,FALSE)*$B75*$C75)","v":0}]
["Verbranding",{"$f":"IF(Invul_Basis_EindeL!$I$14=\"Standaard\",Invul_Basis_EindeL!$K$14,Invul_Basis_EindeL!$O$14)","v":0},{"$f":"C74","v":0},{"$f":"VLOOKUP($B74,'MI materialen'!B:AS,42,FALSE)","v":0},{"$f":"IF($B76=0,0,VLOOKUP($D76,MKI!E:K,2,FALSE)*$B76*$C76)","v":0},{"$f":"IF($B76=0,0,VLOOKUP($D76,'MI materialen'!$E:$AS,F$66,FALSE)*$B76*$C76)","v":0},{"$f":"IF($B76=0,0,VLOOKUP($D76,'MI materialen'!$E:$AS,G$66,FALSE)*$B76*$C76)","v":0},{"$f":"IF($B76=0,0,VLOOKUP($D76,'MI materialen'!$E:$AS,H$66,FALSE)*$B76*$C76)","v":0},{"$f":"IF($B76=0,0,VLOOKUP($D76,'MI materialen'!$E:$AS,I$66,FALSE)*$B76*$C76)","v":0},{"$f":"IF($B76=0,0,VLOOKUP($D76,'MI materialen'!$E:$AS,J$66,FALSE)*$B76*$C76)","v":0},{"$f":"IF($B76=0,0,VLOOKUP($D76,'MI materialen'!$E:$AS,K$66,FALSE)*$B76*$C76)","v":0},{"$f":"IF($B76=0,0,VLOOKUP($D76,'MI materialen'!$E:$AS,L$66,FALSE)*$B76*$C76)","v":0},{"$f":"IF($B76=0,0,VLOOKUP($D76,'MI materialen'!$E:$AS,M$66,FALSE)*$B76*$C76)","v":0},{"$f":"IF($B76=0,0,VLOOKUP($D76,'MI materialen'!$E:$AS,N$66,FALSE)*$B76*$C76)","v":0},{"$f":"IF($B76=0,0,VLOOKUP($D76,'MI materialen'!$E:$AS,O$66,FALSE)*$B76*$C76)","v":0},{"$f":"IF($B76=0,0,VLOOKUP($D76,'MI materialen'!$E:$AS,P$66,FALSE)*$B76*$C76)","v":0},{"$f":"IF($B76=0,0,VLOOKUP($D76,'MI materialen'!$E:$AS,Q$66,FALSE)*$B76*$C76)","v":0},{"$f":"IF($B76=0,0,VLOOKUP($D76,'MI materialen'!$E:$AS,R$66,FALSE)*$B76*$C76)","v":0},{"$f":"IF($B76=0,0,VLOOKUP($D76,'MI materialen'!$E:$AS,S$66,FALSE)*$B76*$C76)","v":0},{"$f":"IF($B76=0,0,VLOOKUP($D76,'MI materialen'!$E:$AS,T$66,FALSE)*$B76*$C76)","v":0},{"$f":"IF($B76=0,0,VLOOKUP($D76,'MI materialen'!$E:$AS,U$66,FALSE)*$B76*$C76)","v":0},{"$f":"IF($B76=0,0,VLOOKUP($D76,'MI materialen'!$E:$AS,V$66,FALSE)*$B76*$C76)","v":0}]
["Recycling",{"$f":"IF(Invul_Basis_EindeL!$I$14=\"Standaard\",Invul_Basis_EindeL!$L$14,Invul_Basis_EindeL!$P$14)*(100%-Invul_Basis_Materialen!$J$13)","v":0},{"$f":"C74","v":0},{"$f":"VLOOKUP($B74,'MI materialen'!B:AS,43,FALSE)","v":0},{"$f":"IF($B77=0,0,VLOOKUP($D77,MKI!E:K,2,FALSE)*$B77*$C77)","v":0},{"$f":"IF($B77=0,0,VLOOKUP($D77,'MI materialen'!$E:$AS,F$66,FALSE)*$B77*$C77)","v":0},{"$f":"IF($B77=0,0,VLOOKUP($D77,'MI materialen'!$E:$AS,G$66,FALSE)*$B77*$C77)","v":0},{"$f":"IF($B77=0,0,VLOOKUP($D77,'MI materialen'!$E:$AS,H$66,FALSE)*$B77*$C77)","v":0},{"$f":"IF($B77=0,0,VLOOKUP($D77,'MI materialen'!$E:$AS,I$66,FALSE)*$B77*$C77)","v":0},{"$f":"IF($B77=0,0,VLOOKUP($D77,'MI materialen'!$E:$AS,J$66,FALSE)*$B77*$C77)","v":0},{"$f":"IF($B77=0,0,VLOOKUP($D77,'MI materialen'!$E:$AS,K$66,FALSE)*$B77*$C77)","v":0},{"$f":"IF($B77=0,0,VLOOKUP($D77,'MI materialen'!$E:$AS,L$66,FALSE)*$B77*$C77)","v":0},{"$f":"IF($B77=0,0,VLOOKUP($D77,'MI materialen'!$E:$AS,M$66,FALSE)*$B77*$C77)","v":0},{"$f":"IF($B77=0,0,VLOOKUP($D77,'MI materialen'!$E:$AS,N$66,FALSE)*$B77*$C77)","v":0},{"$f":"IF($B77=0,0,VLOOKUP($D77,'MI materialen'!$E:$AS,O$66,FALSE)*$B77*$C77)","v":0},{"$f":"IF($B77=0,0,VLOOKUP($D77,'MI materialen'!$E:$AS,P$66,FALSE)*$B77*$C77)","v":0},{"$f":"IF($B77=0,0,VLOOKUP($D77,'MI materialen'!$E:$AS,Q$66,FALSE)*$B77*$C77)","v":0},{"$f":"IF($B77=0,0,VLOOKUP($D77,'MI materialen'!$E:$AS,R$66,FALSE)*$B77*$C77)","v":0},{"$f":"IF($B77=0,0,VLOOKUP($D77,'MI materialen'!$E:$AS,S$66,FALSE)*$B77*$C77)","v":0},{"$f":"IF($B77=0,0,VLOOKUP($D77,'MI materialen'!$E:$AS,T$66,FALSE)*$B77*$C77)","v":0},{"$f":"IF($B77=0,0,VLOOKUP($D77,'MI materialen'!$E:$AS,U$66,FALSE)*$B77*$C77)","v":0},{"$f":"IF($B77=0,0,VLOOKUP($D77,'MI materialen'!$E:$AS,V$66,FALSE)*$B77*$C77)","v":0}]
["Hergebruik",{"$f":"IF(Invul_Basis_EindeL!$I$14=\"Standaard\",Invul_Basis_EindeL!$M$14,Invul_Basis_EindeL!$Q$14)*(100%-Invul_Basis_Materialen!$J$13)","v":0},{"$f":"C74","v":0},{"$f":"VLOOKUP($B74,'MI materialen'!B:AS,43,FALSE)","v":0},{"$f":"IF($B78=0,0,VLOOKUP($D78,MKI!E:K,2,FALSE)*$B78*$C78)","v":0},{"$f":"IF($B78=0,0,VLOOKUP($D78,'MI materialen'!$E:$AS,F$66,FALSE)*$B78*$C78)","v":0},{"$f":"IF($B78=0,0,VLOOKUP($D78,'MI materialen'!$E:$AS,G$66,FALSE)*$B78*$C78)","v":0},{"$f":"IF($B78=0,0,VLOOKUP($D78,'MI materialen'!$E:$AS,H$66,FALSE)*$B78*$C78)","v":0},{"$f":"IF($B78=0,0,VLOOKUP($D78,'MI materialen'!$E:$AS,I$66,FALSE)*$B78*$C78)","v":0},{"$f":"IF($B78=0,0,VLOOKUP($D78,'MI materialen'!$E:$AS,J$66,FALSE)*$B78*$C78)","v":0},{"$f":"IF($B78=0,0,VLOOKUP($D78,'MI materialen'!$E:$AS,K$66,FALSE)*$B78*$C78)","v":0},{"$f":"IF($B78=0,0,VLOOKUP($D78,'MI materialen'!$E:$AS,L$66,FALSE)*$B78*$C78)","v":0},{"$f":"IF($B78=0,0,VLOOKUP($D78,'MI materialen'!$E:$AS,M$66,FALSE)*$B78*$C78)","v":0},{"$f":"IF($B78=0,0,VLOOKUP($D78,'MI materialen'!$E:$AS,N$66,FALSE)*$B78*$C78)","v":0},{"$f":"IF($B78=0,0,VLOOKUP($D78,'MI materialen'!$E:$AS,O$66,FALSE)*$B78*$C78)","v":0},{"$f":"IF($B78=0,0,VLOOKUP($D78,'MI materialen'!$E:$AS,P$66,FALSE)*$B78*$C78)","v":0},{"$f":"IF($B78=0,0,VLOOKUP($D78,'MI materialen'!$E:$AS,Q$66,FALSE)*$B78*$C78)","v":0},{"$f":"IF($B78=0,0,VLOOKUP($D78,'MI materialen'!$E:$AS,R$66,FALSE)*$B78*$C78)","v":0},{"$f":"IF($B78=0,0,VLOOKUP($D78,'MI materialen'!$E:$AS,S$66,FALSE)*$B78*$C78)","v":0},{"$f":"IF($B78=0,0,VLOOKUP($D78,'MI materialen'!$E:$AS,T$66,FALSE)*$B78*$C78)","v":0},{"$f":"IF($B78=0,0,VLOOKUP($D78,'MI materialen'!$E:$AS,U$66,FALSE)*$B78*$C78)","v":0},{"$f":"IF($B78=0,0,VLOOKUP($D78,'MI materialen'!$E:$AS,V$66,FALSE)*$B78*$C78)","v":0}]
["Som",{"$f":"Invul_Basis_EindeL!$F$15","v":"Leeg"},{"$f":"Invul_Basis_EindeL!$G$15","v":0},null,{"$f":"SUM(E80:E83)","v":0},0,0,0,0,0,0,0,0,0,0,0,0,0,0,0,0,0]
["Stort",{"$f":"IF(Invul_Basis_EindeL!$I$15=\"Standaard\",Invul_Basis_EindeL!$J$15,Invul_Basis_EindeL!$N$15)","v":0},{"$f":"C79","v":0},{"$f":"VLOOKUP($B79,'MI materialen'!B:AS,41,FALSE)","v":0},{"$f":"IF($B80=0,0,VLOOKUP($D80,MKI!E:K,2,FALSE)*$B80*$C80)","v":0},{"$f":"IF($B80=0,0,VLOOKUP($D80,'MI materialen'!$E:$AS,F$66,FALSE)*$B80*$C80)","v":0},{"$f":"IF($B80=0,0,VLOOKUP($D80,'MI materialen'!$E:$AS,G$66,FALSE)*$B80*$C80)","v":0},{"$f":"IF($B80=0,0,VLOOKUP($D80,'MI materialen'!$E:$AS,H$66,FALSE)*$B80*$C80)","v":0},{"$f":"IF($B80=0,0,VLOOKUP($D80,'MI materialen'!$E:$AS,I$66,FALSE)*$B80*$C80)","v":0},{"$f":"IF($B80=0,0,VLOOKUP($D80,'MI materialen'!$E:$AS,J$66,FALSE)*$B80*$C80)","v":0},{"$f":"IF($B80=0,0,VLOOKUP($D80,'MI materialen'!$E:$AS,K$66,FALSE)*$B80*$C80)","v":0},{"$f":"IF($B80=0,0,VLOOKUP($D80,'MI materialen'!$E:$AS,L$66,FALSE)*$B80*$C80)","v":0},{"$f":"IF($B80=0,0,VLOOKUP($D80,'MI materialen'!$E:$AS,M$66,FALSE)*$B80*$C80)","v":0},{"$f":"IF($B80=0,0,VLOOKUP($D80,'MI materialen'!$E:$AS,N$66,FALSE)*$B80*$C80)","v":0},{"$f":"IF($B80=0,0,VLOOKUP($D80,'MI materialen'!$E:$AS,O$66,FALSE)*$B80*$C80)","v":0},{"$f":"IF($B80=0,0,VLOOKUP($D80,'MI materialen'!$E:$AS,P$66,FALSE)*$B80*$C80)","v":0},{"$f":"IF($B80=0,0,VLOOKUP($D80,'MI materialen'!$E:$AS,Q$66,FALSE)*$B80*$C80)","v":0},{"$f":"IF($B80=0,0,VLOOKUP($D80,'MI materialen'!$E:$AS,R$66,FALSE)*$B80*$C80)","v":0},{"$f":"IF($B80=0,0,VLOOKUP($D80,'MI materialen'!$E:$AS,S$66,FALSE)*$B80*$C80)","v":0},{"$f":"IF($B80=0,0,VLOOKUP($D80,'MI materialen'!$E:$AS,T$66,FALSE)*$B80*$C80)","v":0},{"$f":"IF($B80=0,0,VLOOKUP($D80,'MI materialen'!$E:$AS,U$66,FALSE)*$B80*$C80)","v":0},{"$f":"IF($B80=0,0,VLOOKUP($D80,'MI materialen'!$E:$AS,V$66,FALSE)*$B80*$C80)","v":0}]
["Verbranding",{"$f":"IF(Invul_Basis_EindeL!$I$15=\"Standaard\",Invul_Basis_EindeL!$K$15,Invul_Basis_EindeL!$O$15)","v":0},{"$f":"C79","v":0},{"$f":"VLOOKUP($B79,'MI materialen'!B:AS,42,FALSE)","v":0},{"$f":"IF($B81=0,0,VLOOKUP($D81,MKI!E:K,2,FALSE)*$B81*$C81)","v":0},{"$f":"IF($B81=0,0,VLOOKUP($D81,'MI materialen'!$E:$AS,F$66,FALSE)*$B81*$C81)","v":0},{"$f":"IF($B81=0,0,VLOOKUP($D81,'MI materialen'!$E:$AS,G$66,FALSE)*$B81*$C81)","v":0},{"$f":"IF($B81=0,0,VLOOKUP($D81,'MI materialen'!$E:$AS,H$66,FALSE)*$B81*$C81)","v":0},{"$f":"IF($B81=0,0,VLOOKUP($D81,'MI materialen'!$E:$AS,I$66,FALSE)*$B81*$C81)","v":0},{"$f":"IF($B81=0,0,VLOOKUP($D81,'MI materialen'!$E:$AS,J$66,FALSE)*$B81*$C81)","v":0},{"$f":"IF($B81=0,0,VLOOKUP($D81,'MI materialen'!$E:$AS,K$66,FALSE)*$B81*$C81)","v":0},{"$f":"IF($B81=0,0,VLOOKUP($D81,'MI materialen'!$E:$AS,L$66,FALSE)*$B81*$C81)","v":0},{"$f":"IF($B81=0,0,VLOOKUP($D81,'MI materialen'!$E:$AS,M$66,FALSE)*$B81*$C81)","v":0},{"$f":"IF($B81=0,0,VLOOKUP($D81,'MI materialen'!$E:$AS,N$66,FALSE)*$B81*$C81)","v":0},{"$f":"IF($B81=0,0,VLOOKUP($D81,'MI materialen'!$E:$AS,O$66,FALSE)*$B81*$C81)","v":0},{"$f":"IF($B81=0,0,VLOOKUP($D81,'MI materialen'!$E:$AS,P$66,FALSE)*$B81*$C81)","v":0},{"$f":"IF($B81=0,0,VLOOKUP($D81,'MI materialen'!$E:$AS,Q$66,FALSE)*$B81*$C81)","v":0},{"$f":"IF($B81=0,0,VLOOKUP($D81,'MI materialen'!$E:$AS,R$66,FALSE)*$B81*$C81)","v":0},{"$f":"IF($B81=0,0,VLOOKUP($D81,'MI materialen'!$E:$AS,S$66,FALSE)*$B81*$C81)","v":0},{"$f":"IF($B81=0,0,VLOOKUP($D81,'MI materialen'!$E:$AS,T$66,FALSE)*$B81*$C81)","v":0},{"$f":"IF($B81=0,0,VLOOKUP($D81,'MI materialen'!$E:$AS,U$66,FALSE)*$B81*$C81)","v":0},{"$f":"IF($B81=0,0,VLOOKUP($D81,'MI materialen'!$E:$AS,V$66,FALSE)*$B81*$C81)","v":0}]
["Recycling",{"$f":"IF(Invul_Basis_EindeL!$I$15=\"Standaard\",Invul_Basis_EindeL!$L$15,Invul_Basis_EindeL!$P$15)*(100%-Invul_Basis_Materialen!$J$14)","v":0},{"$f":"C79","v":0},{"$f":"VLOOKUP($B79,'MI materialen'!B:AS,43,FALSE)","v":0},{"$f":"IF($B82=0,0,VLOOKUP($D82,MKI!E:K,2,FALSE)*$B82*$C82)","v":0},{"$f":"IF($B82=0,0,VLOOKUP($D82,'MI materialen'!$E:$AS,F$66,FALSE)*$B82*$C82)","v":0},{"$f":"IF($B82=0,0,VLOOKUP($D82,'MI materialen'!$E:$AS,G$66,FALSE)*$B82*$C82)","v":0},{"$f":"IF($B82=0,0,VLOOKUP($D82,'MI materialen'!$E:$AS,H$66,FALSE)*$B82*$C82)","v":0},{"$f":"IF($B82=0,0,VLOOKUP($D82,'MI materialen'!$E:$AS,I$66,FALSE)*$B82*$C82)","v":0},{"$f":"IF($B82=0,0,VLOOKUP($D82,'MI materialen'!$E:$AS,J$66,FALSE)*$B82*$C82)","v":0},{"$f":"IF($B82=0,0,VLOOKUP($D82,'MI materialen'!$E:$AS,K$66,FALSE)*$B82*$C82)","v":0},{"$f":"IF($B82=0,0,VLOOKUP($D82,'MI materialen'!$E:$AS,L$66,FALSE)*$B82*$C82)","v":0},{"$f":"IF($B82=0,0,VLOOKUP($D82,'MI materialen'!$E:$AS,M$66,FALSE)*$B82*$C82)","v":0},{"$f":"IF($B82=0,0,VLOOKUP($D82,'MI materialen'!$E:$AS,N$66,FALSE)*$B82*$C82)","v":0},{"$f":"IF($B82=0,0,VLOOKUP($D82,'MI materialen'!$E:$AS,O$66,FALSE)*$B82*$C82)","v":0},{"$f":"IF($B82=0,0,VLOOKUP($D82,'MI materialen'!$E:$AS,P$66,FALSE)*$B82*$C82)","v":0},{"$f":"IF($B82=0,0,VLOOKUP($D82,'MI materialen'!$E:$AS,Q$66,FALSE)*$B82*$C82)","v":0},{"$f":"IF($B82=0,0,VLOOKUP($D82,'MI materialen'!$E:$AS,R$66,FALSE)*$B82*$C82)","v":0},{"$f":"IF($B82=0,0,VLOOKUP($D82,'MI materialen'!$E:$AS,S$66,FALSE)*$B82*$C82)","v":0},{"$f":"IF($B82=0,0,VLOOKUP($D82,'MI materialen'!$E:$AS,T$66,FALSE)*$B82*$C82)","v":0},{"$f":"IF($B82=0,0,VLOOKUP($D82,'MI materialen'!$E:$AS,U$66,FALSE)*$B82*$C82)","v":0},{"$f":"IF($B82=0,0,VLOOKUP($D82,'MI materialen'!$E:$AS,V$66,FALSE)*$B82*$C82)","v":0}]
["Hergebruik",{"$f":"IF(Invul_Basis_EindeL!$I$15=\"Standaard\",Invul_Basis_EindeL!$M$15,Invul_Basis_EindeL!$Q$15)*(100%-Invul_Basis_Materialen!$J$14)","v":0},{"$f":"C79","v":0},{"$f":"VLOOKUP($B79,'MI materialen'!B:AS,43,FALSE)","v":0},{"$f":"IF($B83=0,0,VLOOKUP($D83,MKI!E:K,2,FALSE)*$B83*$C83)","v":0},{"$f":"IF($B83=0,0,VLOOKUP($D83,'MI materialen'!$E:$AS,F$66,FALSE)*$B83*$C83)","v":0},{"$f":"IF($B83=0,0,VLOOKUP($D83,'MI materialen'!$E:$AS,G$66,FALSE)*$B83*$C83)","v":0},{"$f":"IF($B83=0,0,VLOOKUP($D83,'MI materialen'!$E:$AS,H$66,FALSE)*$B83*$C83)","v":0},{"$f":"IF($B83=0,0,VLOOKUP($D83,'MI materialen'!$E:$AS,I$66,FALSE)*$B83*$C83)","v":0},{"$f":"IF($B83=0,0,VLOOKUP($D83,'MI materialen'!$E:$AS,J$66,FALSE)*$B83*$C83)","v":0},{"$f":"IF($B83=0,0,VLOOKUP($D83,'MI materialen'!$E:$AS,K$66,FALSE)*$B83*$C83)","v":0},{"$f":"IF($B83=0,0,VLOOKUP($D83,'MI materialen'!$E:$AS,L$66,FALSE)*$B83*$C83)","v":0},{"$f":"IF($B83=0,0,VLOOKUP($D83,'MI materialen'!$E:$AS,M$66,FALSE)*$B83*$C83)","v":0},{"$f":"IF($B83=0,0,VLOOKUP($D83,'MI materialen'!$E:$AS,N$66,FALSE)*$B83*$C83)","v":0},{"$f":"IF($B83=0,0,VLOOKUP($D83,'MI materialen'!$E:$AS,O$66,FALSE)*$B83*$C83)","v":0},{"$f":"IF($B83=0,0,VLOOKUP($D83,'MI materialen'!$E:$AS,P$66,FALSE)*$B83*$C83)","v":0},{"$f":"IF($B83=0,0,VLOOKUP($D83,'MI materialen'!$E:$AS,Q$66,FALSE)*$B83*$C83)","v":0},{"$f":"IF($B83=0,0,VLOOKUP($D83,'MI materialen'!$E:$AS,R$66,FALSE)*$B83*$C83)","v":0},{"$f":"IF($B83=0,0,VLOOKUP($D83,'MI materialen'!$E:$AS,S$66,FALSE)*$B83*$C83)","v":0},{"$f":"IF($B83=0,0,VLOOKUP($D83,'MI materialen'!$E:$AS,T$66,FALSE)*$B83*$C83)","v":0},{"$f":"IF($B83=0,0,VLOOKUP($D83,'MI materialen'!$E:$AS,U$66,FALSE)*$B83*$C83)","v":0},{"$f":"IF($B83=0,0,VLOOKUP($D83,'MI materialen'!$E:$AS,V$66,FALSE)*$B83*$C83)","v":0}]
["Som",{"$f":"Invul_Basis_EindeL!$F$16","v":"Leeg"},{"$f":"Invul_Basis_EindeL!$G$16","v":0},null,{"$f":"SUM(E85:E88)","v":0},0,0,0,0,0,0,0,0,0,0,0,0,0,0,0,0,0]
["Stort",{"$f":"IF(Invul_Basis_EindeL!$I$16=\"Standaard\",Invul_Basis_EindeL!$J$16,Invul_Basis_EindeL!$N$16)","v":0},{"$f":"C84","v":0},{"$f":"VLOOKUP($B84,'MI materialen'!B:AS,41,FALSE)","v":0},{"$f":"IF($B85=0,0,VLOOKUP($D85,MKI!E:K,2,FALSE)*$B85*$C85)","v":0},{"$f":"IF($B85=0,0,VLOOKUP($D85,'MI materialen'!$E:$AS,F$66,FALSE)*$B85*$C85)","v":0},{"$f":"IF($B85=0,0,VLOOKUP($D85,'MI materialen'!$E:$AS,G$66,FALSE)*$B85*$C85)","v":0},{"$f":"IF($B85=0,0,VLOOKUP($D85,'MI materialen'!$E:$AS,H$66,FALSE)*$B85*$C85)","v":0},{"$f":"IF($B85=0,0,VLOOKUP($D85,'MI materialen'!$E:$AS,I$66,FALSE)*$B85*$C85)","v":0},{"$f":"IF($B85=0,0,VLOOKUP($D85,'MI materialen'!$E:$AS,J$66,FALSE)*$B85*$C85)","v":0},{"$f":"IF($B85=0,0,VLOOKUP($D85,'MI materialen'!$E:$AS,K$66,FALSE)*$B85*$C85)","v":0},{"$f":"IF($B85=0,0,VLOOKUP($D85,'MI materialen'!$E:$AS,L$66,FALSE)*$B85*$C85)","v":0},{"$f":"IF($B85=0,0,VLOOKUP($D85,'MI materialen'!$E:$AS,M$66,FALSE)*$B85*$C85)","v":0},{"$f":"IF($B85=0,0,VLOOKUP($D85,'MI materialen'!$E:$AS,N$66,FALSE)*$B85*$C85)","v":0},{"$f":"IF($B85=0,0,VLOOKUP($D85,'MI materialen'!$E:$AS,O$66,FALSE)*$B85*$C85)","v":0},{"$f":"IF($B85=0,0,VLOOKUP($D85,'MI materialen'!$E:$AS,P$66,FALSE)*$B85*$C85)","v":0},{"$f":"IF($B85=0,0,VLOOKUP($D85,'MI materialen'!$E:$AS,Q$66,FALSE)*$B85*$C85)","v":0},{"$f":"IF($B85=0,0,VLOOKUP($D85,'MI materialen'!$E:$AS,R$66,FALSE)*$B85*$C85)","v":0},{"$f":"IF($B85=0,0,VLOOKUP($D85,'MI materialen'!$E:$AS,S$66,FALSE)*$B85*$C85)","v":0},{"$f":"IF($B85=0,0,VLOOKUP($D85,'MI materialen'!$E:$AS,T$66,FALSE)*$B85*$C85)","v":0},{"$f":"IF($B85=0,0,VLOOKUP($D85,'MI materialen'!$E:$AS,U$66,FALSE)*$B85*$C85)","v":0},{"$f":"IF($B85=0,0,VLOOKUP($D85,'MI materialen'!$E:$AS,V$66,FALSE)*$B85*$C85)","v":0}]
["Verbranding",{"$f":"IF(Invul_Basis_EindeL!$I$16=\"Standaard\",Invul_Basis_EindeL!$K$16,Invul_Basis_EindeL!$O$16)","v":0},{"$f":"C84","v":0},{"$f":"VLOOKUP($B84,'MI materialen'!B:AS,42,FALSE)","v":0},{"$f":"IF($B86=0,0,VLOOKUP($D86,MKI!E:K,2,FALSE)*$B86*$C86)","v":0},{"$f":"IF($B86=0,0,VLOOKUP($D86,'MI materialen'!$E:$AS,F$66,FALSE)*$B86*$C86)","v":0},{"$f":"IF($B86=0,0,VLOOKUP($D86,'MI materialen'!$E:$AS,G$66,FALSE)*$B86*$C86)","v":0},{"$f":"IF($B86=0,0,VLOOKUP($D86,'MI materialen'!$E:$AS,H$66,FALSE)*$B86*$C86)","v":0},{"$f":"IF($B86=0,0,VLOOKUP($D86,'MI materialen'!$E:$AS,I$66,FALSE)*$B86*$C86)","v":0},{"$f":"IF($B86=0,0,VLOOKUP($D86,'MI materialen'!$E:$AS,J$66,FALSE)*$B86*$C86)","v":0},{"$f":"IF($B86=0,0,VLOOKUP($D86,'MI materialen'!$E:$AS,K$66,FALSE)*$B86*$C86)","v":0},{"$f":"IF($B86=0,0,VLOOKUP($D86,'MI materialen'!$E:$AS,L$66,FALSE)*$B86*$C86)","v":0},{"$f":"IF($B86=0,0,VLOOKUP($D86,'MI materialen'!$E:$AS,M$66,FALSE)*$B86*$C86)","v":0},{"$f":"IF($B86=0,0,VLOOKUP($D86,'MI materialen'!$E:$AS,N$66,FALSE)*$B86*$C86)","v":0},{"$f":"IF($B86=0,0,VLOOKUP($D86,'MI materialen'!$E:$AS,O$66,FALSE)*$B86*$C86)","v":0},{"$f":"IF($B86=0,0,VLOOKUP($D86,'MI materialen'!$E:$AS,P$66,FALSE)*$B86*$C86)","v":0},{"$f":"IF($B86=0,0,VLOOKUP($D86,'MI materialen'!$E:$AS,Q$66,FALSE)*$B86*$C86)","v":0},{"$f":"IF($B86=0,0,VLOOKUP($D86,'MI materialen'!$E:$AS,R$66,FALSE)*$B86*$C86)","v":0},{"$f":"IF($B86=0,0,VLOOKUP($D86,'MI materialen'!$E:$AS,S$66,FALSE)*$B86*$C86)","v":0},{"$f":"IF($B86=0,0,VLOOKUP($D86,'MI materialen'!$E:$AS,T$66,FALSE)*$B86*$C86)","v":0},{"$f":"IF($B86=0,0,VLOOKUP($D86,'MI materialen'!$E:$AS,U$66,FALSE)*$B86*$C86)","v":0},{"$f":"IF($B86=0,0,VLOOKUP($D86,'MI materialen'!$E:$AS,V$66,FALSE)*$B86*$C86)","v":0}]
["Recycling",{"$f":"IF(Invul_Basis_EindeL!$I$16=\"Standaard\",Invul_Basis_EindeL!$L$16,Invul_Basis_EindeL!$P$16)*(100%-Invul_Basis_Materialen!$J$15)","v":0},{"$f":"C84","v":0},{"$f":"VLOOKUP($B84,'MI materialen'!B:AS,43,FALSE)","v":0},{"$f":"IF($B87=0,0,VLOOKUP($D87,MKI!E:K,2,FALSE)*$B87*$C87)","v":0},{"$f":"IF($B87=0,0,VLOOKUP($D87,'MI materialen'!$E:$AS,F$66,FALSE)*$B87*$C87)","v":0},{"$f":"IF($B87=0,0,VLOOKUP($D87,'MI materialen'!$E:$AS,G$66,FALSE)*$B87*$C87)","v":0},{"$f":"IF($B87=0,0,VLOOKUP($D87,'MI materialen'!$E:$AS,H$66,FALSE)*$B87*$C87)","v":0},{"$f":"IF($B87=0,0,VLOOKUP($D87,'MI materialen'!$E:$AS,I$66,FALSE)*$B87*$C87)","v":0},{"$f":"IF($B87=0,0,VLOOKUP($D87,'MI materialen'!$E:$AS,J$66,FALSE)*$B87*$C87)","v":0},{"$f":"IF($B87=0,0,VLOOKUP($D87,'MI materialen'!$E:$AS,K$66,FALSE)*$B87*$C87)","v":0},{"$f":"IF($B87=0,0,VLOOKUP($D87,'MI materialen'!$E:$AS,L$66,FALSE)*$B87*$C87)","v":0},{"$f":"IF($B87=0,0,VLOOKUP($D87,'MI materialen'!$E:$AS,M$66,FALSE)*$B87*$C87)","v":0},{"$f":"IF($B87=0,0,VLOOKUP($D87,'MI materialen'!$E:$AS,N$66,FALSE)*$B87*$C87)","v":0},{"$f":"IF($B87=0,0,VLOOKUP($D87,'MI materialen'!$E:$AS,O$66,FALSE)*$B87*$C87)","v":0},{"$f":"IF($B87=0,0,VLOOKUP($D87,'MI materialen'!$E:$AS,P$66,FALSE)*$B87*$C87)","v":0},{"$f":"IF($B87=0,0,VLOOKUP($D87,'MI materialen'!$E:$AS,Q$66,FALSE)*$B87*$C87)","v":0},{"$f":"IF($B87=0,0,VLOOKUP($D87,'MI materialen'!$E:$AS,R$66,FALSE)*$B87*$C87)","v":0},{"$f":"IF($B87=0,0,VLOOKUP($D87,'MI materialen'!$E:$AS,S$66,FALSE)*$B87*$C87)","v":0},{"$f":"IF($B87=0,0,VLOOKUP($D87,'MI materialen'!$E:$AS,T$66,FALSE)*$B87*$C87)","v":0},{"$f":"IF($B87=0,0,VLOOKUP($D87,'MI materialen'!$E:$AS,U$66,FALSE)*$B87*$C87)","v":0},{"$f":"IF($B87=0,0,VLOOKUP($D87,'MI materialen'!$E:$AS,V$66,FALSE)*$B87*$C87)","v":0}]
["Hergebruik",{"$f":"IF(Invul_Basis_EindeL!$I$16=\"Standaard\",Invul_Basis_EindeL!$M$16,Invul_Basis_EindeL!$Q$16)*(100%-Invul_Basis_Materialen!$J$15)","v":0},{"$f":"C84","v":0},{"$f":"VLOOKUP($B84,'MI materialen'!B:AS,43,FALSE)","v":0},{"$f":"IF($B88=0,0,VLOOKUP($D88,MKI!E:K,2,FALSE)*$B88*$C88)","v":0},{"$f":"IF($B88=0,0,VLOOKUP($D88,'MI materialen'!$E:$AS,F$66,FALSE)*$B88*$C88)","v":0},{"$f":"IF($B88=0,0,VLOOKUP($D88,'MI materialen'!$E:$AS,G$66,FALSE)*$B88*$C88)","v":0},{"$f":"IF($B88=0,0,VLOOKUP($D88,'MI materialen'!$E:$AS,H$66,FALSE)*$B88*$C88)","v":0},{"$f":"IF($B88=0,0,VLOOKUP($D88,'MI materialen'!$E:$AS,I$66,FALSE)*$B88*$C88)","v":0},{"$f":"IF($B88=0,0,VLOOKUP($D88,'MI materialen'!$E:$AS,J$66,FALSE)*$B88*$C88)","v":0},{"$f":"IF($B88=0,0,VLOOKUP($D88,'MI materialen'!$E:$AS,K$66,FALSE)*$B88*$C88)","v":0},{"$f":"IF($B88=0,0,VLOOKUP($D88,'MI materialen'!$E:$AS,L$66,FALSE)*$B88*$C88)","v":0},{"$f":"IF($B88=0,0,VLOOKUP($D88,'MI materialen'!$E:$AS,M$66,FALSE)*$B88*$C88)","v":0},{"$f":"IF($B88=0,0,VLOOKUP($D88,'MI materialen'!$E:$AS,N$66,FALSE)*$B88*$C88)","v":0},{"$f":"IF($B88=0,0,VLOOKUP($D88,'MI materialen'!$E:$AS,O$66,FALSE)*$B88*$C88)","v":0},{"$f":"IF($B88=0,0,VLOOKUP($D88,'MI materialen'!$E:$AS,P$66,FALSE)*$B88*$C88)","v":0},{"$f":"IF($B88=0,0,VLOOKUP($D88,'MI materialen'!$E:$AS,Q$66,FALSE)*$B88*$C88)","v":0},{"$f":"IF($B88=0,0,VLOOKUP($D88,'MI materialen'!$E:$AS,R$66,FALSE)*$B88*$C88)","v":0},{"$f":"IF($B88=0,0,VLOOKUP($D88,'MI materialen'!$E:$AS,S$66,FALSE)*$B88*$C88)","v":0},{"$f":"IF($B88=0,0,VLOOKUP($D88,'MI materialen'!$E:$AS,T$66,FALSE)*$B88*$C88)","v":0},{"$f":"IF($B88=0,0,VLOOKUP($D88,'MI materialen'!$E:$AS,U$66,FALSE)*$B88*$C88)","v":0},{"$f":"IF($B88=0,0,VLOOKUP($D88,'MI materialen'!$E:$AS,V$66,FALSE)*$B88*$C88)","v":0}]
["Som",{"$f":"Invul_Basis_EindeL!$F$17","v":"Leeg"},{"$f":"Invul_Basis_EindeL!$G$17","v":0},null,{"$f":"SUM(E90:E93)","v":0},0,0,0,0,0,0,0,0,0,0,0,0,0,0,0,0,0]
["Stort",{"$f":"IF(Invul_Basis_EindeL!$I$17=\"Standaard\",Invul_Basis_EindeL!$J$17,Invul_Basis_EindeL!$N$17)","v":0},{"$f":"C89","v":0},{"$f":"VLOOKUP($B89,'MI materialen'!B:AS,41,FALSE)","v":0},{"$f":"IF($B90=0,0,VLOOKUP($D90,MKI!E:K,2,FALSE)*$B90*$C90)","v":0},{"$f":"IF($B90=0,0,VLOOKUP($D90,'MI materialen'!$E:$AS,F$66,FALSE)*$B90*$C90)","v":0},{"$f":"IF($B90=0,0,VLOOKUP($D90,'MI materialen'!$E:$AS,G$66,FALSE)*$B90*$C90)","v":0},{"$f":"IF($B90=0,0,VLOOKUP($D90,'MI materialen'!$E:$AS,H$66,FALSE)*$B90*$C90)","v":0},{"$f":"IF($B90=0,0,VLOOKUP($D90,'MI materialen'!$E:$AS,I$66,FALSE)*$B90*$C90)","v":0},{"$f":"IF($B90=0,0,VLOOKUP($D90,'MI materialen'!$E:$AS,J$66,FALSE)*$B90*$C90)","v":0},{"$f":"IF($B90=0,0,VLOOKUP($D90,'MI materialen'!$E:$AS,K$66,FALSE)*$B90*$C90)","v":0},{"$f":"IF($B90=0,0,VLOOKUP($D90,'MI materialen'!$E:$AS,L$66,FALSE)*$B90*$C90)","v":0},{"$f":"IF($B90=0,0,VLOOKUP($D90,'MI materialen'!$E:$AS,M$66,FALSE)*$B90*$C90)","v":0},{"$f":"IF($B90=0,0,VLOOKUP($D90,'MI materialen'!$E:$AS,N$66,FALSE)*$B90*$C90)","v":0},{"$f":"IF($B90=0,0,VLOOKUP($D90,'MI materialen'!$E:$AS,O$66,FALSE)*$B90*$C90)","v":0},{"$f":"IF($B90=0,0,VLOOKUP($D90,'MI materialen'!$E:$AS,P$66,FALSE)*$B90*$C90)","v":0},{"$f":"IF($B90=0,0,VLOOKUP($D90,'MI materialen'!$E:$AS,Q$66,FALSE)*$B90*$C90)","v":0},{"$f":"IF($B90=0,0,VLOOKUP($D90,'MI materialen'!$E:$AS,R$66,FALSE)*$B90*$C90)","v":0},{"$f":"IF($B90=0,0,VLOOKUP($D90,'MI materialen'!$E:$AS,S$66,FALSE)*$B90*$C90)","v":0},{"$f":"IF($B90=0,0,VLOOKUP($D90,'MI materialen'!$E:$AS,T$66,FALSE)*$B90*$C90)","v":0},{"$f":"IF($B90=0,0,VLOOKUP($D90,'MI materialen'!$E:$AS,U$66,FALSE)*$B90*$C90)","v":0},{"$f":"IF($B90=0,0,VLOOKUP($D90,'MI materialen'!$E:$AS,V$66,FALSE)*$B90*$C90)","v":0}]
["Verbranding",{"$f":"IF(Invul_Basis_EindeL!$I$17=\"Standaard\",Invul_Basis_EindeL!$K$17,Invul_Basis_EindeL!$O$17)","v":0},{"$f":"C89","v":0},{"$f":"VLOOKUP($B89,'MI materialen'!B:AS,42,FALSE)","v":0},{"$f":"IF($B91=0,0,VLOOKUP($D91,MKI!E:K,2,FALSE)*$B91*$C91)","v":0},{"$f":"IF($B91=0,0,VLOOKUP($D91,'MI materialen'!$E:$AS,F$66,FALSE)*$B91*$C91)","v":0},{"$f":"IF($B91=0,0,VLOOKUP($D91,'MI materialen'!$E:$AS,G$66,FALSE)*$B91*$C91)","v":0},{"$f":"IF($B91=0,0,VLOOKUP($D91,'MI materialen'!$E:$AS,H$66,FALSE)*$B91*$C91)","v":0},{"$f":"IF($B91=0,0,VLOOKUP($D91,'MI materialen'!$E:$AS,I$66,FALSE)*$B91*$C91)","v":0},{"$f":"IF($B91=0,0,VLOOKUP($D91,'MI materialen'!$E:$AS,J$66,FALSE)*$B91*$C91)","v":0},{"$f":"IF($B91=0,0,VLOOKUP($D91,'MI materialen'!$E:$AS,K$66,FALSE)*$B91*$C91)","v":0},{"$f":"IF($B91=0,0,VLOOKUP($D91,'MI materialen'!$E:$AS,L$66,FALSE)*$B91*$C91)","v":0},{"$f":"IF($B91=0,0,VLOOKUP($D91,'MI materialen'!$E:$AS,M$66,FALSE)*$B91*$C91)","v":0},{"$f":"IF($B91=0,0,VLOOKUP($D91,'MI materialen'!$E:$AS,N$66,FALSE)*$B91*$C91)","v":0},{"$f":"IF($B91=0,0,VLOOKUP($D91,'MI materialen'!$E:$AS,O$66,FALSE)*$B91*$C91)","v":0},{"$f":"IF($B91=0,0,VLOOKUP($D91,'MI materialen'!$E:$AS,P$66,FALSE)*$B91*$C91)","v":0},{"$f":"IF($B91=0,0,VLOOKUP($D91,'MI materialen'!$E:$AS,Q$66,FALSE)*$B91*$C91)","v":0},{"$f":"IF($B91=0,0,VLOOKUP($D91,'MI materialen'!$E:$AS,R$66,FALSE)*$B91*$C91)","v":0},{"$f":"IF($B91=0,0,VLOOKUP($D91,'MI materialen'!$E:$AS,S$66,FALSE)*$B91*$C91)","v":0},{"$f":"IF($B91=0,0,VLOOKUP($D91,'MI materialen'!$E:$AS,T$66,FALSE)*$B91*$C91)","v":0},{"$f":"IF($B91=0,0,VLOOKUP($D91,'MI materialen'!$E:$AS,U$66,FALSE)*$B91*$C91)","v":0},{"$f":"IF($B91=0,0,VLOOKUP($D91,'MI materialen'!$E:$AS,V$66,FALSE)*$B91*$C91)","v":0}]
["Recycling",{"$f":"IF(Invul_Basis_EindeL!$I$17=\"Standaard\",Invul_Basis_EindeL!$L$17,Invul_Basis_EindeL!$P$17)*(100%-Invul_Basis_Materialen!$J$16)","v":0},{"$f":"C89","v":0},{"$f":"VLOOKUP($B89,'MI materialen'!B:AS,43,FALSE)","v":0},{"$f":"IF($B92=0,0,VLOOKUP($D92,MKI!E:K,2,FALSE)*$B92*$C92)","v":0},{"$f":"IF($B92=0,0,VLOOKUP($D92,'MI materialen'!$E:$AS,F$66,FALSE)*$B92*$C92)","v":0},{"$f":"IF($B92=0,0,VLOOKUP($D92,'MI materialen'!$E:$AS,G$66,FALSE)*$B92*$C92)","v":0},{"$f":"IF($B92=0,0,VLOOKUP($D92,'MI materialen'!$E:$AS,H$66,FALSE)*$B92*$C92)","v":0},{"$f":"IF($B92=0,0,VLOOKUP($D92,'MI materialen'!$E:$AS,I$66,FALSE)*$B92*$C92)","v":0},{"$f":"IF($B92=0,0,VLOOKUP($D92,'MI materialen'!$E:$AS,J$66,FALSE)*$B92*$C92)","v":0},{"$f":"IF($B92=0,0,VLOOKUP($D92,'MI materialen'!$E:$AS,K$66,FALSE)*$B92*$C92)","v":0},{"$f":"IF($B92=0,0,VLOOKUP($D92,'MI materialen'!$E:$AS,L$66,FALSE)*$B92*$C92)","v":0},{"$f":"IF($B92=0,0,VLOOKUP($D92,'MI materialen'!$E:$AS,M$66,FALSE)*$B92*$C92)","v":0},{"$f":"IF($B92=0,0,VLOOKUP($D92,'MI materialen'!$E:$AS,N$66,FALSE)*$B92*$C92)","v":0},{"$f":"IF($B92=0,0,VLOOKUP($D92,'MI materialen'!$E:$AS,O$66,FALSE)*$B92*$C92)","v":0},{"$f":"IF($B92=0,0,VLOOKUP($D92,'MI materialen'!$E:$AS,P$66,FALSE)*$B92*$C92)","v":0},{"$f":"IF($B92=0,0,VLOOKUP($D92,'MI materialen'!$E:$AS,Q$66,FALSE)*$B92*$C92)","v":0},{"$f":"IF($B92=0,0,VLOOKUP($D92,'MI materialen'!$E:$AS,R$66,FALSE)*$B92*$C92)","v":0},{"$f":"IF($B92=0,0,VLOOKUP($D92,'MI materialen'!$E:$AS,S$66,FALSE)*$B92*$C92)","v":0},{"$f":"IF($B92=0,0,VLOOKUP($D92,'MI materialen'!$E:$AS,T$66,FALSE)*$B92*$C92)","v":0},{"$f":"IF($B92=0,0,VLOOKUP($D92,'MI materialen'!$E:$AS,U$66,FALSE)*$B92*$C92)","v":0},{"$f":"IF($B92=0,0,VLOOKUP($D92,'MI materialen'!$E:$AS,V$66,FALSE)*$B92*$C92)","v":0}]
["Hergebruik",{"$f":"IF(Invul_Basis_EindeL!$I$17=\"Standaard\",Invul_Basis_EindeL!$M$17,Invul_Basis_EindeL!$Q$17)*(100%-Invul_Basis_Materialen!$J$16)","v":0},{"$f":"C89","v":0},{"$f":"VLOOKUP($B89,'MI materialen'!B:AS,43,FALSE)","v":0},{"$f":"IF($B93=0,0,VLOOKUP($D93,MKI!E:K,2,FALSE)*$B93*$C93)","v":0},{"$f":"IF($B93=0,0,VLOOKUP($D93,'MI materialen'!$E:$AS,F$66,FALSE)*$B93*$C93)","v":0},{"$f":"IF($B93=0,0,VLOOKUP($D93,'MI materialen'!$E:$AS,G$66,FALSE)*$B93*$C93)","v":0},{"$f":"IF($B93=0,0,VLOOKUP($D93,'MI materialen'!$E:$AS,H$66,FALSE)*$B93*$C93)","v":0},{"$f":"IF($B93=0,0,VLOOKUP($D93,'MI materialen'!$E:$AS,I$66,FALSE)*$B93*$C93)","v":0},{"$f":"IF($B93=0,0,VLOOKUP($D93,'MI materialen'!$E:$AS,J$66,FALSE)*$B93*$C93)","v":0},{"$f":"IF($B93=0,0,VLOOKUP($D93,'MI materialen'!$E:$AS,K$66,FALSE)*$B93*$C93)","v":0},{"$f":"IF($B93=0,0,VLOOKUP($D93,'MI materialen'!$E:$AS,L$66,FALSE)*$B93*$C93)","v":0},{"$f":"IF($B93=0,0,VLOOKUP($D93,'MI materialen'!$E:$AS,M$66,FALSE)*$B93*$C93)","v":0},{"$f":"IF($B93=0,0,VLOOKUP($D93,'MI materialen'!$E:$AS,N$66,FALSE)*$B93*$C93)","v":0},{"$f":"IF($B93=0,0,VLOOKUP($D93,'MI materialen'!$E:$AS,O$66,FALSE)*$B93*$C93)","v":0},{"$f":"IF($B93=0,0,VLOOKUP($D93,'MI materialen'!$E:$AS,P$66,FALSE)*$B93*$C93)","v":0},{"$f":"IF($B93=0,0,VLOOKUP($D93,'MI materialen'!$E:$AS,Q$66,FALSE)*$B93*$C93)","v":0},{"$f":"IF($B93=0,0,VLOOKUP($D93,'MI materialen'!$E:$AS,R$66,FALSE)*$B93*$C93)","v":0},{"$f":"IF($B93=0,0,VLOOKUP($D93,'MI materialen'!$E:$AS,S$66,FALSE)*$B93*$C93)","v":0},{"$f":"IF($B93=0,0,VLOOKUP($D93,'MI materialen'!$E:$AS,T$66,FALSE)*$B93*$C93)","v":0},{"$f":"IF($B93=0,0,VLOOKUP($D93,'MI materialen'!$E:$AS,U$66,FALSE)*$B93*$C93)","v":0},{"$f":"IF($B93=0,0,VLOOKUP($D93,'MI materialen'!$E:$AS,V$66,FALSE)*$B93*$C93)","v":0}]
["Som",{"$f":"Invul_Basis_EindeL!$F$18","v":"Leeg"},{"$f":"Invul_Basis_EindeL!$G$18","v":0},null,{"$f":"SUM(E95:E98)","v":0},0,0,0,0,0,0,0,0,0,0,0,0,0,0,0,0,0]
["Stort",{"$f":"IF(Invul_Basis_EindeL!$I$18=\"Standaard\",Invul_Basis_EindeL!$J$18,Invul_Basis_EindeL!$N$18)","v":0},{"$f":"C94","v":0},{"$f":"VLOOKUP($B94,'MI materialen'!B:AS,41,FALSE)","v":0},{"$f":"IF($B95=0,0,VLOOKUP($D95,MKI!E:K,2,FALSE)*$B95*$C95)","v":0},{"$f":"IF($B95=0,0,VLOOKUP($D95,'MI materialen'!$E:$AS,F$66,FALSE)*$B95*$C95)","v":0},{"$f":"IF($B95=0,0,VLOOKUP($D95,'MI materialen'!$E:$AS,G$66,FALSE)*$B95*$C95)","v":0},{"$f":"IF($B95=0,0,VLOOKUP($D95,'MI materialen'!$E:$AS,H$66,FALSE)*$B95*$C95)","v":0},{"$f":"IF($B95=0,0,VLOOKUP($D95,'MI materialen'!$E:$AS,I$66,FALSE)*$B95*$C95)","v":0},{"$f":"IF($B95=0,0,VLOOKUP($D95,'MI materialen'!$E:$AS,J$66,FALSE)*$B95*$C95)","v":0},{"$f":"IF($B95=0,0,VLOOKUP($D95,'MI materialen'!$E:$AS,K$66,FALSE)*$B95*$C95)","v":0},{"$f":"IF($B95=0,0,VLOOKUP($D95,'MI materialen'!$E:$AS,L$66,FALSE)*$B95*$C95)","v":0},{"$f":"IF($B95=0,0,VLOOKUP($D95,'MI materialen'!$E:$AS,M$66,FALSE)*$B95*$C95)","v":0},{"$f":"IF($B95=0,0,VLOOKUP($D95,'MI materialen'!$E:$AS,N$66,FALSE)*$B95*$C95)","v":0},{"$f":"IF($B95=0,0,VLOOKUP($D95,'MI materialen'!$E:$AS,O$66,FALSE)*$B95*$C95)","v":0},{"$f":"IF($B95=0,0,VLOOKUP($D95,'MI materialen'!$E:$AS,P$66,FALSE)*$B95*$C95)","v":0},{"$f":"IF($B95=0,0,VLOOKUP($D95,'MI materialen'!$E:$AS,Q$66,FALSE)*$B95*$C95)","v":0},{"$f":"IF($B95=0,0,VLOOKUP($D95,'MI materialen'!$E:$AS,R$66,FALSE)*$B95*$C95)","v":0},{"$f":"IF($B95=0,0,VLOOKUP($D95,'MI materialen'!$E:$AS,S$66,FALSE)*$B95*$C95)","v":0},{"$f":"IF($B95=0,0,VLOOKUP($D95,'MI materialen'!$E:$AS,T$66,FALSE)*$B95*$C95)","v":0},{"$f":"IF($B95=0,0,VLOOKUP($D95,'MI materialen'!$E:$AS,U$66,FALSE)*$B95*$C95)","v":0},{"$f":"IF($B95=0,0,VLOOKUP($D95,'MI materialen'!$E:$AS,V$66,FALSE)*$B95*$C95)","v":0}]
["Verbranding",{"$f":"IF(Invul_Basis_EindeL!$I$18=\"Standaard\",Invul_Basis_EindeL!$K$18,Invul_Basis_EindeL!$O$18)","v":0},{"$f":"C94","v":0},{"$f":"VLOOKUP($B94,'MI materialen'!B:AS,42,FALSE)","v":0},{"$f":"IF($B96=0,0,VLOOKUP($D96,MKI!E:K,2,FALSE)*$B96*$C96)","v":0},{"$f":"IF($B96=0,0,VLOOKUP($D96,'MI materialen'!$E:$AS,F$66,FALSE)*$B96*$C96)","v":0},{"$f":"IF($B96=0,0,VLOOKUP($D96,'MI materialen'!$E:$AS,G$66,FALSE)*$B96*$C96)","v":0},{"$f":"IF($B96=0,0,VLOOKUP($D96,'MI materialen'!$E:$AS,H$66,FALSE)*$B96*$C96)","v":0},{"$f":"IF($B96=0,0,VLOOKUP($D96,'MI materialen'!$E:$AS,I$66,FALSE)*$B96*$C96)","v":0},{"$f":"IF($B96=0,0,VLOOKUP($D96,'MI materialen'!$E:$AS,J$66,FALSE)*$B96*$C96)","v":0},{"$f":"IF($B96=0,0,VLOOKUP($D96,'MI materialen'!$E:$AS,K$66,FALSE)*$B96*$C96)","v":0},{"$f":"IF($B96=0,0,VLOOKUP($D96,'MI materialen'!$E:$AS,L$66,FALSE)*$B96*$C96)","v":0},{"$f":"IF($B96=0,0,VLOOKUP($D96,'MI materialen'!$E:$AS,M$66,FALSE)*$B96*$C96)","v":0},{"$f":"IF($B96=0,0,VLOOKUP($D96,'MI materialen'!$E:$AS,N$66,FALSE)*$B96*$C96)","v":0},{"$f":"IF($B96=0,0,VLOOKUP($D96,'MI materialen'!$E:$AS,O$66,FALSE)*$B96*$C96)","v":0},{"$f":"IF($B96=0,0,VLOOKUP($D96,'MI materialen'!$E:$AS,P$66,FALSE)*$B96*$C96)","v":0},{"$f":"IF($B96=0,0,VLOOKUP($D96,'MI materialen'!$E:$AS,Q$66,FALSE)*$B96*$C96)","v":0},{"$f":"IF($B96=0,0,VLOOKUP($D96,'MI materialen'!$E:$AS,R$66,FALSE)*$B96*$C96)","v":0},{"$f":"IF($B96=0,0,VLOOKUP($D96,'MI materialen'!$E:$AS,S$66,FALSE)*$B96*$C96)","v":0},{"$f":"IF($B96=0,0,VLOOKUP($D96,'MI materialen'!$E:$AS,T$66,FALSE)*$B96*$C96)","v":0},{"$f":"IF($B96=0,0,VLOOKUP($D96,'MI materialen'!$E:$AS,U$66,FALSE)*$B96*$C96)","v":0},{"$f":"IF($B96=0,0,VLOOKUP($D96,'MI materialen'!$E:$AS,V$66,FALSE)*$B96*$C96)","v":0}]
["Recycling",{"$f":"IF(Invul_Basis_EindeL!$I$18=\"Standaard\",Invul_Basis_EindeL!$L$18,Invul_Basis_EindeL!$P$18)*(100%-Invul_Basis_Materialen!$J$17)","v":0},{"$f":"C94","v":0},{"$f":"VLOOKUP($B94,'MI materialen'!B:AS,43,FALSE)","v":0},{"$f":"IF($B97=0,0,VLOOKUP($D97,MKI!E:K,2,FALSE)*$B97*$C97)","v":0},{"$f":"IF($B97=0,0,VLOOKUP($D97,'MI materialen'!$E:$AS,F$66,FALSE)*$B97*$C97)","v":0},{"$f":"IF($B97=0,0,VLOOKUP($D97,'MI materialen'!$E:$AS,G$66,FALSE)*$B97*$C97)","v":0},{"$f":"IF($B97=0,0,VLOOKUP($D97,'MI materialen'!$E:$AS,H$66,FALSE)*$B97*$C97)","v":0},{"$f":"IF($B97=0,0,VLOOKUP($D97,'MI materialen'!$E:$AS,I$66,FALSE)*$B97*$C97)","v":0},{"$f":"IF($B97=0,0,VLOOKUP($D97,'MI materialen'!$E:$AS,J$66,FALSE)*$B97*$C97)","v":0},{"$f":"IF($B97=0,0,VLOOKUP($D97,'MI materialen'!$E:$AS,K$66,FALSE)*$B97*$C97)","v":0},{"$f":"IF($B97=0,0,VLOOKUP($D97,'MI materialen'!$E:$AS,L$66,FALSE)*$B97*$C97)","v":0},{"$f":"IF($B97=0,0,VLOOKUP($D97,'MI materialen'!$E:$AS,M$66,FALSE)*$B97*$C97)","v":0},{"$f":"IF($B97=0,0,VLOOKUP($D97,'MI materialen'!$E:$AS,N$66,FALSE)*$B97*$C97)","v":0},{"$f":"IF($B97=0,0,VLOOKUP($D97,'MI materialen'!$E:$AS,O$66,FALSE)*$B97*$C97)","v":0},{"$f":"IF($B97=0,0,VLOOKUP($D97,'MI materialen'!$E:$AS,P$66,FALSE)*$B97*$C97)","v":0},{"$f":"IF($B97=0,0,VLOOKUP($D97,'MI materialen'!$E:$AS,Q$66,FALSE)*$B97*$C97)","v":0},{"$f":"IF($B97=0,0,VLOOKUP($D97,'MI materialen'!$E:$AS,R$66,FALSE)*$B97*$C97)","v":0},{"$f":"IF($B97=0,0,VLOOKUP($D97,'MI materialen'!$E:$AS,S$66,FALSE)*$B97*$C97)","v":0},{"$f":"IF($B97=0,0,VLOOKUP($D97,'MI materialen'!$E:$AS,T$66,FALSE)*$B97*$C97)","v":0},{"$f":"IF($B97=0,0,VLOOKUP($D97,'MI materialen'!$E:$AS,U$66,FALSE)*$B97*$C97)","v":0},{"$f":"IF($B97=0,0,VLOOKUP($D97,'MI materialen'!$E:$AS,V$66,FALSE)*$B97*$C97)","v":0}]
["Hergebruik",{"$f":"IF(Invul_Basis_EindeL!$I$18=\"Standaard\",Invul_Basis_EindeL!$M$18,Invul_Basis_EindeL!$Q$18)*(100%-Invul_Basis_Materialen!$J$17)","v":0},{"$f":"C94","v":0},{"$f":"VLOOKUP($B94,'MI materialen'!B:AS,43,FALSE)","v":0},{"$f":"IF($B98=0,0,VLOOKUP($D98,MKI!E:K,2,FALSE)*$B98*$C98)","v":0},{"$f":"IF($B98=0,0,VLOOKUP($D98,'MI materialen'!$E:$AS,F$66,FALSE)*$B98*$C98)","v":0},{"$f":"IF($B98=0,0,VLOOKUP($D98,'MI materialen'!$E:$AS,G$66,FALSE)*$B98*$C98)","v":0},{"$f":"IF($B98=0,0,VLOOKUP($D98,'MI materialen'!$E:$AS,H$66,FALSE)*$B98*$C98)","v":0},{"$f":"IF($B98=0,0,VLOOKUP($D98,'MI materialen'!$E:$AS,I$66,FALSE)*$B98*$C98)","v":0},{"$f":"IF($B98=0,0,VLOOKUP($D98,'MI materialen'!$E:$AS,J$66,FALSE)*$B98*$C98)","v":0},{"$f":"IF($B98=0,0,VLOOKUP($D98,'MI materialen'!$E:$AS,K$66,FALSE)*$B98*$C98)","v":0},{"$f":"IF($B98=0,0,VLOOKUP($D98,'MI materialen'!$E:$AS,L$66,FALSE)*$B98*$C98)","v":0},{"$f":"IF($B98=0,0,VLOOKUP($D98,'MI materialen'!$E:$AS,M$66,FALSE)*$B98*$C98)","v":0},{"$f":"IF($B98=0,0,VLOOKUP($D98,'MI materialen'!$E:$AS,N$66,FALSE)*$B98*$C98)","v":0},{"$f":"IF($B98=0,0,VLOOKUP($D98,'MI materialen'!$E:$AS,O$66,FALSE)*$B98*$C98)","v":0},{"$f":"IF($B98=0,0,VLOOKUP($D98,'MI materialen'!$E:$AS,P$66,FALSE)*$B98*$C98)","v":0},{"$f":"IF($B98=0,0,VLOOKUP($D98,'MI materialen'!$E:$AS,Q$66,FALSE)*$B98*$C98)","v":0},{"$f":"IF($B98=0,0,VLOOKUP($D98,'MI materialen'!$E:$AS,R$66,FALSE)*$B98*$C98)","v":0},{"$f":"IF($B98=0,0,VLOOKUP($D98,'MI materialen'!$E:$AS,S$66,FALSE)*$B98*$C98)","v":0},{"$f":"IF($B98=0,0,VLOOKUP($D98,'MI materialen'!$E:$AS,T$66,FALSE)*$B98*$C98)","v":0},{"$f":"IF($B98=0,0,VLOOKUP($D98,'MI materialen'!$E:$AS,U$66,FALSE)*$B98*$C98)","v":0},{"$f":"IF($B98=0,0,VLOOKUP($D98,'MI materialen'!$E:$AS,V$66,FALSE)*$B98*$C98)","v":0}]
["Som",{"$f":"Invul_Basis_EindeL!$F$19","v":"Leeg"},{"$f":"Invul_Basis_EindeL!$G$19","v":0},null,{"$f":"SUM(E100:E103)","v":0},0,0,0,0,0,0,0,0,0,0,0,0,0,0,0,0,0]
["Stort",{"$f":"IF(Invul_Basis_EindeL!$I$19=\"Standaard\",Invul_Basis_EindeL!$J$19,Invul_Basis_EindeL!$N$19)","v":0},{"$f":"C99","v":0},{"$f":"VLOOKUP($B99,'MI materialen'!B:AS,41,FALSE)","v":0},{"$f":"IF($B100=0,0,VLOOKUP($D100,MKI!E:K,2,FALSE)*$B100*$C100)","v":0},{"$f":"IF($B100=0,0,VLOOKUP($D100,'MI materialen'!$E:$AS,F$66,FALSE)*$B100*$C100)","v":0},{"$f":"IF($B100=0,0,VLOOKUP($D100,'MI materialen'!$E:$AS,G$66,FALSE)*$B100*$C100)","v":0},{"$f":"IF($B100=0,0,VLOOKUP($D100,'MI materialen'!$E:$AS,H$66,FALSE)*$B100*$C100)","v":0},{"$f":"IF($B100=0,0,VLOOKUP($D100,'MI materialen'!$E:$AS,I$66,FALSE)*$B100*$C100)","v":0},{"$f":"IF($B100=0,0,VLOOKUP($D100,'MI materialen'!$E:$AS,J$66,FALSE)*$B100*$C100)","v":0},{"$f":"IF($B100=0,0,VLOOKUP($D100,'MI materialen'!$E:$AS,K$66,FALSE)*$B100*$C100)","v":0},{"$f":"IF($B100=0,0,VLOOKUP($D100,'MI materialen'!$E:$AS,L$66,FALSE)*$B100*$C100)","v":0},{"$f":"IF($B100=0,0,VLOOKUP($D100,'MI materialen'!$E:$AS,M$66,FALSE)*$B100*$C100)","v":0},{"$f":"IF($B100=0,0,VLOOKUP($D100,'MI materialen'!$E:$AS,N$66,FALSE)*$B100*$C100)","v":0},{"$f":"IF($B100=0,0,VLOOKUP($D100,'MI materialen'!$E:$AS,O$66,FALSE)*$B100*$C100)","v":0},{"$f":"IF($B100=0,0,VLOOKUP($D100,'MI materialen'!$E:$AS,P$66,FALSE)*$B100*$C100)","v":0},{"$f":"IF($B100=0,0,VLOOKUP($D100,'MI materialen'!$E:$AS,Q$66,FALSE)*$B100*$C100)","v":0},{"$f":"IF($B100=0,0,VLOOKUP($D100,'MI materialen'!$E:$AS,R$66,FALSE)*$B100*$C100)","v":0},{"$f":"IF($B100=0,0,VLOOKUP($D100,'MI materialen'!$E:$AS,S$66,FALSE)*$B100*$C100)","v":0},{"$f":"IF($B100=0,0,VLOOKUP($D100,'MI materialen'!$E:$AS,T$66,FALSE)*$B100*$C100)","v":0},{"$f":"IF($B100=0,0,VLOOKUP($D100,'MI materialen'!$E:$AS,U$66,FALSE)*$B100*$C100)","v":0},{"$f":"IF($B100=0,0,VLOOKUP($D100,'MI materialen'!$E:$AS,V$66,FALSE)*$B100*$C100)","v":0}]
["Verbranding",{"$f":"IF(Invul_Basis_EindeL!$I$19=\"Standaard\",Invul_Basis_EindeL!$K$19,Invul_Basis_EindeL!$O$19)","v":0},{"$f":"C99","v":0},{"$f":"VLOOKUP($B99,'MI materialen'!B:AS,42,FALSE)","v":0},{"$f":"IF($B101=0,0,VLOOKUP($D101,MKI!E:K,2,FALSE)*$B101*$C101)","v":0},{"$f":"IF($B101=0,0,VLOOKUP($D101,'MI materialen'!$E:$AS,F$66,FALSE)*$B101*$C101)","v":0},{"$f":"IF($B101=0,0,VLOOKUP($D101,'MI materialen'!$E:$AS,G$66,FALSE)*$B101*$C101)","v":0},{"$f":"IF($B101=0,0,VLOOKUP($D101,'MI materialen'!$E:$AS,H$66,FALSE)*$B101*$C101)","v":0},{"$f":"IF($B101=0,0,VLOOKUP($D101,'MI materialen'!$E:$AS,I$66,FALSE)*$B101*$C101)","v":0},{"$f":"IF($B101=0,0,VLOOKUP($D101,'MI materialen'!$E:$AS,J$66,FALSE)*$B101*$C101)","v":0},{"$f":"IF($B101=0,0,VLOOKUP($D101,'MI materialen'!$E:$AS,K$66,FALSE)*$B101*$C101)","v":0},{"$f":"IF($B101=0,0,VLOOKUP($D101,'MI materialen'!$E:$AS,L$66,FALSE)*$B101*$C101)","v":0},{"$f":"IF($B101=0,0,VLOOKUP($D101,'MI materialen'!$E:$AS,M$66,FALSE)*$B101*$C101)","v":0},{"$f":"IF($B101=0,0,VLOOKUP($D101,'MI materialen'!$E:$AS,N$66,FALSE)*$B101*$C101)","v":0},{"$f":"IF($B101=0,0,VLOOKUP($D101,'MI materialen'!$E:$AS,O$66,FALSE)*$B101*$C101)","v":0},{"$f":"IF($B101=0,0,VLOOKUP($D101,'MI materialen'!$E:$AS,P$66,FALSE)*$B101*$C101)","v":0},{"$f":"IF($B101=0,0,VLOOKUP($D101,'MI materialen'!$E:$AS,Q$66,FALSE)*$B101*$C101)","v":0},{"$f":"IF($B101=0,0,VLOOKUP($D101,'MI materialen'!$E:$AS,R$66,FALSE)*$B101*$C101)","v":0},{"$f":"IF($B101=0,0,VLOOKUP($D101,'MI materialen'!$E:$AS,S$66,FALSE)*$B101*$C101)","v":0},{"$f":"IF($B101=0,0,VLOOKUP($D101,'MI materialen'!$E:$AS,T$66,FALSE)*$B101*$C101)","v":0},{"$f":"IF($B101=0,0,VLOOKUP($D101,'MI materialen'!$E:$AS,U$66,FALSE)*$B101*$C101)","v":0},{"$f":"IF($B101=0,0,VLOOKUP($D101,'MI materialen'!$E:$AS,V$66,FALSE)*$B101*$C101)","v":0}]
["Recycling",{"$f":"IF(Invul_Basis_EindeL!$I$19=\"Standaard\",Invul_Basis_EindeL!$L$19,Invul_Basis_EindeL!$P$19)*(100%-Invul_Basis_Materialen!$J$18)","v":0},{"$f":"C99","v":0},{"$f":"VLOOKUP($B99,'MI materialen'!B:AS,43,FALSE)","v":0},{"$f":"IF($B102=0,0,VLOOKUP($D102,MKI!E:K,2,FALSE)*$B102*$C102)","v":0},{"$f":"IF($B102=0,0,VLOOKUP($D102,'MI materialen'!$E:$AS,F$66,FALSE)*$B102*$C102)","v":0},{"$f":"IF($B102=0,0,VLOOKUP($D102,'MI materialen'!$E:$AS,G$66,FALSE)*$B102*$C102)","v":0},{"$f":"IF($B102=0,0,VLOOKUP($D102,'MI materialen'!$E:$AS,H$66,FALSE)*$B102*$C102)","v":0},{"$f":"IF($B102=0,0,VLOOKUP($D102,'MI materialen'!$E:$AS,I$66,FALSE)*$B102*$C102)","v":0},{"$f":"IF($B102=0,0,VLOOKUP($D102,'MI materialen'!$E:$AS,J$66,FALSE)*$B102*$C102)","v":0},{"$f":"IF($B102=0,0,VLOOKUP($D102,'MI materialen'!$E:$AS,K$66,FALSE)*$B102*$C102)","v":0},{"$f":"IF($B102=0,0,VLOOKUP($D102,'MI materialen'!$E:$AS,L$66,FALSE)*$B102*$C102)","v":0},{"$f":"IF($B102=0,0,VLOOKUP($D102,'MI materialen'!$E:$AS,M$66,FALSE)*$B102*$C102)","v":0},{"$f":"IF($B102=0,0,VLOOKUP($D102,'MI materialen'!$E:$AS,N$66,FALSE)*$B102*$C102)","v":0},{"$f":"IF($B102=0,0,VLOOKUP($D102,'MI materialen'!$E:$AS,O$66,FALSE)*$B102*$C102)","v":0},{"$f":"IF($B102=0,0,VLOOKUP($D102,'MI materialen'!$E:$AS,P$66,FALSE)*$B102*$C102)","v":0},{"$f":"IF($B102=0,0,VLOOKUP($D102,'MI materialen'!$E:$AS,Q$66,FALSE)*$B102*$C102)","v":0},{"$f":"IF($B102=0,0,VLOOKUP($D102,'MI materialen'!$E:$AS,R$66,FALSE)*$B102*$C102)","v":0},{"$f":"IF($B102=0,0,VLOOKUP($D102,'MI materialen'!$E:$AS,S$66,FALSE)*$B102*$C102)","v":0},{"$f":"IF($B102=0,0,VLOOKUP($D102,'MI materialen'!$E:$AS,T$66,FALSE)*$B102*$C102)","v":0},{"$f":"IF($B102=0,0,VLOOKUP($D102,'MI materialen'!$E:$AS,U$66,FALSE)*$B102*$C102)","v":0},{"$f":"IF($B102=0,0,VLOOKUP($D102,'MI materialen'!$E:$AS,V$66,FALSE)*$B102*$C102)","v":0}]
["Hergebruik",{"$f":"IF(Invul_Basis_EindeL!$I$19=\"Standaard\",Invul_Basis_EindeL!$M$19,Invul_Basis_EindeL!$Q$19)*(100%-Invul_Basis_Materialen!$J$18)","v":0},{"$f":"C99","v":0},{"$f":"VLOOKUP($B99,'MI materialen'!B:AS,43,FALSE)","v":0},{"$f":"IF($B103=0,0,VLOOKUP($D103,MKI!E:K,2,FALSE)*$B103*$C103)","v":0},{"$f":"IF($B103=0,0,VLOOKUP($D103,'MI materialen'!$E:$AS,F$66,FALSE)*$B103*$C103)","v":0},{"$f":"IF($B103=0,0,VLOOKUP($D103,'MI materialen'!$E:$AS,G$66,FALSE)*$B103*$C103)","v":0},{"$f":"IF($B103=0,0,VLOOKUP($D103,'MI materialen'!$E:$AS,H$66,FALSE)*$B103*$C103)","v":0},{"$f":"IF($B103=0,0,VLOOKUP($D103,'MI materialen'!$E:$AS,I$66,FALSE)*$B103*$C103)","v":0},{"$f":"IF($B103=0,0,VLOOKUP($D103,'MI materialen'!$E:$AS,J$66,FALSE)*$B103*$C103)","v":0},{"$f":"IF($B103=0,0,VLOOKUP($D103,'MI materialen'!$E:$AS,K$66,FALSE)*$B103*$C103)","v":0},{"$f":"IF($B103=0,0,VLOOKUP($D103,'MI materialen'!$E:$AS,L$66,FALSE)*$B103*$C103)","v":0},{"$f":"IF($B103=0,0,VLOOKUP($D103,'MI materialen'!$E:$AS,M$66,FALSE)*$B103*$C103)","v":0},{"$f":"IF($B103=0,0,VLOOKUP($D103,'MI materialen'!$E:$AS,N$66,FALSE)*$B103*$C103)","v":0},{"$f":"IF($B103=0,0,VLOOKUP($D103,'MI materialen'!$E:$AS,O$66,FALSE)*$B103*$C103)","v":0},{"$f":"IF($B103=0,0,VLOOKUP($D103,'MI materialen'!$E:$AS,P$66,FALSE)*$B103*$C103)","v":0},{"$f":"IF($B103=0,0,VLOOKUP($D103,'MI materialen'!$E:$AS,Q$66,FALSE)*$B103*$C103)","v":0},{"$f":"IF($B103=0,0,VLOOKUP($D103,'MI materialen'!$E:$AS,R$66,FALSE)*$B103*$C103)","v":0},{"$f":"IF($B103=0,0,VLOOKUP($D103,'MI materialen'!$E:$AS,S$66,FALSE)*$B103*$C103)","v":0},{"$f":"IF($B103=0,0,VLOOKUP($D103,'MI materialen'!$E:$AS,T$66,FALSE)*$B103*$C103)","v":0},{"$f":"IF($B103=0,0,VLOOKUP($D103,'MI materialen'!$E:$AS,U$66,FALSE)*$B103*$C103)","v":0},{"$f":"IF($B103=0,0,VLOOKUP($D103,'MI materialen'!$E:$AS,V$66,FALSE)*$B103*$C103)","v":0}]
["Som",{"$f":"Invul_Basis_EindeL!$F$20","v":"Leeg"},{"$f":"Invul_Basis_EindeL!$G$20","v":0},null,{"$f":"SUM(E105:E108)","v":0},0,0,0,0,0,0,0,0,0,0,0,0,0,0,0,0,0]
["Stort",{"$f":"IF(Invul_Basis_EindeL!$I$20=\"Standaard\",Invul_Basis_EindeL!$J$20,Invul_Basis_EindeL!$N$20)","v":0},{"$f":"C104","v":0},{"$f":"VLOOKUP($B104,'MI materialen'!B:AS,41,FALSE)","v":0},{"$f":"IF($B105=0,0,VLOOKUP($D105,MKI!E:K,2,FALSE)*$B105*$C105)","v":0},{"$f":"IF($B105=0,0,VLOOKUP($D105,'MI materialen'!$E:$AS,F$66,FALSE)*$B105*$C105)","v":0},{"$f":"IF($B105=0,0,VLOOKUP($D105,'MI materialen'!$E:$AS,G$66,FALSE)*$B105*$C105)","v":0},{"$f":"IF($B105=0,0,VLOOKUP($D105,'MI materialen'!$E:$AS,H$66,FALSE)*$B105*$C105)","v":0},{"$f":"IF($B105=0,0,VLOOKUP($D105,'MI materialen'!$E:$AS,I$66,FALSE)*$B105*$C105)","v":0},{"$f":"IF($B105=0,0,VLOOKUP($D105,'MI materialen'!$E:$AS,J$66,FALSE)*$B105*$C105)","v":0},{"$f":"IF($B105=0,0,VLOOKUP($D105,'MI materialen'!$E:$AS,K$66,FALSE)*$B105*$C105)","v":0},{"$f":"IF($B105=0,0,VLOOKUP($D105,'MI materialen'!$E:$AS,L$66,FALSE)*$B105*$C105)","v":0},{"$f":"IF($B105=0,0,VLOOKUP($D105,'MI materialen'!$E:$AS,M$66,FALSE)*$B105*$C105)","v":0},{"$f":"IF($B105=0,0,VLOOKUP($D105,'MI materialen'!$E:$AS,N$66,FALSE)*$B105*$C105)","v":0},{"$f":"IF($B105=0,0,VLOOKUP($D105,'MI materialen'!$E:$AS,O$66,FALSE)*$B105*$C105)","v":0},{"$f":"IF($B105=0,0,VLOOKUP($D105,'MI materialen'!$E:$AS,P$66,FALSE)*$B105*$C105)","v":0},{"$f":"IF($B105=0,0,VLOOKUP($D105,'MI materialen'!$E:$AS,Q$66,FALSE)*$B105*$C105)","v":0},{"$f":"IF($B105=0,0,VLOOKUP($D105,'MI materialen'!$E:$AS,R$66,FALSE)*$B105*$C105)","v":0},{"$f":"IF($B105=0,0,VLOOKUP($D105,'MI materialen'!$E:$AS,S$66,FALSE)*$B105*$C105)","v":0},{"$f":"IF($B105=0,0,VLOOKUP($D105,'MI materialen'!$E:$AS,T$66,FALSE)*$B105*$C105)","v":0},{"$f":"IF($B105=0,0,VLOOKUP($D105,'MI materialen'!$E:$AS,U$66,FALSE)*$B105*$C105)","v":0},{"$f":"IF($B105=0,0,VLOOKUP($D105,'MI materialen'!$E:$AS,V$66,FALSE)*$B105*$C105)","v":0}]
["Verbranding",{"$f":"IF(Invul_Basis_EindeL!$I$20=\"Standaard\",Invul_Basis_EindeL!$K$20,Invul_Basis_EindeL!$O$20)","v":0},{"$f":"C104","v":0},{"$f":"VLOOKUP($B104,'MI materialen'!B:AS,42,FALSE)","v":0},{"$f":"IF($B106=0,0,VLOOKUP($D106,MKI!E:K,2,FALSE)*$B106*$C106)","v":0},{"$f":"IF($B106=0,0,VLOOKUP($D106,'MI materialen'!$E:$AS,F$66,FALSE)*$B106*$C106)","v":0},{"$f":"IF($B106=0,0,VLOOKUP($D106,'MI materialen'!$E:$AS,G$66,FALSE)*$B106*$C106)","v":0},{"$f":"IF($B106=0,0,VLOOKUP($D106,'MI materialen'!$E:$AS,H$66,FALSE)*$B106*$C106)","v":0},{"$f":"IF($B106=0,0,VLOOKUP($D106,'MI materialen'!$E:$AS,I$66,FALSE)*$B106*$C106)","v":0},{"$f":"IF($B106=0,0,VLOOKUP($D106,'MI materialen'!$E:$AS,J$66,FALSE)*$B106*$C106)","v":0},{"$f":"IF($B106=0,0,VLOOKUP($D106,'MI materialen'!$E:$AS,K$66,FALSE)*$B106*$C106)","v":0},{"$f":"IF($B106=0,0,VLOOKUP($D106,'MI materialen'!$E:$AS,L$66,FALSE)*$B106*$C106)","v":0},{"$f":"IF($B106=0,0,VLOOKUP($D106,'MI materialen'!$E:$AS,M$66,FALSE)*$B106*$C106)","v":0},{"$f":"IF($B106=0,0,VLOOKUP($D106,'MI materialen'!$E:$AS,N$66,FALSE)*$B106*$C106)","v":0},{"$f":"IF($B106=0,0,VLOOKUP($D106,'MI materialen'!$E:$AS,O$66,FALSE)*$B106*$C106)","v":0},{"$f":"IF($B106=0,0,VLOOKUP($D106,'MI materialen'!$E:$AS,P$66,FALSE)*$B106*$C106)","v":0},{"$f":"IF($B106=0,0,VLOOKUP($D106,'MI materialen'!$E:$AS,Q$66,FALSE)*$B106*$C106)","v":0},{"$f":"IF($B106=0,0,VLOOKUP($D106,'MI materialen'!$E:$AS,R$66,FALSE)*$B106*$C106)","v":0},{"$f":"IF($B106=0,0,VLOOKUP($D106,'MI materialen'!$E:$AS,S$66,FALSE)*$B106*$C106)","v":0},{"$f":"IF($B106=0,0,VLOOKUP($D106,'MI materialen'!$E:$AS,T$66,FALSE)*$B106*$C106)","v":0},{"$f":"IF($B106=0,0,VLOOKUP($D106,'MI materialen'!$E:$AS,U$66,FALSE)*$B106*$C106)","v":0},{"$f":"IF($B106=0,0,VLOOKUP($D106,'MI materialen'!$E:$AS,V$66,FALSE)*$B106*$C106)","v":0}]
["Recycling",{"$f":"IF(Invul_Basis_EindeL!$I$20=\"Standaard\",Invul_Basis_EindeL!$L$20,Invul_Basis_EindeL!$P$20)*(100%-Invul_Basis_Materialen!$J$19)","v":0},{"$f":"C104","v":0},{"$f":"VLOOKUP($B104,'MI materialen'!B:AS,43,FALSE)","v":0},{"$f":"IF($B107=0,0,VLOOKUP($D107,MKI!E:K,2,FALSE)*$B107*$C107)","v":0},{"$f":"IF($B107=0,0,VLOOKUP($D107,'MI materialen'!$E:$AS,F$66,FALSE)*$B107*$C107)","v":0},{"$f":"IF($B107=0,0,VLOOKUP($D107,'MI materialen'!$E:$AS,G$66,FALSE)*$B107*$C107)","v":0},{"$f":"IF($B107=0,0,VLOOKUP($D107,'MI materialen'!$E:$AS,H$66,FALSE)*$B107*$C107)","v":0},{"$f":"IF($B107=0,0,VLOOKUP($D107,'MI materialen'!$E:$AS,I$66,FALSE)*$B107*$C107)","v":0},{"$f":"IF($B107=0,0,VLOOKUP($D107,'MI materialen'!$E:$AS,J$66,FALSE)*$B107*$C107)","v":0},{"$f":"IF($B107=0,0,VLOOKUP($D107,'MI materialen'!$E:$AS,K$66,FALSE)*$B107*$C107)","v":0},{"$f":"IF($B107=0,0,VLOOKUP($D107,'MI materialen'!$E:$AS,L$66,FALSE)*$B107*$C107)","v":0},{"$f":"IF($B107=0,0,VLOOKUP($D107,'MI materialen'!$E:$AS,M$66,FALSE)*$B107*$C107)","v":0},{"$f":"IF($B107=0,0,VLOOKUP($D107,'MI materialen'!$E:$AS,N$66,FALSE)*$B107*$C107)","v":0},{"$f":"IF($B107=0,0,VLOOKUP($D107,'MI materialen'!$E:$AS,O$66,FALSE)*$B107*$C107)","v":0},{"$f":"IF($B107=0,0,VLOOKUP($D107,'MI materialen'!$E:$AS,P$66,FALSE)*$B107*$C107)","v":0},{"$f":"IF($B107=0,0,VLOOKUP($D107,'MI materialen'!$E:$AS,Q$66,FALSE)*$B107*$C107)","v":0},{"$f":"IF($B107=0,0,VLOOKUP($D107,'MI materialen'!$E:$AS,R$66,FALSE)*$B107*$C107)","v":0},{"$f":"IF($B107=0,0,VLOOKUP($D107,'MI materialen'!$E:$AS,S$66,FALSE)*$B107*$C107)","v":0},{"$f":"IF($B107=0,0,VLOOKUP($D107,'MI materialen'!$E:$AS,T$66,FALSE)*$B107*$C107)","v":0},{"$f":"IF($B107=0,0,VLOOKUP($D107,'MI materialen'!$E:$AS,U$66,FALSE)*$B107*$C107)","v":0},{"$f":"IF($B107=0,0,VLOOKUP($D107,'MI materialen'!$E:$AS,V$66,FALSE)*$B107*$C107)","v":0}]
["Hergebruik",{"$f":"IF(Invul_Basis_EindeL!$I$20=\"Standaard\",Invul_Basis_EindeL!$M$20,Invul_Basis_EindeL!$Q$20)*(100%-Invul_Basis_Materialen!$J$19)","v":0},{"$f":"C104","v":0},{"$f":"VLOOKUP($B104,'MI materialen'!B:AS,43,FALSE)","v":0},{"$f":"IF($B108=0,0,VLOOKUP($D108,MKI!E:K,2,FALSE)*$B108*$C108)","v":0},{"$f":"IF($B108=0,0,VLOOKUP($D108,'MI materialen'!$E:$AS,F$66,FALSE)*$B108*$C108)","v":0},{"$f":"IF($B108=0,0,VLOOKUP($D108,'MI materialen'!$E:$AS,G$66,FALSE)*$B108*$C108)","v":0},{"$f":"IF($B108=0,0,VLOOKUP($D108,'MI materialen'!$E:$AS,H$66,FALSE)*$B108*$C108)","v":0},{"$f":"IF($B108=0,0,VLOOKUP($D108,'MI materialen'!$E:$AS,I$66,FALSE)*$B108*$C108)","v":0},{"$f":"IF($B108=0,0,VLOOKUP($D108,'MI materialen'!$E:$AS,J$66,FALSE)*$B108*$C108)","v":0},{"$f":"IF($B108=0,0,VLOOKUP($D108,'MI materialen'!$E:$AS,K$66,FALSE)*$B108*$C108)","v":0},{"$f":"IF($B108=0,0,VLOOKUP($D108,'MI materialen'!$E:$AS,L$66,FALSE)*$B108*$C108)","v":0},{"$f":"IF($B108=0,0,VLOOKUP($D108,'MI materialen'!$E:$AS,M$66,FALSE)*$B108*$C108)","v":0},{"$f":"IF($B108=0,0,VLOOKUP($D108,'MI materialen'!$E:$AS,N$66,FALSE)*$B108*$C108)","v":0},{"$f":"IF($B108=0,0,VLOOKUP($D108,'MI materialen'!$E:$AS,O$66,FALSE)*$B108*$C108)","v":0},{"$f":"IF($B108=0,0,VLOOKUP($D108,'MI materialen'!$E:$AS,P$66,FALSE)*$B108*$C108)","v":0},{"$f":"IF($B108=0,0,VLOOKUP($D108,'MI materialen'!$E:$AS,Q$66,FALSE)*$B108*$C108)","v":0},{"$f":"IF($B108=0,0,VLOOKUP($D108,'MI materialen'!$E:$AS,R$66,FALSE)*$B108*$C108)","v":0},{"$f":"IF($B108=0,0,VLOOKUP($D108,'MI materialen'!$E:$AS,S$66,FALSE)*$B108*$C108)","v":0},{"$f":"IF($B108=0,0,VLOOKUP($D108,'MI materialen'!$E:$AS,T$66,FALSE)*$B108*$C108)","v":0},{"$f":"IF($B108=0,0,VLOOKUP($D108,'MI materialen'!$E:$AS,U$66,FALSE)*$B108*$C108)","v":0},{"$f":"IF($B108=0,0,VLOOKUP($D108,'MI materialen'!$E:$AS,V$66,FALSE)*$B108*$C108)","v":0}]
["Som",{"$f":"Invul_Basis_EindeL!$F$21","v":"Leeg"},{"$f":"Invul_Basis_EindeL!$G$21","v":0},null,{"$f":"SUM(E110:E113)","v":0},0,0,0,0,0,0,0,0,0,0,0,0,0,0,0,0,0]
["Stort",{"$f":"IF(Invul_Basis_EindeL!$I$21=\"Standaard\",Invul_Basis_EindeL!$J$21,Invul_Basis_EindeL!$N$21)","v":0},{"$f":"C109","v":0},{"$f":"VLOOKUP($B109,'MI materialen'!B:AS,41,FALSE)","v":0},{"$f":"IF($B110=0,0,VLOOKUP($D110,MKI!E:K,2,FALSE)*$B110*$C110)","v":0},{"$f":"IF($B110=0,0,VLOOKUP($D110,'MI materialen'!$E:$AS,F$66,FALSE)*$B110*$C110)","v":0},{"$f":"IF($B110=0,0,VLOOKUP($D110,'MI materialen'!$E:$AS,G$66,FALSE)*$B110*$C110)","v":0},{"$f":"IF($B110=0,0,VLOOKUP($D110,'MI materialen'!$E:$AS,H$66,FALSE)*$B110*$C110)","v":0},{"$f":"IF($B110=0,0,VLOOKUP($D110,'MI materialen'!$E:$AS,I$66,FALSE)*$B110*$C110)","v":0},{"$f":"IF($B110=0,0,VLOOKUP($D110,'MI materialen'!$E:$AS,J$66,FALSE)*$B110*$C110)","v":0},{"$f":"IF($B110=0,0,VLOOKUP($D110,'MI materialen'!$E:$AS,K$66,FALSE)*$B110*$C110)","v":0},{"$f":"IF($B110=0,0,VLOOKUP($D110,'MI materialen'!$E:$AS,L$66,FALSE)*$B110*$C110)","v":0},{"$f":"IF($B110=0,0,VLOOKUP($D110,'MI materialen'!$E:$AS,M$66,FALSE)*$B110*$C110)","v":0},{"$f":"IF($B110=0,0,VLOOKUP($D110,'MI materialen'!$E:$AS,N$66,FALSE)*$B110*$C110)","v":0},{"$f":"IF($B110=0,0,VLOOKUP($D110,'MI materialen'!$E:$AS,O$66,FALSE)*$B110*$C110)","v":0},{"$f":"IF($B110=0,0,VLOOKUP($D110,'MI materialen'!$E:$AS,P$66,FALSE)*$B110*$C110)","v":0},{"$f":"IF($B110=0,0,VLOOKUP($D110,'MI materialen'!$E:$AS,Q$66,FALSE)*$B110*$C110)","v":0},{"$f":"IF($B110=0,0,VLOOKUP($D110,'MI materialen'!$E:$AS,R$66,FALSE)*$B110*$C110)","v":0},{"$f":"IF($B110=0,0,VLOOKUP($D110,'MI materialen'!$E:$AS,S$66,FALSE)*$B110*$C110)","v":0},{"$f":"IF($B110=0,0,VLOOKUP($D110,'MI materialen'!$E:$AS,T$66,FALSE)*$B110*$C110)","v":0},{"$f":"IF($B110=0,0,VLOOKUP($D110,'MI materialen'!$E:$AS,U$66,FALSE)*$B110*$C110)","v":0},{"$f":"IF($B110=0,0,VLOOKUP($D110,'MI materialen'!$E:$AS,V$66,FALSE)*$B110*$C110)","v":0}]
["Verbranding",{"$f":"IF(Invul_Basis_EindeL!$I$21=\"Standaard\",Invul_Basis_EindeL!$K$21,Invul_Basis_EindeL!$O$21)","v":0},{"$f":"C109","v":0},{"$f":"VLOOKUP($B109,'MI materialen'!B:AS,42,FALSE)","v":0},{"$f":"IF($B111=0,0,VLOOKUP($D111,MKI!E:K,2,FALSE)*$B111*$C111)","v":0},{"$f":"IF($B111=0,0,VLOOKUP($D111,'MI materialen'!$E:$AS,F$66,FALSE)*$B111*$C111)","v":0},{"$f":"IF($B111=0,0,VLOOKUP($D111,'MI materialen'!$E:$AS,G$66,FALSE)*$B111*$C111)","v":0},{"$f":"IF($B111=0,0,VLOOKUP($D111,'MI materialen'!$E:$AS,H$66,FALSE)*$B111*$C111)","v":0},{"$f":"IF($B111=0,0,VLOOKUP($D111,'MI materialen'!$E:$AS,I$66,FALSE)*$B111*$C111)","v":0},{"$f":"IF($B111=0,0,VLOOKUP($D111,'MI materialen'!$E:$AS,J$66,FALSE)*$B111*$C111)","v":0},{"$f":"IF($B111=0,0,VLOOKUP($D111,'MI materialen'!$E:$AS,K$66,FALSE)*$B111*$C111)","v":0},{"$f":"IF($B111=0,0,VLOOKUP($D111,'MI materialen'!$E:$AS,L$66,FALSE)*$B111*$C111)","v":0},{"$f":"IF($B111=0,0,VLOOKUP($D111,'MI materialen'!$E:$AS,M$66,FALSE)*$B111*$C111)","v":0},{"$f":"IF($B111=0,0,VLOOKUP($D111,'MI materialen'!$E:$AS,N$66,FALSE)*$B111*$C111)","v":0},{"$f":"IF($B111=0,0,VLOOKUP($D111,'MI materialen'!$E:$AS,O$66,FALSE)*$B111*$C111)","v":0},{"$f":"IF($B111=0,0,VLOOKUP($D111,'MI materialen'!$E:$AS,P$66,FALSE)*$B111*$C111)","v":0},{"$f":"IF($B111=0,0,VLOOKUP($D111,'MI materialen'!$E:$AS,Q$66,FALSE)*$B111*$C111)","v":0},{"$f":"IF($B111=0,0,VLOOKUP($D111,'MI materialen'!$E:$AS,R$66,FALSE)*$B111*$C111)","v":0},{"$f":"IF($B111=0,0,VLOOKUP($D111,'MI materialen'!$E:$AS,S$66,FALSE)*$B111*$C111)","v":0},{"$f":"IF($B111=0,0,VLOOKUP($D111,'MI materialen'!$E:$AS,T$66,FALSE)*$B111*$C111)","v":0},{"$f":"IF($B111=0,0,VLOOKUP($D111,'MI materialen'!$E:$AS,U$66,FALSE)*$B111*$C111)","v":0},{"$f":"IF($B111=0,0,VLOOKUP($D111,'MI materialen'!$E:$AS,V$66,FALSE)*$B111*$C111)","v":0}]
["Recycling",{"$f":"IF(Invul_Basis_EindeL!$I$21=\"Standaard\",Invul_Basis_EindeL!$L$21,Invul_Basis_EindeL!$P$21)*(100%-Invul_Basis_Materialen!$J$20)","v":0},{"$f":"C109","v":0},{"$f":"VLOOKUP($B109,'MI materialen'!B:AS,43,FALSE)","v":0},{"$f":"IF($B112=0,0,VLOOKUP($D112,MKI!E:K,2,FALSE)*$B112*$C112)","v":0},{"$f":"IF($B112=0,0,VLOOKUP($D112,'MI materialen'!$E:$AS,F$66,FALSE)*$B112*$C112)","v":0},{"$f":"IF($B112=0,0,VLOOKUP($D112,'MI materialen'!$E:$AS,G$66,FALSE)*$B112*$C112)","v":0},{"$f":"IF($B112=0,0,VLOOKUP($D112,'MI materialen'!$E:$AS,H$66,FALSE)*$B112*$C112)","v":0},{"$f":"IF($B112=0,0,VLOOKUP($D112,'MI materialen'!$E:$AS,I$66,FALSE)*$B112*$C112)","v":0},{"$f":"IF($B112=0,0,VLOOKUP($D112,'MI materialen'!$E:$AS,J$66,FALSE)*$B112*$C112)","v":0},{"$f":"IF($B112=0,0,VLOOKUP($D112,'MI materialen'!$E:$AS,K$66,FALSE)*$B112*$C112)","v":0},{"$f":"IF($B112=0,0,VLOOKUP($D112,'MI materialen'!$E:$AS,L$66,FALSE)*$B112*$C112)","v":0},{"$f":"IF($B112=0,0,VLOOKUP($D112,'MI materialen'!$E:$AS,M$66,FALSE)*$B112*$C112)","v":0},{"$f":"IF($B112=0,0,VLOOKUP($D112,'MI materialen'!$E:$AS,N$66,FALSE)*$B112*$C112)","v":0},{"$f":"IF($B112=0,0,VLOOKUP($D112,'MI materialen'!$E:$AS,O$66,FALSE)*$B112*$C112)","v":0},{"$f":"IF($B112=0,0,VLOOKUP($D112,'MI materialen'!$E:$AS,P$66,FALSE)*$B112*$C112)","v":0},{"$f":"IF($B112=0,0,VLOOKUP($D112,'MI materialen'!$E:$AS,Q$66,FALSE)*$B112*$C112)","v":0},{"$f":"IF($B112=0,0,VLOOKUP($D112,'MI materialen'!$E:$AS,R$66,FALSE)*$B112*$C112)","v":0},{"$f":"IF($B112=0,0,VLOOKUP($D112,'MI materialen'!$E:$AS,S$66,FALSE)*$B112*$C112)","v":0},{"$f":"IF($B112=0,0,VLOOKUP($D112,'MI materialen'!$E:$AS,T$66,FALSE)*$B112*$C112)","v":0},{"$f":"IF($B112=0,0,VLOOKUP($D112,'MI materialen'!$E:$AS,U$66,FALSE)*$B112*$C112)","v":0},{"$f":"IF($B112=0,0,VLOOKUP($D112,'MI materialen'!$E:$AS,V$66,FALSE)*$B112*$C112)","v":0}]
["Hergebruik",{"$f":"IF(Invul_Basis_EindeL!$I$21=\"Standaard\",Invul_Basis_EindeL!$M$21,Invul_Basis_EindeL!$Q$21)*(100%-Invul_Basis_Materialen!$J$20)","v":0},{"$f":"C109","v":0},{"$f":"VLOOKUP($B109,'MI materialen'!B:AS,43,FALSE)","v":0},{"$f":"IF($B113=0,0,VLOOKUP($D113,MKI!E:K,2,FALSE)*$B113*$C113)","v":0},{"$f":"IF($B113=0,0,VLOOKUP($D113,'MI materialen'!$E:$AS,F$66,FALSE)*$B113*$C113)","v":0},{"$f":"IF($B113=0,0,VLOOKUP($D113,'MI materialen'!$E:$AS,G$66,FALSE)*$B113*$C113)","v":0},{"$f":"IF($B113=0,0,VLOOKUP($D113,'MI materialen'!$E:$AS,H$66,FALSE)*$B113*$C113)","v":0},{"$f":"IF($B113=0,0,VLOOKUP($D113,'MI materialen'!$E:$AS,I$66,FALSE)*$B113*$C113)","v":0},{"$f":"IF($B113=0,0,VLOOKUP($D113,'MI materialen'!$E:$AS,J$66,FALSE)*$B113*$C113)","v":0},{"$f":"IF($B113=0,0,VLOOKUP($D113,'MI materialen'!$E:$AS,K$66,FALSE)*$B113*$C113)","v":0},{"$f":"IF($B113=0,0,VLOOKUP($D113,'MI materialen'!$E:$AS,L$66,FALSE)*$B113*$C113)","v":0},{"$f":"IF($B113=0,0,VLOOKUP($D113,'MI materialen'!$E:$AS,M$66,FALSE)*$B113*$C113)","v":0},{"$f":"IF($B113=0,0,VLOOKUP($D113,'MI materialen'!$E:$AS,N$66,FALSE)*$B113*$C113)","v":0},{"$f":"IF($B113=0,0,VLOOKUP($D113,'MI materialen'!$E:$AS,O$66,FALSE)*$B113*$C113)","v":0},{"$f":"IF($B113=0,0,VLOOKUP($D113,'MI materialen'!$E:$AS,P$66,FALSE)*$B113*$C113)","v":0},{"$f":"IF($B113=0,0,VLOOKUP($D113,'MI materialen'!$E:$AS,Q$66,FALSE)*$B113*$C113)","v":0},{"$f":"IF($B113=0,0,VLOOKUP($D113,'MI materialen'!$E:$AS,R$66,FALSE)*$B113*$C113)","v":0},{"$f":"IF($B113=0,0,VLOOKUP($D113,'MI materialen'!$E:$AS,S$66,FALSE)*$B113*$C113)","v":0},{"$f":"IF($B113=0,0,VLOOKUP($D113,'MI materialen'!$E:$AS,T$66,FALSE)*$B113*$C113)","v":0},{"$f":"IF($B113=0,0,VLOOKUP($D113,'MI materialen'!$E:$AS,U$66,FALSE)*$B113*$C113)","v":0},{"$f":"IF($B113=0,0,VLOOKUP($D113,'MI materialen'!$E:$AS,V$66,FALSE)*$B113*$C113)","v":0}]
["Som",{"$f":"Invul_Basis_EindeL!$F$22","v":"Leeg"},{"$f":"Invul_Basis_EindeL!$G$22","v":0},null,{"$f":"SUM(E115:E118)","v":0},0,0,0,0,0,0,0,0,0,0,0,0,0,0,0,0,0]
["Stort",{"$f":"IF(Invul_Basis_EindeL!$I$22=\"Standaard\",Invul_Basis_EindeL!$J$22,Invul_Basis_EindeL!$N$22)","v":0},{"$f":"C114","v":0},{"$f":"VLOOKUP($B114,'MI materialen'!B:AS,41,FALSE)","v":0},{"$f":"IF($B115=0,0,VLOOKUP($D115,MKI!E:K,2,FALSE)*$B115*$C115)","v":0},{"$f":"IF($B115=0,0,VLOOKUP($D115,'MI materialen'!$E:$AS,F$66,FALSE)*$B115*$C115)","v":0},{"$f":"IF($B115=0,0,VLOOKUP($D115,'MI materialen'!$E:$AS,G$66,FALSE)*$B115*$C115)","v":0},{"$f":"IF($B115=0,0,VLOOKUP($D115,'MI materialen'!$E:$AS,H$66,FALSE)*$B115*$C115)","v":0},{"$f":"IF($B115=0,0,VLOOKUP($D115,'MI materialen'!$E:$AS,I$66,FALSE)*$B115*$C115)","v":0},{"$f":"IF($B115=0,0,VLOOKUP($D115,'MI materialen'!$E:$AS,J$66,FALSE)*$B115*$C115)","v":0},{"$f":"IF($B115=0,0,VLOOKUP($D115,'MI materialen'!$E:$AS,K$66,FALSE)*$B115*$C115)","v":0},{"$f":"IF($B115=0,0,VLOOKUP($D115,'MI materialen'!$E:$AS,L$66,FALSE)*$B115*$C115)","v":0},{"$f":"IF($B115=0,0,VLOOKUP($D115,'MI materialen'!$E:$AS,M$66,FALSE)*$B115*$C115)","v":0},{"$f":"IF($B115=0,0,VLOOKUP($D115,'MI materialen'!$E:$AS,N$66,FALSE)*$B115*$C115)","v":0},{"$f":"IF($B115=0,0,VLOOKUP($D115,'MI materialen'!$E:$AS,O$66,FALSE)*$B115*$C115)","v":0},{"$f":"IF($B115=0,0,VLOOKUP($D115,'MI materialen'!$E:$AS,P$66,FALSE)*$B115*$C115)","v":0},{"$f":"IF($B115=0,0,VLOOKUP($D115,'MI materialen'!$E:$AS,Q$66,FALSE)*$B115*$C115)","v":0},{"$f":"IF($B115=0,0,VLOOKUP($D115,'MI materialen'!$E:$AS,R$66,FALSE)*$B115*$C115)","v":0},{"$f":"IF($B115=0,0,VLOOKUP($D115,'MI materialen'!$E:$AS,S$66,FALSE)*$B115*$C115)","v":0},{"$f":"IF($B115=0,0,VLOOKUP($D115,'MI materialen'!$E:$AS,T$66,FALSE)*$B115*$C115)","v":0},{"$f":"IF($B115=0,0,VLOOKUP($D115,'MI materialen'!$E:$AS,U$66,FALSE)*$B115*$C115)","v":0},{"$f":"IF($B115=0,0,VLOOKUP($D115,'MI materialen'!$E:$AS,V$66,FALSE)*$B115*$C115)","v":0}]
["Verbranding",{"$f":"IF(Invul_Basis_EindeL!$I$22=\"Standaard\",Invul_Basis_EindeL!$K$22,Invul_Basis_EindeL!$O$22)","v":0},{"$f":"C114","v":0},{"$f":"VLOOKUP($B114,'MI materialen'!B:AS,42,FALSE)","v":0},{"$f":"IF($B116=0,0,VLOOKUP($D116,MKI!E:K,2,FALSE)*$B116*$C116)","v":0},{"$f":"IF($B116=0,0,VLOOKUP($D116,'MI materialen'!$E:$AS,F$66,FALSE)*$B116*$C116)","v":0},{"$f":"IF($B116=0,0,VLOOKUP($D116,'MI materialen'!$E:$AS,G$66,FALSE)*$B116*$C116)","v":0},{"$f":"IF($B116=0,0,VLOOKUP($D116,'MI materialen'!$E:$AS,H$66,FALSE)*$B116*$C116)","v":0},{"$f":"IF($B116=0,0,VLOOKUP($D116,'MI materialen'!$E:$AS,I$66,FALSE)*$B116*$C116)","v":0},{"$f":"IF($B116=0,0,VLOOKUP($D116,'MI materialen'!$E:$AS,J$66,FALSE)*$B116*$C116)","v":0},{"$f":"IF($B116=0,0,VLOOKUP($D116,'MI materialen'!$E:$AS,K$66,FALSE)*$B116*$C116)","v":0},{"$f":"IF($B116=0,0,VLOOKUP($D116,'MI materialen'!$E:$AS,L$66,FALSE)*$B116*$C116)","v":0},{"$f":"IF($B116=0,0,VLOOKUP($D116,'MI materialen'!$E:$AS,M$66,FALSE)*$B116*$C116)","v":0},{"$f":"IF($B116=0,0,VLOOKUP($D116,'MI materialen'!$E:$AS,N$66,FALSE)*$B116*$C116)","v":0},{"$f":"IF($B116=0,0,VLOOKUP($D116,'MI materialen'!$E:$AS,O$66,FALSE)*$B116*$C116)","v":0},{"$f":"IF($B116=0,0,VLOOKUP($D116,'MI materialen'!$E:$AS,P$66,FALSE)*$B116*$C116)","v":0},{"$f":"IF($B116=0,0,VLOOKUP($D116,'MI materialen'!$E:$AS,Q$66,FALSE)*$B116*$C116)","v":0},{"$f":"IF($B116=0,0,VLOOKUP($D116,'MI materialen'!$E:$AS,R$66,FALSE)*$B116*$C116)","v":0},{"$f":"IF($B116=0,0,VLOOKUP($D116,'MI materialen'!$E:$AS,S$66,FALSE)*$B116*$C116)","v":0},{"$f":"IF($B116=0,0,VLOOKUP($D116,'MI materialen'!$E:$AS,T$66,FALSE)*$B116*$C116)","v":0},{"$f":"IF($B116=0,0,VLOOKUP($D116,'MI materialen'!$E:$AS,U$66,FALSE)*$B116*$C116)","v":0},{"$f":"IF($B116=0,0,VLOOKUP($D116,'MI materialen'!$E:$AS,V$66,FALSE)*$B116*$C116)","v":0}]
["Recycling",{"$f":"IF(Invul_Basis_EindeL!$I$22=\"Standaard\",Invul_Basis_EindeL!$L$22,Invul_Basis_EindeL!$P$22)*(100%-Invul_Basis_Materialen!$J$21)","v":0},{"$f":"C114","v":0},{"$f":"VLOOKUP($B114,'MI materialen'!B:AS,43,FALSE)","v":0},{"$f":"IF($B117=0,0,VLOOKUP($D117,MKI!E:K,2,FALSE)*$B117*$C117)","v":0},{"$f":"IF($B117=0,0,VLOOKUP($D117,'MI materialen'!$E:$AS,F$66,FALSE)*$B117*$C117)","v":0},{"$f":"IF($B117=0,0,VLOOKUP($D117,'MI materialen'!$E:$AS,G$66,FALSE)*$B117*$C117)","v":0},{"$f":"IF($B117=0,0,VLOOKUP($D117,'MI materialen'!$E:$AS,H$66,FALSE)*$B117*$C117)","v":0},{"$f":"IF($B117=0,0,VLOOKUP($D117,'MI materialen'!$E:$AS,I$66,FALSE)*$B117*$C117)","v":0},{"$f":"IF($B117=0,0,VLOOKUP($D117,'MI materialen'!$E:$AS,J$66,FALSE)*$B117*$C117)","v":0},{"$f":"IF($B117=0,0,VLOOKUP($D117,'MI materialen'!$E:$AS,K$66,FALSE)*$B117*$C117)","v":0},{"$f":"IF($B117=0,0,VLOOKUP($D117,'MI materialen'!$E:$AS,L$66,FALSE)*$B117*$C117)","v":0},{"$f":"IF($B117=0,0,VLOOKUP($D117,'MI materialen'!$E:$AS,M$66,FALSE)*$B117*$C117)","v":0},{"$f":"IF($B117=0,0,VLOOKUP($D117,'MI materialen'!$E:$AS,N$66,FALSE)*$B117*$C117)","v":0},{"$f":"IF($B117=0,0,VLOOKUP($D117,'MI materialen'!$E:$AS,O$66,FALSE)*$B117*$C117)","v":0},{"$f":"IF($B117=0,0,VLOOKUP($D117,'MI materialen'!$E:$AS,P$66,FALSE)*$B117*$C117)","v":0},{"$f":"IF($B117=0,0,VLOOKUP($D117,'MI materialen'!$E:$AS,Q$66,FALSE)*$B117*$C117)","v":0},{"$f":"IF($B117=0,0,VLOOKUP($D117,'MI materialen'!$E:$AS,R$66,FALSE)*$B117*$C117)","v":0},{"$f":"IF($B117=0,0,VLOOKUP($D117,'MI materialen'!$E:$AS,S$66,FALSE)*$B117*$C117)","v":0},{"$f":"IF($B117=0,0,VLOOKUP($D117,'MI materialen'!$E:$AS,T$66,FALSE)*$B117*$C117)","v":0},{"$f":"IF($B117=0,0,VLOOKUP($D117,'MI materialen'!$E:$AS,U$66,FALSE)*$B117*$C117)","v":0},{"$f":"IF($B117=0,0,VLOOKUP($D117,'MI materialen'!$E:$AS,V$66,FALSE)*$B117*$C117)","v":0}]
["Hergebruik",{"$f":"IF(Invul_Basis_EindeL!$I$22=\"Standaard\",Invul_Basis_EindeL!$M$22,Invul_Basis_EindeL!$Q$22)*(100%-Invul_Basis_Materialen!$J$21)","v":0},{"$f":"C114","v":0},{"$f":"VLOOKUP($B114,'MI materialen'!B:AS,43,FALSE)","v":0},{"$f":"IF($B118=0,0,VLOOKUP($D118,MKI!E:K,2,FALSE)*$B118*$C118)","v":0},{"$f":"IF($B118=0,0,VLOOKUP($D118,'MI materialen'!$E:$AS,F$66,FALSE)*$B118*$C118)","v":0},{"$f":"IF($B118=0,0,VLOOKUP($D118,'MI materialen'!$E:$AS,G$66,FALSE)*$B118*$C118)","v":0},{"$f":"IF($B118=0,0,VLOOKUP($D118,'MI materialen'!$E:$AS,H$66,FALSE)*$B118*$C118)","v":0},{"$f":"IF($B118=0,0,VLOOKUP($D118,'MI materialen'!$E:$AS,I$66,FALSE)*$B118*$C118)","v":0},{"$f":"IF($B118=0,0,VLOOKUP($D118,'MI materialen'!$E:$AS,J$66,FALSE)*$B118*$C118)","v":0},{"$f":"IF($B118=0,0,VLOOKUP($D118,'MI materialen'!$E:$AS,K$66,FALSE)*$B118*$C118)","v":0},{"$f":"IF($B118=0,0,VLOOKUP($D118,'MI materialen'!$E:$AS,L$66,FALSE)*$B118*$C118)","v":0},{"$f":"IF($B118=0,0,VLOOKUP($D118,'MI materialen'!$E:$AS,M$66,FALSE)*$B118*$C118)","v":0},{"$f":"IF($B118=0,0,VLOOKUP($D118,'MI materialen'!$E:$AS,N$66,FALSE)*$B118*$C118)","v":0},{"$f":"IF($B118=0,0,VLOOKUP($D118,'MI materialen'!$E:$AS,O$66,FALSE)*$B118*$C118)","v":0},{"$f":"IF($B118=0,0,VLOOKUP($D118,'MI materialen'!$E:$AS,P$66,FALSE)*$B118*$C118)","v":0},{"$f":"IF($B118=0,0,VLOOKUP($D118,'MI materialen'!$E:$AS,Q$66,FALSE)*$B118*$C118)","v":0},{"$f":"IF($B118=0,0,VLOOKUP($D118,'MI materialen'!$E:$AS,R$66,FALSE)*$B118*$C118)","v":0},{"$f":"IF($B118=0,0,VLOOKUP($D118,'MI materialen'!$E:$AS,S$66,FALSE)*$B118*$C118)","v":0},{"$f":"IF($B118=0,0,VLOOKUP($D118,'MI materialen'!$E:$AS,T$66,FALSE)*$B118*$C118)","v":0},{"$f":"IF($B118=0,0,VLOOKUP($D118,'MI materialen'!$E:$AS,U$66,FALSE)*$B118*$C118)","v":0},{"$f":"IF($B118=0,0,VLOOKUP($D118,'MI materialen'!$E:$AS,V$66,FALSE)*$B118*$C118)","v":0}]
["Som",{"$f":"Invul_Basis_EindeL!$F$23","v":"Leeg"},{"$f":"Invul_Basis_EindeL!$G$23","v":0},null,{"$f":"SUM(E120:E123)","v":0},0,0,0,0,0,0,0,0,0,0,0,0,0,0,0,0,0]
["Stort",{"$f":"IF(Invul_Basis_EindeL!$I$23=\"Standaard\",Invul_Basis_EindeL!$J$23,Invul_Basis_EindeL!$N$23)","v":0},{"$f":"C119","v":0},{"$f":"VLOOKUP($B119,'MI materialen'!B:AS,41,FALSE)","v":0},{"$f":"IF($B120=0,0,VLOOKUP($D120,MKI!E:K,2,FALSE)*$B120*$C120)","v":0},{"$f":"IF($B120=0,0,VLOOKUP($D120,'MI materialen'!$E:$AS,F$66,FALSE)*$B120*$C120)","v":0},{"$f":"IF($B120=0,0,VLOOKUP($D120,'MI materialen'!$E:$AS,G$66,FALSE)*$B120*$C120)","v":0},{"$f":"IF($B120=0,0,VLOOKUP($D120,'MI materialen'!$E:$AS,H$66,FALSE)*$B120*$C120)","v":0},{"$f":"IF($B120=0,0,VLOOKUP($D120,'MI materialen'!$E:$AS,I$66,FALSE)*$B120*$C120)","v":0},{"$f":"IF($B120=0,0,VLOOKUP($D120,'MI materialen'!$E:$AS,J$66,FALSE)*$B120*$C120)","v":0},{"$f":"IF($B120=0,0,VLOOKUP($D120,'MI materialen'!$E:$AS,K$66,FALSE)*$B120*$C120)","v":0},{"$f":"IF($B120=0,0,VLOOKUP($D120,'MI materialen'!$E:$AS,L$66,FALSE)*$B120*$C120)","v":0},{"$f":"IF($B120=0,0,VLOOKUP($D120,'MI materialen'!$E:$AS,M$66,FALSE)*$B120*$C120)","v":0},{"$f":"IF($B120=0,0,VLOOKUP($D120,'MI materialen'!$E:$AS,N$66,FALSE)*$B120*$C120)","v":0},{"$f":"IF($B120=0,0,VLOOKUP($D120,'MI materialen'!$E:$AS,O$66,FALSE)*$B120*$C120)","v":0},{"$f":"IF($B120=0,0,VLOOKUP($D120,'MI materialen'!$E:$AS,P$66,FALSE)*$B120*$C120)","v":0},{"$f":"IF($B120=0,0,VLOOKUP($D120,'MI materialen'!$E:$AS,Q$66,FALSE)*$B120*$C120)","v":0},{"$f":"IF($B120=0,0,VLOOKUP($D120,'MI materialen'!$E:$AS,R$66,FALSE)*$B120*$C120)","v":0},{"$f":"IF($B120=0,0,VLOOKUP($D120,'MI materialen'!$E:$AS,S$66,FALSE)*$B120*$C120)","v":0},{"$f":"IF($B120=0,0,VLOOKUP($D120,'MI materialen'!$E:$AS,T$66,FALSE)*$B120*$C120)","v":0},{"$f":"IF($B120=0,0,VLOOKUP($D120,'MI materialen'!$E:$AS,U$66,FALSE)*$B120*$C120)","v":0},{"$f":"IF($B120=0,0,VLOOKUP($D120,'MI materialen'!$E:$AS,V$66,FALSE)*$B120*$C120)","v":0}]
["Verbranding",{"$f":"IF(Invul_Basis_EindeL!$I$23=\"Standaard\",Invul_Basis_EindeL!$K$23,Invul_Basis_EindeL!$O$23)","v":0},{"$f":"C119","v":0},{"$f":"VLOOKUP($B119,'MI materialen'!B:AS,42,FALSE)","v":0},{"$f":"IF($B121=0,0,VLOOKUP($D121,MKI!E:K,2,FALSE)*$B121*$C121)","v":0},{"$f":"IF($B121=0,0,VLOOKUP($D121,'MI materialen'!$E:$AS,F$66,FALSE)*$B121*$C121)","v":0},{"$f":"IF($B121=0,0,VLOOKUP($D121,'MI materialen'!$E:$AS,G$66,FALSE)*$B121*$C121)","v":0},{"$f":"IF($B121=0,0,VLOOKUP($D121,'MI materialen'!$E:$AS,H$66,FALSE)*$B121*$C121)","v":0},{"$f":"IF($B121=0,0,VLOOKUP($D121,'MI materialen'!$E:$AS,I$66,FALSE)*$B121*$C121)","v":0},{"$f":"IF($B121=0,0,VLOOKUP($D121,'MI materialen'!$E:$AS,J$66,FALSE)*$B121*$C121)","v":0},{"$f":"IF($B121=0,0,VLOOKUP($D121,'MI materialen'!$E:$AS,K$66,FALSE)*$B121*$C121)","v":0},{"$f":"IF($B121=0,0,VLOOKUP($D121,'MI materialen'!$E:$AS,L$66,FALSE)*$B121*$C121)","v":0},{"$f":"IF($B121=0,0,VLOOKUP($D121,'MI materialen'!$E:$AS,M$66,FALSE)*$B121*$C121)","v":0},{"$f":"IF($B121=0,0,VLOOKUP($D121,'MI materialen'!$E:$AS,N$66,FALSE)*$B121*$C121)","v":0},{"$f":"IF($B121=0,0,VLOOKUP($D121,'MI materialen'!$E:$AS,O$66,FALSE)*$B121*$C121)","v":0},{"$f":"IF($B121=0,0,VLOOKUP($D121,'MI materialen'!$E:$AS,P$66,FALSE)*$B121*$C121)","v":0},{"$f":"IF($B121=0,0,VLOOKUP($D121,'MI materialen'!$E:$AS,Q$66,FALSE)*$B121*$C121)","v":0},{"$f":"IF($B121=0,0,VLOOKUP($D121,'MI materialen'!$E:$AS,R$66,FALSE)*$B121*$C121)","v":0},{"$f":"IF($B121=0,0,VLOOKUP($D121,'MI materialen'!$E:$AS,S$66,FALSE)*$B121*$C121)","v":0},{"$f":"IF($B121=0,0,VLOOKUP($D121,'MI materialen'!$E:$AS,T$66,FALSE)*$B121*$C121)","v":0},{"$f":"IF($B121=0,0,VLOOKUP($D121,'MI materialen'!$E:$AS,U$66,FALSE)*$B121*$C121)","v":0},{"$f":"IF($B121=0,0,VLOOKUP($D121,'MI materialen'!$E:$AS,V$66,FALSE)*$B121*$C121)","v":0}]
["Recycling",{"$f":"IF(Invul_Basis_EindeL!$I$23=\"Standaard\",Invul_Basis_EindeL!$L$23,Invul_Basis_EindeL!$P$23)*(100%-Invul_Basis_Materialen!$J$22)","v":0},{"$f":"C119","v":0},{"$f":"VLOOKUP($B119,'MI materialen'!B:AS,43,FALSE)","v":0},{"$f":"IF($B122=0,0,VLOOKUP($D122,MKI!E:K,2,FALSE)*$B122*$C122)","v":0},{"$f":"IF($B122=0,0,VLOOKUP($D122,'MI materialen'!$E:$AS,F$66,FALSE)*$B122*$C122)","v":0},{"$f":"IF($B122=0,0,VLOOKUP($D122,'MI materialen'!$E:$AS,G$66,FALSE)*$B122*$C122)","v":0},{"$f":"IF($B122=0,0,VLOOKUP($D122,'MI materialen'!$E:$AS,H$66,FALSE)*$B122*$C122)","v":0},{"$f":"IF($B122=0,0,VLOOKUP($D122,'MI materialen'!$E:$AS,I$66,FALSE)*$B122*$C122)","v":0},{"$f":"IF($B122=0,0,VLOOKUP($D122,'MI materialen'!$E:$AS,J$66,FALSE)*$B122*$C122)","v":0},{"$f":"IF($B122=0,0,VLOOKUP($D122,'MI materialen'!$E:$AS,K$66,FALSE)*$B122*$C122)","v":0},{"$f":"IF($B122=0,0,VLOOKUP($D122,'MI materialen'!$E:$AS,L$66,FALSE)*$B122*$C122)","v":0},{"$f":"IF($B122=0,0,VLOOKUP($D122,'MI materialen'!$E:$AS,M$66,FALSE)*$B122*$C122)","v":0},{"$f":"IF($B122=0,0,VLOOKUP($D122,'MI materialen'!$E:$AS,N$66,FALSE)*$B122*$C122)","v":0},{"$f":"IF($B122=0,0,VLOOKUP($D122,'MI materialen'!$E:$AS,O$66,FALSE)*$B122*$C122)","v":0},{"$f":"IF($B122=0,0,VLOOKUP($D122,'MI materialen'!$E:$AS,P$66,FALSE)*$B122*$C122)","v":0},{"$f":"IF($B122=0,0,VLOOKUP($D122,'MI materialen'!$E:$AS,Q$66,FALSE)*$B122*$C122)","v":0},{"$f":"IF($B122=0,0,VLOOKUP($D122,'MI materialen'!$E:$AS,R$66,FALSE)*$B122*$C122)","v":0},{"$f":"IF($B122=0,0,VLOOKUP($D122,'MI materialen'!$E:$AS,S$66,FALSE)*$B122*$C122)","v":0},{"$f":"IF($B122=0,0,VLOOKUP($D122,'MI materialen'!$E:$AS,T$66,FALSE)*$B122*$C122)","v":0},{"$f":"IF($B122=0,0,VLOOKUP($D122,'MI materialen'!$E:$AS,U$66,FALSE)*$B122*$C122)","v":0},{"$f":"IF($B122=0,0,VLOOKUP($D122,'MI materialen'!$E:$AS,V$66,FALSE)*$B122*$C122)","v":0}]
["Hergebruik",{"$f":"IF(Invul_Basis_EindeL!$I$23=\"Standaard\",Invul_Basis_EindeL!$M$23,Invul_Basis_EindeL!$Q$23)*(100%-Invul_Basis_Materialen!$J$22)","v":0},{"$f":"C119","v":0},{"$f":"VLOOKUP($B119,'MI materialen'!B:AS,43,FALSE)","v":0},{"$f":"IF($B123=0,0,VLOOKUP($D123,MKI!E:K,2,FALSE)*$B123*$C123)","v":0},{"$f":"IF($B123=0,0,VLOOKUP($D123,'MI materialen'!$E:$AS,F$66,FALSE)*$B123*$C123)","v":0},{"$f":"IF($B123=0,0,VLOOKUP($D123,'MI materialen'!$E:$AS,G$66,FALSE)*$B123*$C123)","v":0},{"$f":"IF($B123=0,0,VLOOKUP($D123,'MI materialen'!$E:$AS,H$66,FALSE)*$B123*$C123)","v":0},{"$f":"IF($B123=0,0,VLOOKUP($D123,'MI materialen'!$E:$AS,I$66,FALSE)*$B123*$C123)","v":0},{"$f":"IF($B123=0,0,VLOOKUP($D123,'MI materialen'!$E:$AS,J$66,FALSE)*$B123*$C123)","v":0},{"$f":"IF($B123=0,0,VLOOKUP($D123,'MI materialen'!$E:$AS,K$66,FALSE)*$B123*$C123)","v":0},{"$f":"IF($B123=0,0,VLOOKUP($D123,'MI materialen'!$E:$AS,L$66,FALSE)*$B123*$C123)","v":0},{"$f":"IF($B123=0,0,VLOOKUP($D123,'MI materialen'!$E:$AS,M$66,FALSE)*$B123*$C123)","v":0},{"$f":"IF($B123=0,0,VLOOKUP($D123,'MI materialen'!$E:$AS,N$66,FALSE)*$B123*$C123)","v":0},{"$f":"IF($B123=0,0,VLOOKUP($D123,'MI materialen'!$E:$AS,O$66,FALSE)*$B123*$C123)","v":0},{"$f":"IF($B123=0,0,VLOOKUP($D123,'MI materialen'!$E:$AS,P$66,FALSE)*$B123*$C123)","v":0},{"$f":"IF($B123=0,0,VLOOKUP($D123,'MI materialen'!$E:$AS,Q$66,FALSE)*$B123*$C123)","v":0},{"$f":"IF($B123=0,0,VLOOKUP($D123,'MI materialen'!$E:$AS,R$66,FALSE)*$B123*$C123)","v":0},{"$f":"IF($B123=0,0,VLOOKUP($D123,'MI materialen'!$E:$AS,S$66,FALSE)*$B123*$C123)","v":0},{"$f":"IF($B123=0,0,VLOOKUP($D123,'MI materialen'!$E:$AS,T$66,FALSE)*$B123*$C123)","v":0},{"$f":"IF($B123=0,0,VLOOKUP($D123,'MI materialen'!$E:$AS,U$66,FALSE)*$B123*$C123)","v":0},{"$f":"IF($B123=0,0,VLOOKUP($D123,'MI materialen'!$E:$AS,V$66,FALSE)*$B123*$C123)","v":0}]
["Som",{"$f":"Invul_Basis_EindeL!$F$24","v":"Leeg"},{"$f":"Invul_Basis_EindeL!$G$24","v":0},null,{"$f":"SUM(E125:E128)","v":0},0,0,0,0,0,0,0,0,0,0,0,0,0,0,0,0,0]
["Stort",{"$f":"IF(Invul_Basis_EindeL!$I$24=\"Standaard\",Invul_Basis_EindeL!$J$24,Invul_Basis_EindeL!$N$24)","v":0},{"$f":"C124","v":0},{"$f":"VLOOKUP($B124,'MI materialen'!B:AS,41,FALSE)","v":0},{"$f":"IF($B125=0,0,VLOOKUP($D125,MKI!E:K,2,FALSE)*$B125*$C125)","v":0},{"$f":"IF($B125=0,0,VLOOKUP($D125,'MI materialen'!$E:$AS,F$66,FALSE)*$B125*$C125)","v":0},{"$f":"IF($B125=0,0,VLOOKUP($D125,'MI materialen'!$E:$AS,G$66,FALSE)*$B125*$C125)","v":0},{"$f":"IF($B125=0,0,VLOOKUP($D125,'MI materialen'!$E:$AS,H$66,FALSE)*$B125*$C125)","v":0},{"$f":"IF($B125=0,0,VLOOKUP($D125,'MI materialen'!$E:$AS,I$66,FALSE)*$B125*$C125)","v":0},{"$f":"IF($B125=0,0,VLOOKUP($D125,'MI materialen'!$E:$AS,J$66,FALSE)*$B125*$C125)","v":0},{"$f":"IF($B125=0,0,VLOOKUP($D125,'MI materialen'!$E:$AS,K$66,FALSE)*$B125*$C125)","v":0},{"$f":"IF($B125=0,0,VLOOKUP($D125,'MI materialen'!$E:$AS,L$66,FALSE)*$B125*$C125)","v":0},{"$f":"IF($B125=0,0,VLOOKUP($D125,'MI materialen'!$E:$AS,M$66,FALSE)*$B125*$C125)","v":0},{"$f":"IF($B125=0,0,VLOOKUP($D125,'MI materialen'!$E:$AS,N$66,FALSE)*$B125*$C125)","v":0},{"$f":"IF($B125=0,0,VLOOKUP($D125,'MI materialen'!$E:$AS,O$66,FALSE)*$B125*$C125)","v":0},{"$f":"IF($B125=0,0,VLOOKUP($D125,'MI materialen'!$E:$AS,P$66,FALSE)*$B125*$C125)","v":0},{"$f":"IF($B125=0,0,VLOOKUP($D125,'MI materialen'!$E:$AS,Q$66,FALSE)*$B125*$C125)","v":0},{"$f":"IF($B125=0,0,VLOOKUP($D125,'MI materialen'!$E:$AS,R$66,FALSE)*$B125*$C125)","v":0},{"$f":"IF($B125=0,0,VLOOKUP($D125,'MI materialen'!$E:$AS,S$66,FALSE)*$B125*$C125)","v":0},{"$f":"IF($B125=0,0,VLOOKUP($D125,'MI materialen'!$E:$AS,T$66,FALSE)*$B125*$C125)","v":0},{"$f":"IF($B125=0,0,VLOOKUP($D125,'MI materialen'!$E:$AS,U$66,FALSE)*$B125*$C125)","v":0},{"$f":"IF($B125=0,0,VLOOKUP($D125,'MI materialen'!$E:$AS,V$66,FALSE)*$B125*$C125)","v":0}]
["Verbranding",{"$f":"IF(Invul_Basis_EindeL!$I$24=\"Standaard\",Invul_Basis_EindeL!$K$24,Invul_Basis_EindeL!$O$24)","v":0},{"$f":"C124","v":0},{"$f":"VLOOKUP($B124,'MI materialen'!B:AS,42,FALSE)","v":0},{"$f":"IF($B126=0,0,VLOOKUP($D126,MKI!E:K,2,FALSE)*$B126*$C126)","v":0},{"$f":"IF($B126=0,0,VLOOKUP($D126,'MI materialen'!$E:$AS,F$66,FALSE)*$B126*$C126)","v":0},{"$f":"IF($B126=0,0,VLOOKUP($D126,'MI materialen'!$E:$AS,G$66,FALSE)*$B126*$C126)","v":0},{"$f":"IF($B126=0,0,VLOOKUP($D126,'MI materialen'!$E:$AS,H$66,FALSE)*$B126*$C126)","v":0},{"$f":"IF($B126=0,0,VLOOKUP($D126,'MI materialen'!$E:$AS,I$66,FALSE)*$B126*$C126)","v":0},{"$f":"IF($B126=0,0,VLOOKUP($D126,'MI materialen'!$E:$AS,J$66,FALSE)*$B126*$C126)","v":0},{"$f":"IF($B126=0,0,VLOOKUP($D126,'MI materialen'!$E:$AS,K$66,FALSE)*$B126*$C126)","v":0},{"$f":"IF($B126=0,0,VLOOKUP($D126,'MI materialen'!$E:$AS,L$66,FALSE)*$B126*$C126)","v":0},{"$f":"IF($B126=0,0,VLOOKUP($D126,'MI materialen'!$E:$AS,M$66,FALSE)*$B126*$C126)","v":0},{"$f":"IF($B126=0,0,VLOOKUP($D126,'MI materialen'!$E:$AS,N$66,FALSE)*$B126*$C126)","v":0},{"$f":"IF($B126=0,0,VLOOKUP($D126,'MI materialen'!$E:$AS,O$66,FALSE)*$B126*$C126)","v":0},{"$f":"IF($B126=0,0,VLOOKUP($D126,'MI materialen'!$E:$AS,P$66,FALSE)*$B126*$C126)","v":0},{"$f":"IF($B126=0,0,VLOOKUP($D126,'MI materialen'!$E:$AS,Q$66,FALSE)*$B126*$C126)","v":0},{"$f":"IF($B126=0,0,VLOOKUP($D126,'MI materialen'!$E:$AS,R$66,FALSE)*$B126*$C126)","v":0},{"$f":"IF($B126=0,0,VLOOKUP($D126,'MI materialen'!$E:$AS,S$66,FALSE)*$B126*$C126)","v":0},{"$f":"IF($B126=0,0,VLOOKUP($D126,'MI materialen'!$E:$AS,T$66,FALSE)*$B126*$C126)","v":0},{"$f":"IF($B126=0,0,VLOOKUP($D126,'MI materialen'!$E:$AS,U$66,FALSE)*$B126*$C126)","v":0},{"$f":"IF($B126=0,0,VLOOKUP($D126,'MI materialen'!$E:$AS,V$66,FALSE)*$B126*$C126)","v":0}]
["Recycling",{"$f":"IF(Invul_Basis_EindeL!$I$24=\"Standaard\",Invul_Basis_EindeL!$L$24,Invul_Basis_EindeL!$P$24)*(100%-Invul_Basis_Materialen!$J$23)","v":0},{"$f":"C124","v":0},{"$f":"VLOOKUP($B124,'MI materialen'!B:AS,43,FALSE)","v":0},{"$f":"IF($B127=0,0,VLOOKUP($D127,MKI!E:K,2,FALSE)*$B127*$C127)","v":0},{"$f":"IF($B127=0,0,VLOOKUP($D127,'MI materialen'!$E:$AS,F$66,FALSE)*$B127*$C127)","v":0},{"$f":"IF($B127=0,0,VLOOKUP($D127,'MI materialen'!$E:$AS,G$66,FALSE)*$B127*$C127)","v":0},{"$f":"IF($B127=0,0,VLOOKUP($D127,'MI materialen'!$E:$AS,H$66,FALSE)*$B127*$C127)","v":0},{"$f":"IF($B127=0,0,VLOOKUP($D127,'MI materialen'!$E:$AS,I$66,FALSE)*$B127*$C127)","v":0},{"$f":"IF($B127=0,0,VLOOKUP($D127,'MI materialen'!$E:$AS,J$66,FALSE)*$B127*$C127)","v":0},{"$f":"IF($B127=0,0,VLOOKUP($D127,'MI materialen'!$E:$AS,K$66,FALSE)*$B127*$C127)","v":0},{"$f":"IF($B127=0,0,VLOOKUP($D127,'MI materialen'!$E:$AS,L$66,FALSE)*$B127*$C127)","v":0},{"$f":"IF($B127=0,0,VLOOKUP($D127,'MI materialen'!$E:$AS,M$66,FALSE)*$B127*$C127)","v":0},{"$f":"IF($B127=0,0,VLOOKUP($D127,'MI materialen'!$E:$AS,N$66,FALSE)*$B127*$C127)","v":0},{"$f":"IF($B127=0,0,VLOOKUP($D127,'MI materialen'!$E:$AS,O$66,FALSE)*$B127*$C127)","v":0},{"$f":"IF($B127=0,0,VLOOKUP($D127,'MI materialen'!$E:$AS,P$66,FALSE)*$B127*$C127)","v":0},{"$f":"IF($B127=0,0,VLOOKUP($D127,'MI materialen'!$E:$AS,Q$66,FALSE)*$B127*$C127)","v":0},{"$f":"IF($B127=0,0,VLOOKUP($D127,'MI materialen'!$E:$AS,R$66,FALSE)*$B127*$C127)","v":0},{"$f":"IF($B127=0,0,VLOOKUP($D127,'MI materialen'!$E:$AS,S$66,FALSE)*$B127*$C127)","v":0},{"$f":"IF($B127=0,0,VLOOKUP($D127,'MI materialen'!$E:$AS,T$66,FALSE)*$B127*$C127)","v":0},{"$f":"IF($B127=0,0,VLOOKUP($D127,'MI materialen'!$E:$AS,U$66,FALSE)*$B127*$C127)","v":0},{"$f":"IF($B127=0,0,VLOOKUP($D127,'MI materialen'!$E:$AS,V$66,FALSE)*$B127*$C127)","v":0}]
["Hergebruik",{"$f":"IF(Invul_Basis_EindeL!$I$24=\"Standaard\",Invul_Basis_EindeL!$M$24,Invul_Basis_EindeL!$Q$24)*(100%-Invul_Basis_Materialen!$J$23)","v":0},{"$f":"C124","v":0},{"$f":"VLOOKUP($B124,'MI materialen'!B:AS,43,FALSE)","v":0},{"$f":"IF($B128=0,0,VLOOKUP($D128,MKI!E:K,2,FALSE)*$B128*$C128)","v":0},{"$f":"IF($B128=0,0,VLOOKUP($D128,'MI materialen'!$E:$AS,F$66,FALSE)*$B128*$C128)","v":0},{"$f":"IF($B128=0,0,VLOOKUP($D128,'MI materialen'!$E:$AS,G$66,FALSE)*$B128*$C128)","v":0},{"$f":"IF($B128=0,0,VLOOKUP($D128,'MI materialen'!$E:$AS,H$66,FALSE)*$B128*$C128)","v":0},{"$f":"IF($B128=0,0,VLOOKUP($D128,'MI materialen'!$E:$AS,I$66,FALSE)*$B128*$C128)","v":0},{"$f":"IF($B128=0,0,VLOOKUP($D128,'MI materialen'!$E:$AS,J$66,FALSE)*$B128*$C128)","v":0},{"$f":"IF($B128=0,0,VLOOKUP($D128,'MI materialen'!$E:$AS,K$66,FALSE)*$B128*$C128)","v":0},{"$f":"IF($B128=0,0,VLOOKUP($D128,'MI materialen'!$E:$AS,L$66,FALSE)*$B128*$C128)","v":0},{"$f":"IF($B128=0,0,VLOOKUP($D128,'MI materialen'!$E:$AS,M$66,FALSE)*$B128*$C128)","v":0},{"$f":"IF($B128=0,0,VLOOKUP($D128,'MI materialen'!$E:$AS,N$66,FALSE)*$B128*$C128)","v":0},{"$f":"IF($B128=0,0,VLOOKUP($D128,'MI materialen'!$E:$AS,O$66,FALSE)*$B128*$C128)","v":0},{"$f":"IF($B128=0,0,VLOOKUP($D128,'MI materialen'!$E:$AS,P$66,FALSE)*$B128*$C128)","v":0},{"$f":"IF($B128=0,0,VLOOKUP($D128,'MI materialen'!$E:$AS,Q$66,FALSE)*$B128*$C128)","v":0},{"$f":"IF($B128=0,0,VLOOKUP($D128,'MI materialen'!$E:$AS,R$66,FALSE)*$B128*$C128)","v":0},{"$f":"IF($B128=0,0,VLOOKUP($D128,'MI materialen'!$E:$AS,S$66,FALSE)*$B128*$C128)","v":0},{"$f":"IF($B128=0,0,VLOOKUP($D128,'MI materialen'!$E:$AS,T$66,FALSE)*$B128*$C128)","v":0},{"$f":"IF($B128=0,0,VLOOKUP($D128,'MI materialen'!$E:$AS,U$66,FALSE)*$B128*$C128)","v":0},{"$f":"IF($B128=0,0,VLOOKUP($D128,'MI materialen'!$E:$AS,V$66,FALSE)*$B128*$C128)","v":0}]
["Som",{"$f":"Invul_Basis_EindeL!$F$25","v":"Leeg"},{"$f":"Invul_Basis_EindeL!$G$25","v":0},null,{"$f":"SUM(E130:E133)","v":0},0,0,0,0,0,0,0,0,0,0,0,0,0,0,0,0,0]
["Stort",{"$f":"IF(Invul_Basis_EindeL!$I$25=\"Standaard\",Invul_Basis_EindeL!$J$25,Invul_Basis_EindeL!$N$25)","v":0},{"$f":"C129","v":0},{"$f":"VLOOKUP($B129,'MI materialen'!B:AS,41,FALSE)","v":0},{"$f":"IF($B130=0,0,VLOOKUP($D130,MKI!E:K,2,FALSE)*$B130*$C130)","v":0},{"$f":"IF($B130=0,0,VLOOKUP($D130,'MI materialen'!$E:$AS,F$66,FALSE)*$B130*$C130)","v":0},{"$f":"IF($B130=0,0,VLOOKUP($D130,'MI materialen'!$E:$AS,G$66,FALSE)*$B130*$C130)","v":0},{"$f":"IF($B130=0,0,VLOOKUP($D130,'MI materialen'!$E:$AS,H$66,FALSE)*$B130*$C130)","v":0},{"$f":"IF($B130=0,0,VLOOKUP($D130,'MI materialen'!$E:$AS,I$66,FALSE)*$B130*$C130)","v":0},{"$f":"IF($B130=0,0,VLOOKUP($D130,'MI materialen'!$E:$AS,J$66,FALSE)*$B130*$C130)","v":0},{"$f":"IF($B130=0,0,VLOOKUP($D130,'MI materialen'!$E:$AS,K$66,FALSE)*$B130*$C130)","v":0},{"$f":"IF($B130=0,0,VLOOKUP($D130,'MI materialen'!$E:$AS,L$66,FALSE)*$B130*$C130)","v":0},{"$f":"IF($B130=0,0,VLOOKUP($D130,'MI materialen'!$E:$AS,M$66,FALSE)*$B130*$C130)","v":0},{"$f":"IF($B130=0,0,VLOOKUP($D130,'MI materialen'!$E:$AS,N$66,FALSE)*$B130*$C130)","v":0},{"$f":"IF($B130=0,0,VLOOKUP($D130,'MI materialen'!$E:$AS,O$66,FALSE)*$B130*$C130)","v":0},{"$f":"IF($B130=0,0,VLOOKUP($D130,'MI materialen'!$E:$AS,P$66,FALSE)*$B130*$C130)","v":0},{"$f":"IF($B130=0,0,VLOOKUP($D130,'MI materialen'!$E:$AS,Q$66,FALSE)*$B130*$C130)","v":0},{"$f":"IF($B130=0,0,VLOOKUP($D130,'MI materialen'!$E:$AS,R$66,FALSE)*$B130*$C130)","v":0},{"$f":"IF($B130=0,0,VLOOKUP($D130,'MI materialen'!$E:$AS,S$66,FALSE)*$B130*$C130)","v":0},{"$f":"IF($B130=0,0,VLOOKUP($D130,'MI materialen'!$E:$AS,T$66,FALSE)*$B130*$C130)","v":0},{"$f":"IF($B130=0,0,VLOOKUP($D130,'MI materialen'!$E:$AS,U$66,FALSE)*$B130*$C130)","v":0},{"$f":"IF($B130=0,0,VLOOKUP($D130,'MI materialen'!$E:$AS,V$66,FALSE)*$B130*$C130)","v":0}]
["Verbranding",{"$f":"IF(Invul_Basis_EindeL!$I$25=\"Standaard\",Invul_Basis_EindeL!$K$25,Invul_Basis_EindeL!$O$25)","v":0},{"$f":"C129","v":0},{"$f":"VLOOKUP($B129,'MI materialen'!B:AS,42,FALSE)","v":0},{"$f":"IF($B131=0,0,VLOOKUP($D131,MKI!E:K,2,FALSE)*$B131*$C131)","v":0},{"$f":"IF($B131=0,0,VLOOKUP($D131,'MI materialen'!$E:$AS,F$66,FALSE)*$B131*$C131)","v":0},{"$f":"IF($B131=0,0,VLOOKUP($D131,'MI materialen'!$E:$AS,G$66,FALSE)*$B131*$C131)","v":0},{"$f":"IF($B131=0,0,VLOOKUP($D131,'MI materialen'!$E:$AS,H$66,FALSE)*$B131*$C131)","v":0},{"$f":"IF($B131=0,0,VLOOKUP($D131,'MI materialen'!$E:$AS,I$66,FALSE)*$B131*$C131)","v":0},{"$f":"IF($B131=0,0,VLOOKUP($D131,'MI materialen'!$E:$AS,J$66,FALSE)*$B131*$C131)","v":0},{"$f":"IF($B131=0,0,VLOOKUP($D131,'MI materialen'!$E:$AS,K$66,FALSE)*$B131*$C131)","v":0},{"$f":"IF($B131=0,0,VLOOKUP($D131,'MI materialen'!$E:$AS,L$66,FALSE)*$B131*$C131)","v":0},{"$f":"IF($B131=0,0,VLOOKUP($D131,'MI materialen'!$E:$AS,M$66,FALSE)*$B131*$C131)","v":0},{"$f":"IF($B131=0,0,VLOOKUP($D131,'MI materialen'!$E:$AS,N$66,FALSE)*$B131*$C131)","v":0},{"$f":"IF($B131=0,0,VLOOKUP($D131,'MI materialen'!$E:$AS,O$66,FALSE)*$B131*$C131)","v":0},{"$f":"IF($B131=0,0,VLOOKUP($D131,'MI materialen'!$E:$AS,P$66,FALSE)*$B131*$C131)","v":0},{"$f":"IF($B131=0,0,VLOOKUP($D131,'MI materialen'!$E:$AS,Q$66,FALSE)*$B131*$C131)","v":0},{"$f":"IF($B131=0,0,VLOOKUP($D131,'MI materialen'!$E:$AS,R$66,FALSE)*$B131*$C131)","v":0},{"$f":"IF($B131=0,0,VLOOKUP($D131,'MI materialen'!$E:$AS,S$66,FALSE)*$B131*$C131)","v":0},{"$f":"IF($B131=0,0,VLOOKUP($D131,'MI materialen'!$E:$AS,T$66,FALSE)*$B131*$C131)","v":0},{"$f":"IF($B131=0,0,VLOOKUP($D131,'MI materialen'!$E:$AS,U$66,FALSE)*$B131*$C131)","v":0},{"$f":"IF($B131=0,0,VLOOKUP($D131,'MI materialen'!$E:$AS,V$66,FALSE)*$B131*$C131)","v":0}]
["Recycling",{"$f":"IF(Invul_Basis_EindeL!$I$25=\"Standaard\",Invul_Basis_EindeL!$L$25,Invul_Basis_EindeL!$P$25)*(100%-Invul_Basis_Materialen!$J$24)","v":0},{"$f":"C129","v":0},{"$f":"VLOOKUP($B129,'MI materialen'!B:AS,43,FALSE)","v":0},{"$f":"IF($B132=0,0,VLOOKUP($D132,MKI!E:K,2,FALSE)*$B132*$C132)","v":0},{"$f":"IF($B132=0,0,VLOOKUP($D132,'MI materialen'!$E:$AS,F$66,FALSE)*$B132*$C132)","v":0},{"$f":"IF($B132=0,0,VLOOKUP($D132,'MI materialen'!$E:$AS,G$66,FALSE)*$B132*$C132)","v":0},{"$f":"IF($B132=0,0,VLOOKUP($D132,'MI materialen'!$E:$AS,H$66,FALSE)*$B132*$C132)","v":0},{"$f":"IF($B132=0,0,VLOOKUP($D132,'MI materialen'!$E:$AS,I$66,FALSE)*$B132*$C132)","v":0},{"$f":"IF($B132=0,0,VLOOKUP($D132,'MI materialen'!$E:$AS,J$66,FALSE)*$B132*$C132)","v":0},{"$f":"IF($B132=0,0,VLOOKUP($D132,'MI materialen'!$E:$AS,K$66,FALSE)*$B132*$C132)","v":0},{"$f":"IF($B132=0,0,VLOOKUP($D132,'MI materialen'!$E:$AS,L$66,FALSE)*$B132*$C132)","v":0},{"$f":"IF($B132=0,0,VLOOKUP($D132,'MI materialen'!$E:$AS,M$66,FALSE)*$B132*$C132)","v":0},{"$f":"IF($B132=0,0,VLOOKUP($D132,'MI materialen'!$E:$AS,N$66,FALSE)*$B132*$C132)","v":0},{"$f":"IF($B132=0,0,VLOOKUP($D132,'MI materialen'!$E:$AS,O$66,FALSE)*$B132*$C132)","v":0},{"$f":"IF($B132=0,0,VLOOKUP($D132,'MI materialen'!$E:$AS,P$66,FALSE)*$B132*$C132)","v":0},{"$f":"IF($B132=0,0,VLOOKUP($D132,'MI materialen'!$E:$AS,Q$66,FALSE)*$B132*$C132)","v":0},{"$f":"IF($B132=0,0,VLOOKUP($D132,'MI materialen'!$E:$AS,R$66,FALSE)*$B132*$C132)","v":0},{"$f":"IF($B132=0,0,VLOOKUP($D132,'MI materialen'!$E:$AS,S$66,FALSE)*$B132*$C132)","v":0},{"$f":"IF($B132=0,0,VLOOKUP($D132,'MI materialen'!$E:$AS,T$66,FALSE)*$B132*$C132)","v":0},{"$f":"IF($B132=0,0,VLOOKUP($D132,'MI materialen'!$E:$AS,U$66,FALSE)*$B132*$C132)","v":0},{"$f":"IF($B132=0,0,VLOOKUP($D132,'MI materialen'!$E:$AS,V$66,FALSE)*$B132*$C132)","v":0}]
["Hergebruik",{"$f":"IF(Invul_Basis_EindeL!$I$25=\"Standaard\",Invul_Basis_EindeL!$M$25,Invul_Basis_EindeL!$Q$25)*(100%-Invul_Basis_Materialen!$J$24)","v":0},{"$f":"C129","v":0},{"$f":"VLOOKUP($B129,'MI materialen'!B:AS,43,FALSE)","v":0},{"$f":"IF($B133=0,0,VLOOKUP($D133,MKI!E:K,2,FALSE)*$B133*$C133)","v":0},{"$f":"IF($B133=0,0,VLOOKUP($D133,'MI materialen'!$E:$AS,F$66,FALSE)*$B133*$C133)","v":0},{"$f":"IF($B133=0,0,VLOOKUP($D133,'MI materialen'!$E:$AS,G$66,FALSE)*$B133*$C133)","v":0},{"$f":"IF($B133=0,0,VLOOKUP($D133,'MI materialen'!$E:$AS,H$66,FALSE)*$B133*$C133)","v":0},{"$f":"IF($B133=0,0,VLOOKUP($D133,'MI materialen'!$E:$AS,I$66,FALSE)*$B133*$C133)","v":0},{"$f":"IF($B133=0,0,VLOOKUP($D133,'MI materialen'!$E:$AS,J$66,FALSE)*$B133*$C133)","v":0},{"$f":"IF($B133=0,0,VLOOKUP($D133,'MI materialen'!$E:$AS,K$66,FALSE)*$B133*$C133)","v":0},{"$f":"IF($B133=0,0,VLOOKUP($D133,'MI materialen'!$E:$AS,L$66,FALSE)*$B133*$C133)","v":0},{"$f":"IF($B133=0,0,VLOOKUP($D133,'MI materialen'!$E:$AS,M$66,FALSE)*$B133*$C133)","v":0},{"$f":"IF($B133=0,0,VLOOKUP($D133,'MI materialen'!$E:$AS,N$66,FALSE)*$B133*$C133)","v":0},{"$f":"IF($B133=0,0,VLOOKUP($D133,'MI materialen'!$E:$AS,O$66,FALSE)*$B133*$C133)","v":0},{"$f":"IF($B133=0,0,VLOOKUP($D133,'MI materialen'!$E:$AS,P$66,FALSE)*$B133*$C133)","v":0},{"$f":"IF($B133=0,0,VLOOKUP($D133,'MI materialen'!$E:$AS,Q$66,FALSE)*$B133*$C133)","v":0},{"$f":"IF($B133=0,0,VLOOKUP($D133,'MI materialen'!$E:$AS,R$66,FALSE)*$B133*$C133)","v":0},{"$f":"IF($B133=0,0,VLOOKUP($D133,'MI materialen'!$E:$AS,S$66,FALSE)*$B133*$C133)","v":0},{"$f":"IF($B133=0,0,VLOOKUP($D133,'MI materialen'!$E:$AS,T$66,FALSE)*$B133*$C133)","v":0},{"$f":"IF($B133=0,0,VLOOKUP($D133,'MI materialen'!$E:$AS,U$66,FALSE)*$B133*$C133)","v":0},{"$f":"IF($B133=0,0,VLOOKUP($D133,'MI materialen'!$E:$AS,V$66,FALSE)*$B133*$C133)","v":0}]
["Som",{"$f":"Invul_Basis_EindeL!$F$26","v":"Leeg"},{"$f":"Invul_Basis_EindeL!$G$26","v":0},null,{"$f":"SUM(E135:E138)","v":0},0,0,0,0,0,0,0,0,0,0,0,0,0,0,0,0,0]
["Stort",{"$f":"IF(Invul_Basis_EindeL!$I$26=\"Standaard\",Invul_Basis_EindeL!$J$26,Invul_Basis_EindeL!$N$26)","v":0},{"$f":"C134","v":0},{"$f":"VLOOKUP($B134,'MI materialen'!B:AS,41,FALSE)","v":0},{"$f":"IF($B135=0,0,VLOOKUP($D135,MKI!E:K,2,FALSE)*$B135*$C135)","v":0},{"$f":"IF($B135=0,0,VLOOKUP($D135,'MI materialen'!$E:$AS,F$66,FALSE)*$B135*$C135)","v":0},{"$f":"IF($B135=0,0,VLOOKUP($D135,'MI materialen'!$E:$AS,G$66,FALSE)*$B135*$C135)","v":0},{"$f":"IF($B135=0,0,VLOOKUP($D135,'MI materialen'!$E:$AS,H$66,FALSE)*$B135*$C135)","v":0},{"$f":"IF($B135=0,0,VLOOKUP($D135,'MI materialen'!$E:$AS,I$66,FALSE)*$B135*$C135)","v":0},{"$f":"IF($B135=0,0,VLOOKUP($D135,'MI materialen'!$E:$AS,J$66,FALSE)*$B135*$C135)","v":0},{"$f":"IF($B135=0,0,VLOOKUP($D135,'MI materialen'!$E:$AS,K$66,FALSE)*$B135*$C135)","v":0},{"$f":"IF($B135=0,0,VLOOKUP($D135,'MI materialen'!$E:$AS,L$66,FALSE)*$B135*$C135)","v":0},{"$f":"IF($B135=0,0,VLOOKUP($D135,'MI materialen'!$E:$AS,M$66,FALSE)*$B135*$C135)","v":0},{"$f":"IF($B135=0,0,VLOOKUP($D135,'MI materialen'!$E:$AS,N$66,FALSE)*$B135*$C135)","v":0},{"$f":"IF($B135=0,0,VLOOKUP($D135,'MI materialen'!$E:$AS,O$66,FALSE)*$B135*$C135)","v":0},{"$f":"IF($B135=0,0,VLOOKUP($D135,'MI materialen'!$E:$AS,P$66,FALSE)*$B135*$C135)","v":0},{"$f":"IF($B135=0,0,VLOOKUP($D135,'MI materialen'!$E:$AS,Q$66,FALSE)*$B135*$C135)","v":0},{"$f":"IF($B135=0,0,VLOOKUP($D135,'MI materialen'!$E:$AS,R$66,FALSE)*$B135*$C135)","v":0},{"$f":"IF($B135=0,0,VLOOKUP($D135,'MI materialen'!$E:$AS,S$66,FALSE)*$B135*$C135)","v":0},{"$f":"IF($B135=0,0,VLOOKUP($D135,'MI materialen'!$E:$AS,T$66,FALSE)*$B135*$C135)","v":0},{"$f":"IF($B135=0,0,VLOOKUP($D135,'MI materialen'!$E:$AS,U$66,FALSE)*$B135*$C135)","v":0},{"$f":"IF($B135=0,0,VLOOKUP($D135,'MI materialen'!$E:$AS,V$66,FALSE)*$B135*$C135)","v":0}]
["Verbranding",{"$f":"IF(Invul_Basis_EindeL!$I$26=\"Standaard\",Invul_Basis_EindeL!$K$26,Invul_Basis_EindeL!$O$26)","v":0},{"$f":"C134","v":0},{"$f":"VLOOKUP($B134,'MI materialen'!B:AS,42,FALSE)","v":0},{"$f":"IF($B136=0,0,VLOOKUP($D136,MKI!E:K,2,FALSE)*$B136*$C136)","v":0},{"$f":"IF($B136=0,0,VLOOKUP($D136,'MI materialen'!$E:$AS,F$66,FALSE)*$B136*$C136)","v":0},{"$f":"IF($B136=0,0,VLOOKUP($D136,'MI materialen'!$E:$AS,G$66,FALSE)*$B136*$C136)","v":0},{"$f":"IF($B136=0,0,VLOOKUP($D136,'MI materialen'!$E:$AS,H$66,FALSE)*$B136*$C136)","v":0},{"$f":"IF($B136=0,0,VLOOKUP($D136,'MI materialen'!$E:$AS,I$66,FALSE)*$B136*$C136)","v":0},{"$f":"IF($B136=0,0,VLOOKUP($D136,'MI materialen'!$E:$AS,J$66,FALSE)*$B136*$C136)","v":0},{"$f":"IF($B136=0,0,VLOOKUP($D136,'MI materialen'!$E:$AS,K$66,FALSE)*$B136*$C136)","v":0},{"$f":"IF($B136=0,0,VLOOKUP($D136,'MI materialen'!$E:$AS,L$66,FALSE)*$B136*$C136)","v":0},{"$f":"IF($B136=0,0,VLOOKUP($D136,'MI materialen'!$E:$AS,M$66,FALSE)*$B136*$C136)","v":0},{"$f":"IF($B136=0,0,VLOOKUP($D136,'MI materialen'!$E:$AS,N$66,FALSE)*$B136*$C136)","v":0},{"$f":"IF($B136=0,0,VLOOKUP($D136,'MI materialen'!$E:$AS,O$66,FALSE)*$B136*$C136)","v":0},{"$f":"IF($B136=0,0,VLOOKUP($D136,'MI materialen'!$E:$AS,P$66,FALSE)*$B136*$C136)","v":0},{"$f":"IF($B136=0,0,VLOOKUP($D136,'MI materialen'!$E:$AS,Q$66,FALSE)*$B136*$C136)","v":0},{"$f":"IF($B136=0,0,VLOOKUP($D136,'MI materialen'!$E:$AS,R$66,FALSE)*$B136*$C136)","v":0},{"$f":"IF($B136=0,0,VLOOKUP($D136,'MI materialen'!$E:$AS,S$66,FALSE)*$B136*$C136)","v":0},{"$f":"IF($B136=0,0,VLOOKUP($D136,'MI materialen'!$E:$AS,T$66,FALSE)*$B136*$C136)","v":0},{"$f":"IF($B136=0,0,VLOOKUP($D136,'MI materialen'!$E:$AS,U$66,FALSE)*$B136*$C136)","v":0},{"$f":"IF($B136=0,0,VLOOKUP($D136,'MI materialen'!$E:$AS,V$66,FALSE)*$B136*$C136)","v":0}]
["Recycling",{"$f":"IF(Invul_Basis_EindeL!$I$26=\"Standaard\",Invul_Basis_EindeL!$L$26,Invul_Basis_EindeL!$P$26)*(100%-Invul_Basis_Materialen!$J$25)","v":0},{"$f":"C134","v":0},{"$f":"VLOOKUP($B134,'MI materialen'!B:AS,43,FALSE)","v":0},{"$f":"IF($B137=0,0,VLOOKUP($D137,MKI!E:K,2,FALSE)*$B137*$C137)","v":0},{"$f":"IF($B137=0,0,VLOOKUP($D137,'MI materialen'!$E:$AS,F$66,FALSE)*$B137*$C137)","v":0},{"$f":"IF($B137=0,0,VLOOKUP($D137,'MI materialen'!$E:$AS,G$66,FALSE)*$B137*$C137)","v":0},{"$f":"IF($B137=0,0,VLOOKUP($D137,'MI materialen'!$E:$AS,H$66,FALSE)*$B137*$C137)","v":0},{"$f":"IF($B137=0,0,VLOOKUP($D137,'MI materialen'!$E:$AS,I$66,FALSE)*$B137*$C137)","v":0},{"$f":"IF($B137=0,0,VLOOKUP($D137,'MI materialen'!$E:$AS,J$66,FALSE)*$B137*$C137)","v":0},{"$f":"IF($B137=0,0,VLOOKUP($D137,'MI materialen'!$E:$AS,K$66,FALSE)*$B137*$C137)","v":0},{"$f":"IF($B137=0,0,VLOOKUP($D137,'MI materialen'!$E:$AS,L$66,FALSE)*$B137*$C137)","v":0},{"$f":"IF($B137=0,0,VLOOKUP($D137,'MI materialen'!$E:$AS,M$66,FALSE)*$B137*$C137)","v":0},{"$f":"IF($B137=0,0,VLOOKUP($D137,'MI materialen'!$E:$AS,N$66,FALSE)*$B137*$C137)","v":0},{"$f":"IF($B137=0,0,VLOOKUP($D137,'MI materialen'!$E:$AS,O$66,FALSE)*$B137*$C137)","v":0},{"$f":"IF($B137=0,0,VLOOKUP($D137,'MI materialen'!$E:$AS,P$66,FALSE)*$B137*$C137)","v":0},{"$f":"IF($B137=0,0,VLOOKUP($D137,'MI materialen'!$E:$AS,Q$66,FALSE)*$B137*$C137)","v":0},{"$f":"IF($B137=0,0,VLOOKUP($D137,'MI materialen'!$E:$AS,R$66,FALSE)*$B137*$C137)","v":0},{"$f":"IF($B137=0,0,VLOOKUP($D137,'MI materialen'!$E:$AS,S$66,FALSE)*$B137*$C137)","v":0},{"$f":"IF($B137=0,0,VLOOKUP($D137,'MI materialen'!$E:$AS,T$66,FALSE)*$B137*$C137)","v":0},{"$f":"IF($B137=0,0,VLOOKUP($D137,'MI materialen'!$E:$AS,U$66,FALSE)*$B137*$C137)","v":0},{"$f":"IF($B137=0,0,VLOOKUP($D137,'MI materialen'!$E:$AS,V$66,FALSE)*$B137*$C137)","v":0}]
["Hergebruik",{"$f":"IF(Invul_Basis_EindeL!$I$26=\"Standaard\",Invul_Basis_EindeL!$M$26,Invul_Basis_EindeL!$Q$26)*(100%-Invul_Basis_Materialen!$J$25)","v":0},{"$f":"C134","v":0},{"$f":"VLOOKUP($B134,'MI materialen'!B:AS,43,FALSE)","v":0},{"$f":"IF($B138=0,0,VLOOKUP($D138,MKI!E:K,2,FALSE)*$B138*$C138)","v":0},{"$f":"IF($B138=0,0,VLOOKUP($D138,'MI materialen'!$E:$AS,F$66,FALSE)*$B138*$C138)","v":0},{"$f":"IF($B138=0,0,VLOOKUP($D138,'MI materialen'!$E:$AS,G$66,FALSE)*$B138*$C138)","v":0},{"$f":"IF($B138=0,0,VLOOKUP($D138,'MI materialen'!$E:$AS,H$66,FALSE)*$B138*$C138)","v":0},{"$f":"IF($B138=0,0,VLOOKUP($D138,'MI materialen'!$E:$AS,I$66,FALSE)*$B138*$C138)","v":0},{"$f":"IF($B138=0,0,VLOOKUP($D138,'MI materialen'!$E:$AS,J$66,FALSE)*$B138*$C138)","v":0},{"$f":"IF($B138=0,0,VLOOKUP($D138,'MI materialen'!$E:$AS,K$66,FALSE)*$B138*$C138)","v":0},{"$f":"IF($B138=0,0,VLOOKUP($D138,'MI materialen'!$E:$AS,L$66,FALSE)*$B138*$C138)","v":0},{"$f":"IF($B138=0,0,VLOOKUP($D138,'MI materialen'!$E:$AS,M$66,FALSE)*$B138*$C138)","v":0},{"$f":"IF($B138=0,0,VLOOKUP($D138,'MI materialen'!$E:$AS,N$66,FALSE)*$B138*$C138)","v":0},{"$f":"IF($B138=0,0,VLOOKUP($D138,'MI materialen'!$E:$AS,O$66,FALSE)*$B138*$C138)","v":0},{"$f":"IF($B138=0,0,VLOOKUP($D138,'MI materialen'!$E:$AS,P$66,FALSE)*$B138*$C138)","v":0},{"$f":"IF($B138=0,0,VLOOKUP($D138,'MI materialen'!$E:$AS,Q$66,FALSE)*$B138*$C138)","v":0},{"$f":"IF($B138=0,0,VLOOKUP($D138,'MI materialen'!$E:$AS,R$66,FALSE)*$B138*$C138)","v":0},{"$f":"IF($B138=0,0,VLOOKUP($D138,'MI materialen'!$E:$AS,S$66,FALSE)*$B138*$C138)","v":0},{"$f":"IF($B138=0,0,VLOOKUP($D138,'MI materialen'!$E:$AS,T$66,FALSE)*$B138*$C138)","v":0},{"$f":"IF($B138=0,0,VLOOKUP($D138,'MI materialen'!$E:$AS,U$66,FALSE)*$B138*$C138)","v":0},{"$f":"IF($B138=0,0,VLOOKUP($D138,'MI materialen'!$E:$AS,V$66,FALSE)*$B138*$C138)","v":0}]
["Som",{"$f":"Invul_Basis_EindeL!$F$27","v":"Leeg"},{"$f":"Invul_Basis_EindeL!$G$27","v":0},null,{"$f":"SUM(E140:E143)","v":0},0,0,0,0,0,0,0,0,0,0,0,0,0,0,0,0,0]
["Stort",{"$f":"IF(Invul_Basis_EindeL!$I$27=\"Standaard\",Invul_Basis_EindeL!$J$27,Invul_Basis_EindeL!$N$27)","v":0},{"$f":"C139","v":0},{"$f":"VLOOKUP($B139,'MI materialen'!B:AS,41,FALSE)","v":0},{"$f":"IF($B140=0,0,VLOOKUP($D140,MKI!E:K,2,FALSE)*$B140*$C140)","v":0},{"$f":"IF($B140=0,0,VLOOKUP($D140,'MI materialen'!$E:$AS,F$66,FALSE)*$B140*$C140)","v":0},{"$f":"IF($B140=0,0,VLOOKUP($D140,'MI materialen'!$E:$AS,G$66,FALSE)*$B140*$C140)","v":0},{"$f":"IF($B140=0,0,VLOOKUP($D140,'MI materialen'!$E:$AS,H$66,FALSE)*$B140*$C140)","v":0},{"$f":"IF($B140=0,0,VLOOKUP($D140,'MI materialen'!$E:$AS,I$66,FALSE)*$B140*$C140)","v":0},{"$f":"IF($B140=0,0,VLOOKUP($D140,'MI materialen'!$E:$AS,J$66,FALSE)*$B140*$C140)","v":0},{"$f":"IF($B140=0,0,VLOOKUP($D140,'MI materialen'!$E:$AS,K$66,FALSE)*$B140*$C140)","v":0},{"$f":"IF($B140=0,0,VLOOKUP($D140,'MI materialen'!$E:$AS,L$66,FALSE)*$B140*$C140)","v":0},{"$f":"IF($B140=0,0,VLOOKUP($D140,'MI materialen'!$E:$AS,M$66,FALSE)*$B140*$C140)","v":0},{"$f":"IF($B140=0,0,VLOOKUP($D140,'MI materialen'!$E:$AS,N$66,FALSE)*$B140*$C140)","v":0},{"$f":"IF($B140=0,0,VLOOKUP($D140,'MI materialen'!$E:$AS,O$66,FALSE)*$B140*$C140)","v":0},{"$f":"IF($B140=0,0,VLOOKUP($D140,'MI materialen'!$E:$AS,P$66,FALSE)*$B140*$C140)","v":0},{"$f":"IF($B140=0,0,VLOOKUP($D140,'MI materialen'!$E:$AS,Q$66,FALSE)*$B140*$C140)","v":0},{"$f":"IF($B140=0,0,VLOOKUP($D140,'MI materialen'!$E:$AS,R$66,FALSE)*$B140*$C140)","v":0},{"$f":"IF($B140=0,0,VLOOKUP($D140,'MI materialen'!$E:$AS,S$66,FALSE)*$B140*$C140)","v":0},{"$f":"IF($B140=0,0,VLOOKUP($D140,'MI materialen'!$E:$AS,T$66,FALSE)*$B140*$C140)","v":0},{"$f":"IF($B140=0,0,VLOOKUP($D140,'MI materialen'!$E:$AS,U$66,FALSE)*$B140*$C140)","v":0},{"$f":"IF($B140=0,0,VLOOKUP($D140,'MI materialen'!$E:$AS,V$66,FALSE)*$B140*$C140)","v":0}]
["Verbranding",{"$f":"IF(Invul_Basis_EindeL!$I$27=\"Standaard\",Invul_Basis_EindeL!$K$27,Invul_Basis_EindeL!$O$27)","v":0},{"$f":"C139","v":0},{"$f":"VLOOKUP($B139,'MI materialen'!B:AS,42,FALSE)","v":0},{"$f":"IF($B141=0,0,VLOOKUP($D141,MKI!E:K,2,FALSE)*$B141*$C141)","v":0},{"$f":"IF($B141=0,0,VLOOKUP($D141,'MI materialen'!$E:$AS,F$66,FALSE)*$B141*$C141)","v":0},{"$f":"IF($B141=0,0,VLOOKUP($D141,'MI materialen'!$E:$AS,G$66,FALSE)*$B141*$C141)","v":0},{"$f":"IF($B141=0,0,VLOOKUP($D141,'MI materialen'!$E:$AS,H$66,FALSE)*$B141*$C141)","v":0},{"$f":"IF($B141=0,0,VLOOKUP($D141,'MI materialen'!$E:$AS,I$66,FALSE)*$B141*$C141)","v":0},{"$f":"IF($B141=0,0,VLOOKUP($D141,'MI materialen'!$E:$AS,J$66,FALSE)*$B141*$C141)","v":0},{"$f":"IF($B141=0,0,VLOOKUP($D141,'MI materialen'!$E:$AS,K$66,FALSE)*$B141*$C141)","v":0},{"$f":"IF($B141=0,0,VLOOKUP($D141,'MI materialen'!$E:$AS,L$66,FALSE)*$B141*$C141)","v":0},{"$f":"IF($B141=0,0,VLOOKUP($D141,'MI materialen'!$E:$AS,M$66,FALSE)*$B141*$C141)","v":0},{"$f":"IF($B141=0,0,VLOOKUP($D141,'MI materialen'!$E:$AS,N$66,FALSE)*$B141*$C141)","v":0},{"$f":"IF($B141=0,0,VLOOKUP($D141,'MI materialen'!$E:$AS,O$66,FALSE)*$B141*$C141)","v":0},{"$f":"IF($B141=0,0,VLOOKUP($D141,'MI materialen'!$E:$AS,P$66,FALSE)*$B141*$C141)","v":0},{"$f":"IF($B141=0,0,VLOOKUP($D141,'MI materialen'!$E:$AS,Q$66,FALSE)*$B141*$C141)","v":0},{"$f":"IF($B141=0,0,VLOOKUP($D141,'MI materialen'!$E:$AS,R$66,FALSE)*$B141*$C141)","v":0},{"$f":"IF($B141=0,0,VLOOKUP($D141,'MI materialen'!$E:$AS,S$66,FALSE)*$B141*$C141)","v":0},{"$f":"IF($B141=0,0,VLOOKUP($D141,'MI materialen'!$E:$AS,T$66,FALSE)*$B141*$C141)","v":0},{"$f":"IF($B141=0,0,VLOOKUP($D141,'MI materialen'!$E:$AS,U$66,FALSE)*$B141*$C141)","v":0},{"$f":"IF($B141=0,0,VLOOKUP($D141,'MI materialen'!$E:$AS,V$66,FALSE)*$B141*$C141)","v":0}]
["Recycling",{"$f":"IF(Invul_Basis_EindeL!$I$27=\"Standaard\",Invul_Basis_EindeL!$L$27,Invul_Basis_EindeL!$P$27)*(100%-Invul_Basis_Materialen!$J$26)","v":0},{"$f":"C139","v":0},{"$f":"VLOOKUP($B139,'MI materialen'!B:AS,43,FALSE)","v":0},{"$f":"IF($B142=0,0,VLOOKUP($D142,MKI!E:K,2,FALSE)*$B142*$C142)","v":0},{"$f":"IF($B142=0,0,VLOOKUP($D142,'MI materialen'!$E:$AS,F$66,FALSE)*$B142*$C142)","v":0},{"$f":"IF($B142=0,0,VLOOKUP($D142,'MI materialen'!$E:$AS,G$66,FALSE)*$B142*$C142)","v":0},{"$f":"IF($B142=0,0,VLOOKUP($D142,'MI materialen'!$E:$AS,H$66,FALSE)*$B142*$C142)","v":0},{"$f":"IF($B142=0,0,VLOOKUP($D142,'MI materialen'!$E:$AS,I$66,FALSE)*$B142*$C142)","v":0},{"$f":"IF($B142=0,0,VLOOKUP($D142,'MI materialen'!$E:$AS,J$66,FALSE)*$B142*$C142)","v":0},{"$f":"IF($B142=0,0,VLOOKUP($D142,'MI materialen'!$E:$AS,K$66,FALSE)*$B142*$C142)","v":0},{"$f":"IF($B142=0,0,VLOOKUP($D142,'MI materialen'!$E:$AS,L$66,FALSE)*$B142*$C142)","v":0},{"$f":"IF($B142=0,0,VLOOKUP($D142,'MI materialen'!$E:$AS,M$66,FALSE)*$B142*$C142)","v":0},{"$f":"IF($B142=0,0,VLOOKUP($D142,'MI materialen'!$E:$AS,N$66,FALSE)*$B142*$C142)","v":0},{"$f":"IF($B142=0,0,VLOOKUP($D142,'MI materialen'!$E:$AS,O$66,FALSE)*$B142*$C142)","v":0},{"$f":"IF($B142=0,0,VLOOKUP($D142,'MI materialen'!$E:$AS,P$66,FALSE)*$B142*$C142)","v":0},{"$f":"IF($B142=0,0,VLOOKUP($D142,'MI materialen'!$E:$AS,Q$66,FALSE)*$B142*$C142)","v":0},{"$f":"IF($B142=0,0,VLOOKUP($D142,'MI materialen'!$E:$AS,R$66,FALSE)*$B142*$C142)","v":0},{"$f":"IF($B142=0,0,VLOOKUP($D142,'MI materialen'!$E:$AS,S$66,FALSE)*$B142*$C142)","v":0},{"$f":"IF($B142=0,0,VLOOKUP($D142,'MI materialen'!$E:$AS,T$66,FALSE)*$B142*$C142)","v":0},{"$f":"IF($B142=0,0,VLOOKUP($D142,'MI materialen'!$E:$AS,U$66,FALSE)*$B142*$C142)","v":0},{"$f":"IF($B142=0,0,VLOOKUP($D142,'MI materialen'!$E:$AS,V$66,FALSE)*$B142*$C142)","v":0}]
["Hergebruik",{"$f":"IF(Invul_Basis_EindeL!$I$27=\"Standaard\",Invul_Basis_EindeL!$M$27,Invul_Basis_EindeL!$Q$27)*(100%-Invul_Basis_Materialen!$J$26)","v":0},{"$f":"C139","v":0},{"$f":"VLOOKUP($B139,'MI materialen'!B:AS,43,FALSE)","v":0},{"$f":"IF($B143=0,0,VLOOKUP($D143,MKI!E:K,2,FALSE)*$B143*$C143)","v":0},{"$f":"IF($B143=0,0,VLOOKUP($D143,'MI materialen'!$E:$AS,F$66,FALSE)*$B143*$C143)","v":0},{"$f":"IF($B143=0,0,VLOOKUP($D143,'MI materialen'!$E:$AS,G$66,FALSE)*$B143*$C143)","v":0},{"$f":"IF($B143=0,0,VLOOKUP($D143,'MI materialen'!$E:$AS,H$66,FALSE)*$B143*$C143)","v":0},{"$f":"IF($B143=0,0,VLOOKUP($D143,'MI materialen'!$E:$AS,I$66,FALSE)*$B143*$C143)","v":0},{"$f":"IF($B143=0,0,VLOOKUP($D143,'MI materialen'!$E:$AS,J$66,FALSE)*$B143*$C143)","v":0},{"$f":"IF($B143=0,0,VLOOKUP($D143,'MI materialen'!$E:$AS,K$66,FALSE)*$B143*$C143)","v":0},{"$f":"IF($B143=0,0,VLOOKUP($D143,'MI materialen'!$E:$AS,L$66,FALSE)*$B143*$C143)","v":0},{"$f":"IF($B143=0,0,VLOOKUP($D143,'MI materialen'!$E:$AS,M$66,FALSE)*$B143*$C143)","v":0},{"$f":"IF($B143=0,0,VLOOKUP($D143,'MI materialen'!$E:$AS,N$66,FALSE)*$B143*$C143)","v":0},{"$f":"IF($B143=0,0,VLOOKUP($D143,'MI materialen'!$E:$AS,O$66,FALSE)*$B143*$C143)","v":0},{"$f":"IF($B143=0,0,VLOOKUP($D143,'MI materialen'!$E:$AS,P$66,FALSE)*$B143*$C143)","v":0},{"$f":"IF($B143=0,0,VLOOKUP($D143,'MI materialen'!$E:$AS,Q$66,FALSE)*$B143*$C143)","v":0},{"$f":"IF($B143=0,0,VLOOKUP($D143,'MI materialen'!$E:$AS,R$66,FALSE)*$B143*$C143)","v":0},{"$f":"IF($B143=0,0,VLOOKUP($D143,'MI materialen'!$E:$AS,S$66,FALSE)*$B143*$C143)","v":0},{"$f":"IF($B143=0,0,VLOOKUP($D143,'MI materialen'!$E:$AS,T$66,FALSE)*$B143*$C143)","v":0},{"$f":"IF($B143=0,0,VLOOKUP($D143,'MI materialen'!$E:$AS,U$66,FALSE)*$B143*$C143)","v":0},{"$f":"IF($B143=0,0,VLOOKUP($D143,'MI materialen'!$E:$AS,V$66,FALSE)*$B143*$C143)","v":0}]
["Som",{"$f":"Invul_Basis_EindeL!$F$28","v":"Leeg"},{"$f":"Invul_Basis_EindeL!$G$28","v":0},null,{"$f":"SUM(E145:E148)","v":0},0,0,0,0,0,0,0,0,0,0,0,0,0,0,0,0,0]
["Stort",{"$f":"IF(Invul_Basis_EindeL!$I$28=\"Standaard\",Invul_Basis_EindeL!$J$28,Invul_Basis_EindeL!$N$28)","v":0},{"$f":"C144","v":0},{"$f":"VLOOKUP($B144,'MI materialen'!B:AS,41,FALSE)","v":0},{"$f":"IF($B145=0,0,VLOOKUP($D145,MKI!E:K,2,FALSE)*$B145*$C145)","v":0},{"$f":"IF($B145=0,0,VLOOKUP($D145,'MI materialen'!$E:$AS,F$66,FALSE)*$B145*$C145)","v":0},{"$f":"IF($B145=0,0,VLOOKUP($D145,'MI materialen'!$E:$AS,G$66,FALSE)*$B145*$C145)","v":0},{"$f":"IF($B145=0,0,VLOOKUP($D145,'MI materialen'!$E:$AS,H$66,FALSE)*$B145*$C145)","v":0},{"$f":"IF($B145=0,0,VLOOKUP($D145,'MI materialen'!$E:$AS,I$66,FALSE)*$B145*$C145)","v":0},{"$f":"IF($B145=0,0,VLOOKUP($D145,'MI materialen'!$E:$AS,J$66,FALSE)*$B145*$C145)","v":0},{"$f":"IF($B145=0,0,VLOOKUP($D145,'MI materialen'!$E:$AS,K$66,FALSE)*$B145*$C145)","v":0},{"$f":"IF($B145=0,0,VLOOKUP($D145,'MI materialen'!$E:$AS,L$66,FALSE)*$B145*$C145)","v":0},{"$f":"IF($B145=0,0,VLOOKUP($D145,'MI materialen'!$E:$AS,M$66,FALSE)*$B145*$C145)","v":0},{"$f":"IF($B145=0,0,VLOOKUP($D145,'MI materialen'!$E:$AS,N$66,FALSE)*$B145*$C145)","v":0},{"$f":"IF($B145=0,0,VLOOKUP($D145,'MI materialen'!$E:$AS,O$66,FALSE)*$B145*$C145)","v":0},{"$f":"IF($B145=0,0,VLOOKUP($D145,'MI materialen'!$E:$AS,P$66,FALSE)*$B145*$C145)","v":0},{"$f":"IF($B145=0,0,VLOOKUP($D145,'MI materialen'!$E:$AS,Q$66,FALSE)*$B145*$C145)","v":0},{"$f":"IF($B145=0,0,VLOOKUP($D145,'MI materialen'!$E:$AS,R$66,FALSE)*$B145*$C145)","v":0},{"$f":"IF($B145=0,0,VLOOKUP($D145,'MI materialen'!$E:$AS,S$66,FALSE)*$B145*$C145)","v":0},{"$f":"IF($B145=0,0,VLOOKUP($D145,'MI materialen'!$E:$AS,T$66,FALSE)*$B145*$C145)","v":0},{"$f":"IF($B145=0,0,VLOOKUP($D145,'MI materialen'!$E:$AS,U$66,FALSE)*$B145*$C145)","v":0},{"$f":"IF($B145=0,0,VLOOKUP($D145,'MI materialen'!$E:$AS,V$66,FALSE)*$B145*$C145)","v":0}]
["Verbranding",{"$f":"IF(Invul_Basis_EindeL!$I$28=\"Standaard\",Invul_Basis_EindeL!$K$28,Invul_Basis_EindeL!$O$28)","v":0},{"$f":"C144","v":0},{"$f":"VLOOKUP($B144,'MI materialen'!B:AS,42,FALSE)","v":0},{"$f":"IF($B146=0,0,VLOOKUP($D146,MKI!E:K,2,FALSE)*$B146*$C146)","v":0},{"$f":"IF($B146=0,0,VLOOKUP($D146,'MI materialen'!$E:$AS,F$66,FALSE)*$B146*$C146)","v":0},{"$f":"IF($B146=0,0,VLOOKUP($D146,'MI materialen'!$E:$AS,G$66,FALSE)*$B146*$C146)","v":0},{"$f":"IF($B146=0,0,VLOOKUP($D146,'MI materialen'!$E:$AS,H$66,FALSE)*$B146*$C146)","v":0},{"$f":"IF($B146=0,0,VLOOKUP($D146,'MI materialen'!$E:$AS,I$66,FALSE)*$B146*$C146)","v":0},{"$f":"IF($B146=0,0,VLOOKUP($D146,'MI materialen'!$E:$AS,J$66,FALSE)*$B146*$C146)","v":0},{"$f":"IF($B146=0,0,VLOOKUP($D146,'MI materialen'!$E:$AS,K$66,FALSE)*$B146*$C146)","v":0},{"$f":"IF($B146=0,0,VLOOKUP($D146,'MI materialen'!$E:$AS,L$66,FALSE)*$B146*$C146)","v":0},{"$f":"IF($B146=0,0,VLOOKUP($D146,'MI materialen'!$E:$AS,M$66,FALSE)*$B146*$C146)","v":0},{"$f":"IF($B146=0,0,VLOOKUP($D146,'MI materialen'!$E:$AS,N$66,FALSE)*$B146*$C146)","v":0},{"$f":"IF($B146=0,0,VLOOKUP($D146,'MI materialen'!$E:$AS,O$66,FALSE)*$B146*$C146)","v":0},{"$f":"IF($B146=0,0,VLOOKUP($D146,'MI materialen'!$E:$AS,P$66,FALSE)*$B146*$C146)","v":0},{"$f":"IF($B146=0,0,VLOOKUP($D146,'MI materialen'!$E:$AS,Q$66,FALSE)*$B146*$C146)","v":0},{"$f":"IF($B146=0,0,VLOOKUP($D146,'MI materialen'!$E:$AS,R$66,FALSE)*$B146*$C146)","v":0},{"$f":"IF($B146=0,0,VLOOKUP($D146,'MI materialen'!$E:$AS,S$66,FALSE)*$B146*$C146)","v":0},{"$f":"IF($B146=0,0,VLOOKUP($D146,'MI materialen'!$E:$AS,T$66,FALSE)*$B146*$C146)","v":0},{"$f":"IF($B146=0,0,VLOOKUP($D146,'MI materialen'!$E:$AS,U$66,FALSE)*$B146*$C146)","v":0},{"$f":"IF($B146=0,0,VLOOKUP($D146,'MI materialen'!$E:$AS,V$66,FALSE)*$B146*$C146)","v":0}]
["Recycling",{"$f":"IF(Invul_Basis_EindeL!$I$28=\"Standaard\",Invul_Basis_EindeL!$L$28,Invul_Basis_EindeL!$P$28)*(100%-Invul_Basis_Materialen!$J$27)","v":0},{"$f":"C144","v":0},{"$f":"VLOOKUP($B144,'MI materialen'!B:AS,43,FALSE)","v":0},{"$f":"IF($B147=0,0,VLOOKUP($D147,MKI!E:K,2,FALSE)*$B147*$C147)","v":0},{"$f":"IF($B147=0,0,VLOOKUP($D147,'MI materialen'!$E:$AS,F$66,FALSE)*$B147*$C147)","v":0},{"$f":"IF($B147=0,0,VLOOKUP($D147,'MI materialen'!$E:$AS,G$66,FALSE)*$B147*$C147)","v":0},{"$f":"IF($B147=0,0,VLOOKUP($D147,'MI materialen'!$E:$AS,H$66,FALSE)*$B147*$C147)","v":0},{"$f":"IF($B147=0,0,VLOOKUP($D147,'MI materialen'!$E:$AS,I$66,FALSE)*$B147*$C147)","v":0},{"$f":"IF($B147=0,0,VLOOKUP($D147,'MI materialen'!$E:$AS,J$66,FALSE)*$B147*$C147)","v":0},{"$f":"IF($B147=0,0,VLOOKUP($D147,'MI materialen'!$E:$AS,K$66,FALSE)*$B147*$C147)","v":0},{"$f":"IF($B147=0,0,VLOOKUP($D147,'MI materialen'!$E:$AS,L$66,FALSE)*$B147*$C147)","v":0},{"$f":"IF($B147=0,0,VLOOKUP($D147,'MI materialen'!$E:$AS,M$66,FALSE)*$B147*$C147)","v":0},{"$f":"IF($B147=0,0,VLOOKUP($D147,'MI materialen'!$E:$AS,N$66,FALSE)*$B147*$C147)","v":0},{"$f":"IF($B147=0,0,VLOOKUP($D147,'MI materialen'!$E:$AS,O$66,FALSE)*$B147*$C147)","v":0},{"$f":"IF($B147=0,0,VLOOKUP($D147,'MI materialen'!$E:$AS,P$66,FALSE)*$B147*$C147)","v":0},{"$f":"IF($B147=0,0,VLOOKUP($D147,'MI materialen'!$E:$AS,Q$66,FALSE)*$B147*$C147)","v":0},{"$f":"IF($B147=0,0,VLOOKUP($D147,'MI materialen'!$E:$AS,R$66,FALSE)*$B147*$C147)","v":0},{"$f":"IF($B147=0,0,VLOOKUP($D147,'MI materialen'!$E:$AS,S$66,FALSE)*$B147*$C147)","v":0},{"$f":"IF($B147=0,0,VLOOKUP($D147,'MI materialen'!$E:$AS,T$66,FALSE)*$B147*$C147)","v":0},{"$f":"IF($B147=0,0,VLOOKUP($D147,'MI materialen'!$E:$AS,U$66,FALSE)*$B147*$C147)","v":0},{"$f":"IF($B147=0,0,VLOOKUP($D147,'MI materialen'!$E:$AS,V$66,FALSE)*$B147*$C147)","v":0}]
["Hergebruik",{"$f":"IF(Invul_Basis_EindeL!$I$28=\"Standaard\",Invul_Basis_EindeL!$M$28,Invul_Basis_EindeL!$Q$28)*(100%-Invul_Basis_Materialen!$J$27)","v":0},{"$f":"C144","v":0},{"$f":"VLOOKUP($B144,'MI materialen'!B:AS,43,FALSE)","v":0},{"$f":"IF($B148=0,0,VLOOKUP($D148,MKI!E:K,2,FALSE)*$B148*$C148)","v":0},{"$f":"IF($B148=0,0,VLOOKUP($D148,'MI materialen'!$E:$AS,F$66,FALSE)*$B148*$C148)","v":0},{"$f":"IF($B148=0,0,VLOOKUP($D148,'MI materialen'!$E:$AS,G$66,FALSE)*$B148*$C148)","v":0},{"$f":"IF($B148=0,0,VLOOKUP($D148,'MI materialen'!$E:$AS,H$66,FALSE)*$B148*$C148)","v":0},{"$f":"IF($B148=0,0,VLOOKUP($D148,'MI materialen'!$E:$AS,I$66,FALSE)*$B148*$C148)","v":0},{"$f":"IF($B148=0,0,VLOOKUP($D148,'MI materialen'!$E:$AS,J$66,FALSE)*$B148*$C148)","v":0},{"$f":"IF($B148=0,0,VLOOKUP($D148,'MI materialen'!$E:$AS,K$66,FALSE)*$B148*$C148)","v":0},{"$f":"IF($B148=0,0,VLOOKUP($D148,'MI materialen'!$E:$AS,L$66,FALSE)*$B148*$C148)","v":0},{"$f":"IF($B148=0,0,VLOOKUP($D148,'MI materialen'!$E:$AS,M$66,FALSE)*$B148*$C148)","v":0},{"$f":"IF($B148=0,0,VLOOKUP($D148,'MI materialen'!$E:$AS,N$66,FALSE)*$B148*$C148)","v":0},{"$f":"IF($B148=0,0,VLOOKUP($D148,'MI materialen'!$E:$AS,O$66,FALSE)*$B148*$C148)","v":0},{"$f":"IF($B148=0,0,VLOOKUP($D148,'MI materialen'!$E:$AS,P$66,FALSE)*$B148*$C148)","v":0},{"$f":"IF($B148=0,0,VLOOKUP($D148,'MI materialen'!$E:$AS,Q$66,FALSE)*$B148*$C148)","v":0},{"$f":"IF($B148=0,0,VLOOKUP($D148,'MI materialen'!$E:$AS,R$66,FALSE)*$B148*$C148)","v":0},{"$f":"IF($B148=0,0,VLOOKUP($D148,'MI materialen'!$E:$AS,S$66,FALSE)*$B148*$C148)","v":0},{"$f":"IF($B148=0,0,VLOOKUP($D148,'MI materialen'!$E:$AS,T$66,FALSE)*$B148*$C148)","v":0},{"$f":"IF($B148=0,0,VLOOKUP($D148,'MI materialen'!$E:$AS,U$66,FALSE)*$B148*$C148)","v":0},{"$f":"IF($B148=0,0,VLOOKUP($D148,'MI materialen'!$E:$AS,V$66,FALSE)*$B148*$C148)","v":0}]
["Som",{"$f":"Invul_Basis_EindeL!$F$29","v":"Leeg"},{"$f":"Invul_Basis_EindeL!$G$29","v":0},null,{"$f":"SUM(E150:E153)","v":0},0,0,0,0,0,0,0,0,0,0,0,0,0,0,0,0,0]
["Stort",{"$f":"IF(Invul_Basis_EindeL!$I$29=\"Standaard\",Invul_Basis_EindeL!$J$29,Invul_Basis_EindeL!$N$29)","v":0},{"$f":"C149","v":0},{"$f":"VLOOKUP($B149,'MI materialen'!B:AS,41,FALSE)","v":0},{"$f":"IF($B150=0,0,VLOOKUP($D150,MKI!E:K,2,FALSE)*$B150*$C150)","v":0},{"$f":"IF($B150=0,0,VLOOKUP($D150,'MI materialen'!$E:$AS,F$66,FALSE)*$B150*$C150)","v":0},{"$f":"IF($B150=0,0,VLOOKUP($D150,'MI materialen'!$E:$AS,G$66,FALSE)*$B150*$C150)","v":0},{"$f":"IF($B150=0,0,VLOOKUP($D150,'MI materialen'!$E:$AS,H$66,FALSE)*$B150*$C150)","v":0},{"$f":"IF($B150=0,0,VLOOKUP($D150,'MI materialen'!$E:$AS,I$66,FALSE)*$B150*$C150)","v":0},{"$f":"IF($B150=0,0,VLOOKUP($D150,'MI materialen'!$E:$AS,J$66,FALSE)*$B150*$C150)","v":0},{"$f":"IF($B150=0,0,VLOOKUP($D150,'MI materialen'!$E:$AS,K$66,FALSE)*$B150*$C150)","v":0},{"$f":"IF($B150=0,0,VLOOKUP($D150,'MI materialen'!$E:$AS,L$66,FALSE)*$B150*$C150)","v":0},{"$f":"IF($B150=0,0,VLOOKUP($D150,'MI materialen'!$E:$AS,M$66,FALSE)*$B150*$C150)","v":0},{"$f":"IF($B150=0,0,VLOOKUP($D150,'MI materialen'!$E:$AS,N$66,FALSE)*$B150*$C150)","v":0},{"$f":"IF($B150=0,0,VLOOKUP($D150,'MI materialen'!$E:$AS,O$66,FALSE)*$B150*$C150)","v":0},{"$f":"IF($B150=0,0,VLOOKUP($D150,'MI materialen'!$E:$AS,P$66,FALSE)*$B150*$C150)","v":0},{"$f":"IF($B150=0,0,VLOOKUP($D150,'MI materialen'!$E:$AS,Q$66,FALSE)*$B150*$C150)","v":0},{"$f":"IF($B150=0,0,VLOOKUP($D150,'MI materialen'!$E:$AS,R$66,FALSE)*$B150*$C150)","v":0},{"$f":"IF($B150=0,0,VLOOKUP($D150,'MI materialen'!$E:$AS,S$66,FALSE)*$B150*$C150)","v":0},{"$f":"IF($B150=0,0,VLOOKUP($D150,'MI materialen'!$E:$AS,T$66,FALSE)*$B150*$C150)","v":0},{"$f":"IF($B150=0,0,VLOOKUP($D150,'MI materialen'!$E:$AS,U$66,FALSE)*$B150*$C150)","v":0},{"$f":"IF($B150=0,0,VLOOKUP($D150,'MI materialen'!$E:$AS,V$66,FALSE)*$B150*$C150)","v":0}]
["Verbranding",{"$f":"IF(Invul_Basis_EindeL!$I$29=\"Standaard\",Invul_Basis_EindeL!$K$29,Invul_Basis_EindeL!$O$29)","v":0},{"$f":"C149","v":0},{"$f":"VLOOKUP($B149,'MI materialen'!B:AS,42,FALSE)","v":0},{"$f":"IF($B151=0,0,VLOOKUP($D151,MKI!E:K,2,FALSE)*$B151*$C151)","v":0},{"$f":"IF($B151=0,0,VLOOKUP($D151,'MI materialen'!$E:$AS,F$66,FALSE)*$B151*$C151)","v":0},{"$f":"IF($B151=0,0,VLOOKUP($D151,'MI materialen'!$E:$AS,G$66,FALSE)*$B151*$C151)","v":0},{"$f":"IF($B151=0,0,VLOOKUP($D151,'MI materialen'!$E:$AS,H$66,FALSE)*$B151*$C151)","v":0},{"$f":"IF($B151=0,0,VLOOKUP($D151,'MI materialen'!$E:$AS,I$66,FALSE)*$B151*$C151)","v":0},{"$f":"IF($B151=0,0,VLOOKUP($D151,'MI materialen'!$E:$AS,J$66,FALSE)*$B151*$C151)","v":0},{"$f":"IF($B151=0,0,VLOOKUP($D151,'MI materialen'!$E:$AS,K$66,FALSE)*$B151*$C151)","v":0},{"$f":"IF($B151=0,0,VLOOKUP($D151,'MI materialen'!$E:$AS,L$66,FALSE)*$B151*$C151)","v":0},{"$f":"IF($B151=0,0,VLOOKUP($D151,'MI materialen'!$E:$AS,M$66,FALSE)*$B151*$C151)","v":0},{"$f":"IF($B151=0,0,VLOOKUP($D151,'MI materialen'!$E:$AS,N$66,FALSE)*$B151*$C151)","v":0},{"$f":"IF($B151=0,0,VLOOKUP($D151,'MI materialen'!$E:$AS,O$66,FALSE)*$B151*$C151)","v":0},{"$f":"IF($B151=0,0,VLOOKUP($D151,'MI materialen'!$E:$AS,P$66,FALSE)*$B151*$C151)","v":0},{"$f":"IF($B151=0,0,VLOOKUP($D151,'MI materialen'!$E:$AS,Q$66,FALSE)*$B151*$C151)","v":0},{"$f":"IF($B151=0,0,VLOOKUP($D151,'MI materialen'!$E:$AS,R$66,FALSE)*$B151*$C151)","v":0},{"$f":"IF($B151=0,0,VLOOKUP($D151,'MI materialen'!$E:$AS,S$66,FALSE)*$B151*$C151)","v":0},{"$f":"IF($B151=0,0,VLOOKUP($D151,'MI materialen'!$E:$AS,T$66,FALSE)*$B151*$C151)","v":0},{"$f":"IF($B151=0,0,VLOOKUP($D151,'MI materialen'!$E:$AS,U$66,FALSE)*$B151*$C151)","v":0},{"$f":"IF($B151=0,0,VLOOKUP($D151,'MI materialen'!$E:$AS,V$66,FALSE)*$B151*$C151)","v":0}]
["Recycling",{"$f":"IF(Invul_Basis_EindeL!$I$29=\"Standaard\",Invul_Basis_EindeL!$L$29,Invul_Basis_EindeL!$P$29)*(100%-Invul_Basis_Materialen!$J$28)","v":0},{"$f":"C149","v":0},{"$f":"VLOOKUP($B149,'MI materialen'!B:AS,43,FALSE)","v":0},{"$f":"IF($B152=0,0,VLOOKUP($D152,MKI!E:K,2,FALSE)*$B152*$C152)","v":0},{"$f":"IF($B152=0,0,VLOOKUP($D152,'MI materialen'!$E:$AS,F$66,FALSE)*$B152*$C152)","v":0},{"$f":"IF($B152=0,0,VLOOKUP($D152,'MI materialen'!$E:$AS,G$66,FALSE)*$B152*$C152)","v":0},{"$f":"IF($B152=0,0,VLOOKUP($D152,'MI materialen'!$E:$AS,H$66,FALSE)*$B152*$C152)","v":0},{"$f":"IF($B152=0,0,VLOOKUP($D152,'MI materialen'!$E:$AS,I$66,FALSE)*$B152*$C152)","v":0},{"$f":"IF($B152=0,0,VLOOKUP($D152,'MI materialen'!$E:$AS,J$66,FALSE)*$B152*$C152)","v":0},{"$f":"IF($B152=0,0,VLOOKUP($D152,'MI materialen'!$E:$AS,K$66,FALSE)*$B152*$C152)","v":0},{"$f":"IF($B152=0,0,VLOOKUP($D152,'MI materialen'!$E:$AS,L$66,FALSE)*$B152*$C152)","v":0},{"$f":"IF($B152=0,0,VLOOKUP($D152,'MI materialen'!$E:$AS,M$66,FALSE)*$B152*$C152)","v":0},{"$f":"IF($B152=0,0,VLOOKUP($D152,'MI materialen'!$E:$AS,N$66,FALSE)*$B152*$C152)","v":0},{"$f":"IF($B152=0,0,VLOOKUP($D152,'MI materialen'!$E:$AS,O$66,FALSE)*$B152*$C152)","v":0},{"$f":"IF($B152=0,0,VLOOKUP($D152,'MI materialen'!$E:$AS,P$66,FALSE)*$B152*$C152)","v":0},{"$f":"IF($B152=0,0,VLOOKUP($D152,'MI materialen'!$E:$AS,Q$66,FALSE)*$B152*$C152)","v":0},{"$f":"IF($B152=0,0,VLOOKUP($D152,'MI materialen'!$E:$AS,R$66,FALSE)*$B152*$C152)","v":0},{"$f":"IF($B152=0,0,VLOOKUP($D152,'MI materialen'!$E:$AS,S$66,FALSE)*$B152*$C152)","v":0},{"$f":"IF($B152=0,0,VLOOKUP($D152,'MI materialen'!$E:$AS,T$66,FALSE)*$B152*$C152)","v":0},{"$f":"IF($B152=0,0,VLOOKUP($D152,'MI materialen'!$E:$AS,U$66,FALSE)*$B152*$C152)","v":0},{"$f":"IF($B152=0,0,VLOOKUP($D152,'MI materialen'!$E:$AS,V$66,FALSE)*$B152*$C152)","v":0}]
["Hergebruik",{"$f":"IF(Invul_Basis_EindeL!$I$29=\"Standaard\",Invul_Basis_EindeL!$M$29,Invul_Basis_EindeL!$Q$29)*(100%-Invul_Basis_Materialen!$J$28)","v":0},{"$f":"C149","v":0},{"$f":"VLOOKUP($B149,'MI materialen'!B:AS,43,FALSE)","v":0},{"$f":"IF($B153=0,0,VLOOKUP($D153,MKI!E:K,2,FALSE)*$B153*$C153)","v":0},{"$f":"IF($B153=0,0,VLOOKUP($D153,'MI materialen'!$E:$AS,F$66,FALSE)*$B153*$C153)","v":0},{"$f":"IF($B153=0,0,VLOOKUP($D153,'MI materialen'!$E:$AS,G$66,FALSE)*$B153*$C153)","v":0},{"$f":"IF($B153=0,0,VLOOKUP($D153,'MI materialen'!$E:$AS,H$66,FALSE)*$B153*$C153)","v":0},{"$f":"IF($B153=0,0,VLOOKUP($D153,'MI materialen'!$E:$AS,I$66,FALSE)*$B153*$C153)","v":0},{"$f":"IF($B153=0,0,VLOOKUP($D153,'MI materialen'!$E:$AS,J$66,FALSE)*$B153*$C153)","v":0},{"$f":"IF($B153=0,0,VLOOKUP($D153,'MI materialen'!$E:$AS,K$66,FALSE)*$B153*$C153)","v":0},{"$f":"IF($B153=0,0,VLOOKUP($D153,'MI materialen'!$E:$AS,L$66,FALSE)*$B153*$C153)","v":0},{"$f":"IF($B153=0,0,VLOOKUP($D153,'MI materialen'!$E:$AS,M$66,FALSE)*$B153*$C153)","v":0},{"$f":"IF($B153=0,0,VLOOKUP($D153,'MI materialen'!$E:$AS,N$66,FALSE)*$B153*$C153)","v":0},{"$f":"IF($B153=0,0,VLOOKUP($D153,'MI materialen'!$E:$AS,O$66,FALSE)*$B153*$C153)","v":0},{"$f":"IF($B153=0,0,VLOOKUP($D153,'MI materialen'!$E:$AS,P$66,FALSE)*$B153*$C153)","v":0},{"$f":"IF($B153=0,0,VLOOKUP($D153,'MI materialen'!$E:$AS,Q$66,FALSE)*$B153*$C153)","v":0},{"$f":"IF($B153=0,0,VLOOKUP($D153,'MI materialen'!$E:$AS,R$66,FALSE)*$B153*$C153)","v":0},{"$f":"IF($B153=0,0,VLOOKUP($D153,'MI materialen'!$E:$AS,S$66,FALSE)*$B153*$C153)","v":0},{"$f":"IF($B153=0,0,VLOOKUP($D153,'MI materialen'!$E:$AS,T$66,FALSE)*$B153*$C153)","v":0},{"$f":"IF($B153=0,0,VLOOKUP($D153,'MI materialen'!$E:$AS,U$66,FALSE)*$B153*$C153)","v":0},{"$f":"IF($B153=0,0,VLOOKUP($D153,'MI materialen'!$E:$AS,V$66,FALSE)*$B153*$C153)","v":0}]
["Som",{"$f":"Invul_Basis_EindeL!$F$30","v":"Leeg"},{"$f":"Invul_Basis_EindeL!$G$30","v":0},null,{"$f":"SUM(E155:E158)","v":0},0,0,0,0,0,0,0,0,0,0,0,0,0,0,0,0,0]
["Stort",{"$f":"IF(Invul_Basis_EindeL!$I$30=\"Standaard\",Invul_Basis_EindeL!$J$30,Invul_Basis_EindeL!$N$30)","v":0},{"$f":"C154","v":0},{"$f":"VLOOKUP($B154,'MI materialen'!B:AS,41,FALSE)","v":0},{"$f":"IF($B155=0,0,VLOOKUP($D155,MKI!E:K,2,FALSE)*$B155*$C155)","v":0},{"$f":"IF($B155=0,0,VLOOKUP($D155,'MI materialen'!$E:$AS,F$66,FALSE)*$B155*$C155)","v":0},{"$f":"IF($B155=0,0,VLOOKUP($D155,'MI materialen'!$E:$AS,G$66,FALSE)*$B155*$C155)","v":0},{"$f":"IF($B155=0,0,VLOOKUP($D155,'MI materialen'!$E:$AS,H$66,FALSE)*$B155*$C155)","v":0},{"$f":"IF($B155=0,0,VLOOKUP($D155,'MI materialen'!$E:$AS,I$66,FALSE)*$B155*$C155)","v":0},{"$f":"IF($B155=0,0,VLOOKUP($D155,'MI materialen'!$E:$AS,J$66,FALSE)*$B155*$C155)","v":0},{"$f":"IF($B155=0,0,VLOOKUP($D155,'MI materialen'!$E:$AS,K$66,FALSE)*$B155*$C155)","v":0},{"$f":"IF($B155=0,0,VLOOKUP($D155,'MI materialen'!$E:$AS,L$66,FALSE)*$B155*$C155)","v":0},{"$f":"IF($B155=0,0,VLOOKUP($D155,'MI materialen'!$E:$AS,M$66,FALSE)*$B155*$C155)","v":0},{"$f":"IF($B155=0,0,VLOOKUP($D155,'MI materialen'!$E:$AS,N$66,FALSE)*$B155*$C155)","v":0},{"$f":"IF($B155=0,0,VLOOKUP($D155,'MI materialen'!$E:$AS,O$66,FALSE)*$B155*$C155)","v":0},{"$f":"IF($B155=0,0,VLOOKUP($D155,'MI materialen'!$E:$AS,P$66,FALSE)*$B155*$C155)","v":0},{"$f":"IF($B155=0,0,VLOOKUP($D155,'MI materialen'!$E:$AS,Q$66,FALSE)*$B155*$C155)","v":0},{"$f":"IF($B155=0,0,VLOOKUP($D155,'MI materialen'!$E:$AS,R$66,FALSE)*$B155*$C155)","v":0},{"$f":"IF($B155=0,0,VLOOKUP($D155,'MI materialen'!$E:$AS,S$66,FALSE)*$B155*$C155)","v":0},{"$f":"IF($B155=0,0,VLOOKUP($D155,'MI materialen'!$E:$AS,T$66,FALSE)*$B155*$C155)","v":0},{"$f":"IF($B155=0,0,VLOOKUP($D155,'MI materialen'!$E:$AS,U$66,FALSE)*$B155*$C155)","v":0},{"$f":"IF($B155=0,0,VLOOKUP($D155,'MI materialen'!$E:$AS,V$66,FALSE)*$B155*$C155)","v":0}]
["Verbranding",{"$f":"IF(Invul_Basis_EindeL!$I$30=\"Standaard\",Invul_Basis_EindeL!$K$30,Invul_Basis_EindeL!$O$30)","v":0},{"$f":"C154","v":0},{"$f":"VLOOKUP($B154,'MI materialen'!B:AS,42,FALSE)","v":0},{"$f":"IF($B156=0,0,VLOOKUP($D156,MKI!E:K,2,FALSE)*$B156*$C156)","v":0},{"$f":"IF($B156=0,0,VLOOKUP($D156,'MI materialen'!$E:$AS,F$66,FALSE)*$B156*$C156)","v":0},{"$f":"IF($B156=0,0,VLOOKUP($D156,'MI materialen'!$E:$AS,G$66,FALSE)*$B156*$C156)","v":0},{"$f":"IF($B156=0,0,VLOOKUP($D156,'MI materialen'!$E:$AS,H$66,FALSE)*$B156*$C156)","v":0},{"$f":"IF($B156=0,0,VLOOKUP($D156,'MI materialen'!$E:$AS,I$66,FALSE)*$B156*$C156)","v":0},{"$f":"IF($B156=0,0,VLOOKUP($D156,'MI materialen'!$E:$AS,J$66,FALSE)*$B156*$C156)","v":0},{"$f":"IF($B156=0,0,VLOOKUP($D156,'MI materialen'!$E:$AS,K$66,FALSE)*$B156*$C156)","v":0},{"$f":"IF($B156=0,0,VLOOKUP($D156,'MI materialen'!$E:$AS,L$66,FALSE)*$B156*$C156)","v":0},{"$f":"IF($B156=0,0,VLOOKUP($D156,'MI materialen'!$E:$AS,M$66,FALSE)*$B156*$C156)","v":0},{"$f":"IF($B156=0,0,VLOOKUP($D156,'MI materialen'!$E:$AS,N$66,FALSE)*$B156*$C156)","v":0},{"$f":"IF($B156=0,0,VLOOKUP($D156,'MI materialen'!$E:$AS,O$66,FALSE)*$B156*$C156)","v":0},{"$f":"IF($B156=0,0,VLOOKUP($D156,'MI materialen'!$E:$AS,P$66,FALSE)*$B156*$C156)","v":0},{"$f":"IF($B156=0,0,VLOOKUP($D156,'MI materialen'!$E:$AS,Q$66,FALSE)*$B156*$C156)","v":0},{"$f":"IF($B156=0,0,VLOOKUP($D156,'MI materialen'!$E:$AS,R$66,FALSE)*$B156*$C156)","v":0},{"$f":"IF($B156=0,0,VLOOKUP($D156,'MI materialen'!$E:$AS,S$66,FALSE)*$B156*$C156)","v":0},{"$f":"IF($B156=0,0,VLOOKUP($D156,'MI materialen'!$E:$AS,T$66,FALSE)*$B156*$C156)","v":0},{"$f":"IF($B156=0,0,VLOOKUP($D156,'MI materialen'!$E:$AS,U$66,FALSE)*$B156*$C156)","v":0},{"$f":"IF($B156=0,0,VLOOKUP($D156,'MI materialen'!$E:$AS,V$66,FALSE)*$B156*$C156)","v":0}]
["Recycling",{"$f":"IF(Invul_Basis_EindeL!$I$30=\"Standaard\",Invul_Basis_EindeL!$L$30,Invul_Basis_EindeL!$P$30)*(100%-Invul_Basis_Materialen!$J$29)","v":0},{"$f":"C154","v":0},{"$f":"VLOOKUP($B154,'MI materialen'!B:AS,43,FALSE)","v":0},{"$f":"IF($B157=0,0,VLOOKUP($D157,MKI!E:K,2,FALSE)*$B157*$C157)","v":0},{"$f":"IF($B157=0,0,VLOOKUP($D157,'MI materialen'!$E:$AS,F$66,FALSE)*$B157*$C157)","v":0},{"$f":"IF($B157=0,0,VLOOKUP($D157,'MI materialen'!$E:$AS,G$66,FALSE)*$B157*$C157)","v":0},{"$f":"IF($B157=0,0,VLOOKUP($D157,'MI materialen'!$E:$AS,H$66,FALSE)*$B157*$C157)","v":0},{"$f":"IF($B157=0,0,VLOOKUP($D157,'MI materialen'!$E:$AS,I$66,FALSE)*$B157*$C157)","v":0},{"$f":"IF($B157=0,0,VLOOKUP($D157,'MI materialen'!$E:$AS,J$66,FALSE)*$B157*$C157)","v":0},{"$f":"IF($B157=0,0,VLOOKUP($D157,'MI materialen'!$E:$AS,K$66,FALSE)*$B157*$C157)","v":0},{"$f":"IF($B157=0,0,VLOOKUP($D157,'MI materialen'!$E:$AS,L$66,FALSE)*$B157*$C157)","v":0},{"$f":"IF($B157=0,0,VLOOKUP($D157,'MI materialen'!$E:$AS,M$66,FALSE)*$B157*$C157)","v":0},{"$f":"IF($B157=0,0,VLOOKUP($D157,'MI materialen'!$E:$AS,N$66,FALSE)*$B157*$C157)","v":0},{"$f":"IF($B157=0,0,VLOOKUP($D157,'MI materialen'!$E:$AS,O$66,FALSE)*$B157*$C157)","v":0},{"$f":"IF($B157=0,0,VLOOKUP($D157,'MI materialen'!$E:$AS,P$66,FALSE)*$B157*$C157)","v":0},{"$f":"IF($B157=0,0,VLOOKUP($D157,'MI materialen'!$E:$AS,Q$66,FALSE)*$B157*$C157)","v":0},{"$f":"IF($B157=0,0,VLOOKUP($D157,'MI materialen'!$E:$AS,R$66,FALSE)*$B157*$C157)","v":0},{"$f":"IF($B157=0,0,VLOOKUP($D157,'MI materialen'!$E:$AS,S$66,FALSE)*$B157*$C157)","v":0},{"$f":"IF($B157=0,0,VLOOKUP($D157,'MI materialen'!$E:$AS,T$66,FALSE)*$B157*$C157)","v":0},{"$f":"IF($B157=0,0,VLOOKUP($D157,'MI materialen'!$E:$AS,U$66,FALSE)*$B157*$C157)","v":0},{"$f":"IF($B157=0,0,VLOOKUP($D157,'MI materialen'!$E:$AS,V$66,FALSE)*$B157*$C157)","v":0}]
["Hergebruik",{"$f":"IF(Invul_Basis_EindeL!$I$30=\"Standaard\",Invul_Basis_EindeL!$M$30,Invul_Basis_EindeL!$Q$30)*(100%-Invul_Basis_Materialen!$J$29)","v":0},{"$f":"C154","v":0},{"$f":"VLOOKUP($B154,'MI materialen'!B:AS,43,FALSE)","v":0},{"$f":"IF($B158=0,0,VLOOKUP($D158,MKI!E:K,2,FALSE)*$B158*$C158)","v":0},{"$f":"IF($B158=0,0,VLOOKUP($D158,'MI materialen'!$E:$AS,F$66,FALSE)*$B158*$C158)","v":0},{"$f":"IF($B158=0,0,VLOOKUP($D158,'MI materialen'!$E:$AS,G$66,FALSE)*$B158*$C158)","v":0},{"$f":"IF($B158=0,0,VLOOKUP($D158,'MI materialen'!$E:$AS,H$66,FALSE)*$B158*$C158)","v":0},{"$f":"IF($B158=0,0,VLOOKUP($D158,'MI materialen'!$E:$AS,I$66,FALSE)*$B158*$C158)","v":0},{"$f":"IF($B158=0,0,VLOOKUP($D158,'MI materialen'!$E:$AS,J$66,FALSE)*$B158*$C158)","v":0},{"$f":"IF($B158=0,0,VLOOKUP($D158,'MI materialen'!$E:$AS,K$66,FALSE)*$B158*$C158)","v":0},{"$f":"IF($B158=0,0,VLOOKUP($D158,'MI materialen'!$E:$AS,L$66,FALSE)*$B158*$C158)","v":0},{"$f":"IF($B158=0,0,VLOOKUP($D158,'MI materialen'!$E:$AS,M$66,FALSE)*$B158*$C158)","v":0},{"$f":"IF($B158=0,0,VLOOKUP($D158,'MI materialen'!$E:$AS,N$66,FALSE)*$B158*$C158)","v":0},{"$f":"IF($B158=0,0,VLOOKUP($D158,'MI materialen'!$E:$AS,O$66,FALSE)*$B158*$C158)","v":0},{"$f":"IF($B158=0,0,VLOOKUP($D158,'MI materialen'!$E:$AS,P$66,FALSE)*$B158*$C158)","v":0},{"$f":"IF($B158=0,0,VLOOKUP($D158,'MI materialen'!$E:$AS,Q$66,FALSE)*$B158*$C158)","v":0},{"$f":"IF($B158=0,0,VLOOKUP($D158,'MI materialen'!$E:$AS,R$66,FALSE)*$B158*$C158)","v":0},{"$f":"IF($B158=0,0,VLOOKUP($D158,'MI materialen'!$E:$AS,S$66,FALSE)*$B158*$C158)","v":0},{"$f":"IF($B158=0,0,VLOOKUP($D158,'MI materialen'!$E:$AS,T$66,FALSE)*$B158*$C158)","v":0},{"$f":"IF($B158=0,0,VLOOKUP($D158,'MI materialen'!$E:$AS,U$66,FALSE)*$B158*$C158)","v":0},{"$f":"IF($B158=0,0,VLOOKUP($D158,'MI materialen'!$E:$AS,V$66,FALSE)*$B158*$C158)","v":0}]
["Som",{"$f":"Invul_Basis_EindeL!$F$31","v":"Leeg"},{"$f":"Invul_Basis_EindeL!$G$31","v":0},null,{"$f":"SUM(E160:E163)","v":0},0,0,0,0,0,0,0,0,0,0,0,0,0,0,0,0,0]
["Stort",{"$f":"IF(Invul_Basis_EindeL!$I$31=\"Standaard\",Invul_Basis_EindeL!$J$31,Invul_Basis_EindeL!$N$31)","v":0},{"$f":"C159","v":0},{"$f":"VLOOKUP($B159,'MI materialen'!B:AS,41,FALSE)","v":0},{"$f":"IF($B160=0,0,VLOOKUP($D160,MKI!E:K,2,FALSE)*$B160*$C160)","v":0},{"$f":"IF($B160=0,0,VLOOKUP($D160,'MI materialen'!$E:$AS,F$66,FALSE)*$B160*$C160)","v":0},{"$f":"IF($B160=0,0,VLOOKUP($D160,'MI materialen'!$E:$AS,G$66,FALSE)*$B160*$C160)","v":0},{"$f":"IF($B160=0,0,VLOOKUP($D160,'MI materialen'!$E:$AS,H$66,FALSE)*$B160*$C160)","v":0},{"$f":"IF($B160=0,0,VLOOKUP($D160,'MI materialen'!$E:$AS,I$66,FALSE)*$B160*$C160)","v":0},{"$f":"IF($B160=0,0,VLOOKUP($D160,'MI materialen'!$E:$AS,J$66,FALSE)*$B160*$C160)","v":0},{"$f":"IF($B160=0,0,VLOOKUP($D160,'MI materialen'!$E:$AS,K$66,FALSE)*$B160*$C160)","v":0},{"$f":"IF($B160=0,0,VLOOKUP($D160,'MI materialen'!$E:$AS,L$66,FALSE)*$B160*$C160)","v":0},{"$f":"IF($B160=0,0,VLOOKUP($D160,'MI materialen'!$E:$AS,M$66,FALSE)*$B160*$C160)","v":0},{"$f":"IF($B160=0,0,VLOOKUP($D160,'MI materialen'!$E:$AS,N$66,FALSE)*$B160*$C160)","v":0},{"$f":"IF($B160=0,0,VLOOKUP($D160,'MI materialen'!$E:$AS,O$66,FALSE)*$B160*$C160)","v":0},{"$f":"IF($B160=0,0,VLOOKUP($D160,'MI materialen'!$E:$AS,P$66,FALSE)*$B160*$C160)","v":0},{"$f":"IF($B160=0,0,VLOOKUP($D160,'MI materialen'!$E:$AS,Q$66,FALSE)*$B160*$C160)","v":0},{"$f":"IF($B160=0,0,VLOOKUP($D160,'MI materialen'!$E:$AS,R$66,FALSE)*$B160*$C160)","v":0},{"$f":"IF($B160=0,0,VLOOKUP($D160,'MI materialen'!$E:$AS,S$66,FALSE)*$B160*$C160)","v":0},{"$f":"IF($B160=0,0,VLOOKUP($D160,'MI materialen'!$E:$AS,T$66,FALSE)*$B160*$C160)","v":0},{"$f":"IF($B160=0,0,VLOOKUP($D160,'MI materialen'!$E:$AS,U$66,FALSE)*$B160*$C160)","v":0},{"$f":"IF($B160=0,0,VLOOKUP($D160,'MI materialen'!$E:$AS,V$66,FALSE)*$B160*$C160)","v":0}]
["Verbranding",{"$f":"IF(Invul_Basis_EindeL!$I$31=\"Standaard\",Invul_Basis_EindeL!$K$31,Invul_Basis_EindeL!$O$31)","v":0},{"$f":"C159","v":0},{"$f":"VLOOKUP($B159,'MI materialen'!B:AS,42,FALSE)","v":0},{"$f":"IF($B161=0,0,VLOOKUP($D161,MKI!E:K,2,FALSE)*$B161*$C161)","v":0},{"$f":"IF($B161=0,0,VLOOKUP($D161,'MI materialen'!$E:$AS,F$66,FALSE)*$B161*$C161)","v":0},{"$f":"IF($B161=0,0,VLOOKUP($D161,'MI materialen'!$E:$AS,G$66,FALSE)*$B161*$C161)","v":0},{"$f":"IF($B161=0,0,VLOOKUP($D161,'MI materialen'!$E:$AS,H$66,FALSE)*$B161*$C161)","v":0},{"$f":"IF($B161=0,0,VLOOKUP($D161,'MI materialen'!$E:$AS,I$66,FALSE)*$B161*$C161)","v":0},{"$f":"IF($B161=0,0,VLOOKUP($D161,'MI materialen'!$E:$AS,J$66,FALSE)*$B161*$C161)","v":0},{"$f":"IF($B161=0,0,VLOOKUP($D161,'MI materialen'!$E:$AS,K$66,FALSE)*$B161*$C161)","v":0},{"$f":"IF($B161=0,0,VLOOKUP($D161,'MI materialen'!$E:$AS,L$66,FALSE)*$B161*$C161)","v":0},{"$f":"IF($B161=0,0,VLOOKUP($D161,'MI materialen'!$E:$AS,M$66,FALSE)*$B161*$C161)","v":0},{"$f":"IF($B161=0,0,VLOOKUP($D161,'MI materialen'!$E:$AS,N$66,FALSE)*$B161*$C161)","v":0},{"$f":"IF($B161=0,0,VLOOKUP($D161,'MI materialen'!$E:$AS,O$66,FALSE)*$B161*$C161)","v":0},{"$f":"IF($B161=0,0,VLOOKUP($D161,'MI materialen'!$E:$AS,P$66,FALSE)*$B161*$C161)","v":0},{"$f":"IF($B161=0,0,VLOOKUP($D161,'MI materialen'!$E:$AS,Q$66,FALSE)*$B161*$C161)","v":0},{"$f":"IF($B161=0,0,VLOOKUP($D161,'MI materialen'!$E:$AS,R$66,FALSE)*$B161*$C161)","v":0},{"$f":"IF($B161=0,0,VLOOKUP($D161,'MI materialen'!$E:$AS,S$66,FALSE)*$B161*$C161)","v":0},{"$f":"IF($B161=0,0,VLOOKUP($D161,'MI materialen'!$E:$AS,T$66,FALSE)*$B161*$C161)","v":0},{"$f":"IF($B161=0,0,VLOOKUP($D161,'MI materialen'!$E:$AS,U$66,FALSE)*$B161*$C161)","v":0},{"$f":"IF($B161=0,0,VLOOKUP($D161,'MI materialen'!$E:$AS,V$66,FALSE)*$B161*$C161)","v":0}]
["Recycling",{"$f":"IF(Invul_Basis_EindeL!$I$31=\"Standaard\",Invul_Basis_EindeL!$L$31,Invul_Basis_EindeL!$P$31)*(100%-Invul_Basis_Materialen!$J$30)","v":0},{"$f":"C159","v":0},{"$f":"VLOOKUP($B159,'MI materialen'!B:AS,43,FALSE)","v":0},{"$f":"IF($B162=0,0,VLOOKUP($D162,MKI!E:K,2,FALSE)*$B162*$C162)","v":0},{"$f":"IF($B162=0,0,VLOOKUP($D162,'MI materialen'!$E:$AS,F$66,FALSE)*$B162*$C162)","v":0},{"$f":"IF($B162=0,0,VLOOKUP($D162,'MI materialen'!$E:$AS,G$66,FALSE)*$B162*$C162)","v":0},{"$f":"IF($B162=0,0,VLOOKUP($D162,'MI materialen'!$E:$AS,H$66,FALSE)*$B162*$C162)","v":0},{"$f":"IF($B162=0,0,VLOOKUP($D162,'MI materialen'!$E:$AS,I$66,FALSE)*$B162*$C162)","v":0},{"$f":"IF($B162=0,0,VLOOKUP($D162,'MI materialen'!$E:$AS,J$66,FALSE)*$B162*$C162)","v":0},{"$f":"IF($B162=0,0,VLOOKUP($D162,'MI materialen'!$E:$AS,K$66,FALSE)*$B162*$C162)","v":0},{"$f":"IF($B162=0,0,VLOOKUP($D162,'MI materialen'!$E:$AS,L$66,FALSE)*$B162*$C162)","v":0},{"$f":"IF($B162=0,0,VLOOKUP($D162,'MI materialen'!$E:$AS,M$66,FALSE)*$B162*$C162)","v":0},{"$f":"IF($B162=0,0,VLOOKUP($D162,'MI materialen'!$E:$AS,N$66,FALSE)*$B162*$C162)","v":0},{"$f":"IF($B162=0,0,VLOOKUP($D162,'MI materialen'!$E:$AS,O$66,FALSE)*$B162*$C162)","v":0},{"$f":"IF($B162=0,0,VLOOKUP($D162,'MI materialen'!$E:$AS,P$66,FALSE)*$B162*$C162)","v":0},{"$f":"IF($B162=0,0,VLOOKUP($D162,'MI materialen'!$E:$AS,Q$66,FALSE)*$B162*$C162)","v":0},{"$f":"IF($B162=0,0,VLOOKUP($D162,'MI materialen'!$E:$AS,R$66,FALSE)*$B162*$C162)","v":0},{"$f":"IF($B162=0,0,VLOOKUP($D162,'MI materialen'!$E:$AS,S$66,FALSE)*$B162*$C162)","v":0},{"$f":"IF($B162=0,0,VLOOKUP($D162,'MI materialen'!$E:$AS,T$66,FALSE)*$B162*$C162)","v":0},{"$f":"IF($B162=0,0,VLOOKUP($D162,'MI materialen'!$E:$AS,U$66,FALSE)*$B162*$C162)","v":0},{"$f":"IF($B162=0,0,VLOOKUP($D162,'MI materialen'!$E:$AS,V$66,FALSE)*$B162*$C162)","v":0}]
["Hergebruik",{"$f":"IF(Invul_Basis_EindeL!$I$31=\"Standaard\",Invul_Basis_EindeL!$M$31,Invul_Basis_EindeL!$Q$31)*(100%-IF(Invul_Basis_Materialen!$I$30=\"Standaard\",Invul_Basis_Materialen!$J$30,Invul_Basis_Materialen!$N$30))","v":0},{"$f":"C159","v":0},{"$f":"VLOOKUP($B159,'MI materialen'!B:AS,43,FALSE)","v":0},{"$f":"IF($B163=0,0,VLOOKUP($D163,MKI!E:K,2,FALSE)*$B163*$C163)","v":0},{"$f":"IF($B163=0,0,VLOOKUP($D163,'MI materialen'!$E:$AS,F$66,FALSE)*$B163*$C163)","v":0},{"$f":"IF($B163=0,0,VLOOKUP($D163,'MI materialen'!$E:$AS,G$66,FALSE)*$B163*$C163)","v":0},{"$f":"IF($B163=0,0,VLOOKUP($D163,'MI materialen'!$E:$AS,H$66,FALSE)*$B163*$C163)","v":0},{"$f":"IF($B163=0,0,VLOOKUP($D163,'MI materialen'!$E:$AS,I$66,FALSE)*$B163*$C163)","v":0},{"$f":"IF($B163=0,0,VLOOKUP($D163,'MI materialen'!$E:$AS,J$66,FALSE)*$B163*$C163)","v":0},{"$f":"IF($B163=0,0,VLOOKUP($D163,'MI materialen'!$E:$AS,K$66,FALSE)*$B163*$C163)","v":0},{"$f":"IF($B163=0,0,VLOOKUP($D163,'MI materialen'!$E:$AS,L$66,FALSE)*$B163*$C163)","v":0},{"$f":"IF($B163=0,0,VLOOKUP($D163,'MI materialen'!$E:$AS,M$66,FALSE)*$B163*$C163)","v":0},{"$f":"IF($B163=0,0,VLOOKUP($D163,'MI materialen'!$E:$AS,N$66,FALSE)*$B163*$C163)","v":0},{"$f":"IF($B163=0,0,VLOOKUP($D163,'MI materialen'!$E:$AS,O$66,FALSE)*$B163*$C163)","v":0},{"$f":"IF($B163=0,0,VLOOKUP($D163,'MI materialen'!$E:$AS,P$66,FALSE)*$B163*$C163)","v":0},{"$f":"IF($B163=0,0,VLOOKUP($D163,'MI materialen'!$E:$AS,Q$66,FALSE)*$B163*$C163)","v":0},{"$f":"IF($B163=0,0,VLOOKUP($D163,'MI materialen'!$E:$AS,R$66,FALSE)*$B163*$C163)","v":0},{"$f":"IF($B163=0,0,VLOOKUP($D163,'MI materialen'!$E:$AS,S$66,FALSE)*$B163*$C163)","v":0},{"$f":"IF($B163=0,0,VLOOKUP($D163,'MI materialen'!$E:$AS,T$66,FALSE)*$B163*$C163)","v":0},{"$f":"IF($B163=0,0,VLOOKUP($D163,'MI materialen'!$E:$AS,U$66,FALSE)*$B163*$C163)","v":0},{"$f":"IF($B163=0,0,VLOOKUP($D163,'MI materialen'!$E:$AS,V$66,FALSE)*$B163*$C163)","v":0}]
["Som",{"$f":"Invul_Basis_EindeL!$F$32","v":"Leeg"},{"$f":"Invul_Basis_EindeL!$G$32","v":0},null,{"$f":"SUM(E165:E168)","v":0},0,0,0,0,0,0,0,0,0,0,0,0,0,0,0,0,0]
["Stort",{"$f":"IF(Invul_Basis_EindeL!$I$32=\"Standaard\",Invul_Basis_EindeL!$J$32,Invul_Basis_EindeL!$N$32)","v":0},{"$f":"C164","v":0},{"$f":"VLOOKUP($B164,'MI materialen'!B:AS,41,FALSE)","v":0},{"$f":"IF($B165=0,0,VLOOKUP($D165,MKI!E:K,2,FALSE)*$B165*$C165)","v":0},{"$f":"IF($B165=0,0,VLOOKUP($D165,'MI materialen'!$E:$AS,F$66,FALSE)*$B165*$C165)","v":0},{"$f":"IF($B165=0,0,VLOOKUP($D165,'MI materialen'!$E:$AS,G$66,FALSE)*$B165*$C165)","v":0},{"$f":"IF($B165=0,0,VLOOKUP($D165,'MI materialen'!$E:$AS,H$66,FALSE)*$B165*$C165)","v":0},{"$f":"IF($B165=0,0,VLOOKUP($D165,'MI materialen'!$E:$AS,I$66,FALSE)*$B165*$C165)","v":0},{"$f":"IF($B165=0,0,VLOOKUP($D165,'MI materialen'!$E:$AS,J$66,FALSE)*$B165*$C165)","v":0},{"$f":"IF($B165=0,0,VLOOKUP($D165,'MI materialen'!$E:$AS,K$66,FALSE)*$B165*$C165)","v":0},{"$f":"IF($B165=0,0,VLOOKUP($D165,'MI materialen'!$E:$AS,L$66,FALSE)*$B165*$C165)","v":0},{"$f":"IF($B165=0,0,VLOOKUP($D165,'MI materialen'!$E:$AS,M$66,FALSE)*$B165*$C165)","v":0},{"$f":"IF($B165=0,0,VLOOKUP($D165,'MI materialen'!$E:$AS,N$66,FALSE)*$B165*$C165)","v":0},{"$f":"IF($B165=0,0,VLOOKUP($D165,'MI materialen'!$E:$AS,O$66,FALSE)*$B165*$C165)","v":0},{"$f":"IF($B165=0,0,VLOOKUP($D165,'MI materialen'!$E:$AS,P$66,FALSE)*$B165*$C165)","v":0},{"$f":"IF($B165=0,0,VLOOKUP($D165,'MI materialen'!$E:$AS,Q$66,FALSE)*$B165*$C165)","v":0},{"$f":"IF($B165=0,0,VLOOKUP($D165,'MI materialen'!$E:$AS,R$66,FALSE)*$B165*$C165)","v":0},{"$f":"IF($B165=0,0,VLOOKUP($D165,'MI materialen'!$E:$AS,S$66,FALSE)*$B165*$C165)","v":0},{"$f":"IF($B165=0,0,VLOOKUP($D165,'MI materialen'!$E:$AS,T$66,FALSE)*$B165*$C165)","v":0},{"$f":"IF($B165=0,0,VLOOKUP($D165,'MI materialen'!$E:$AS,U$66,FALSE)*$B165*$C165)","v":0},{"$f":"IF($B165=0,0,VLOOKUP($D165,'MI materialen'!$E:$AS,V$66,FALSE)*$B165*$C165)","v":0}]
["Verbranding",{"$f":"IF(Invul_Basis_EindeL!$I$32=\"Standaard\",Invul_Basis_EindeL!$K$32,Invul_Basis_EindeL!$O$32)","v":0},{"$f":"C164","v":0},{"$f":"VLOOKUP($B164,'MI materialen'!B:AS,42,FALSE)","v":0},{"$f":"IF($B166=0,0,VLOOKUP($D166,MKI!E:K,2,FALSE)*$B166*$C166)","v":0},{"$f":"IF($B166=0,0,VLOOKUP($D166,'MI materialen'!$E:$AS,F$66,FALSE)*$B166*$C166)","v":0},{"$f":"IF($B166=0,0,VLOOKUP($D166,'MI materialen'!$E:$AS,G$66,FALSE)*$B166*$C166)","v":0},{"$f":"IF($B166=0,0,VLOOKUP($D166,'MI materialen'!$E:$AS,H$66,FALSE)*$B166*$C166)","v":0},{"$f":"IF($B166=0,0,VLOOKUP($D166,'MI materialen'!$E:$AS,I$66,FALSE)*$B166*$C166)","v":0},{"$f":"IF($B166=0,0,VLOOKUP($D166,'MI materialen'!$E:$AS,J$66,FALSE)*$B166*$C166)","v":0},{"$f":"IF($B166=0,0,VLOOKUP($D166,'MI materialen'!$E:$AS,K$66,FALSE)*$B166*$C166)","v":0},{"$f":"IF($B166=0,0,VLOOKUP($D166,'MI materialen'!$E:$AS,L$66,FALSE)*$B166*$C166)","v":0},{"$f":"IF($B166=0,0,VLOOKUP($D166,'MI materialen'!$E:$AS,M$66,FALSE)*$B166*$C166)","v":0},{"$f":"IF($B166=0,0,VLOOKUP($D166,'MI materialen'!$E:$AS,N$66,FALSE)*$B166*$C166)","v":0},{"$f":"IF($B166=0,0,VLOOKUP($D166,'MI materialen'!$E:$AS,O$66,FALSE)*$B166*$C166)","v":0},{"$f":"IF($B166=0,0,VLOOKUP($D166,'MI materialen'!$E:$AS,P$66,FALSE)*$B166*$C166)","v":0},{"$f":"IF($B166=0,0,VLOOKUP($D166,'MI materialen'!$E:$AS,Q$66,FALSE)*$B166*$C166)","v":0},{"$f":"IF($B166=0,0,VLOOKUP($D166,'MI materialen'!$E:$AS,R$66,FALSE)*$B166*$C166)","v":0},{"$f":"IF($B166=0,0,VLOOKUP($D166,'MI materialen'!$E:$AS,S$66,FALSE)*$B166*$C166)","v":0},{"$f":"IF($B166=0,0,VLOOKUP($D166,'MI materialen'!$E:$AS,T$66,FALSE)*$B166*$C166)","v":0},{"$f":"IF($B166=0,0,VLOOKUP($D166,'MI materialen'!$E:$AS,U$66,FALSE)*$B166*$C166)","v":0},{"$f":"IF($B166=0,0,VLOOKUP($D166,'MI materialen'!$E:$AS,V$66,FALSE)*$B166*$C166)","v":0}]
["Recycling",{"$f":"IF(Invul_Basis_EindeL!$I$32=\"Standaard\",Invul_Basis_EindeL!$L$32,Invul_Basis_EindeL!$P$32)*(100%-Invul_Basis_Materialen!$J$31)","v":0},{"$f":"C164","v":0},{"$f":"VLOOKUP($B164,'MI materialen'!B:AS,43,FALSE)","v":0},{"$f":"IF($B167=0,0,VLOOKUP($D167,MKI!E:K,2,FALSE)*$B167*$C167)","v":0},{"$f":"IF($B167=0,0,VLOOKUP($D167,'MI materialen'!$E:$AS,F$66,FALSE)*$B167*$C167)","v":0},{"$f":"IF($B167=0,0,VLOOKUP($D167,'MI materialen'!$E:$AS,G$66,FALSE)*$B167*$C167)","v":0},{"$f":"IF($B167=0,0,VLOOKUP($D167,'MI materialen'!$E:$AS,H$66,FALSE)*$B167*$C167)","v":0},{"$f":"IF($B167=0,0,VLOOKUP($D167,'MI materialen'!$E:$AS,I$66,FALSE)*$B167*$C167)","v":0},{"$f":"IF($B167=0,0,VLOOKUP($D167,'MI materialen'!$E:$AS,J$66,FALSE)*$B167*$C167)","v":0},{"$f":"IF($B167=0,0,VLOOKUP($D167,'MI materialen'!$E:$AS,K$66,FALSE)*$B167*$C167)","v":0},{"$f":"IF($B167=0,0,VLOOKUP($D167,'MI materialen'!$E:$AS,L$66,FALSE)*$B167*$C167)","v":0},{"$f":"IF($B167=0,0,VLOOKUP($D167,'MI materialen'!$E:$AS,M$66,FALSE)*$B167*$C167)","v":0},{"$f":"IF($B167=0,0,VLOOKUP($D167,'MI materialen'!$E:$AS,N$66,FALSE)*$B167*$C167)","v":0},{"$f":"IF($B167=0,0,VLOOKUP($D167,'MI materialen'!$E:$AS,O$66,FALSE)*$B167*$C167)","v":0},{"$f":"IF($B167=0,0,VLOOKUP($D167,'MI materialen'!$E:$AS,P$66,FALSE)*$B167*$C167)","v":0},{"$f":"IF($B167=0,0,VLOOKUP($D167,'MI materialen'!$E:$AS,Q$66,FALSE)*$B167*$C167)","v":0},{"$f":"IF($B167=0,0,VLOOKUP($D167,'MI materialen'!$E:$AS,R$66,FALSE)*$B167*$C167)","v":0},{"$f":"IF($B167=0,0,VLOOKUP($D167,'MI materialen'!$E:$AS,S$66,FALSE)*$B167*$C167)","v":0},{"$f":"IF($B167=0,0,VLOOKUP($D167,'MI materialen'!$E:$AS,T$66,FALSE)*$B167*$C167)","v":0},{"$f":"IF($B167=0,0,VLOOKUP($D167,'MI materialen'!$E:$AS,U$66,FALSE)*$B167*$C167)","v":0},{"$f":"IF($B167=0,0,VLOOKUP($D167,'MI materialen'!$E:$AS,V$66,FALSE)*$B167*$C167)","v":0}]
["Hergebruik",{"$f":"IF(Invul_Basis_EindeL!$I$32=\"Standaard\",Invul_Basis_EindeL!$M$32,Invul_Basis_EindeL!$Q$32)*(100%-Invul_Basis_Materialen!$J$31)","v":0},{"$f":"C164","v":0},{"$f":"VLOOKUP($B164,'MI materialen'!B:AS,43,FALSE)","v":0},{"$f":"IF($B168=0,0,VLOOKUP($D168,MKI!E:K,2,FALSE)*$B168*$C168)","v":0},{"$f":"IF($B168=0,0,VLOOKUP($D168,'MI materialen'!$E:$AS,F$66,FALSE)*$B168*$C168)","v":0},{"$f":"IF($B168=0,0,VLOOKUP($D168,'MI materialen'!$E:$AS,G$66,FALSE)*$B168*$C168)","v":0},{"$f":"IF($B168=0,0,VLOOKUP($D168,'MI materialen'!$E:$AS,H$66,FALSE)*$B168*$C168)","v":0},{"$f":"IF($B168=0,0,VLOOKUP($D168,'MI materialen'!$E:$AS,I$66,FALSE)*$B168*$C168)","v":0},{"$f":"IF($B168=0,0,VLOOKUP($D168,'MI materialen'!$E:$AS,J$66,FALSE)*$B168*$C168)","v":0},{"$f":"IF($B168=0,0,VLOOKUP($D168,'MI materialen'!$E:$AS,K$66,FALSE)*$B168*$C168)","v":0},{"$f":"IF($B168=0,0,VLOOKUP($D168,'MI materialen'!$E:$AS,L$66,FALSE)*$B168*$C168)","v":0},{"$f":"IF($B168=0,0,VLOOKUP($D168,'MI materialen'!$E:$AS,M$66,FALSE)*$B168*$C168)","v":0},{"$f":"IF($B168=0,0,VLOOKUP($D168,'MI materialen'!$E:$AS,N$66,FALSE)*$B168*$C168)","v":0},{"$f":"IF($B168=0,0,VLOOKUP($D168,'MI materialen'!$E:$AS,O$66,FALSE)*$B168*$C168)","v":0},{"$f":"IF($B168=0,0,VLOOKUP($D168,'MI materialen'!$E:$AS,P$66,FALSE)*$B168*$C168)","v":0},{"$f":"IF($B168=0,0,VLOOKUP($D168,'MI materialen'!$E:$AS,Q$66,FALSE)*$B168*$C168)","v":0},{"$f":"IF($B168=0,0,VLOOKUP($D168,'MI materialen'!$E:$AS,R$66,FALSE)*$B168*$C168)","v":0},{"$f":"IF($B168=0,0,VLOOKUP($D168,'MI materialen'!$E:$AS,S$66,FALSE)*$B168*$C168)","v":0},{"$f":"IF($B168=0,0,VLOOKUP($D168,'MI materialen'!$E:$AS,T$66,FALSE)*$B168*$C168)","v":0},{"$f":"IF($B168=0,0,VLOOKUP($D168,'MI materialen'!$E:$AS,U$66,FALSE)*$B168*$C168)","v":0},{"$f":"IF($B168=0,0,VLOOKUP($D168,'MI materialen'!$E:$AS,V$66,FALSE)*$B168*$C168)","v":0}]
[]
[]
[]
[]
[]
[]
[]
[]
[null,"Onderstaande tabellen waren al #REF! in origineel; het is mij (TNO, JS) onduidelijk waar ze voor gebruikt worden. M.i. kunnen ze weg"]
[]
[]
[null,{"$f":"#REF!","v":{"$error":"#REF!"}},{"$f":"#REF!","v":{"$error":"#REF!"}},{"$f":"#REF!","v":{"$error":"#REF!"}},{"$f":"VLOOKUP(B180,MKI!$B$1:$Z$263,3,FALSE)*D180","v":{"$error":"#REF!"}},{"$f":"VLOOKUP($B180,'MI materialen'!$B:$AS,5,FALSE)*$D180","v":{"$error":"#REF!"}},{"$f":"VLOOKUP($B180,'MI materialen'!$B:$AS,6,FALSE)*$D180","v":{"$error":"#REF!"}},{"$f":"VLOOKUP($B180,'MI materialen'!$B:$AS,7,FALSE)*$D180","v":{"$error":"#REF!"}},{"$f":"VLOOKUP($B180,'MI materialen'!$B:$AS,8,FALSE)*$D180","v":{"$error":"#REF!"}},{"$f":"VLOOKUP($B180,'MI materialen'!$B:$AS,9,FALSE)*$D180","v":{"$error":"#REF!"}},{"$f":"VLOOKUP($B180,'MI materialen'!$B:$AS,10,FALSE)*$D180","v":{"$error":"#REF!"}},{"$f":"VLOOKUP($B180,'MI materialen'!$B:$AS,11,FALSE)*$D180","v":{"$error":"#REF!"}},{"$f":"VLOOKUP($B180,'MI materialen'!$B:$AS,12,FALSE)*$D180","v":{"$error":"#REF!"}},{"$f":"VLOOKUP($B180,'MI materialen'!$B:$AS,13,FALSE)*$D180","v":{"$error":"#REF!"}},{"$f":"VLOOKUP($B180,'MI materialen'!$B:$AS,14,FALSE)*$D180","v":{"$error":"#REF!"}},{"$f":"VLOOKUP($B180,'MI materialen'!$B:$AS,15,FALSE)*$D180","v":{"$error":"#REF!"}},{"$f":"VLOOKUP($B180,'MI materialen'!$B:$AS,18,FALSE)*$D180","v":{"$error":"#REF!"}},{"$f":"VLOOKUP($B180,'MI materialen'!$B:$AS,21,FALSE)*$D180","v":{"$error":"#REF!"}},{"$f":"VLOOKUP($B180,'MI materialen'!$B:$AS,25,FALSE)*$D180","v":{"$error":"#REF!"}},{"$f":"VLOOKUP($B180,'MI materialen'!$B:$AS,26,FALSE)*$D180","v":{"$error":"#REF!"}},{"$f":"VLOOKUP($B180,'MI materialen'!$B:$AS,27,FALSE)*$D180","v":{"$error":"#REF!"}},{"$f":"VLOOKUP($B180,'MI materialen'!$B:$AS,28,FALSE)*$D180","v":{"$error":"#REF!"}}]
[null,{"$f":"#REF!","v":{"$error":"#REF!"}},{"$f":"#REF!","v":{"$error":"#REF!"}},{"$f":"#REF!","v":{"$error":"#REF!"}},{"$f":"VLOOKUP(B181,MKI!$B$1:$Z$263,3,FALSE)*D181","v":{"$error":"#REF!"}},{"$f":"VLOOKUP($B181,'MI materialen'!$B:$AS,5,FALSE)*$D181","v":{"$error":"#REF!"}},{"$f":"VLOOKUP($B181,'MI materialen'!$B:$AS,6,FALSE)*$D181","v":{"$error":"#REF!"}},{"$f":"VLOOKUP($B181,'MI materialen'!$B:$AS,7,FALSE)*$D181","v":{"$error":"#REF!"}},{"$f":"VLOOKUP($B181,'MI materialen'!$B:$AS,8,FALSE)*$D181","v":{"$error":"#REF!"}},{"$f":"VLOOKUP($B181,'MI materialen'!$B:$AS,9,FALSE)*$D181","v":{"$error":"#REF!"}},{"$f":"VLOOKUP($B181,'MI materialen'!$B:$AS,10,FALSE)*$D181","v":{"$error":"#REF!"}},{"$f":"VLOOKUP($B181,'MI materialen'!$B:$AS,11,FALSE)*$D181","v":{"$error":"#REF!"}},{"$f":"VLOOKUP($B181,'MI materialen'!$B:$AS,12,FALSE)*$D181","v":{"$error":"#REF!"}},{"$f":"VLOOKUP($B181,'MI materialen'!$B:$AS,13,FALSE)*$D181","v":{"$error":"#REF!"}},{"$f":"VLOOKUP($B181,'MI materialen'!$B:$AS,14,FALSE)*$D181","v":{"$error":"#REF!"}},{"$f":"VLOOKUP($B181,'MI materialen'!$B:$AS,15,FALSE)*$D181","v":{"$error":"#REF!"}},{"$f":"VLOOKUP($B181,'MI materialen'!$B:$AS,18,FALSE)*$D181","v":{"$error":"#REF!"}},{"$f":"VLOOKUP($B181,'MI materialen'!$B:$AS,21,FALSE)*$D181","v":{"$error":"#REF!"}},{"$f":"VLOOKUP($B181,'MI materialen'!$B:$AS,25,FALSE)*$D181","v":{"$error":"#REF!"}},{"$f":"VLOOKUP($B181,'MI materialen'!$B:$AS,26,FALSE)*$D181","v":{"$error":"#REF!"}},{"$f":"VLOOKUP($B181,'MI materialen'!$B:$AS,27,FALSE)*$D181","v":{"$error":"#REF!"}},{"$f":"VLOOKUP($B181,'MI materialen'!$B:$AS,28,FALSE)*$D181","v":{"$error":"#REF!"}}]
[null,{"$f":"#REF!","v":{"$error":"#REF!"}},{"$f":"#REF!","v":{"$error":"#REF!"}},{"$f":"#REF!","v":{"$error":"#REF!"}},{"$f":"VLOOKUP(B182,MKI!$B$1:$Z$263,3,FALSE)*D182","v":{"$error":"#REF!"}},{"$f":"VLOOKUP($B182,'MI materialen'!$B:$AS,5,FALSE)*$D182","v":{"$error":"#REF!"}},{"$f":"VLOOKUP($B182,'MI materialen'!$B:$AS,6,FALSE)*$D182","v":{"$error":"#REF!"}},{"$f":"VLOOKUP($B182,'MI materialen'!$B:$AS,7,FALSE)*$D182","v":{"$error":"#REF!"}},{"$f":"VLOOKUP($B182,'MI materialen'!$B:$AS,8,FALSE)*$D182","v":{"$error":"#REF!"}},{"$f":"VLOOKUP($B182,'MI materialen'!$B:$AS,9,FALSE)*$D182","v":{"$error":"#REF!"}},{"$f":"VLOOKUP($B182,'MI materialen'!$B:$AS,10,FALSE)*$D182","v":{"$error":"#REF!"}},{"$f":"VLOOKUP($B182,'MI materialen'!$B:$AS,11,FALSE)*$D182","v":{"$error":"#REF!"}},{"$f":"VLOOKUP($B182,'MI materialen'!$B:$AS,12,FALSE)*$D182","v":{"$error":"#REF!"}},{"$f":"VLOOKUP($B182,'MI materialen'!$B:$AS,13,FALSE)*$D182","v":{"$error":"#REF!"}},{"$f":"VLOOKUP($B182,'MI materialen'!$B:$AS,14,FALSE)*$D182","v":{"$error":"#REF!"}},{"$f":"VLOOKUP($B182,'MI materialen'!$B:$AS,15,FALSE)*$D182","v":{"$error":"#REF!"}},{"$f":"VLOOKUP($B182,'MI materialen'!$B:$AS,18,FALSE)*$D182","v":{"$error":"#REF!"}},{"$f":"VLOOKUP($B182,'MI materialen'!$B:$AS,21,FALSE)*$D182","v":{"$error":"#REF!"}},{"$f":"VLOOKUP($B182,'MI materialen'!$B:$AS,25,FALSE)*$D182","v":{"$error":"#REF!"}},{"$f":"VLOOKUP($B182,'MI materialen'!$B:$AS,26,FALSE)*$D182","v":{"$error":"#REF!"}},{"$f":"VLOOKUP($B182,'MI materialen'!$B:$AS,27,FALSE)*$D182","v":{"$error":"#REF!"}},{"$f":"VLOOKUP($B182,'MI materialen'!$B:$AS,28,FALSE)*$D182","v":{"$error":"#REF!"}}]
[null,{"$f":"#REF!","v":{"$error":"#REF!"}},{"$f":"#REF!","v":{"$error":"#REF!"}},{"$f":"#REF!","v":{"$error":"#REF!"}},{"$f":"VLOOKUP(B183,MKI!$B$1:$Z$263,3,FALSE)*D183","v":{"$error":"#REF!"}},{"$f":"VLOOKUP($B183,'MI materialen'!$B:$AS,5,FALSE)*$D183","v":{"$error":"#REF!"}},{"$f":"VLOOKUP($B183,'MI materialen'!$B:$AS,6,FALSE)*$D183","v":{"$error":"#REF!"}},{"$f":"VLOOKUP($B183,'MI materialen'!$B:$AS,7,FALSE)*$D183","v":{"$error":"#REF!"}},{"$f":"VLOOKUP($B183,'MI materialen'!$B:$AS,8,FALSE)*$D183","v":{"$error":"#REF!"}},{"$f":"VLOOKUP($B183,'MI materialen'!$B:$AS,9,FALSE)*$D183","v":{"$error":"#REF!"}},{"$f":"VLOOKUP($B183,'MI materialen'!$B:$AS,10,FALSE)*$D183","v":{"$error":"#REF!"}},{"$f":"VLOOKUP($B183,'MI materialen'!$B:$AS,11,FALSE)*$D183","v":{"$error":"#REF!"}},{"$f":"VLOOKUP($B183,'MI materialen'!$B:$AS,12,FALSE)*$D183","v":{"$error":"#REF!"}},{"$f":"VLOOKUP($B183,'MI materialen'!$B:$AS,13,FALSE)*$D183","v":{"$error":"#REF!"}},{"$f":"VLOOKUP($B183,'MI materialen'!$B:$AS,14,FALSE)*$D183","v":{"$error":"#REF!"}},{"$f":"VLOOKUP($B183,'MI materialen'!$B:$AS,15,FALSE)*$D183","v":{"$error":"#REF!"}},{"$f":"VLOOKUP($B183,'MI materialen'!$B:$AS,18,FALSE)*$D183","v":{"$error":"#REF!"}},{"$f":"VLOOKUP($B183,'MI materialen'!$B:$AS,21,FALSE)*$D183","v":{"$error":"#REF!"}},{"$f":"VLOOKUP($B183,'MI materialen'!$B:$AS,25,FALSE)*$D183","v":{"$error":"#REF!"}},{"$f":"VLOOKUP($B183,'MI materialen'!$B:$AS,26,FALSE)*$D183","v":{"$error":"#REF!"}},{"$f":"VLOOKUP($B183,'MI materialen'!$B:$AS,27,FALSE)*$D183","v":{"$error":"#REF!"}},{"$f":"VLOOKUP($B183,'MI materialen'!$B:$AS,28,FALSE)*$D183","v":{"$error":"#REF!"}}]
[null,{"$f":"#REF!","v":{"$error":"#REF!"}},{"$f":"#REF!","v":{"$error":"#REF!"}},{"$f":"#REF!","v":{"$error":"#REF!"}},{"$f":"VLOOKUP(B184,MKI!$B$1:$Z$263,3,FALSE)*D184","v":{"$error":"#REF!"}},{"$f":"VLOOKUP($B184,'MI materialen'!$B:$AS,5,FALSE)*$D184","v":{"$error":"#REF!"}},{"$f":"VLOOKUP($B184,'MI materialen'!$B:$AS,6,FALSE)*$D184","v":{"$error":"#REF!"}},{"$f":"VLOOKUP($B184,'MI materialen'!$B:$AS,7,FALSE)*$D184","v":{"$error":"#REF!"}},{"$f":"VLOOKUP($B184,'MI materialen'!$B:$AS,8,FALSE)*$D184","v":{"$error":"#REF!"}},{"$f":"VLOOKUP($B184,'MI materialen'!$B:$AS,9,FALSE)*$D184","v":{"$error":"#REF!"}},{"$f":"VLOOKUP($B184,'MI materialen'!$B:$AS,10,FALSE)*$D184","v":{"$error":"#REF!"}},{"$f":"VLOOKUP($B184,'MI materialen'!$B:$AS,11,FALSE)*$D184","v":{"$error":"#REF!"}},{"$f":"VLOOKUP($B184,'MI materialen'!$B:$AS,12,FALSE)*$D184","v":{"$error":"#REF!"}},{"$f":"VLOOKUP($B184,'MI materialen'!$B:$AS,13,FALSE)*$D184","v":{"$error":"#REF!"}},{"$f":"VLOOKUP($B184,'MI materialen'!$B:$AS,14,FALSE)*$D184","v":{"$error":"#REF!"}},{"$f":"VLOOKUP($B184,'MI materialen'!$B:$AS,15,FALSE)*$D184","v":{"$error":"#REF!"}},{"$f":"VLOOKUP($B184,'MI materialen'!$B:$AS,18,FALSE)*$D184","v":{"$error":"#REF!"}},{"$f":"VLOOKUP($B184,'MI materialen'!$B:$AS,21,FALSE)*$D184","v":{"$error":"#REF!"}},{"$f":"VLOOKUP($B184,'MI materialen'!$B:$AS,25,FALSE)*$D184","v":{"$error":"#REF!"}},{"$f":"VLOOKUP($B184,'MI materialen'!$B:$AS,26,FALSE)*$D184","v":{"$error":"#REF!"}},{"$f":"VLOOKUP($B184,'MI materialen'!$B:$AS,27,FALSE)*$D184","v":{"$error":"#REF!"}},{"$f":"VLOOKUP($B184,'MI materialen'!$B:$AS,28,FALSE)*$D184","v":{"$error":"#REF!"}}]
[null,{"$f":"#REF!","v":{"$error":"#REF!"}},{"$f":"#REF!","v":{"$error":"#REF!"}},{"$f":"#REF!","v":{"$error":"#REF!"}},{"$f":"VLOOKUP(B185,MKI!$B$1:$Z$263,3,FALSE)*D185","v":{"$error":"#REF!"}},{"$f":"VLOOKUP($B185,'MI materialen'!$B:$AS,5,FALSE)*$D185","v":{"$error":"#REF!"}},{"$f":"VLOOKUP($B185,'MI materialen'!$B:$AS,6,FALSE)*$D185","v":{"$error":"#REF!"}},{"$f":"VLOOKUP($B185,'MI materialen'!$B:$AS,7,FALSE)*$D185","v":{"$error":"#REF!"}},{"$f":"VLOOKUP($B185,'MI materialen'!$B:$AS,8,FALSE)*$D185","v":{"$error":"#REF!"}},{"$f":"VLOOKUP($B185,'MI materialen'!$B:$AS,9,FALSE)*$D185","v":{"$error":"#REF!"}},{"$f":"VLOOKUP($B185,'MI materialen'!$B:$AS,10,FALSE)*$D185","v":{"$error":"#REF!"}},{"$f":"VLOOKUP($B185,'MI materialen'!$B:$AS,11,FALSE)*$D185","v":{"$error":"#REF!"}},{"$f":"VLOOKUP($B185,'MI materialen'!$B:$AS,12,FALSE)*$D185","v":{"$error":"#REF!"}},{"$f":"VLOOKUP($B185,'MI materialen'!$B:$AS,13,FALSE)*$D185","v":{"$error":"#REF!"}},{"$f":"VLOOKUP($B185,'MI materialen'!$B:$AS,14,FALSE)*$D185","v":{"$error":"#REF!"}},{"$f":"VLOOKUP($B185,'MI materialen'!$B:$AS,15,FALSE)*$D185","v":{"$error":"#REF!"}},{"$f":"VLOOKUP($B185,'MI materialen'!$B:$AS,18,FALSE)*$D185","v":{"$error":"#REF!"}},{"$f":"VLOOKUP($B185,'MI materialen'!$B:$AS,21,FALSE)*$D185","v":{"$error":"#REF!"}},{"$f":"VLOOKUP($B185,'MI materialen'!$B:$AS,25,FALSE)*$D185","v":{"$error":"#REF!"}},{"$f":"VLOOKUP($B185,'MI materialen'!$B:$AS,26,FALSE)*$D185","v":{"$error":"#REF!"}},{"$f":"VLOOKUP($B185,'MI materialen'!$B:$AS,27,FALSE)*$D185","v":{"$error":"#REF!"}},{"$f":"VLOOKUP($B185,'MI materialen'!$B:$AS,28,FALSE)*$D185","v":{"$error":"#REF!"}}]
[null,{"$f":"#REF!","v":{"$error":"#REF!"}},{"$f":"#REF!","v":{"$error":"#REF!"}},{"$f":"#REF!","v":{"$error":"#REF!"}},{"$f":"VLOOKUP(B186,MKI!$B$1:$Z$263,3,FALSE)*D186","v":{"$error":"#REF!"}},{"$f":"VLOOKUP($B186,'MI materialen'!$B:$AS,5,FALSE)*$D186","v":{"$error":"#REF!"}},{"$f":"VLOOKUP($B186,'MI materialen'!$B:$AS,6,FALSE)*$D186","v":{"$error":"#REF!"}},{"$f":"VLOOKUP($B186,'MI materialen'!$B:$AS,7,FALSE)*$D186","v":{"$error":"#REF!"}},{"$f":"VLOOKUP($B186,'MI materialen'!$B:$AS,8,FALSE)*$D186","v":{"$error":"#REF!"}},{"$f":"VLOOKUP($B186,'MI materialen'!$B:$AS,9,FALSE)*$D186","v":{"$error":"#REF!"}},{"$f":"VLOOKUP($B186,'MI materialen'!$B:$AS,10,FALSE)*$D186","v":{"$error":"#REF!"}},{"$f":"VLOOKUP($B186,'MI materialen'!$B:$AS,11,FALSE)*$D186","v":{"$error":"#REF!"}},{"$f":"VLOOKUP($B186,'MI materialen'!$B:$AS,12,FALSE)*$D186","v":{"$error":"#REF!"}},{"$f":"VLOOKUP($B186,'MI materialen'!$B:$AS,13,FALSE)*$D186","v":{"$error":"#REF!"}},{"$f":"VLOOKUP($B186,'MI materialen'!$B:$AS,14,FALSE)*$D186","v":{"$error":"#REF!"}},{"$f":"VLOOKUP($B186,'MI materialen'!$B:$AS,15,FALSE)*$D186","v":{"$error":"#REF!"}},{"$f":"VLOOKUP($B186,'MI materialen'!$B:$AS,18,FALSE)*$D186","v":{"$error":"#REF!"}},{"$f":"VLOOKUP($B186,'MI materialen'!$B:$AS,21,FALSE)*$D186","v":{"$error":"#REF!"}},{"$f":"VLOOKUP($B186,'MI materialen'!$B:$AS,25,FALSE)*$D186","v":{"$error":"#REF!"}},{"$f":"VLOOKUP($B186,'MI materialen'!$B:$AS,26,FALSE)*$D186","v":{"$error":"#REF!"}},{"$f":"VLOOKUP($B186,'MI materialen'!$B:$AS,27,FALSE)*$D186","v":{"$error":"#REF!"}},{"$f":"VLOOKUP($B186,'MI materialen'!$B:$AS,28,FALSE)*$D186","v":{"$error":"#REF!"}}]
[]
[null,"Conclusies"]
[null,{"$f":"#REF!","v":{"$error":"#REF!"}},{"$f":"#REF!","v":{"$error":"#REF!"}},{"$f":"SUM(F189:F192)","v":{"$error":"#REF!"}},{"$f":"D189/$D$208","v":{"$error":"#REF!"}},{"$f":"#REF!","v":{"$error":"#REF!"}},null,"Een groot deel van de milieu-impact van uw product zit in het materialengebruik. Om uw milieu-impact te verminderen kunt u daarom het beste werken aan recyclen (gebruik van secundaire materialen), herproduceren (uit secundaire materialen), refurbishen en hergebruiken. "]
[null,null,{"$f":"#REF!","v":{"$error":"#REF!"}},null,null,{"$f":"#REF!","v":{"$error":"#REF!"}},null,"Een groot deel van de milieu-impact van uw product zit in de gebruiksfase. Om uw milieu-impact te verminderen kunt u het beste werken aan een zo zuinig mogelijk product. Denk hierbij aan een vermindering van de energievraag."]
[null,null,{"$f":"#REF!","v":{"$error":"#REF!"}},null,null,{"$f":"#REF!","v":{"$error":"#REF!"}},null,"Een groot deel van de milieu-impact van uw product zit in de einde levensfase. Om uw milieu-impact te verminderen kunt u onderzoeken of u gebruik kunt maken van materialen die een kleinere milieu-impact hebben. Ook kunt u ervoor kiezen om gebruikte producten terug te nemen en te recyclen (extended producers responsibility)."]
[null,null,{"$f":"#REF!","v":{"$error":"#REF!"}},null,null,{"$f":"#REF!","v":{"$error":"#REF!"}},null,"Een groot deel van de milieu-impact van uw product zit in de bewerkingen. Regel uw productieproces zo efficient mogelijk in en verminder uw energieverbruik. Kijk ook of u gebruik kunt maken van milieuvriendelijke hulpstoffen. "]
[null,{"$f":"#REF!","v":{"$error":"#REF!"}},{"$f":"#REF!","v":{"$error":"#REF!"}},{"$f":"SUM(F193:F196)","v":{"$error":"#REF!"}},{"$f":"D193/$D$208","v":{"$error":"#REF!"}},{"$f":"#REF!","v":{"$error":"#REF!"}},null,"Een groot deel van de milieu-impact van uw product zit in het transport. Voorkom onnodig transport en probeer lokaal in te kopen. Mocht transport onvermijdbaar zijn, kies dan voor de meest milieuvriendelijke transportmethode. "]
[null,null,{"$f":"#REF!","v":{"$error":"#REF!"}},null,null,{"$f":"#REF!","v":{"$error":"#REF!"}}]
[null,null,{"$f":"#REF!","v":{"$error":"#REF!"}},null,null,{"$f":"#REF!","v":{"$error":"#REF!"}}]
[null,null,{"$f":"#REF!","v":{"$error":"#REF!"}},null,null,{"$f":"#REF!","v":{"$error":"#REF!"}},null,{"$f":"IF(E189>30%,H189,\"\")","v":{"$error":"#REF!"}}]
[null,{"$f":"#REF!","v":{"$error":"#REF!"}},{"$f":"#REF!","v":{"$error":"#REF!"}},{"$f":"SUM(F197:F200)","v":{"$error":"#REF!"}},{"$f":"D197/$D$208","v":{"$error":"#REF!"}},{"$f":"#REF!","v":{"$error":"#REF!"}},null,{"$f":"IF(E201>30%,H190,\"\")","v":{"$error":"#REF!"}}]
[null,null,{"$f":"#REF!","v":{"$error":"#REF!"}},null,null,{"$f":"#REF!","v":{"$error":"#REF!"}},null,{"$f":"IF(E204>30%,H191,\"\")","v":{"$error":"#REF!"}}]
[null,null,{"$f":"#REF!","v":{"$error":"#REF!"}},null,null,{"$f":"#REF!","v":{"$error":"#REF!"}},null,{"$f":"IF(E193>30%,H192,\"\")","v":{"$error":"#REF!"}}]
[null,null,{"$f":"#REF!","v":{"$error":"#REF!"}},null,null,{"$f":"#REF!","v":{"$error":"#REF!"}},null,{"$f":"IF(E197>30%,H193,\"\")","v":{"$error":"#REF!"}}]
[null,{"$f":"#REF!","v":{"$error":"#REF!"}},{"$f":"#REF!","v":{"$error":"#REF!"}},{"$f":"SUM(F201:F203)","v":{"$error":"#REF!"}},{"$f":"D201/$D$208","v":{"$error":"#REF!"}},{"$f":"#REF!","v":{"$error":"#REF!"}}]
[null,null,{"$f":"#REF!","v":{"$error":"#REF!"}},null,null,{"$f":"#REF!","v":{"$error":"#REF!"}}]
[null,null,{"$f":"#REF!","v":{"$error":"#REF!"}},null,null,{"$f":"#REF!","v":{"$error":"#REF!"}}]
[null,{"$f":"#REF!","v":{"$error":"#REF!"}},{"$f":"#REF!","v":{"$error":"#REF!"}},{"$f":"SUM(F204:F207)","v":{"$error":"#REF!"}},{"$f":"D204/$D$208","v":{"$error":"#REF!"}},{"$f":"#REF!","v":{"$error":"#REF!"}}]
[null,null,{"$f":"#REF!","v":{"$error":"#REF!"}},null,null,{"$f":"#REF!","v":{"$error":"#REF!"}}]
[null,null,{"$f":"#REF!","v":{"$error":"#REF!"}},null,null,{"$f":"#REF!","v":{"$error":"#REF!"}}]
[null,null,{"$f":"#REF!","v":{"$error":"#REF!"}},null,null,{"$f":"#REF!","v":{"$error":"#REF!"}}]
[null,null,null,{"$f":"SUM(D189:D207)","v":{"$error":"#REF!"}}]

{"sheet":"Invul_Alt_Alg","index":10,"n_rows":15,"n_cols":9,"rows_kept":15,"cut":false,"hidden":false,"merged":[[9,8,9,12],[10,8,10,12],[11,8,11,12],[12,8,12,12]]}
[]
[null,null,null,null,{"$f":"Home!E2","v":"PRODUCTNAAM"}]
[null,null,null,null,{"$f":"Home!E3","v":"NAAM PRODUCENT"}]
[]
[]
[]
[]
[]
[null,null,null,null,null,"Algemene product informatie - Alternatief"]
[null,null,null,null,null,null,"Hoeveelheid","Eenheid","Uitleg"]
[null,null,null,null,null,"Producteenheid",null,"Leeg","…"]
[null,null,null,null,null,"Totaal aanbod project",null,{"$f":"H11","v":"Leeg"},"…"]
[null,null,null,null,null,"Levensduur/Gebruiksduur*",null,{"$f":"Invul_Basis_Alg!H13","v":"Leeg"},"…"]
[]
[null,null,null,null,null,"*De levensduur/gebruiksduur dient in de zelfde eenheid te worden uitgedrukt als het basis product"]

{"sheet":"Invul_Alt_Materialen","index":11,"n_rows":35,"n_cols":21,"rows_kept":35,"cut":false,"hidden":false,"merged":[[10,9,10,12],[10,13,10,16],[10,17,10,18],[11,9,11,12],[11,13,11,16],[11,17,11,18],[12,9,12,12],[12,13,12,16],[12,17,12,18],[13,9,13,12],[13,13,13,16],[13,17,13,18],[14,9,14,12],[14,13,14,16],[14,17,14,18],[15,9,15,12],[15,13,15,16],[15,17,15,18],[16,9,16,12],[16,13,16,16],[16,17,16,18],[17,9,17,12],[17,13,17,16],[17,17,17,18],[18,9,18,12],[18,13,18,16],[18,17,18,18],[19,9,19,12],[19,13,19,16],[19,17,19,18],[20,9,20,12],[20,13,20,16],[20,17,20,18],[21,9,21,12],[21,13,21,16],[21,17,21,18],[22,9,22,12],[22,13,22,16],[22,17,22,18],[23,9,23,12],[23,13,23,16],[23,17,23,18],[24,9,24,12],[24,13,24,16],[24,17,24,18],[25,9,25,12],[25,13,25,16],[25,17,25,18],[26,9,26,12],[26,13,26,16],[26,17,26,18],[27,9,27,12],[27,13,27,16],[27,17,27,18],[28,9,28,12],[28,13,28,16],[28,17,28,18],[29,9,29,12],[29,13,29,16],[29,17,29,18],[30,9,30,12],[30,13,30,16],[30,17,30,18],[31,9,31,16],[31,17,31,18]]}
[]
[null,null,null,null,{"$f":"Home!E2","v":"PRODUCTNAAM"}]
[null,null,null,null,{"$f":"Home!E3","v":"NAAM PRODUCENT"}]
[]
[]
[]
[]
[]
[null,null,null,null,null,"Gebruikte materialen - Alternatief"]
[null,null,null,null,null,"In deze levenscyclusfase worden de gebruikte materialen meegenomen. Vul deze tabel in aan de hand van de BOM van het product. Houd rekening met productieverlies. Indien een materiaal of massa niet bekend is maak dan een beargumenteerde schatting."]
[null,null,null,null,null,"Materiaalgroep","Materiaal","Massa (kg)\ninclusief productieverlies","Secundaire content*; Standaard gegevens of eigen gegevens","Secundaire content* (%)\nStandaard gegevens",null,null,null,"Secundaire content* (%)\nEigen gegevens**",null,null,null,"Toelichting",null,null,"Milieu-impact\nper producteenheid"]
[null,null,null,null,null,"Leeg","Leeg",null,"Standaard",{"$f":"VLOOKUP($G12,'MI materialen'!$B$2:$AS$291,3,FALSE)","v":0},null,null,null,0,null,null,null,"…",null,null,{"$f":"'Rekensheet NN-Alt'!E14","v":0}]
[null,null,null,null,null,"Leeg","Leeg",0,"Standaard",{"$f":"VLOOKUP($G13,'MI materialen'!$B$2:$AS$291,3,FALSE)","v":0},null,null,null,0,null,null,null,"…",null,null,{"$f":"'Rekensheet NN-Alt'!E15","v":0}]
[null,null,null,null,null,"Leeg","Leeg",0,"Standaard",{"$f":"VLOOKUP($G14,'MI materialen'!$B$2:$AS$291,3,FALSE)","v":0},null,null,null,0,null,null,null,"…",null,null,{"$f":"'Rekensheet NN-Alt'!E16","v":0}]
[null,null,null,null,null,"Leeg","Leeg",0,"Standaard",{"$f":"VLOOKUP($G15,'MI materialen'!$B$2:$AS$291,3,FALSE)","v":0},null,null,null,0,null,null,null,"…",null,null,{"$f":"'Rekensheet NN-Alt'!E17","v":0}]
[null,null,null,null,null,"Leeg","Leeg",0,"Standaard",{"$f":"VLOOKUP($G16,'MI materialen'!$B$2:$AS$291,3,FALSE)","v":0},null,null,null,0,null,null,null,"…",null,null,{"$f":"'Rekensheet NN-Alt'!E18","v":0}]
[null,null,null,null,null,"Leeg","Leeg",0,"Standaard",{"$f":"VLOOKUP($G17,'MI materialen'!$B$2:$AS$291,3,FALSE)","v":0},null,null,null,0,null,null,null,"…",null,null,{"$f":"'Rekensheet NN-Alt'!E19","v":0}]
[null,null,null,null,null,"Leeg","Leeg",0,"Standaard",{"$f":"VLOOKUP($G18,'MI materialen'!$B$2:$AS$291,3,FALSE)","v":0},null,null,null,0,null,null,null,"…",null,null,{"$f":"'Rekensheet NN-Alt'!E20","v":0}]
[null,null,null,null,null,"Leeg","Leeg",0,"Standaard",{"$f":"VLOOKUP($G19,'MI materialen'!$B$2:$AS$291,3,FALSE)","v":0},null,null,null,0,null,null,null,"…",null,null,{"$f":"'Rekensheet NN-Alt'!E21","v":0}]
[null,null,null,null,null,"Leeg","Leeg",0,"Standaard",{"$f":"VLOOKUP($G20,'MI materialen'!$B$2:$AS$291,3,FALSE)","v":0},null,null,null,0,null,null,null,"…",null,null,{"$f":"'Rekensheet NN-Alt'!E22","v":0}]
[null,null,null,null,null,"Leeg","Leeg",0,"Standaard",{"$f":"VLOOKUP($G21,'MI materialen'!$B$2:$AS$291,3,FALSE)","v":0},null,null,null,0,null,null,null,"…",null,null,{"$f":"'Rekensheet NN-Alt'!E23","v":0}]
[null,null,null,null,null,"Leeg","Leeg",0,"Standaard",{"$f":"VLOOKUP($G22,'MI materialen'!$B$2:$AS$291,3,FALSE)","v":0},null,null,null,0,null,null,null,"…",null,null,{"$f":"'Rekensheet NN-Alt'!E24","v":0}]
[null,null,null,null,null,"Leeg","Leeg",0,"Standaard",{"$f":"VLOOKUP($G23,'MI materialen'!$B$2:$AS$291,3,FALSE)","v":0},null,null,null,0,null,null,null,"…",null,null,{"$f":"'Rekensheet NN-Alt'!E25","v":0}]
[null,null,null,null,null,"Leeg","Leeg",0,"Standaard",{"$f":"VLOOKUP($G24,'MI materialen'!$B$2:$AS$291,3,FALSE)","v":0},null,null,null,0,null,null,null,"…",null,null,{"$f":"'Rekensheet NN-Alt'!E26","v":0}]
[null,null,null,null,null,"Leeg","Leeg",0,"Standaard",{"$f":"VLOOKUP($G25,'MI materialen'!$B$2:$AS$291,3,FALSE)","v":0},null,null,null,0,null,null,null,"…",null,null,{"$f":"'Rekensheet NN-Alt'!E27","v":0}]
[null,null,null,null,null,"Leeg","Leeg",0,"Standaard",{"$f":"VLOOKUP($G26,'MI materialen'!$B$2:$AS$291,3,FALSE)","v":0},null,null,null,0,null,null,null,"…",null,null,{"$f":"'Rekensheet NN-Alt'!E28","v":0}]
[null,null,null,null,null,"Leeg","Leeg",0,"Standaard",{"$f":"VLOOKUP($G27,'MI materialen'!$B$2:$AS$291,3,FALSE)","v":0},null,null,null,0,null,null,null,"…",null,null,{"$f":"'Rekensheet NN-Alt'!E29","v":0}]
[null,null,null,null,null,"Leeg","Leeg",0,"Standaard",{"$f":"VLOOKUP($G28,'MI materialen'!$B$2:$AS$291,3,FALSE)","v":0},null,null,null,0,null,null,null,"…",null,null,{"$f":"'Rekensheet NN-Alt'!E30","v":0}]
[null,null,null,null,null,"Leeg","Leeg",0,"Standaard",{"$f":"VLOOKUP($G29,'MI materialen'!$B$2:$AS$291,3,FALSE)","v":0},null,null,null,0,null,null,null,"…",null,null,{"$f":"'Rekensheet NN-Alt'!E31","v":0}]
[null,null,null,null,null,"Leeg","Leeg",0,"Standaard",{"$f":"VLOOKUP($G30,'MI materialen'!$B$2:$AS$291,3,FALSE)","v":0},null,null,null,0,null,null,null,"…",null,null,{"$f":"'Rekensheet NN-Alt'!E32","v":0}]
[null,null,null,null,null,"Leeg","Leeg",0,"Standaard",{"$f":"VLOOKUP($G31,'MI materialen'!$B$2:$AS$291,3,FALSE)","v":0},null,null,null,0,null,null,null,"…",null,null,{"$f":"'Rekensheet NN-Alt'!E33","v":0}]
[null,null,null,null,null,"Totaal",null,{"$f":"'Rekensheet NN-Alt'!C34","v":0},null,{"$f":"'Rekensheet NN-Alt'!D34","v":{"$error":"#DIV/0!"}}]
[]
[null,null,null,null,null,"*secundaire content is de hoeveelheid gerecyclede of hergebruikte materialen in het product"]
[null,null,null,null,null,"**Eigen gegevens van secundaire content worden niet meegenomen in de berekening van de MKI-impact en milieuprofielen voor deze tool. Dit heeft alleen invloed op de circulariteitsindex"]

{"sheet":"Invul_Alt_Bewerking","index":12,"n_rows":19,"n_cols":12,"rows_kept":19,"cut":false,"hidden":false,"merged":[]}
[]
[null,null,null,null,{"$f":"Home!E2","v":"PRODUCTNAAM"}]
[null,null,null,null,{"$f":"Home!E3","v":"NAAM PRODUCENT"}]
[]
[]
[]
[]
[]
[null,null,null,null,null,"Bewerking - Alternatief"]
[null,null,null,null,null,"De milieu-impact voor de productieprocessen wordt berekend aan de hand van de energie die nodig is voor de productie. Geef daarom hier het gebruik van energiedragers van de meest veelomvattende bewerkingen weer per producteenheid."]
[null,null,null,null,null,"Energie intensieve processen","Energiedrager","Verbruik per producteenheid","Eenheid","Toelichting",null,"Milieu-impact\nper producteenheid"]
[null,null,null,null,null,"Naam proces 1","Leeg",0,{"$f":"VLOOKUP(G12,'Lijsten NN'!A15:B45,2,FALSE)","v":"-"},"…",null,{"$f":"'Rekensheet NN-Alt'!E38","v":0}]
[null,null,null,null,null,"Naam proces 2","Leeg",0,{"$f":"VLOOKUP(G13,'Lijsten NN'!A16:B46,2,FALSE)","v":"-"},"…",null,{"$f":"'Rekensheet NN-Alt'!E39","v":0}]
[null,null,null,null,null,"Naam proces 3","Leeg",0,{"$f":"VLOOKUP(G14,'Lijsten NN'!A17:B47,2,FALSE)","v":"-"},"…",null,{"$f":"'Rekensheet NN-Alt'!E40","v":0}]
[null,null,null,null,null,"Naam proces 4","Leeg",0,{"$f":"VLOOKUP(G15,'Lijsten NN'!A18:B48,2,FALSE)","v":"-"},"…",null,{"$f":"'Rekensheet NN-Alt'!E41","v":0}]
[null,null,null,null,null,"Naam proces 5","Leeg",0,{"$f":"VLOOKUP(G16,'Lijsten NN'!A19:B49,2,FALSE)","v":"-"},"…",null,{"$f":"'Rekensheet NN-Alt'!E42","v":0}]
[null,null,null,null,null,"Naam proces 6","Leeg",0,{"$f":"VLOOKUP(G17,'Lijsten NN'!A20:B50,2,FALSE)","v":"-"},"…",null,{"$f":"'Rekensheet NN-Alt'!E43","v":0}]
[null,null,null,null,null,"Naam proces 7","Leeg",0,{"$f":"VLOOKUP(G18,'Lijsten NN'!A21:B51,2,FALSE)","v":"-"},"…",null,{"$f":"'Rekensheet NN-Alt'!E44","v":0}]
[null,null,null,null,null,"Naam proces 8","Leeg",0,{"$f":"VLOOKUP(G19,'Lijsten NN'!A22:B52,2,FALSE)","v":"-"},"…",null,{"$f":"'Rekensheet NN-Alt'!E45","v":0}]

{"sheet":"Invul_Alt_Distributie","index":13,"n_rows":22,"n_cols":21,"rows_kept":22,"cut":false,"hidden":false,"merged":[[10,9,10,12],[10,13,10,16],[10,17,10,18],[11,9,11,12],[11,13,11,16],[11,17,11,18],[12,9,12,12],[12,13,12,16],[12,17,12,18],[13,9,13,12],[13,13,13,16],[13,17,13,18],[14,9,14,12],[14,13,14,16],[14,17,14,18],[15,9,15,12],[15,13,15,16],[15,17,15,18],[18,9,18,12],[18,13,18,16],[18,17,18,18],[19,13,19,16],[16,9,16,12],[16,13,16,16],[16,17,16,18],[17,9,17,12],[17,13,17,16],[17,17,17,18]]}
[]
[null,null,null,null,{"$f":"Home!E2","v":"PRODUCTNAAM"}]
[null,null,null,null,{"$f":"Home!E3","v":"NAAM PRODUCENT"}]
[]
[]
[]
[]
[]
[null,null,null,null,null,"Distributie - Alternatief"]
[null,null,null,null,null,"De ze levenscyclusfase beschrijft de milieu-impact die ontstaat bij het transport van de productielocatie(s) tot de plaats van gebruik. Dit zijn de kilometers om het product bij de projectlocatie te krijgen."]
[null,null,null,null,null,"Transportmethoden","Transport afstand;\nStandaard gegevens of eigen gegevens","Transport afstand (km)\nStandaard gegevens*","Transport afstand (km)\nEigen gegevens","Transportgewicht (kg)",null,null,null,"Aantal tonkilometers (tkm)",null,null,null,"Toelichting",null,null,"Milieu-impact\nper producteenheid"]
[null,null,null,null,null,"Leeg","Standaard",{"$f":"VLOOKUP(F12,'Lijsten NN'!C15:D45,2,FALSE)","v":0},0,0,null,null,null,{"$f":"IF(G12=\"standaard\",H12,I12)*J12/1000","v":0},null,null,null,"…",null,null,{"$f":"'Rekensheet NN-Alt'!E50","v":0}]
[null,null,null,null,null,"Leeg","Standaard",{"$f":"VLOOKUP(F13,'Lijsten NN'!C16:D46,2,FALSE)","v":0},0,0,null,null,null,{"$f":"IF(G13=\"standaard\",H13,I13)*J13/1000","v":0},null,null,null,"…",null,null,{"$f":"'Rekensheet NN-Alt'!E51","v":0}]
[null,null,null,null,null,"Leeg","Standaard",{"$f":"VLOOKUP(F14,'Lijsten NN'!C17:D47,2,FALSE)","v":0},0,0,null,null,null,0,null,null,null,"…",null,null,{"$f":"'Rekensheet NN-Alt'!E52","v":0}]
[null,null,null,null,null,"Leeg","Standaard",{"$f":"VLOOKUP(F15,'Lijsten NN'!C18:D48,2,FALSE)","v":0},0,0,null,null,null,0,null,null,null,"…",null,null,{"$f":"'Rekensheet NN-Alt'!E53","v":0}]
[null,null,null,null,null,"Leeg","Standaard",{"$f":"VLOOKUP(F16,'Lijsten NN'!C19:D49,2,FALSE)","v":0},0,0,null,null,null,0,null,null,null,"…",null,null,{"$f":"'Rekensheet NN-Alt'!E54","v":0}]
[null,null,null,null,null,"Leeg","Standaard",{"$f":"VLOOKUP(F17,'Lijsten NN'!C20:D50,2,FALSE)","v":0},0,0,null,null,null,0,null,null,null,"…",null,null,{"$f":"'Rekensheet NN-Alt'!E55","v":0}]
[null,null,null,null,null,"Leeg","Standaard",{"$f":"VLOOKUP(F18,'Lijsten NN'!C21:D51,2,FALSE)","v":0},0,0,null,null,null,0,null,null,null,"…",null,null,{"$f":"'Rekensheet NN-Alt'!E56","v":0}]
[null,null,null,null,null,"Leeg","Standaard",{"$f":"VLOOKUP(F19,'Lijsten NN'!C22:D52,2,FALSE)","v":0},0,0,null,null,null,0,null,null,null,"…",null,null,{"$f":"'Rekensheet NN-Alt'!E57","v":0}]
[null,null,null,null,null,"Totaal",null,null,null,null,null,null,null,{"$f":"SUM(N12:Q19)","v":0}]
[]
[null,null,null,null,null,"* Niet voor alle transportmethode zijn de standaardgegevens beschikbaar. In dat geval dient u uw eigen gegevens in te voeren. Het vakje zal rood kleuren wanneer dat het geval is."]

{"sheet":"Invul_Alt_Gebruik","index":14,"n_rows":15,"n_cols":11,"rows_kept":15,"cut":false,"hidden":false,"merged":[]}
[]
[null,null,null,null,{"$f":"Home!E2","v":"PRODUCTNAAM"}]
[null,null,null,null,{"$f":"Home!E3","v":"NAAM PRODUCENT"}]
[]
[]
[]
[]
[]
[null,null,null,null,null,"Energiegebruik door gebruiker van product - Alternatief"]
[null,null,null,null,null,"Tijdens de gebruiksfase kan het voorkomen dat het product energie nodig heeft. Hieronder kunt u - indien van toepassing- het energiegebruik door de gebruiker van het product per producteenheid specificeren."]
[null,null,null,null,null,"Energiedrager","Verbruik per producteenheid","Eenheid","Toelichting",null,"Milieu-impact\nper producteenheid"]
[null,null,null,null,null,"Leeg",0,{"$f":"VLOOKUP(F12,'Lijsten NN'!$E$25:$F$29,2,FALSE)","v":"-"},"…",null,{"$f":"'Rekensheet NN-Alt'!E61","v":0}]
[null,null,null,null,null,"Leeg",0,{"$f":"VLOOKUP(F13,'Lijsten NN'!$E$25:$F$29,2,FALSE)","v":"-"},"…",null,{"$f":"'Rekensheet NN-Alt'!E62","v":0}]
[null,null,null,null,null,"Leeg",0,{"$f":"VLOOKUP(F14,'Lijsten NN'!$E$25:$F$29,2,FALSE)","v":"-"},"…",null,{"$f":"'Rekensheet NN-Alt'!E63","v":0}]
[null,null,null,null,null,"Leeg",0,{"$f":"VLOOKUP(F15,'Lijsten NN'!$E$25:$F$29,2,FALSE)","v":"-"},"…",null,{"$f":"'Rekensheet NN-Alt'!E64","v":0}]

{"sheet":"Invul_Alt_EindeL","index":15,"n_rows":35,"n_cols":21,"rows_kept":35,"cut":false,"hidden":false,"merged":[[10,18,11,18],[10,20,11,20],[10,5,11,5],[10,6,11,6],[10,7,11,7],[10,8,11,8],[10,9,10,12],[10,13,10,17]]}
[]
[null,null,null,null,{"$f":"Home!E2","v":"PRODUCTNAAM"}]
[null,null,null,null,{"$f":"Home!E3","v":"NAAM PRODUCENT"}]
[]
[]
[]
[]
[]
[null,null,null,null,null,"Einde levensfase - Alternatief"]
[null,null,null,null,null,"Wat gebeurt er met de materialen nadat ze in dit product zijn gebruikt? U kunt deze levenscyclusfase beschrijven door het specifceren van het afvalscenario per materiaal."]
[null,null,null,null,null,"Materiaal","Massa (kg)","Percentage recycling / hergebruik","Afvalscenario;\nStandaard gegevens of eigen gegevens","Afvalscenario - Standaard gegevens",null,null,null,"Afvalscenario - Eigen gegevens",null,null,null,null,"Toelichting",null,"Milieu-impact\nper producteenheid"]
[null,null,null,null,null,null,null,null,null,"Stort","Verbranding","Recycling","Hergebruik*","Stort","Verbranding","Recycling","Hergebruik*","Check"]
[null,null,null,null,null,{"$f":"Invul_Alt_Materialen!G12","v":"Leeg"},{"$f":"Invul_Alt_Materialen!H12","v":0},{"$f":"IF(I13=\"standaard\",L13+M13,P13+Q13)*(IF(F13=\"Leeg\",0,1))","v":0},"Standaard",{"$f":"VLOOKUP($F13,'MI materialen'!$B$2:$AS$291,37,FALSE)","v":0},{"$f":"VLOOKUP($F13,'MI materialen'!$B$2:$AS$291,38,FALSE)","v":0},{"$f":"VLOOKUP($F13,'MI materialen'!$B$2:$AS$291,39,FALSE)","v":0},{"$f":"VLOOKUP($F13,'MI materialen'!$B$2:$AS$291,40,FALSE)","v":0},0,0,0,0,{"$f":"SUM(N13:Q13)","v":0},null,null,{"$f":"'Rekensheet NN-Alt'!E69","v":0}]
[null,null,null,null,null,{"$f":"Invul_Alt_Materialen!G13","v":"Leeg"},{"$f":"Invul_Alt_Materialen!H13","v":0},{"$f":"IF(I14=\"standaard\",L14+M14,P14+Q14)*(IF(F14=\"Leeg\",0,1))","v":0},"Standaard",{"$f":"VLOOKUP($F14,'MI materialen'!$B$2:$AS$291,37,FALSE)","v":0},{"$f":"VLOOKUP($F14,'MI materialen'!$B$2:$AS$291,38,FALSE)","v":0},{"$f":"VLOOKUP($F14,'MI materialen'!$B$2:$AS$291,39,FALSE)","v":0},{"$f":"VLOOKUP($F14,'MI materialen'!$B$2:$AS$291,40,FALSE)","v":0},0,0,0,0,{"$f":"SUM(N14:Q14)","v":0},null,null,{"$f":"'Rekensheet NN-Alt'!E74","v":0}]
[null,null,null,null,null,{"$f":"Invul_Alt_Materialen!G14","v":"Leeg"},{"$f":"Invul_Alt_Materialen!H14","v":0},0,"Standaard",{"$f":"VLOOKUP($F15,'MI materialen'!$B$2:$AS$291,37,FALSE)","v":0},{"$f":"VLOOKUP($F15,'MI materialen'!$B$2:$AS$291,38,FALSE)","v":0},{"$f":"VLOOKUP($F15,'MI materialen'!$B$2:$AS$291,39,FALSE)","v":0},{"$f":"VLOOKUP($F15,'MI materialen'!$B$2:$AS$291,40,FALSE)","v":0},0,0,0,0,0,null,null,{"$f":"'Rekensheet NN-Alt'!E79","v":0}]
[null,null,null,null,null,{"$f":"Invul_Alt_Materialen!G15","v":"Leeg"},{"$f":"Invul_Alt_Materialen!H15","v":0},0,"Standaard",{"$f":"VLOOKUP($F16,'MI materialen'!$B$2:$AS$291,37,FALSE)","v":0},{"$f":"VLOOKUP($F16,'MI materialen'!$B$2:$AS$291,38,FALSE)","v":0},{"$f":"VLOOKUP($F16,'MI materialen'!$B$2:$AS$291,39,FALSE)","v":0},{"$f":"VLOOKUP($F16,'MI materialen'!$B$2:$AS$291,40,FALSE)","v":0},0,0,0,0,0,null,null,{"$f":"'Rekensheet NN-Alt'!E84","v":0}]
[null,null,null,null,null,{"$f":"Invul_Alt_Materialen!G16","v":"Leeg"},{"$f":"Invul_Alt_Materialen!H16","v":0},0,"Standaard",{"$f":"VLOOKUP($F17,'MI materialen'!$B$2:$AS$291,37,FALSE)","v":0},{"$f":"VLOOKUP($F17,'MI materialen'!$B$2:$AS$291,38,FALSE)","v":0},{"$f":"VLOOKUP($F17,'MI materialen'!$B$2:$AS$291,39,FALSE)","v":0},{"$f":"VLOOKUP($F17,'MI materialen'!$B$2:$AS$291,40,FALSE)","v":0},0,0,0,0,0,null,null,{"$f":"'Rekensheet NN-Alt'!E89","v":0}]
[null,null,null,null,null,{"$f":"Invul_Alt_Materialen!G17","v":"Leeg"},{"$f":"Invul_Alt_Materialen!H17","v":0},0,"Standaard",{"$f":"VLOOKUP($F18,'MI materialen'!$B$2:$AS$291,37,FALSE)","v":0},{"$f":"VLOOKUP($F18,'MI materialen'!$B$2:$AS$291,38,FALSE)","v":0},{"$f":"VLOOKUP($F18,'MI materialen'!$B$2:$AS$291,39,FALSE)","v":0},{"$f":"VLOOKUP($F18,'MI materialen'!$B$2:$AS$291,40,FALSE)","v":0},0,0,0,0,0,null,null,{"$f":"'Rekensheet NN-Alt'!E94","v":0}]
[null,null,null,null,null,{"$f":"Invul_Alt_Materialen!G18","v":"Leeg"},{"$f":"Invul_Alt_Materialen!H18","v":0},0,"Standaard",{"$f":"VLOOKUP($F19,'MI materialen'!$B$2:$AS$291,37,FALSE)","v":0},{"$f":"VLOOKUP($F19,'MI materialen'!$B$2:$AS$291,38,FALSE)","v":0},{"$f":"VLOOKUP($F19,'MI materialen'!$B$2:$AS$291,39,FALSE)","v":0},{"$f":"VLOOKUP($F19,'MI materialen'!$B$2:$AS$291,40,FALSE)","v":0},0,0,0,0,0,null,null,{"$f":"'Rekensheet NN-Alt'!E99","v":0}]
[null,null,null,null,null,{"$f":"Invul_Alt_Materialen!G19","v":"Leeg"},{"$f":"Invul_Alt_Materialen!H19","v":0},0,"Standaard",{"$f":"VLOOKUP($F20,'MI materialen'!$B$2:$AS$291,37,FALSE)","v":0},{"$f":"VLOOKUP($F20,'MI materialen'!$B$2:$AS$291,38,FALSE)","v":0},{"$f":"VLOOKUP($F20,'MI materialen'!$B$2:$AS$291,39,FALSE)","v":0},{"$f":"VLOOKUP($F20,'MI materialen'!$B$2:$AS$291,40,FALSE)","v":0},0,0,0,0,0,null,null,{"$f":"'Rekensheet NN-Alt'!E104","v":0}]
[null,null,null,null,null,{"$f":"Invul_Alt_Materialen!G20","v":"Leeg"},{"$f":"Invul_Alt_Materialen!H20","v":0},0,"Standaard",{"$f":"VLOOKUP($F21,'MI materialen'!$B$2:$AS$291,37,FALSE)","v":0},{"$f":"VLOOKUP($F21,'MI materialen'!$B$2:$AS$291,38,FALSE)","v":0},{"$f":"VLOOKUP($F21,'MI materialen'!$B$2:$AS$291,39,FALSE)","v":0},{"$f":"VLOOKUP($F21,'MI materialen'!$B$2:$AS$291,40,FALSE)","v":0},0,0,0,0,0,null,null,{"$f":"'Rekensheet NN-Alt'!E109","v":0}]
[null,null,null,null,null,{"$f":"Invul_Alt_Materialen!G21","v":"Leeg"},{"$f":"Invul_Alt_Materialen!H21","v":0},0,"Standaard",{"$f":"VLOOKUP($F22,'MI materialen'!$B$2:$AS$291,37,FALSE)","v":0},{"$f":"VLOOKUP($F22,'MI materialen'!$B$2:$AS$291,38,FALSE)","v":0},{"$f":"VLOOKUP($F22,'MI materialen'!$B$2:$AS$291,39,FALSE)","v":0},{"$f":"VLOOKUP($F22,'MI materialen'!$B$2:$AS$291,40,FALSE)","v":0},0,0,0,0,0,null,null,{"$f":"'Rekensheet NN-Alt'!E114","v":0}]
[null,null,null,null,null,{"$f":"Invul_Alt_Materialen!G22","v":"Leeg"},{"$f":"Invul_Alt_Materialen!H22","v":0},0,"Standaard",{"$f":"VLOOKUP($F23,'MI materialen'!$B$2:$AS$291,37,FALSE)","v":0},{"$f":"VLOOKUP($F23,'MI materialen'!$B$2:$AS$291,38,FALSE)","v":0},{"$f":"VLOOKUP($F23,'MI materialen'!$B$2:$AS$291,39,FALSE)","v":0},{"$f":"VLOOKUP($F23,'MI materialen'!$B$2:$AS$291,40,FALSE)","v":0},0,0,0,0,0,null,null,{"$f":"'Rekensheet NN-Alt'!E119","v":0}]
[null,null,null,null,null,{"$f":"Invul_Alt_Materialen!G23","v":"Leeg"},{"$f":"Invul_Alt_Materialen!H23","v":0},0,"Standaard",{"$f":"VLOOKUP($F24,'MI materialen'!$B$2:$AS$291,37,FALSE)","v":0},{"$f":"VLOOKUP($F24,'MI materialen'!$B$2:$AS$291,38,FALSE)","v":0},{"$f":"VLOOKUP($F24,'MI materialen'!$B$2:$AS$291,39,FALSE)","v":0},{"$f":"VLOOKUP($F24,'MI materialen'!$B$2:$AS$291,40,FALSE)","v":0},0,0,0,0,0,null,null,{"$f":"'Rekensheet NN-Alt'!E124","v":0}]
[null,null,null,null,null,{"$f":"Invul_Alt_Materialen!G24","v":"Leeg"},{"$f":"Invul_Alt_Materialen!H24","v":0},0,"Standaard",{"$f":"VLOOKUP($F25,'MI materialen'!$B$2:$AS$291,37,FALSE)","v":0},{"$f":"VLOOKUP($F25,'MI materialen'!$B$2:$AS$291,38,FALSE)","v":0},{"$f":"VLOOKUP($F25,'MI materialen'!$B$2:$AS$291,39,FALSE)","v":0},{"$f":"VLOOKUP($F25,'MI materialen'!$B$2:$AS$291,40,FALSE)","v":0},0,0,0,0,0,null,null,{"$f":"'Rekensheet NN-Alt'!E129","v":0}]
[null,null,null,null,null,{"$f":"Invul_Alt_Materialen!G25","v":"Leeg"},{"$f":"Invul_Alt_Materialen!H25","v":0},0,"Standaard",{"$f":"VLOOKUP($F26,'MI materialen'!$B$2:$AS$291,37,FALSE)","v":0},{"$f":"VLOOKUP($F26,'MI materialen'!$B$2:$AS$291,38,FALSE)","v":0},{"$f":"VLOOKUP($F26,'MI materialen'!$B$2:$AS$291,39,FALSE)","v":0},{"$f":"VLOOKUP($F26,'MI materialen'!$B$2:$AS$291,40,FALSE)","v":0},0,0,0,0,0,null,null,{"$f":"'Rekensheet NN-Alt'!E134","v":0}]
[null,null,null,null,null,{"$f":"Invul_Alt_Materialen!G26","v":"Leeg"},{"$f":"Invul_Alt_Materialen!H26","v":0},0,"Standaard",{"$f":"VLOOKUP($F27,'MI materialen'!$B$2:$AS$291,37,FALSE)","v":0},{"$f":"VLOOKUP($F27,'MI materialen'!$B$2:$AS$291,38,FALSE)","v":0},{"$f":"VLOOKUP($F27,'MI materialen'!$B$2:$AS$291,39,FALSE)","v":0},{"$f":"VLOOKUP($F27,'MI materialen'!$B$2:$AS$291,40,FALSE)","v":0},0,0,0,0,0,null,null,{"$f":"'Rekensheet NN-Alt'!E139","v":0}]
[null,null,null,null,null,{"$f":"Invul_Alt_Materialen!G27","v":"Leeg"},{"$f":"Invul_Alt_Materialen!H27","v":0},0,"Standaard",{"$f":"VLOOKUP($F28,'MI materialen'!$B$2:$AS$291,37,FALSE)","v":0},{"$f":"VLOOKUP($F28,'MI materialen'!$B$2:$AS$291,38,FALSE)","v":0},{"$f":"VLOOKUP($F28,'MI materialen'!$B$2:$AS$291,39,FALSE)","v":0},{"$f":"VLOOKUP($F28,'MI materialen'!$B$2:$AS$291,40,FALSE)","v":0},0,0,0,0,0,null,null,{"$f":"'Rekensheet NN-Alt'!E144","v":0}]
[null,null,null,null,null,{"$f":"Invul_Alt_Materialen!G28","v":"Leeg"},{"$f":"Invul_Alt_Materialen!H28","v":0},0,"Standaard",{"$f":"VLOOKUP($F29,'MI materialen'!$B$2:$AS$291,37,FALSE)","v":0},{"$f":"VLOOKUP($F29,'MI materialen'!$B$2:$AS$291,38,FALSE)","v":0},{"$f":"VLOOKUP($F29,'MI materialen'!$B$2:$AS$291,39,FALSE)","v":0},{"$f":"VLOOKUP($F29,'MI materialen'!$B$2:$AS$291,40,FALSE)","v":0},0,0,0,0,0,null,null,{"$f":"'Rekensheet NN-Alt'!E149","v":0}]
[null,null,null,null,null,{"$f":"Invul_Alt_Materialen!G29","v":"Leeg"},{"$f":"Invul_Alt_Materialen!H29","v":0},0,"Standaard",{"$f":"VLOOKUP($F30,'MI materialen'!$B$2:$AS$291,37,FALSE)","v":0},{"$f":"VLOOKUP($F30,'MI materialen'!$B$2:$AS$291,38,FALSE)","v":0},{"$f":"VLOOKUP($F30,'MI materialen'!$B$2:$AS$291,39,FALSE)","v":0},{"$f":"VLOOKUP($F30,'MI materialen'!$B$2:$AS$291,40,FALSE)","v":0},0,0,0,0,0,null,null,{"$f":"'Rekensheet NN-Alt'!E154","v":0}]
[null,null,null,null,null,{"$f":"Invul_Alt_Materialen!G30","v":"Leeg"},{"$f":"Invul_Alt_Materialen!H30","v":0},0,"Standaard",{"$f":"VLOOKUP($F31,'MI materialen'!$B$2:$AS$291,37,FALSE)","v":0},{"$f":"VLOOKUP($F31,'MI materialen'!$B$2:$AS$291,38,FALSE)","v":0},{"$f":"VLOOKUP($F31,'MI materialen'!$B$2:$AS$291,39,FALSE)","v":0},{"$f":"VLOOKUP($F31,'MI materialen'!$B$2:$AS$291,40,FALSE)","v":0},0,0,0,0,0,null,null,{"$f":"'Rekensheet NN-Alt'!E159","v":0}]
[null,null,null,null,null,{"$f":"Invul_Alt_Materialen!G31","v":"Leeg"},{"$f":"Invul_Alt_Materialen!H31","v":0},0,"Standaard",{"$f":"VLOOKUP($F32,'MI materialen'!$B$2:$AS$291,37,FALSE)","v":0},{"$f":"VLOOKUP($F32,'MI materialen'!$B$2:$AS$291,38,FALSE)","v":0},{"$f":"VLOOKUP($F32,'MI materialen'!$B$2:$AS$291,39,FALSE)","v":0},{"$f":"VLOOKUP($F32,'MI materialen'!$B$2:$AS$291,40,FALSE)","v":0},0,0,0,0,0,null,null,{"$f":"'Rekensheet NN-Alt'!E164","v":0}]
[null,null,null,null,null,"Totaal",{"$f":"Invul_Alt_Materialen!H32","v":0},{"$f":"SUM((H13*G13+H14*G14+H15*G15+H16*G16+H17*G17+H18*G18+H19*G19+H20*G20+H21*G21+H22*G22+H23*G23+H24*G24+H25*G25+H26*G26+H27*G27+H28*G28+H29*G29+H30*G30+H31*G31+H32*G32))/G33","v":{"$error":"#DIV/0!"}}]
[]
[null,null,null,null,null,"*De milieu-impact and milieu-voordelen ten gevolgen van hergebruik zijn op basis van recycling. Voor hergebruik is dit namelijk niet gedefinieerd."]

{"sheet":"Resultaten_Alt","index":16,"n_rows":140,"n_cols":35,"rows_kept":140,"cut":false,"hidden":false,"merged":[[18,17,18,18],[19,17,19,18],[19,29,20,29],[19,30,20,31],[25,6,27,9],[27,29,39,35],[29,6,60,9],[40,29,51,35],[10,17,14,23],[11,29,14,31],[11,33,20,35],[13,24,13,25],[15,29,15,31],[16,17,17,18],[17,29,18,29],[17,30,18,31],[45,40,46,42],[53,29,60,35],[65,6,66,19],[65,23,66,35],[68,6,70,11],[68,12,70,14],[68,15,70,17],[68,18,70,19],[68,23,70,25],[68,26,70,30],[68,31,70,33],[68,34,70,35],[71,6,71,11],[71,12,71,14],[71,15,71,17],[71,18,71,19],[71,23,91,25],[71,26,71,30],[71,31,71,33],[71,34,71,35],[72,34,72,35],[73,6,73,11],[73,12,73,14],[73,15,73,17],[73,18,73,19],[73,26,73,30],[73,31,73,33],[73,34,73,35],[72,6,72,11],[72,12,72,14],[72,15,72,17],[72,18,72,19],[72,26,72,30],[72,31,72,33],[76,6,76,11],[76,12,76,14],[74,34,74,35],[75,6,75,11],[75,12,75,14],[75,15,75,17],[75,18,75,19],[75,26,75,30],[75,31,75,33],[75,34,75,35],[74,6,74,11],[74,12,74,14],[74,15,74,17],[74,18,74,19],[74,26,74,30],[74,31,74,33],[78,12,78,14],[78,15,78,17],[78,18,78,19],[78,26,78,30],[78,31,78,33],[78,34,78,35],[76,34,76,35],[77,12,77,14],[77,15,77,17],[77,18,77,19],[77,26,77,30],[77,31,77,33],[77,34,77,35],[76,15,76,17],[76,18,76,19],[76,26,76,30],[76,31,76,33],[80,12,80,14],[80,15,80,17],[80,18,80,19],[80,26,80,30],[80,31,80,33],[80,34,80,35],[79,12,79,14],[79,15,79,17],[79,18,79,19],[79,26,79,30],[79,31,79,33],[79,34,79,35],[82,12,82,14],[82,15,82,17],[82,18,82,19],[82,26,82,30],[82,31,82,33],[82,34,82,35],[81,12,81,14],[81,15,81,17],[81,18,81,19],[81,26,81,30],[81,31,81,33],[81,34,81,35],[84,12,84,14],[84,15,84,17],[84,18,84,19],[84,26,84,30],[84,31,84,33],[84,34,84,35],[83,12,83,14],[83,15,83,17],[83,18,83,19],[83,26,83,30],[83,31,83,33],[83,34,83,35],[86,12,86,14],[86,15,86,17],[86,18,86,19],[86,26,86,30],[86,31,86,33],[86,34,86,35],[85,12,85,14],[85,15,85,17],[85,18,85,19],[85,26,85,30],[85,31,85,33],[85,34,85,35],[89,26,89,30],[89,31,89,33],[89,34,89,35],[90,26,90,30],[90,31,90,33],[90,34,90,35],[87,6,88,19],[87,26,87,30],[87,31,87,33],[87,34,87,35],[88,26,88,30],[88,31,88,33],[88,34,88,35],[94,34,94,35],[95,26,95,30],[95,31,95,33],[95,34,95,35],[96,26,96,30],[96,31,96,33],[96,34,96,35],[91,26,91,30],[91,31,91,33],[91,34,91,35],[92,23,92,35],[93,23,101,25],[93,26,93,30],[93,31,93,33],[93,34,93,35],[94,26,94,30],[94,31,94,33],[99,26,99,30],[99,31,99,33],[99,34,99,35],[100,26,100,30],[100,31,100,33],[100,34,100,35],[97,26,97,30],[97,31,97,33],[97,34,97,35],[98,26,98,30],[98,31,98,33],[98,34,98,35],[104,34,104,35],[105,26,105,30],[105,31,105,33],[105,34,105,35],[106,26,106,30],[106,31,106,33],[106,34,106,35],[101,26,101,30],[101,31,101,33],[101,34,101,35],[102,23,102,35],[103,23,111,25],[103,26,103,30],[103,31,103,33],[103,34,103,35],[104,26,104,30],[104,31,104,33],[109,26,109,30],[109,31,109,33],[109,34,109,35],[110,26,110,30],[110,31,110,33],[110,34,110,35],[107,26,107,30],[107,31,107,33],[107,34,107,35],[108,26,108,30],[108,31,108,33],[108,34,108,35],[111,26,111,30],[111,31,111,33],[111,34,111,35],[111,41,111,43],[112,23,112,35],[113,23,117,25],[113,26,113,30],[113,31,113,33],[113,34,113,35],[116,6,117,19],[116,26,116,30],[116,31,116,33],[116,34,116,35],[117,26,117,30],[117,31,117,33],[117,34,117,35],[114,6,115,19],[114,26,114,30],[114,31,114,33],[114,34,114,35],[115,26,115,30],[115,31,115,33],[115,34,115,35],[118,23,118,35],[119,6,121,11],[119,12,121,14],[119,15,121,17],[119,18,121,19],[119,23,139,25],[119,26,119,30],[119,31,119,33],[119,34,119,35],[120,26,120,30],[120,31,120,33],[120,34,120,35],[121,26,121,30],[121,31,121,33],[121,34,121,35],[122,6,122,11],[122,12,122,14],[122,15,122,17],[122,18,122,19],[122,26,122,30],[122,31,122,33],[122,34,122,35],[123,6,123,11],[123,12,123,14],[123,15,123,17],[123,18,123,19],[123,26,123,30],[123,31,123,33],[123,34,123,35],[124,34,124,35],[125,6,125,11],[125,12,125,14],[125,15,125,17],[125,18,125,19],[125,26,125,30],[125,31,125,33],[125,34,125,35],[124,6,124,11],[124,12,124,14],[124,15,124,17],[124,18,124,19],[124,26,124,30],[124,31,124,33],[126,34,126,35],[127,6,127,11],[127,12,127,14],[127,15,127,17],[127,18,127,19],[127,26,127,30],[127,31,127,33],[127,34,127,35],[126,6,126,11],[126,12,126,14],[126,15,126,17],[126,18,126,19],[126,26,126,30],[126,31,126,33],[128,34,128,35],[129,6,129,11],[129,12,129,14],[129,15,129,17],[129,18,129,19],[129,26,129,30],[129,31,129,33],[129,34,129,35],[128,6,128,11],[128,12,128,14],[128,15,128,17],[128,18,128,19],[128,26,128,30],[128,31,128,33],[130,34,130,35],[131,6,131,11],[131,12,131,14],[131,15,131,17],[131,18,131,19],[131,26,131,30],[131,31,131,33],[131,34,131,35],[130,6,130,11],[130,12,130,14],[130,15,130,17],[130,18,130,19],[130,26,130,30],[130,31,130,33],[132,34,132,35],[133,6,133,11],[133,12,133,14],[133,15,133,17],[133,18,133,19],[133,26,133,30],[133,31,133,33],[133,34,133,35],[132,6,132,11],[132,12,132,14],[132,15,132,17],[132,18,132,19],[132,26,132,30],[132,31,132,33],[134,34,134,35],[135,6,135,11],[135,12,135,14],[135,15,135,17],[135,18,135,19],[135,26,135,30],[135,31,135,33],[135,34,135,35],[134,6,134,11],[134,12,134,14],[134,15,134,17],[134,18,134,19],[134,26,134,30],[134,31,134,33],[136,34,136,35],[137,6,137,11],[137,12,137,14],[137,15,137,17],[137,18,137,19],[137,26,137,30],[137,31,137,33],[137,34,137,35],[136,6,136,11],[136,12,136,14],[136,15,136,17],[136,18,136,19],[136,26,136,30],[136,31,136,33],[138,34,138,35],[139,6,139,11],[139,12,139,14],[139,15,139,17],[139,18,139,19],[139,26,139,30],[139,31,139,33],[139,34,139,35],[138,6,138,11],[138,12,138,14],[138,15,138,17],[138,18,138,19],[138,26,138,30],[138,31,138,33],[160,41,160,46],[160,47,160,49],[160,50,160,52],[160,53,160,54],[161,41,161,46],[161,47,161,49],[161,50,161,52],[161,53,161,54],[156,41,158,46],[156,47,158,49],[156,50,158,52],[156,53,158,54],[159,41,159,46],[159,47,159,49],[159,50,159,52],[159,53,159,54],[164,41,164,46],[164,47,164,49],[164,50,164,52],[164,53,164,54],[165,41,165,46],[165,47,165,49],[165,50,165,52],[165,53,165,54],[162,41,162,46],[162,47,162,49],[162,50,162,52],[162,53,162,54],[163,41,163,46],[163,47,163,49],[163,50,163,52],[163,53,163,54],[168,41,168,46],[168,47,168,49],[168,50,168,52],[168,53,168,54],[169,41,169,46],[169,47,169,49],[169,50,169,52],[169,53,169,54],[166,41,166,46],[166,47,166,49],[166,50,166,52],[166,53,166,54],[167,41,167,46],[167,47,167,49],[167,50,167,52],[167,53,167,54],[172,41,172,46],[172,47,172,49],[172,50,172,52],[172,53,172,54],[173,41,173,46],[173,47,173,49],[173,50,173,52],[173,53,173,54],[170,41,170,46],[170,47,170,49],[170,50,170,52],[170,53,170,54],[171,41,171,46],[171,47,171,49],[171,50,171,52],[171,53,171,54],[176,41,176,46],[176,47,176,49],[176,50,176,52],[176,53,176,54],[174,41,174,46],[174,47,174,49],[174,50,174,52],[174,53,174,54],[175,41,175,46],[175,47,175,49],[175,50,175,52],[175,53,175,54]]}
[]
[null,null,null,null,{"$f":"\"Alternatief: \" &Home!E2","v":"Alternatief: PRODUCTNAAM"}]
[null,null,null,null,{"$f":"Home!E3","v":"NAAM PRODUCENT"}]
[]
[]
[]
[]
[]
[]
[]
[]
[]
[]
[]
[]
[]
[null,{"$f":"'Rekensheet NN-Alt'!E8/Invul_Alt_Alg!G13","v":{"$error":"#DIV/0!"}}]
[null,{"$f":"'Rekensheet NN-Alt'!E8","v":0}]
[null,{"$f":"(Invul_Alt_Materialen!J32+Invul_Alt_EindeL!H33)/2","v":{"$error":"#DIV/0!"}}]
[]
[]
[]
[]
[]
[]
[null,null,null,null,null,null,"Oorsprong milieu-impact",null,null,null,null,null,null,null,null,null,null,null,null,null,null,null,null,null,null,null,null,null,null,"Toelichting resultaten"]
[null,null,null,null,null,null,null,null,null,null,null,null,null,null,null,null,null,null,null,null,null,null,null,null,null,null,null,null,null,"Milieu-impact"]
[null,null,null,null,null,null,null,null,null,null,null,null,null,null,null,null,null,null,null,null,null,null,null,null,null,null,null,null,null,{"$f":"VLOOKUP(Graph_Alt!G84,Lijsten_Tekst!A1:C6,2,FALSE)","v":"In de binnenste cirkel is te zien dat het materiaalgebruik de grootste milieu-impact veroorzaakt. In de buitenste cirkel is af te lezen welk materiaal hieraan de grootste bijdrage heeft. Om de milieu-impact van het product te verlagen kunt u onderzoeken of het gebruik van circulaire materialen of andere minder milieubelastende primaire materialen tot minder milieubelasting leidt. Focus daarbij op de materialen die het grootste deel van de milieu-impact uitmaken. "}]
[]
[null,null,null,null,null,null,"Dit diagram geeft de verdeling van de milieukosten van het product over zijn levensloop aan. In de binnenste cirkel zijn de verschillende activiteiten die tijdens de levensduur van het project plaatsvinden weergegeven. In de buitenste circel is een meer gedetailleerde onderverdeling van de verschillende activiteiten weergegeven.\n\nZo is af te lezen welke materialen of processen de grootste bijdrage leveren aan bepaalde activiteit. Zo is inzichtelijk welke materialen of processen de grootste milieubelasting veroorzaken. Milieureductie kan behaald worden door te onderzoeken of er milieuvriendelijkere alternatieven zijn voor die materialen en processen waar: \n- je milieu impact van het huidige \n  ontwerp het grootst is \n- je als producent de meeste \n  invloed op hebt om \n  veranderingen door te voeren \n- waar milieu vriendelijkere \n  alternatieven beschikbaar en \n  rendabel zijn."]
[]
[]
[]
[]
[]
[]
[]
[]
[]
[]
[null,null,null,null,null,null,null,null,null,null,null,null,null,null,null,null,null,null,null,null,null,null,null,null,null,null,null,null,null,{"$f":"VLOOKUP(Graph_Alt!G85,Lijsten_Tekst!A1:C6,3,FALSE)","v":"De tweede gootste veroorzaker van de milieu-impact is het materiaal gebruik. In de buitenste cirkel is af te lezen welk materiaal hieraan de grootste bijdrage heeft. Om de milieu-impact van het product te verlagen kunt u onderzoeken of het gebruik van circulaire materialen of andere minder milieubelastende primaire materialen tot minder milieubelasting leidt. Focus daarbij op de materialen die het grootste deel van de milieu-impact uitmaken. "}]
[]
[]
[]
[]
[]
[]
[]
[]
[]
[]
[]
[null,null,null,null,null,null,null,null,null,null,null,null,null,null,null,null,null,null,null,null,null,null,null,null,null,null,null,null,null,"Circulariteit"]
[null,null,null,null,null,null,null,null,null,null,null,null,null,null,null,null,null,null,null,null,null,null,null,null,null,null,null,null,null,{"$f":"IF(AD12>75%,VLOOKUP(\">75%\",Lijsten_Tekst!E1:F6,2,FALSE),IF(AND(AD12<75%,AD12>50%),VLOOKUP(\"50%-75%\",Lijsten_Tekst!E1:F6,2,FALSE),IF(AND(AD12<50%,AD12>25%),VLOOKUP(\"25%-50%\",Lijsten_Tekst!E1:F6,2,FALSE),IF(AD12<25%,VLOOKUP(\"<25%\",Lijsten_Tekst!E1:F6,2,FALSE),0))))","v":"De circulariteitsindex is kleiner dan 25%. Dat betekent dat er nog genoeg ruimte is voor verbetering van de circulariteit van het product. Dit kunt u doen door ander of meer secundair materiaal te gebruiken of meer materialen te recyclen of hergebruik aan het einde van de levensduur."}]
[]
[]
[]
[]
[]
[]
[]
[]
[]
[]
[null,null,null,null,null,null,"Milieu-impact per impact categorie",null,null,null,null,null,null,null,null,null,null,null,null,null,null,null,null,"Milieu-impact per onderdeel"]
[null,null,null,null,null,null,"De tabel hieronder toont de bijdrage van het product per milieu-impact categorie aan de totale MilieuKostenIndicator. Een uitleg van de impact categorieën kan worden gevonden op de informatiepagina.",null,null,null,null,null,null,null,null,null,null,null,null,null,null,null,null,"Hieronder wordt de oorsprong van de milieu-impact in meer detail weergegeven. Op die manier kan de absolute en relatieve bijdrage per materiaal en process worden afgelezen."]
[]
[]
[null,null,null,null,null,null,"Milieueffect",null,null,null,null,null,"Hoeveelheid per product",null,null,{"$f":" \"Hoeveelheid per product per \" &  Invul_Alt_Alg!$H$13","v":"Hoeveelheid per product per Leeg"},null,null,"Hoeveelheid Relatief (%)",null,null,null,null,"Hoofdcategorie",null,null,"Sub-categorie",null,null,null,null,"MKI\nper product\nAbsoluut (€)",null,null,"MKI\nper product\nRelatief (%)"]
[]
[]
[null,null,null,null,null,null,"Totale milieu-kosten (MKI)",null,null,null,null,null,{"$f":"'Rekensheet NN-Alt'!$E$8","v":0},null,null,{"$f":"M72/Invul_Alt_Alg!$G$13","v":{"$error":"#DIV/0!"}},null,null,{"$f":"M72/$M$72","v":{"$error":"#DIV/0!"}},null,null,null,null,{"$f":"Graph_Alt!B3","v":"Materialen"},null,null,{"$f":"Graph_Alt!H3","v":"Leeg"},null,null,null,null,{"$f":"Graph_Alt!I3","v":0},null,null,{"$f":"AF72/$M$72","v":{"$error":"#DIV/0!"}}]
[null,null,null,null,null,null,"Uitputting van abiotische stoffen , excl. fossiele brandstoffen",null,null,null,null,null,{"$f":"M124*MKI!C2","v":0},null,null,{"$f":"M73/Invul_Alt_Alg!$G$13","v":{"$error":"#DIV/0!"}},null,null,{"$f":"M73/$M$72","v":{"$error":"#DIV/0!"}},null,null,null,null,null,null,null,{"$f":"Graph_Alt!H4","v":"Leeg"},null,null,null,null,{"$f":"Graph_Alt!I4","v":0},null,null,{"$f":"AF73/$M$72","v":{"$error":"#DIV/0!"}}]
[null,null,null,null,null,null,"Uitputting van fossiele brandstoffen",null,null,null,null,null,{"$f":"M125*MKI!C3","v":0},null,null,{"$f":"M74/Invul_Alt_Alg!$G$13","v":{"$error":"#DIV/0!"}},null,null,{"$error":"#DIV/0!"},null,null,null,null,null,null,null,{"$f":"Graph_Alt!H5","v":"Leeg"},null,null,null,null,{"$f":"Graph_Alt!I5","v":0},null,null,{"$error":"#DIV/0!"}]
[null,null,null,null,null,null,"Klimaatverandering",null,null,null,null,null,{"$f":"M126*MKI!C4","v":0},null,null,{"$f":"M75/Invul_Alt_Alg!$G$13","v":{"$error":"#DIV/0!"}},null,null,{"$error":"#DIV/0!"},null,null,null,null,null,null,null,{"$f":"Graph_Alt!H6","v":"Leeg"},null,null,null,null,{"$f":"Graph_Alt!I6","v":0},null,null,{"$error":"#DIV/0!"}]
[null,null,null,null,null,null,"Aantasting van de ozonlaag",null,null,null,null,null,{"$f":"M127*MKI!C5","v":0},null,null,{"$f":"M76/Invul_Alt_Alg!$G$13","v":{"$error":"#DIV/0!"}},null,null,{"$error":"#DIV/0!"},null,null,null,null,null,null,null,{"$f":"Graph_Alt!H7","v":"Leeg"},null,null,null,null,{"$f":"Graph_Alt!I7","v":0},null,null,{"$error":"#DIV/0!"}]
[null,null,null,null,null,null,"Fotochemische oxidatie (zomersmog)",null,null,null,null,null,{"$f":"M128*MKI!C6","v":0},null,null,{"$f":"M77/Invul_Alt_Alg!$G$13","v":{"$error":"#DIV/0!"}},null,null,{"$error":"#DIV/0!"},null,null,null,null,null,null,null,{"$f":"Graph_Alt!H8","v":"Leeg"},null,null,null,null,{"$f":"Graph_Alt!I8","v":0},null,null,{"$error":"#DIV/0!"}]
[null,null,null,null,null,null,"Verzuring",null,null,null,null,null,{"$f":"M129*MKI!C7","v":0},null,null,{"$f":"M78/Invul_Alt_Alg!$G$13","v":{"$error":"#DIV/0!"}},null,null,{"$error":"#DIV/0!"},null,null,null,null,null,null,null,{"$f":"Graph_Alt!H9","v":"Leeg"},null,null,null,null,{"$f":"Graph_Alt!I9","v":0},null,null,{"$error":"#DIV/0!"}]
[null,null,null,null,null,null,"Vermesting",null,null,null,null,null,{"$f":"M130*MKI!C8","v":0},null,null,{"$f":"M79/Invul_Alt_Alg!$G$13","v":{"$error":"#DIV/0!"}},null,null,{"$error":"#DIV/0!"},null,null,null,null,null,null,null,{"$f":"Graph_Alt!H10","v":"Leeg"},null,null,null,null,{"$f":"Graph_Alt!I10","v":0},null,null,{"$error":"#DIV/0!"}]
[null,null,null,null,null,null,"Humane toxiciteit",null,null,null,null,null,{"$f":"M131*MKI!C9","v":0},null,null,{"$f":"M80/Invul_Alt_Alg!$G$13","v":{"$error":"#DIV/0!"}},null,null,{"$error":"#DIV/0!"},null,null,null,null,null,null,null,{"$f":"Graph_Alt!H11","v":"Leeg"},null,null,null,null,{"$f":"Graph_Alt!I11","v":0},null,null,{"$error":"#DIV/0!"}]
[null,null,null,null,null,null,"Zoetwater ecotoxiciteit",null,null,null,null,null,{"$f":"M132*MKI!C10","v":0},null,null,{"$f":"M81/Invul_Alt_Alg!$G$13","v":{"$error":"#DIV/0!"}},null,null,{"$error":"#DIV/0!"},null,null,null,null,null,null,null,{"$f":"Graph_Alt!H12","v":"Leeg"},null,null,null,null,{"$f":"Graph_Alt!I12","v":0},null,null,{"$error":"#DIV/0!"}]
[null,null,null,null,null,null,"Zoutwater ecotoxiciteit",null,null,null,null,null,{"$f":"M133*MKI!C11","v":0},null,null,{"$f":"M82/Invul_Alt_Alg!$G$13","v":{"$error":"#DIV/0!"}},null,null,{"$error":"#DIV/0!"},null,null,null,null,null,null,null,{"$f":"Graph_Alt!H13","v":"Leeg"},null,null,null,null,{"$f":"Graph_Alt!I13","v":0},null,null,{"$error":"#DIV/0!"}]
[null,null,null,null,null,null,"Terrestische ecotoxiciteit",null,null,null,null,null,{"$f":"M134*MKI!C12","v":0},null,null,{"$f":"M83/Invul_Alt_Alg!$G$13","v":{"$error":"#DIV/0!"}},null,null,{"$error":"#DIV/0!"},null,null,null,null,null,null,null,{"$f":"Graph_Alt!H14","v":"Leeg"},null,null,null,null,{"$f":"Graph_Alt!I14","v":0},null,null,{"$error":"#DIV/0!"}]
[null,null,null,null,null,null,null,null,null,null,null,null,null,null,null,null,null,null,null,null,null,null,null,null,null,null,{"$f":"Graph_Alt!H15","v":"Leeg"},null,null,null,null,{"$f":"Graph_Alt!I15","v":0},null,null,{"$error":"#DIV/0!"}]
[null,null,null,null,null,null,null,null,null,null,null,null,null,null,null,null,null,null,null,null,null,null,null,null,null,null,{"$f":"Graph_Alt!H16","v":"Leeg"},null,null,null,null,{"$f":"Graph_Alt!I16","v":0},null,null,{"$error":"#DIV/0!"}]
[null,null,null,null,null,null,null,null,null,null,null,null,null,null,null,null,null,null,null,null,null,null,null,null,null,null,{"$f":"Graph_Alt!H17","v":"Leeg"},null,null,null,null,{"$f":"Graph_Alt!I17","v":0},null,null,{"$error":"#DIV/0!"}]
[null,null,null,null,null,null,null,null,null,null,null,null,null,null,null,null,null,null,null,null,null,null,null,null,null,null,{"$f":"Graph_Alt!H18","v":"Leeg"},null,null,null,null,{"$f":"Graph_Alt!I18","v":0},null,null,{"$error":"#DIV/0!"}]
[null,null,null,null,null,null,"Oorsprong milieu-impact categorie",null,null,null,null,null,null,null,null,null,null,null,null,null,null,null,null,null,null,null,{"$f":"Graph_Alt!H19","v":"Leeg"},null,null,null,null,{"$f":"Graph_Alt!I19","v":0},null,null,{"$error":"#DIV/0!"}]
[null,null,null,null,null,null,null,null,null,null,null,null,null,null,null,null,null,null,null,null,null,null,null,null,null,null,{"$f":"Graph_Alt!H20","v":"Leeg"},null,null,null,null,{"$f":"Graph_Alt!I20","v":0},null,null,{"$error":"#DIV/0!"}]
[null,null,null,null,null,null,null,null,null,null,null,null,null,null,null,null,null,null,null,null,null,null,null,null,null,null,{"$f":"Graph_Alt!H21","v":"Leeg"},null,null,null,null,{"$f":"Graph_Alt!I21","v":0},null,null,{"$error":"#DIV/0!"}]
[null,null,null,null,null,null,null,null,null,null,null,null,null,null,null,null,null,null,null,null,null,null,null,null,null,null,{"$f":"Graph_Alt!H22","v":"Leeg"},null,null,null,null,{"$f":"Graph_Alt!I22","v":0},null,null,{"$error":"#DIV/0!"}]
[null,null,null,null,null,null,null,null,null,null,null,null,null,null,null,null,null,null,null,null,null,null,null,null,null,null,{"$f":"Graph_Alt!H23","v":"Totaal"},null,null,null,null,{"$f":"Graph_Alt!I23","v":0},null,null,{"$f":"AF92/$M$72","v":{"$error":"#DIV/0!"}}]
[]
[null,null,null,null,null,null,null,null,null,null,null,null,null,null,null,null,null,null,null,null,null,null,null,{"$f":"Graph_Alt!B29","v":"Bewerkingen"},null,null,{"$f":"Graph_Alt!H29","v":"Leeg"},null,null,null,null,{"$f":"Graph_Alt!I29","v":0},null,null,{"$f":"AF94/$M$72","v":{"$error":"#DIV/0!"}}]
[null,null,null,null,null,null,null,null,null,null,null,null,null,null,null,null,null,null,null,null,null,null,null,null,null,null,{"$f":"Graph_Alt!H30","v":"Leeg"},null,null,null,null,{"$f":"Graph_Alt!I30","v":0},null,null,{"$error":"#DIV/0!"}]
[null,null,null,null,null,null,null,null,null,null,null,null,null,null,null,null,null,null,null,null,null,null,null,null,null,null,{"$f":"Graph_Alt!H31","v":"Leeg"},null,null,null,null,{"$f":"Graph_Alt!I31","v":0},null,null,{"$error":"#DIV/0!"}]
[null,null,null,null,null,null,null,null,null,null,null,null,null,null,null,null,null,null,null,null,null,null,null,null,null,null,{"$f":"Graph_Alt!H32","v":"Leeg"},null,null,null,null,{"$f":"Graph_Alt!I32","v":0},null,null,{"$error":"#DIV/0!"}]
[null,null,null,null,null,null,null,null,null,null,null,null,null,null,null,null,null,null,null,null,null,null,null,null,null,null,{"$f":"Graph_Alt!H33","v":"Leeg"},null,null,null,null,{"$f":"Graph_Alt!I33","v":0},null,null,{"$error":"#DIV/0!"}]
[null,null,null,null,null,null,null,null,null,null,null,null,null,null,null,null,null,null,null,null,null,null,null,null,null,null,{"$f":"Graph_Alt!H34","v":"Leeg"},null,null,null,null,{"$f":"Graph_Alt!I34","v":0},null,null,{"$error":"#DIV/0!"}]
[null,null,null,null,null,null,null,null,null,null,null,null,null,null,null,null,null,null,null,null,null,null,null,null,null,null,{"$f":"Graph_Alt!H35","v":"Leeg"},null,null,null,null,{"$f":"Graph_Alt!I35","v":0},null,null,{"$error":"#DIV/0!"}]
[null,null,null,null,null,null,null,null,null,null,null,null,null,null,null,null,null,null,null,null,null,null,null,null,null,null,{"$f":"Graph_Alt!H36","v":"Leeg"},null,null,null,null,{"$f":"Graph_Alt!I36","v":0},null,null,{"$error":"#DIV/0!"}]
[null,null,null,null,null,null,null,null,null,null,null,null,null,null,null,null,null,null,null,null,null,null,null,null,null,null,{"$f":"Graph_Alt!H37","v":"Totaal"},null,null,null,null,{"$f":"Graph_Alt!I37","v":0},null,null,{"$f":"AF102/$M$72","v":{"$error":"#DIV/0!"}}]
[]
[null,null,null,null,null,null,null,null,null,null,null,null,null,null,null,null,null,null,null,null,null,null,null,{"$f":"Graph_Alt!B41","v":"Distributie"},null,null,{"$f":"Graph_Alt!H41","v":"Leeg"},null,null,null,null,{"$f":"Graph_Alt!I41","v":0},null,null,{"$f":"AF104/$M$72","v":{"$error":"#DIV/0!"}}]
[null,null,null,null,null,null,null,null,null,null,null,null,null,null,null,null,null,null,null,null,null,null,null,null,null,null,{"$f":"Graph_Alt!H42","v":"Leeg"},null,null,null,null,{"$f":"Graph_Alt!I42","v":0},null,null,{"$error":"#DIV/0!"}]
[null,null,null,null,null,null,null,null,null,null,null,null,null,null,null,null,null,null,null,null,null,null,null,null,null,null,{"$f":"Graph_Alt!H43","v":"Leeg"},null,null,null,null,{"$f":"Graph_Alt!I43","v":0},null,null,{"$error":"#DIV/0!"}]
[null,null,null,null,null,null,null,null,null,null,null,null,null,null,null,null,null,null,null,null,null,null,null,null,null,null,{"$f":"Graph_Alt!H44","v":"Leeg"},null,null,null,null,{"$f":"Graph_Alt!I44","v":0},null,null,{"$error":"#DIV/0!"}]
[null,null,null,null,null,null,null,null,null,null,null,null,null,null,null,null,null,null,null,null,null,null,null,null,null,null,{"$f":"Graph_Alt!H45","v":"Leeg"},null,null,null,null,{"$f":"Graph_Alt!I45","v":0},null,null,{"$error":"#DIV/0!"}]
[null,null,null,null,null,null,null,null,null,null,null,null,null,null,null,null,null,null,null,null,null,null,null,null,null,null,{"$f":"Graph_Alt!H46","v":"Leeg"},null,null,null,null,{"$f":"Graph_Alt!I46","v":0},null,null,{"$error":"#DIV/0!"}]
[null,null,null,null,null,null,null,null,null,null,null,null,null,null,null,null,null,null,null,null,null,null,null,null,null,null,{"$f":"Graph_Alt!H47","v":"Leeg"},null,null,null,null,{"$f":"Graph_Alt!I47","v":0},null,null,{"$error":"#DIV/0!"}]
[null,null,null,null,null,null,null,null,null,null,null,null,null,null,null,null,null,null,null,null,null,null,null,null,null,null,{"$f":"Graph_Alt!H48","v":"Leeg"},null,null,null,null,{"$f":"Graph_Alt!I48","v":0},null,null,{"$error":"#DIV/0!"}]
[null,null,null,null,null,null,null,null,null,null,null,null,null,null,null,null,null,null,null,null,null,null,null,null,null,null,{"$f":"Graph_Alt!H49","v":"Totaal"},null,null,null,null,{"$f":"Graph_Alt!I49","v":0},null,null,{"$f":"AF112/$M$72","v":{"$error":"#DIV/0!"}}]
[]
[null,null,null,null,null,null,null,null,null,null,null,null,null,null,null,null,null,null,null,null,null,null,null,{"$f":"Graph_Alt!B54","v":"Gebruik"},null,null,{"$f":"Graph_Alt!H54","v":"Leeg"},null,null,null,null,{"$f":"Graph_Alt!I54","v":0},null,null,{"$f":"AF114/$M$72","v":{"$error":"#DIV/0!"}}]
[null,null,null,null,null,null,"Milieuprofiel",null,null,null,null,null,null,null,null,null,null,null,null,null,null,null,null,null,null,null,{"$f":"Graph_Alt!H55","v":"Leeg"},null,null,null,null,{"$f":"Graph_Alt!I55","v":0},null,null,{"$error":"#DIV/0!"}]
[null,null,null,null,null,null,null,null,null,null,null,null,null,null,null,null,null,null,null,null,null,null,null,null,null,null,{"$f":"Graph_Alt!H56","v":"Leeg"},null,null,null,null,{"$f":"Graph_Alt!I56","v":0},null,null,{"$error":"#DIV/0!"}]
[null,null,null,null,null,null,"De tabel hieronder toont het milieuprofiel van het product. Dit is de gebruikelijke uitkomst van een LCA-studie en toont de lijst met milieueffecten uitgedrukt in de verschillende milieu-impact categorieën.",null,null,null,null,null,null,null,null,null,null,null,null,null,null,null,null,null,null,null,{"$f":"Graph_Alt!H57","v":"Leeg"},null,null,null,null,{"$f":"Graph_Alt!I57","v":0},null,null,{"$error":"#DIV/0!"}]
[null,null,null,null,null,null,null,null,null,null,null,null,null,null,null,null,null,null,null,null,null,null,null,null,null,null,{"$f":"Graph_Alt!H58","v":"Totaal"},null,null,null,null,{"$f":"Graph_Alt!I58","v":0},null,null,{"$f":"AF118/$M$72","v":{"$error":"#DIV/0!"}}]
[]
[null,null,null,null,null,null,"Milieueffect",null,null,null,null,null,"Hoeveelheid per product",null,null,{"$f":" \"Hoeveelheid per product per \" &  Invul_Alt_Alg!$H$13","v":"Hoeveelheid per product per Leeg"},null,null,"Eenheid",null,null,null,null,{"$f":"Graph_Alt!B62","v":"Einde levensfase"},null,null,{"$f":"Graph_Alt!H62","v":"Leeg"},null,null,null,null,{"$f":"Graph_Alt!I62","v":0},null,null,{"$f":"AF120/$M$72","v":{"$error":"#DIV/0!"}}]
[null,null,null,null,null,null,null,null,null,null,null,null,null,null,null,null,null,null,null,null,null,null,null,null,null,null,{"$f":"Graph_Alt!H63","v":"Leeg"},null,null,null,null,{"$f":"Graph_Alt!I63","v":0},null,null,{"$error":"#DIV/0!"}]
[null,null,null,null,null,null,null,null,null,null,null,null,null,null,null,null,null,null,null,null,null,null,null,null,null,null,{"$f":"Graph_Alt!H64","v":"Leeg"},null,null,null,null,{"$f":"Graph_Alt!I64","v":0},null,null,{"$error":"#DIV/0!"}]
[null,null,null,null,null,null,"Totale milieu-kosten (MKI)",null,null,null,null,null,{"$f":"'Rekensheet NN-Alt'!$E$8","v":0},null,null,{"$f":"M123/Invul_Alt_Alg!$G$13","v":{"$error":"#DIV/0!"}},null,null,"€",null,null,null,null,null,null,null,{"$f":"Graph_Alt!H65","v":"Leeg"},null,null,null,null,{"$f":"Graph_Alt!I65","v":0},null,null,{"$error":"#DIV/0!"}]
[null,null,null,null,null,null,"Uitputting van abiotische stoffen , excl. fossiele brandstoffen",null,null,null,null,null,{"$f":"'Rekensheet NN-Alt'!$F$8","v":0},null,null,{"$f":"M124/Invul_Alt_Alg!$G$13","v":{"$error":"#DIV/0!"}},null,null,"kg Sb eq",null,null,null,null,null,null,null,{"$f":"Graph_Alt!H66","v":"Leeg"},null,null,null,null,{"$f":"Graph_Alt!I66","v":0},null,null,{"$error":"#DIV/0!"}]
[null,null,null,null,null,null,"Uitputting van fossiele brandstoffen",null,null,null,null,null,{"$f":"'Rekensheet NN-Alt'!$G$8","v":0},null,null,{"$f":"M125/Invul_Alt_Alg!$G$13","v":{"$error":"#DIV/0!"}},null,null,"kg Sb eq",null,null,null,null,null,null,null,{"$f":"Graph_Alt!H67","v":"Leeg"},null,null,null,null,{"$f":"Graph_Alt!I67","v":0},null,null,{"$error":"#DIV/0!"}]
[null,null,null,null,null,null,"Klimaatverandering",null,null,null,null,null,{"$f":"'Rekensheet NN-Alt'!$H$8","v":0},null,null,{"$f":"M126/Invul_Alt_Alg!$G$13","v":{"$error":"#DIV/0!"}},null,null,"kg CO2 eq",null,null,null,null,null,null,null,{"$f":"Graph_Alt!H68","v":"Leeg"},null,null,null,null,{"$f":"Graph_Alt!I68","v":0},null,null,{"$error":"#DIV/0!"}]
[null,null,null,null,null,null,"Aantasting van de ozonlaag",null,null,null,null,null,{"$f":"'Rekensheet NN-Alt'!$I$8","v":0},null,null,{"$f":"M127/Invul_Alt_Alg!$G$13","v":{"$error":"#DIV/0!"}},null,null,"kg CFC-11 eq",null,null,null,null,null,null,null,{"$f":"Graph_Alt!H69","v":"Leeg"},null,null,null,null,{"$f":"Graph_Alt!I69","v":0},null,null,{"$error":"#DIV/0!"}]
[null,null,null,null,null,null,"Fotochemische oxidatie (zomersmog)",null,null,null,null,null,{"$f":"'Rekensheet NN-Alt'!$J$8","v":0},null,null,{"$f":"M128/Invul_Alt_Alg!$G$13","v":{"$error":"#DIV/0!"}},null,null,"kg C2H4",null,null,null,null,null,null,null,{"$f":"Graph_Alt!H70","v":"Leeg"},null,null,null,null,{"$f":"Graph_Alt!I70","v":0},null,null,{"$error":"#DIV/0!"}]
[null,null,null,null,null,null,"Verzuring",null,null,null,null,null,{"$f":"'Rekensheet NN-Alt'!$K$8","v":0},null,null,{"$f":"M129/Invul_Alt_Alg!$G$13","v":{"$error":"#DIV/0!"}},null,null,"kg SO2 eq",null,null,null,null,null,null,null,{"$f":"Graph_Alt!H71","v":"Leeg"},null,null,null,null,{"$f":"Graph_Alt!I71","v":0},null,null,{"$error":"#DIV/0!"}]
[null,null,null,null,null,null,"Vermesting",null,null,null,null,null,{"$f":"'Rekensheet NN-Alt'!$L$8","v":0},null,null,{"$f":"M130/Invul_Alt_Alg!$G$13","v":{"$error":"#DIV/0!"}},null,null,"kg PO4 eq",null,null,null,null,null,null,null,{"$f":"Graph_Alt!H72","v":"Leeg"},null,null,null,null,{"$f":"Graph_Alt!I72","v":0},null,null,{"$error":"#DIV/0!"}]
[null,null,null,null,null,null,"Humane toxiciteit",null,null,null,null,null,{"$f":"'Rekensheet NN-Alt'!$M$8","v":0},null,null,{"$f":"M131/Invul_Alt_Alg!$G$13","v":{"$error":"#DIV/0!"}},null,null,"kg 1,4-DB eq",null,null,null,null,null,null,null,{"$f":"Graph_Alt!H73","v":"Leeg"},null,null,null,null,{"$f":"Graph_Alt!I73","v":0},null,null,{"$error":"#DIV/0!"}]
[null,null,null,null,null,null,"Zoetwater ecotoxiciteit",null,null,null,null,null,{"$f":"'Rekensheet NN-Alt'!$N$8","v":0},null,null,{"$f":"M132/Invul_Alt_Alg!$G$13","v":{"$error":"#DIV/0!"}},null,null,"kg 1,4-DB eq",null,null,null,null,null,null,null,{"$f":"Graph_Alt!H74","v":"Leeg"},null,null,null,null,{"$f":"Graph_Alt!I74","v":0},null,null,{"$error":"#DIV/0!"}]
[null,null,null,null,null,null,"Zoutwater ecotoxiciteit",null,null,null,null,null,{"$f":"'Rekensheet NN-Alt'!$O$8","v":0},null,null,{"$f":"M133/Invul_Alt_Alg!$G$13","v":{"$error":"#DIV/0!"}},null,null,"kg 1,4-DB eq",null,null,null,null,null,null,null,{"$f":"Graph_Alt!H75","v":"Leeg"},null,null,null,null,{"$f":"Graph_Alt!I75","v":0},null,null,{"$error":"#DIV/0!"}]
[null,null,null,null,null,null,"Terrestische ecotoxiciteit",null,null,null,null,null,{"$f":"'Rekensheet NN-Alt'!$P$8","v":0},null,null,{"$f":"M134/Invul_Alt_Alg!$G$13","v":{"$error":"#DIV/0!"}},null,null,"kg 1,4-DB eq",null,null,null,null,null,null,null,{"$f":"Graph_Alt!H76","v":"Leeg"},null,null,null,null,{"$f":"Graph_Alt!I76","v":0},null,null,{"$error":"#DIV/0!"}]
[null,null,null,null,null,null,"Hernieuwbaar primair energiegebruik",null,null,null,null,null,{"$f":"'Rekensheet NN-Alt'!$Q$8","v":0},null,null,{"$f":"M135/Invul_Alt_Alg!$G$13","v":{"$error":"#DIV/0!"}},null,null,"MJ",null,null,null,null,null,null,null,{"$f":"Graph_Alt!H77","v":"Leeg"},null,null,null,null,{"$f":"Graph_Alt!I77","v":0},null,null,{"$error":"#DIV/0!"}]
[null,null,null,null,null,null,"Niet-hernieuwbaar primair energiegebruik",null,null,null,null,null,{"$f":"'Rekensheet NN-Alt'!$R$8","v":0},null,null,{"$f":"M136/Invul_Alt_Alg!$G$13","v":{"$error":"#DIV/0!"}},null,null,"MJ",null,null,null,null,null,null,null,{"$f":"Graph_Alt!H78","v":"Leeg"},null,null,null,null,{"$f":"Graph_Alt!I78","v":0},null,null,{"$error":"#DIV/0!"}]
[null,null,null,null,null,null,"Zoetwatergebruik",null,null,null,null,null,{"$f":"'Rekensheet NN-Alt'!$S$8","v":0},null,null,{"$f":"M137/Invul_Alt_Alg!$G$13","v":{"$error":"#DIV/0!"}},null,null,"M3",null,null,null,null,null,null,null,{"$f":"Graph_Alt!H79","v":"Leeg"},null,null,null,null,{"$f":"Graph_Alt!I79","v":0},null,null,{"$error":"#DIV/0!"}]
[null,null,null,null,null,null,"Gevaarlijk afval",null,null,null,null,null,{"$f":"'Rekensheet NN-Alt'!$T$8","v":0},null,null,{"$f":"M138/Invul_Alt_Alg!$G$13","v":{"$error":"#DIV/0!"}},null,null,"kg",null,null,null,null,null,null,null,{"$f":"Graph_Alt!H80","v":"Leeg"},null,null,null,null,{"$f":"Graph_Alt!I80","v":0},null,null,{"$error":"#DIV/0!"}]
[null,null,null,null,null,null,"Niet-gevaarlijk afval",null,null,null,null,null,{"$f":"'Rekensheet NN-Alt'!$U$8","v":0},null,null,{"$f":"M139/Invul_Alt_Alg!$G$13","v":{"$error":"#DIV/0!"}},null,null,"kg",null,null,null,null,null,null,null,{"$f":"Graph_Alt!H81","v":"Leeg"},null,null,null,null,{"$f":"Graph_Alt!I81","v":0},null,null,{"$f":"AF139/$M$72","v":{"$error":"#DIV/0!"}}]
[null,null,null,null,null,null,"Radioactief afval",null,null,null,null,null,{"$f":"'Rekensheet NN-Alt'!$V$8","v":0},null,null,{"$f":"M140/Invul_Alt_Alg!$G$13","v":{"$error":"#DIV/0!"}},null,null,"kg",null,null,null,null,null,null,null,{"$f":"Graph_Alt!H82","v":"Totaal"},null,null,null,null,{"$f":"Graph_Alt!I82","v":0},null,null,{"$f":"AF140/$M$72","v":{"$error":"#DIV/0!"}}]

{"sheet":"Graph_Alt","index":17,"n_rows":85,"n_cols":12,"rows_kept":85,"cut":false,"hidden":true,"merged":[]}
[]
[null,"Voor donut diagram (negatieve EOL MKI's worden afgetrokken vd materialen MKI.)"]
[null,"Materialen",{"$f":"Invul_Alt_Materialen!G12","v":"Leeg"},{"$f":"I3+IF(I62<0,I62,0)","v":0},null,null,null,{"$f":"C3","v":"Leeg"},{"$f":"Invul_Alt_Materialen!U12","v":0}]
[null,"Materialen",{"$f":"Invul_Alt_Materialen!G13","v":"Leeg"},{"$f":"I4+IF(I63<0,I63,0)","v":0},null,null,null,{"$f":"C4","v":"Leeg"},{"$f":"Invul_Alt_Materialen!U13","v":0}]
[null,"Materialen",{"$f":"Invul_Alt_Materialen!G14","v":"Leeg"},0,null,null,null,"Leeg",{"$f":"Invul_Alt_Materialen!U14","v":0}]
[null,"Materialen",{"$f":"Invul_Alt_Materialen!G15","v":"Leeg"},0,null,null,null,"Leeg",{"$f":"Invul_Alt_Materialen!U15","v":0}]
[null,"Materialen",{"$f":"Invul_Alt_Materialen!G16","v":"Leeg"},0,null,null,null,"Leeg",{"$f":"Invul_Alt_Materialen!U16","v":0}]
[null,"Materialen",{"$f":"Invul_Alt_Materialen!G17","v":"Leeg"},0,null,null,null,"Leeg",{"$f":"Invul_Alt_Materialen!U17","v":0}]
[null,"Materialen",{"$f":"Invul_Alt_Materialen!G18","v":"Leeg"},0,null,null,null,"Leeg",{"$f":"Invul_Alt_Materialen!U18","v":0}]
[null,"Materialen",{"$f":"Invul_Alt_Materialen!G19","v":"Leeg"},0,null,null,null,"Leeg",{"$f":"Invul_Alt_Materialen!U19","v":0}]
[null,"Materialen",{"$f":"Invul_Alt_Materialen!G20","v":"Leeg"},0,null,null,null,"Leeg",{"$f":"Invul_Alt_Materialen!U20","v":0}]
[null,"Materialen",{"$f":"Invul_Alt_Materialen!G21","v":"Leeg"},0,null,null,null,"Leeg",{"$f":"Invul_Alt_Materialen!U21","v":0}]
[null,"Materialen",{"$f":"Invul_Alt_Materialen!G22","v":"Leeg"},0,null,null,null,"Leeg",{"$f":"Invul_Alt_Materialen!U22","v":0}]
[null,"Materialen",{"$f":"Invul_Alt_Materialen!G23","v":"Leeg"},0,null,null,null,"Leeg",{"$f":"Invul_Alt_Materialen!U23","v":0}]
[null,"Materialen",{"$f":"Invul_Alt_Materialen!G24","v":"Leeg"},0,null,null,null,"Leeg",{"$f":"Invul_Alt_Materialen!U24","v":0}]
[null,"Materialen",{"$f":"Invul_Alt_Materialen!G25","v":"Leeg"},0,null,null,null,"Leeg",{"$f":"Invul_Alt_Materialen!U25","v":0}]
[null,"Materialen",{"$f":"Invul_Alt_Materialen!G26","v":"Leeg"},0,null,null,null,"Leeg",{"$f":"Invul_Alt_Materialen!U26","v":0}]
[null,"Materialen",{"$f":"Invul_Alt_Materialen!G27","v":"Leeg"},0,null,null,null,"Leeg",{"$f":"Invul_Alt_Materialen!U27","v":0}]
[null,"Materialen",{"$f":"Invul_Alt_Materialen!G28","v":"Leeg"},0,null,null,null,"Leeg",{"$f":"Invul_Alt_Materialen!U28","v":0}]
[null,"Materialen",{"$f":"Invul_Alt_Materialen!G29","v":"Leeg"},0,null,null,null,"Leeg",{"$f":"Invul_Alt_Materialen!U29","v":0}]
[null,"Materialen",{"$f":"Invul_Alt_Materialen!G30","v":"Leeg"},0,null,null,null,"Leeg",{"$f":"Invul_Alt_Materialen!U30","v":0}]
[null,"Materialen",{"$f":"Invul_Alt_Materialen!G31","v":"Leeg"},0,null,null,null,"Leeg",{"$f":"Invul_Alt_Materialen!U31","v":0}]
[null,null,null,null,"Totaal",{"$f":"SUM(D3:D22)","v":0},"Materiaal","Totaal",{"$f":"SUM(I3:I22)","v":0},"Totaal",{"$f":"SUM(I3:I22)","v":0},"Materiaal"]
[]
[]
[]
[]
[]
[null,"Bewerkingen",{"$f":"Invul_Alt_Bewerking!G12","v":"Leeg"},{"$f":"IF(I29<=0,I29*-1,I29)","v":0},null,null,null,{"$f":"C29","v":"Leeg"},{"$f":"Invul_Alt_Bewerking!L12","v":0}]
[null,"Bewerkingen",{"$f":"Invul_Alt_Bewerking!G13","v":"Leeg"},{"$f":"IF(I30<=0,I30*-1,I30)","v":0},null,null,null,{"$f":"C30","v":"Leeg"},{"$f":"Invul_Alt_Bewerking!L13","v":0}]
[null,"Bewerkingen",{"$f":"Invul_Alt_Bewerking!G14","v":"Leeg"},0,null,null,null,"Leeg",{"$f":"Invul_Alt_Bewerking!L14","v":0}]
[null,"Bewerkingen",{"$f":"Invul_Alt_Bewerking!G15","v":"Leeg"},0,null,null,null,"Leeg",{"$f":"Invul_Alt_Bewerking!L15","v":0}]
[null,"Bewerkingen",{"$f":"Invul_Alt_Bewerking!G16","v":"Leeg"},0,null,null,null,"Leeg",{"$f":"Invul_Alt_Bewerking!L16","v":0}]
[null,"Bewerkingen",{"$f":"Invul_Alt_Bewerking!G17","v":"Leeg"},0,null,null,null,"Leeg",{"$f":"Invul_Alt_Bewerking!L17","v":0}]
[null,"Bewerkingen",{"$f":"Invul_Alt_Bewerking!G18","v":"Leeg"},0,null,null,null,"Leeg",{"$f":"Invul_Alt_Bewerking!L18","v":0}]
[null,"Bewerkingen",{"$f":"Invul_Alt_Bewerking!G19","v":"Leeg"},0,null,null,null,{"$f":"C36","v":"Leeg"},{"$f":"Invul_Alt_Bewerking!L19","v":0}]
[null,null,null,null,"Totaal",{"$f":"SUM(D29:D36)","v":0},"Bewerking","Totaal",{"$f":"SUM(I29:I36)","v":0},"Totaal",{"$f":"SUM(I29:I36)","v":0},"Bewerking"]
[]
[]
[]
[null,"Distributie",{"$f":"Invul_Alt_Distributie!F12","v":"Leeg"},{"$f":"IF(I41<=0,I41*-1,I41)","v":0},null,null,null,{"$f":"C41","v":"Leeg"},{"$f":"Invul_Alt_Distributie!U12","v":0}]
[null,"Distributie",{"$f":"Invul_Alt_Distributie!F13","v":"Leeg"},0,null,null,null,"Leeg",{"$f":"Invul_Alt_Distributie!U13","v":0}]
[null,"Distributie",{"$f":"Invul_Alt_Distributie!F14","v":"Leeg"},0,null,null,null,"Leeg",{"$f":"Invul_Alt_Distributie!U14","v":0}]
[null,"Distributie",{"$f":"Invul_Alt_Distributie!F15","v":"Leeg"},0,null,null,null,"Leeg",{"$f":"Invul_Alt_Distributie!U15","v":0}]
[null,"Distributie",{"$f":"Invul_Alt_Distributie!F16","v":"Leeg"},0,null,null,null,"Leeg",{"$f":"Invul_Alt_Distributie!U16","v":0}]
[null,"Distributie",{"$f":"Invul_Alt_Distributie!F17","v":"Leeg"},0,null,null,null,"Leeg",{"$f":"Invul_Alt_Distributie!U17","v":0}]
[null,"Distributie",{"$f":"Invul_Alt_Distributie!F18","v":"Leeg"},0,null,null,null,"Leeg",{"$f":"Invul_Alt_Distributie!U18","v":0}]
[null,"Distributie",{"$f":"Invul_Alt_Distributie!F19","v":"Leeg"},0,null,null,null,"Leeg",{"$f":"Invul_Alt_Distributie!U19","v":0}]
[null,null,null,null,"Totaal",{"$f":"SUM(D41:D48)","v":0},"Distributie","Totaal",{"$f":"SUM(I41:I48)","v":0},"Totaal",{"$f":"SUM(I41:I48)","v":0},"Distributie"]
[]
[]
[]
[]
[null,"Gebruik",{"$f":"Invul_Alt_Gebruik!F12","v":"Leeg"},{"$f":"IF(I54<=0,I54*-1,I54)","v":0},null,null,null,{"$f":"C54","v":"Leeg"},{"$f":"Invul_Alt_Gebruik!K12","v":0}]
[null,"Gebruik",{"$f":"Invul_Alt_Gebruik!F13","v":"Leeg"},{"$f":"IF(I55<=0,I55*-1,I55)","v":0},null,null,null,{"$f":"C55","v":"Leeg"},{"$f":"Invul_Alt_Gebruik!K13","v":0}]
[null,"Gebruik",{"$f":"Invul_Alt_Gebruik!F14","v":"Leeg"},{"$f":"IF(I56<=0,I56*-1,I56)","v":0},null,null,null,{"$f":"C56","v":"Leeg"},{"$f":"Invul_Alt_Gebruik!K14","v":0}]
[null,"Gebruik",{"$f":"Invul_Alt_Gebruik!F15","v":"Leeg"},{"$f":"IF(I57<=0,I57*-1,I57)","v":0},null,null,null,{"$f":"C57","v":"Leeg"},{"$f":"Invul_Alt_Gebruik!K15","v":0}]
[null,null,null,null,"Totaal",{"$f":"SUM(D54:D57)","v":0},"Gebruik","Totaal",{"$f":"SUM(I54:I57)","v":0},"Totaal",{"$f":"SUM(I54:I57)","v":0},"Gebruik"]
[]
[]
[]
[null,"Einde levensfase",{"$f":"Invul_Alt_EindeL!F13","v":"Leeg"},{"$f":"IF(I62<=0,0,I62)","v":0},null,null,null,{"$f":"C62","v":"Leeg"},{"$f":"Invul_Alt_EindeL!U13","v":0}]
[null,"Einde levensfase",{"$f":"Invul_Alt_EindeL!F14","v":"Leeg"},{"$f":"IF(I63<=0,0,I63)","v":0},null,null,null,"Leeg",{"$f":"Invul_Alt_EindeL!U14","v":0}]
[null,"Einde levensfase",{"$f":"Invul_Alt_EindeL!F15","v":"Leeg"},0,null,null,null,"Leeg",{"$f":"Invul_Alt_EindeL!U15","v":0}]
[null,"Einde levensfase",{"$f":"Invul_Alt_EindeL!F16","v":"Leeg"},0,null,null,null,"Leeg",{"$f":"Invul_Alt_EindeL!U16","v":0}]
[null,"Einde levensfase",{"$f":"Invul_Alt_EindeL!F17","v":"Leeg"},0,null,null,null,"Leeg",{"$f":"Invul_Alt_EindeL!U17","v":0}]
[null,"Einde levensfase",{"$f":"Invul_Alt_EindeL!F18","v":"Leeg"},0,null,null,null,"Leeg",{"$f":"Invul_Alt_EindeL!U18","v":0}]
[null,"Einde levensfase",{"$f":"Invul_Alt_EindeL!F19","v":"Leeg"},0,null,null,null,"Leeg",{"$f":"Invul_Alt_EindeL!U19","v":0}]
[null,"Einde levensfase",{"$f":"Invul_Alt_EindeL!F20","v":"Leeg"},0,null,null,null,"Leeg",{"$f":"Invul_Alt_EindeL!U20","v":0}]
[null,"Einde levensfase",{"$f":"Invul_Alt_EindeL!F21","v":"Leeg"},0,null,null,null,"Leeg",{"$f":"Invul_Alt_EindeL!U21","v":0}]
[null,"Einde levensfase",{"$f":"Invul_Alt_EindeL!F22","v":"Leeg"},0,null,null,null,"Leeg",{"$f":"Invul_Alt_EindeL!U22","v":0}]
[null,"Einde levensfase",{"$f":"Invul_Alt_EindeL!F23","v":"Leeg"},0,null,null,null,"Leeg",{"$f":"Invul_Alt_EindeL!U23","v":0}]
[null,"Einde levensfase",{"$f":"Invul_Alt_EindeL!F24","v":"Leeg"},0,null,null,null,"Leeg",{"$f":"Invul_Alt_EindeL!U24","v":0}]
[null,"Einde levensfase",{"$f":"Invul_Alt_EindeL!F25","v":"Leeg"},0,null,null,null,"Leeg",{"$f":"Invul_Alt_EindeL!U25","v":0}]
[null,"Einde levensfase",{"$f":"Invul_Alt_EindeL!F26","v":"Leeg"},0,null,null,null,"Leeg",{"$f":"Invul_Alt_EindeL!U26","v":0}]
[null,"Einde levensfase",{"$f":"Invul_Alt_EindeL!F27","v":"Leeg"},0,null,null,null,"Leeg",{"$f":"Invul_Alt_EindeL!U27","v":0}]
[null,"Einde levensfase",{"$f":"Invul_Alt_EindeL!F28","v":"Leeg"},0,null,null,null,"Leeg",{"$f":"Invul_Alt_EindeL!U28","v":0}]
[null,"Einde levensfase",{"$f":"Invul_Alt_EindeL!F29","v":"Leeg"},0,null,null,null,"Leeg",{"$f":"Invul_Alt_EindeL!U29","v":0}]
[null,"Einde levensfase",{"$f":"Invul_Alt_EindeL!F30","v":"Leeg"},0,null,null,null,"Leeg",{"$f":"Invul_Alt_EindeL!U30","v":0}]
[null,"Einde levensfase",{"$f":"Invul_Alt_EindeL!F31","v":"Leeg"},0,null,null,null,"Leeg",{"$f":"Invul_Alt_EindeL!U31","v":0}]
[null,"Einde levensfase",{"$f":"Invul_Alt_EindeL!F32","v":"Leeg"},0,null,null,null,"Leeg",{"$f":"Invul_Alt_EindeL!U32","v":0}]
[null,null,null,null,"Totaal",{"$f":"SUM(D62:D81)","v":0},"Einde levensfase","Totaal",{"$f":"SUM(I62:I81)","v":0},"Totaal",{"$f":"SUM(I62:I81)","v":0},"Einde levensfase"]
[]
[null,"Voor toelichting grafiek:",null,null,"Grootste",{"$f":"LARGE(F3:F82,1)","v":0},{"$f":"VLOOKUP(F84,F3:G82,2,FALSE)","v":"Materiaal"},null,null,"Grootste",{"$f":"LARGE(K3:K82,1)","v":0},{"$f":"VLOOKUP(K84,K3:L82,2,FALSE)","v":"Materiaal"}]
[null,null,null,null,"2nd grootste",{"$f":"LARGE(F3:F82,2)","v":0},{"$f":"VLOOKUP(F85,F4:G83,2,FALSE)","v":"Materiaal"},null,null,"2nd grootste",{"$f":"LARGE(K3:K82,2)","v":0},{"$f":"VLOOKUP(K85,K4:L83,2,FALSE)","v":"Materiaal"}]

{"sheet":"Rekensheet NN-Alt","index":18,"n_rows":168,"n_cols":22,"rows_kept":168,"cut":false,"hidden":true,"merged":[[187,1,187,5],[11,1,11,3],[35,1,35,3],[47,1,47,3],[58,1,58,3],[66,1,66,3],[188,1,191,1],[188,3,191,3],[188,4,191,4],[192,1,195,1],[192,3,195,3],[192,4,195,4],[203,1,206,1],[203,3,206,3],[203,4,206,4],[196,1,199,1],[196,3,199,3],[196,4,199,4],[200,1,202,1],[200,3,202,3],[200,4,202,4]]}
[]
[]
[]
[]
[]
[]
[null,null,null,null,"Totale milieu-kosten","1 abiotic depletion, non fuel (AD)","2 abiotic depletion, fuel (AD)","4 global warming (GWP)","5 ozone layer depletion (ODP)","6 photochemical oxidation (POCP)","7 acidification (AP)","8 eutrophication (EP)","9 human toxicity (HT)","10 Ecotoxicity, fresh water (FAETP)","12 Ecotoxcity, marine water (MAETP)","14 Ecotoxicity, terrestric (TETP)","101 Energy, primary, renewable (MJ)","102 Energy, primary, non-renewable (MJ)","104 Water, fresh water use (m3)","106 Waste, hazardous (kg)","105 Waste, non hazardous (kg)","107. Waste, radioactive (kg)"]
[null,null,null,null,{"$f":"SUM(E14:E33)+SUM(E38:E45)+SUM(E50:E57)+SUM(E61:E64)+E69+E74+E79+E84+E89+E94+E94+E99+E104+E109+E114+E119+E124+E129+E134+E139+E144+E149+E154+E159+E164","v":0},{"$f":"SUM(F14:F33)+SUM(F38:F45)+SUM(F50:F57)+SUM(F61:F64)+F69+F74+F79+F84+F89+F94+F94+F99+F104+F109+F114+F119+F124+F129+F134+F139+F144+F149+F154+F159+F164","v":0},0,0,0,0,0,0,0,0,0,0,0,0,0,0,0,0]
[]
[]
[null,null,null,null,null,5,6,7,8,9,10,11,12,13,14,15,18,21,25,26,27,28]
[null,"PRODUCTIE MI & MKI",null,null,"Totale milieu-kosten","1 abiotic depletion, non fuel (AD)","2 abiotic depletion, fuel (AD)","4 global warming (GWP)","5 ozone layer depletion (ODP)","6 photochemical oxidation (POCP)","7 acidification (AP)","8 eutrophication (EP)","9 human toxicity (HT)","10 Ecotoxicity, fresh water (FAETP)","12 Ecotoxcity, marine water (MAETP)","14 Ecotoxicity, terrestric (TETP)","101 Energy, primary, renewable (MJ)","102 Energy, primary, non-renewable (MJ)","104 Water, fresh water use (m3)","106 Waste, hazardous (kg)","105 Waste, non hazardous (kg)","107. Waste, radioactive (kg)"]
[null,"Materiaal","Massa (kg)","waarvan secundair\nZelf ingevulde waarden worden niet meegenomen in de MKI / in het milieuprofiel. "," €","kg Sb eq","kg Sb eq","kg CO2 eq","kg CFC-11 eq","kg C2H4","kg SO2 eq","kg PO4--- eq","kg 1,4-DB eq","kg 1,4-DB eq","kg 1,4-DB eq","kg 1,4-DB eq","MJ","MJ","m3","kg","kg","kg"]
[null,{"$f":"Invul_Alt_Materialen!G12","v":"Leeg"},{"$f":"Invul_Alt_Materialen!H12*(IF(B14=\"Leeg\",0,1))","v":0},{"$f":"IF(Invul_Alt_Materialen!I12=\"Standaard\",Invul_Alt_Materialen!J12,Invul_Alt_Materialen!N12)*(IF(B14=\"Leeg\",0,1))","v":0},{"$f":"VLOOKUP(B14,MKI!$B$1:$Z$263,5,FALSE)*C14","v":0},{"$f":"VLOOKUP($B14,'MI materialen'!$B:$AS,5,FALSE)*$C14","v":0},{"$f":"VLOOKUP($B14,'MI materialen'!$B:$AS,6,FALSE)*$C14","v":0},{"$f":"VLOOKUP($B14,'MI materialen'!$B:$AS,7,FALSE)*$C14","v":0},{"$f":"VLOOKUP($B14,'MI materialen'!$B:$AS,8,FALSE)*$C14","v":0},{"$f":"VLOOKUP($B14,'MI materialen'!$B:$AS,9,FALSE)*$C14","v":0},{"$f":"VLOOKUP($B14,'MI materialen'!$B:$AS,10,FALSE)*$C14","v":0},{"$f":"VLOOKUP($B14,'MI materialen'!$B:$AS,11,FALSE)*$C14","v":0},{"$f":"VLOOKUP($B14,'MI materialen'!$B:$AS,12,FALSE)*$C14","v":0},{"$f":"VLOOKUP($B14,'MI materialen'!$B:$AS,13,FALSE)*$C14","v":0},{"$f":"VLOOKUP($B14,'MI materialen'!$B:$AS,14,FALSE)*$C14","v":0},{"$f":"VLOOKUP($B14,'MI materialen'!$B:$AS,15,FALSE)*$C14","v":0},{"$f":"VLOOKUP($B14,'MI materialen'!$B:$AS,18,FALSE)*$C14","v":0},{"$f":"VLOOKUP($B14,'MI materialen'!$B:$AS,21,FALSE)*$C14","v":0},{"$f":"VLOOKUP($B14,'MI materialen'!$B:$AS,25,FALSE)*$C14","v":0},{"$f":"VLOOKUP($B14,'MI materialen'!$B:$AS,26,FALSE)*$C14","v":0},{"$f":"VLOOKUP($B14,'MI materialen'!$B:$AS,27,FALSE)*$C14","v":0},{"$f":"VLOOKUP($B14,'MI materialen'!$B:$AS,28,FALSE)*$C14","v":0}]
[null,{"$f":"Invul_Alt_Materialen!G13","v":"Leeg"},{"$f":"Invul_Alt_Materialen!H13*(IF(B15=\"Leeg\",0,1))","v":0},{"$f":"IF(Invul_Alt_Materialen!I13=\"Standaard\",Invul_Alt_Materialen!J13,Invul_Alt_Materialen!N13)*(IF(B15=\"Leeg\",0,1))","v":0},{"$f":"VLOOKUP(B15,MKI!$B$1:$Z$263,5,FALSE)*C15","v":0},{"$f":"VLOOKUP($B15,'MI materialen'!$B:$AS,5,FALSE)*$C15","v":0},{"$f":"VLOOKUP($B15,'MI materialen'!$B:$AS,6,FALSE)*$C15","v":0},{"$f":"VLOOKUP($B15,'MI materialen'!$B:$AS,7,FALSE)*$C15","v":0},{"$f":"VLOOKUP($B15,'MI materialen'!$B:$AS,8,FALSE)*$C15","v":0},{"$f":"VLOOKUP($B15,'MI materialen'!$B:$AS,9,FALSE)*$C15","v":0},{"$f":"VLOOKUP($B15,'MI materialen'!$B:$AS,10,FALSE)*$C15","v":0},{"$f":"VLOOKUP($B15,'MI materialen'!$B:$AS,11,FALSE)*$C15","v":0},{"$f":"VLOOKUP($B15,'MI materialen'!$B:$AS,12,FALSE)*$C15","v":0},{"$f":"VLOOKUP($B15,'MI materialen'!$B:$AS,13,FALSE)*$C15","v":0},{"$f":"VLOOKUP($B15,'MI materialen'!$B:$AS,14,FALSE)*$C15","v":0},{"$f":"VLOOKUP($B15,'MI materialen'!$B:$AS,15,FALSE)*$C15","v":0},{"$f":"VLOOKUP($B15,'MI materialen'!$B:$AS,18,FALSE)*$C15","v":0},{"$f":"VLOOKUP($B15,'MI materialen'!$B:$AS,21,FALSE)*$C15","v":0},{"$f":"VLOOKUP($B15,'MI materialen'!$B:$AS,25,FALSE)*$C15","v":0},{"$f":"VLOOKUP($B15,'MI materialen'!$B:$AS,26,FALSE)*$C15","v":0},{"$f":"VLOOKUP($B15,'MI materialen'!$B:$AS,27,FALSE)*$C15","v":0},{"$f":"VLOOKUP($B15,'MI materialen'!$B:$AS,28,FALSE)*$C15","v":0}]
[null,{"$f":"Invul_Alt_Materialen!G14","v":"Leeg"},{"$f":"Invul_Alt_Materialen!H14*(IF(B16=\"Leeg\",0,1))","v":0},{"$f":"IF(Invul_Alt_Materialen!I14=\"Standaard\",Invul_Alt_Materialen!J14,Invul_Alt_Materialen!N14)*(IF(B16=\"Leeg\",0,1))","v":0},{"$f":"VLOOKUP(B16,MKI!$B$1:$Z$263,5,FALSE)*C16","v":0},{"$f":"VLOOKUP($B16,'MI materialen'!$B:$AS,5,FALSE)*$C16","v":0},{"$f":"VLOOKUP($B16,'MI materialen'!$B:$AS,6,FALSE)*$C16","v":0},{"$f":"VLOOKUP($B16,'MI materialen'!$B:$AS,7,FALSE)*$C16","v":0},{"$f":"VLOOKUP($B16,'MI materialen'!$B:$AS,8,FALSE)*$C16","v":0},{"$f":"VLOOKUP($B16,'MI materialen'!$B:$AS,9,FALSE)*$C16","v":0},{"$f":"VLOOKUP($B16,'MI materialen'!$B:$AS,10,FALSE)*$C16","v":0},{"$f":"VLOOKUP($B16,'MI materialen'!$B:$AS,11,FALSE)*$C16","v":0},{"$f":"VLOOKUP($B16,'MI materialen'!$B:$AS,12,FALSE)*$C16","v":0},{"$f":"VLOOKUP($B16,'MI materialen'!$B:$AS,13,FALSE)*$C16","v":0},{"$f":"VLOOKUP($B16,'MI materialen'!$B:$AS,14,FALSE)*$C16","v":0},{"$f":"VLOOKUP($B16,'MI materialen'!$B:$AS,15,FALSE)*$C16","v":0},{"$f":"VLOOKUP($B16,'MI materialen'!$B:$AS,18,FALSE)*$C16","v":0},{"$f":"VLOOKUP($B16,'MI materialen'!$B:$AS,21,FALSE)*$C16","v":0},{"$f":"VLOOKUP($B16,'MI materialen'!$B:$AS,25,FALSE)*$C16","v":0},{"$f":"VLOOKUP($B16,'MI materialen'!$B:$AS,26,FALSE)*$C16","v":0},{"$f":"VLOOKUP($B16,'MI materialen'!$B:$AS,27,FALSE)*$C16","v":0},{"$f":"VLOOKUP($B16,'MI materialen'!$B:$AS,28,FALSE)*$C16","v":0}]
[null,{"$f":"Invul_Alt_Materialen!G15","v":"Leeg"},{"$f":"Invul_Alt_Materialen!H15*(IF(B17=\"Leeg\",0,1))","v":0},{"$f":"IF(Invul_Alt_Materialen!I15=\"Standaard\",Invul_Alt_Materialen!J15,Invul_Alt_Materialen!N15)*(IF(B17=\"Leeg\",0,1))","v":0},{"$f":"VLOOKUP(B17,MKI!$B$1:$Z$263,5,FALSE)*C17","v":0},{"$f":"VLOOKUP($B17,'MI materialen'!$B:$AS,5,FALSE)*$C17","v":0},{"$f":"VLOOKUP($B17,'MI materialen'!$B:$AS,6,FALSE)*$C17","v":0},{"$f":"VLOOKUP($B17,'MI materialen'!$B:$AS,7,FALSE)*$C17","v":0},{"$f":"VLOOKUP($B17,'MI materialen'!$B:$AS,8,FALSE)*$C17","v":0},{"$f":"VLOOKUP($B17,'MI materialen'!$B:$AS,9,FALSE)*$C17","v":0},{"$f":"VLOOKUP($B17,'MI materialen'!$B:$AS,10,FALSE)*$C17","v":0},{"$f":"VLOOKUP($B17,'MI materialen'!$B:$AS,11,FALSE)*$C17","v":0},{"$f":"VLOOKUP($B17,'MI materialen'!$B:$AS,12,FALSE)*$C17","v":0},{"$f":"VLOOKUP($B17,'MI materialen'!$B:$AS,13,FALSE)*$C17","v":0},{"$f":"VLOOKUP($B17,'MI materialen'!$B:$AS,14,FALSE)*$C17","v":0},{"$f":"VLOOKUP($B17,'MI materialen'!$B:$AS,15,FALSE)*$C17","v":0},{"$f":"VLOOKUP($B17,'MI materialen'!$B:$AS,18,FALSE)*$C17","v":0},{"$f":"VLOOKUP($B17,'MI materialen'!$B:$AS,21,FALSE)*$C17","v":0},{"$f":"VLOOKUP($B17,'MI materialen'!$B:$AS,25,FALSE)*$C17","v":0},{"$f":"VLOOKUP($B17,'MI materialen'!$B:$AS,26,FALSE)*$C17","v":0},{"$f":"VLOOKUP($B17,'MI materialen'!$B:$AS,27,FALSE)*$C17","v":0},{"$f":"VLOOKUP($B17,'MI materialen'!$B:$AS,28,FALSE)*$C17","v":0}]
[null,{"$f":"Invul_Alt_Materialen!G16","v":"Leeg"},{"$f":"Invul_Alt_Materialen!H16*(IF(B18=\"Leeg\",0,1))","v":0},{"$f":"IF(Invul_Alt_Materialen!I16=\"Standaard\",Invul_Alt_Materialen!J16,Invul_Alt_Materialen!N16)*(IF(B18=\"Leeg\",0,1))","v":0},{"$f":"VLOOKUP(B18,MKI!$B$1:$Z$263,5,FALSE)*C18","v":0},{"$f":"VLOOKUP($B18,'MI materialen'!$B:$AS,5,FALSE)*$C18","v":0},{"$f":"VLOOKUP($B18,'MI materialen'!$B:$AS,6,FALSE)*$C18","v":0},{"$f":"VLOOKUP($B18,'MI materialen'!$B:$AS,7,FALSE)*$C18","v":0},{"$f":"VLOOKUP($B18,'MI materialen'!$B:$AS,8,FALSE)*$C18","v":0},{"$f":"VLOOKUP($B18,'MI materialen'!$B:$AS,9,FALSE)*$C18","v":0},{"$f":"VLOOKUP($B18,'MI materialen'!$B:$AS,10,FALSE)*$C18","v":0},{"$f":"VLOOKUP($B18,'MI materialen'!$B:$AS,11,FALSE)*$C18","v":0},{"$f":"VLOOKUP($B18,'MI materialen'!$B:$AS,12,FALSE)*$C18","v":0},{"$f":"VLOOKUP($B18,'MI materialen'!$B:$AS,13,FALSE)*$C18","v":0},{"$f":"VLOOKUP($B18,'MI materialen'!$B:$AS,14,FALSE)*$C18","v":0},{"$f":"VLOOKUP($B18,'MI materialen'!$B:$AS,15,FALSE)*$C18","v":0},{"$f":"VLOOKUP($B18,'MI materialen'!$B:$AS,18,FALSE)*$C18","v":0},{"$f":"VLOOKUP($B18,'MI materialen'!$B:$AS,21,FALSE)*$C18","v":0},{"$f":"VLOOKUP($B18,'MI materialen'!$B:$AS,25,FALSE)*$C18","v":0},{"$f":"VLOOKUP($B18,'MI materialen'!$B:$AS,26,FALSE)*$C18","v":0},{"$f":"VLOOKUP($B18,'MI materialen'!$B:$AS,27,FALSE)*$C18","v":0},{"$f":"VLOOKUP($B18,'MI materialen'!$B:$AS,28,FALSE)*$C18","v":0}]
[null,{"$f":"Invul_Alt_Materialen!G17","v":"Leeg"},{"$f":"Invul_Alt_Materialen!H17*(IF(B19=\"Leeg\",0,1))","v":0},{"$f":"IF(Invul_Alt_Materialen!I17=\"Standaard\",Invul_Alt_Materialen!J17,Invul_Alt_Materialen!N17)*(IF(B19=\"Leeg\",0,1))","v":0},{"$f":"VLOOKUP(B19,MKI!$B$1:$Z$263,5,FALSE)*C19","v":0},{"$f":"VLOOKUP($B19,'MI materialen'!$B:$AS,5,FALSE)*$C19","v":0},{"$f":"VLOOKUP($B19,'MI materialen'!$B:$AS,6,FALSE)*$C19","v":0},{"$f":"VLOOKUP($B19,'MI materialen'!$B:$AS,7,FALSE)*$C19","v":0},{"$f":"VLOOKUP($B19,'MI materialen'!$B:$AS,8,FALSE)*$C19","v":0},{"$f":"VLOOKUP($B19,'MI materialen'!$B:$AS,9,FALSE)*$C19","v":0},{"$f":"VLOOKUP($B19,'MI materialen'!$B:$AS,10,FALSE)*$C19","v":0},{"$f":"VLOOKUP($B19,'MI materialen'!$B:$AS,11,FALSE)*$C19","v":0},{"$f":"VLOOKUP($B19,'MI materialen'!$B:$AS,12,FALSE)*$C19","v":0},{"$f":"VLOOKUP($B19,'MI materialen'!$B:$AS,13,FALSE)*$C19","v":0},{"$f":"VLOOKUP($B19,'MI materialen'!$B:$AS,14,FALSE)*$C19","v":0},{"$f":"VLOOKUP($B19,'MI materialen'!$B:$AS,15,FALSE)*$C19","v":0},{"$f":"VLOOKUP($B19,'MI materialen'!$B:$AS,18,FALSE)*$C19","v":0},{"$f":"VLOOKUP($B19,'MI materialen'!$B:$AS,21,FALSE)*$C19","v":0},{"$f":"VLOOKUP($B19,'MI materialen'!$B:$AS,25,FALSE)*$C19","v":0},{"$f":"VLOOKUP($B19,'MI materialen'!$B:$AS,26,FALSE)*$C19","v":0},{"$f":"VLOOKUP($B19,'MI materialen'!$B:$AS,27,FALSE)*$C19","v":0},{"$f":"VLOOKUP($B19,'MI materialen'!$B:$AS,28,FALSE)*$C19","v":0}]
[null,{"$f":"Invul_Alt_Materialen!G18","v":"Leeg"},{"$f":"Invul_Alt_Materialen!H18*(IF(B20=\"Leeg\",0,1))","v":0},{"$f":"IF(Invul_Alt_Materialen!I18=\"Standaard\",Invul_Alt_Materialen!J18,Invul_Alt_Materialen!N18)*(IF(B20=\"Leeg\",0,1))","v":0},{"$f":"VLOOKUP(B20,MKI!$B$1:$Z$263,5,FALSE)*C20","v":0},{"$f":"VLOOKUP($B20,'MI materialen'!$B:$AS,5,FALSE)*$C20","v":0},{"$f":"VLOOKUP($B20,'MI materialen'!$B:$AS,6,FALSE)*$C20","v":0},{"$f":"VLOOKUP($B20,'MI materialen'!$B:$AS,7,FALSE)*$C20","v":0},{"$f":"VLOOKUP($B20,'MI materialen'!$B:$AS,8,FALSE)*$C20","v":0},{"$f":"VLOOKUP($B20,'MI materialen'!$B:$AS,9,FALSE)*$C20","v":0},{"$f":"VLOOKUP($B20,'MI materialen'!$B:$AS,10,FALSE)*$C20","v":0},{"$f":"VLOOKUP($B20,'MI materialen'!$B:$AS,11,FALSE)*$C20","v":0},{"$f":"VLOOKUP($B20,'MI materialen'!$B:$AS,12,FALSE)*$C20","v":0},{"$f":"VLOOKUP($B20,'MI materialen'!$B:$AS,13,FALSE)*$C20","v":0},{"$f":"VLOOKUP($B20,'MI materialen'!$B:$AS,14,FALSE)*$C20","v":0},{"$f":"VLOOKUP($B20,'MI materialen'!$B:$AS,15,FALSE)*$C20","v":0},{"$f":"VLOOKUP($B20,'MI materialen'!$B:$AS,18,FALSE)*$C20","v":0},{"$f":"VLOOKUP($B20,'MI materialen'!$B:$AS,21,FALSE)*$C20","v":0},{"$f":"VLOOKUP($B20,'MI materialen'!$B:$AS,25,FALSE)*$C20","v":0},{"$f":"VLOOKUP($B20,'MI materialen'!$B:$AS,26,FALSE)*$C20","v":0},{"$f":"VLOOKUP($B20,'MI materialen'!$B:$AS,27,FALSE)*$C20","v":0},{"$f":"VLOOKUP($B20,'MI materialen'!$B:$AS,28,FALSE)*$C20","v":0}]
[null,{"$f":"Invul_Alt_Materialen!G19","v":"Leeg"},{"$f":"Invul_Alt_Materialen!H19*(IF(B21=\"Leeg\",0,1))","v":0},{"$f":"IF(Invul_Alt_Materialen!I19=\"Standaard\",Invul_Alt_Materialen!J19,Invul_Alt_Materialen!N19)*(IF(B21=\"Leeg\",0,1))","v":0},{"$f":"VLOOKUP(B21,MKI!$B$1:$Z$263,5,FALSE)*C21","v":0},{"$f":"VLOOKUP($B21,'MI materialen'!$B:$AS,5,FALSE)*$C21","v":0},{"$f":"VLOOKUP($B21,'MI materialen'!$B:$AS,6,FALSE)*$C21","v":0},{"$f":"VLOOKUP($B21,'MI materialen'!$B:$AS,7,FALSE)*$C21","v":0},{"$f":"VLOOKUP($B21,'MI materialen'!$B:$AS,8,FALSE)*$C21","v":0},{"$f":"VLOOKUP($B21,'MI materialen'!$B:$AS,9,FALSE)*$C21","v":0},{"$f":"VLOOKUP($B21,'MI materialen'!$B:$AS,10,FALSE)*$C21","v":0},{"$f":"VLOOKUP($B21,'MI materialen'!$B:$AS,11,FALSE)*$C21","v":0},{"$f":"VLOOKUP($B21,'MI materialen'!$B:$AS,12,FALSE)*$C21","v":0},{"$f":"VLOOKUP($B21,'MI materialen'!$B:$AS,13,FALSE)*$C21","v":0},{"$f":"VLOOKUP($B21,'MI materialen'!$B:$AS,14,FALSE)*$C21","v":0},{"$f":"VLOOKUP($B21,'MI materialen'!$B:$AS,15,FALSE)*$C21","v":0},{"$f":"VLOOKUP($B21,'MI materialen'!$B:$AS,18,FALSE)*$C21","v":0},{"$f":"VLOOKUP($B21,'MI materialen'!$B:$AS,21,FALSE)*$C21","v":0},{"$f":"VLOOKUP($B21,'MI materialen'!$B:$AS,25,FALSE)*$C21","v":0},{"$f":"VLOOKUP($B21,'MI materialen'!$B:$AS,26,FALSE)*$C21","v":0},{"$f":"VLOOKUP($B21,'MI materialen'!$B:$AS,27,FALSE)*$C21","v":0},{"$f":"VLOOKUP($B21,'MI materialen'!$B:$AS,28,FALSE)*$C21","v":0}]
[null,{"$f":"Invul_Alt_Materialen!G20","v":"Leeg"},{"$f":"Invul_Alt_Materialen!H20*(IF(B22=\"Leeg\",0,1))","v":0},{"$f":"IF(Invul_Alt_Materialen!I20=\"Standaard\",Invul_Alt_Materialen!J20,Invul_Alt_Materialen!N20)*(IF(B22=\"Leeg\",0,1))","v":0},{"$f":"VLOOKUP(B22,MKI!$B$1:$Z$263,5,FALSE)*C22","v":0},{"$f":"VLOOKUP($B22,'MI materialen'!$B:$AS,5,FALSE)*$C22","v":0},{"$f":"VLOOKUP($B22,'MI materialen'!$B:$AS,6,FALSE)*$C22","v":0},{"$f":"VLOOKUP($B22,'MI materialen'!$B:$AS,7,FALSE)*$C22","v":0},{"$f":"VLOOKUP($B22,'MI materialen'!$B:$AS,8,FALSE)*$C22","v":0},{"$f":"VLOOKUP($B22,'MI materialen'!$B:$AS,9,FALSE)*$C22","v":0},{"$f":"VLOOKUP($B22,'MI materialen'!$B:$AS,10,FALSE)*$C22","v":0},{"$f":"VLOOKUP($B22,'MI materialen'!$B:$AS,11,FALSE)*$C22","v":0},{"$f":"VLOOKUP($B22,'MI materialen'!$B:$AS,12,FALSE)*$C22","v":0},{"$f":"VLOOKUP($B22,'MI materialen'!$B:$AS,13,FALSE)*$C22","v":0},{"$f":"VLOOKUP($B22,'MI materialen'!$B:$AS,14,FALSE)*$C22","v":0},{"$f":"VLOOKUP($B22,'MI materialen'!$B:$AS,15,FALSE)*$C22","v":0},{"$f":"VLOOKUP($B22,'MI materialen'!$B:$AS,18,FALSE)*$C22","v":0},{"$f":"VLOOKUP($B22,'MI materialen'!$B:$AS,21,FALSE)*$C22","v":0},{"$f":"VLOOKUP($B22,'MI materialen'!$B:$AS,25,FALSE)*$C22","v":0},{"$f":"VLOOKUP($B22,'MI materialen'!$B:$AS,26,FALSE)*$C22","v":0},{"$f":"VLOOKUP($B22,'MI materialen'!$B:$AS,27,FALSE)*$C22","v":0},{"$f":"VLOOKUP($B22,'MI materialen'!$B:$AS,28,FALSE)*$C22","v":0}]
[null,{"$f":"Invul_Alt_Materialen!G21","v":"Leeg"},{"$f":"Invul_Alt_Materialen!H21*(IF(B23=\"Leeg\",0,1))","v":0},{"$f":"IF(Invul_Alt_Materialen!I21=\"Standaard\",Invul_Alt_Materialen!J21,Invul_Alt_Materialen!N21)*(IF(B23=\"Leeg\",0,1))","v":0},{"$f":"VLOOKUP(B23,MKI!$B$1:$Z$263,5,FALSE)*C23","v":0},{"$f":"VLOOKUP($B23,'MI materialen'!$B:$AS,5,FALSE)*$C23","v":0},{"$f":"VLOOKUP($B23,'MI materialen'!$B:$AS,6,FALSE)*$C23","v":0},{"$f":"VLOOKUP($B23,'MI materialen'!$B:$AS,7,FALSE)*$C23","v":0},{"$f":"VLOOKUP($B23,'MI materialen'!$B:$AS,8,FALSE)*$C23","v":0},{"$f":"VLOOKUP($B23,'MI materialen'!$B:$AS,9,FALSE)*$C23","v":0},{"$f":"VLOOKUP($B23,'MI materialen'!$B:$AS,10,FALSE)*$C23","v":0},{"$f":"VLOOKUP($B23,'MI materialen'!$B:$AS,11,FALSE)*$C23","v":0},{"$f":"VLOOKUP($B23,'MI materialen'!$B:$AS,12,FALSE)*$C23","v":0},{"$f":"VLOOKUP($B23,'MI materialen'!$B:$AS,13,FALSE)*$C23","v":0},{"$f":"VLOOKUP($B23,'MI materialen'!$B:$AS,14,FALSE)*$C23","v":0},{"$f":"VLOOKUP($B23,'MI materialen'!$B:$AS,15,FALSE)*$C23","v":0},{"$f":"VLOOKUP($B23,'MI materialen'!$B:$AS,18,FALSE)*$C23","v":0},{"$f":"VLOOKUP($B23,'MI materialen'!$B:$AS,21,FALSE)*$C23","v":0},{"$f":"VLOOKUP($B23,'MI materialen'!$B:$AS,25,FALSE)*$C23","v":0},{"$f":"VLOOKUP($B23,'MI materialen'!$B:$AS,26,FALSE)*$C23","v":0},{"$f":"VLOOKUP($B23,'MI materialen'!$B:$AS,27,FALSE)*$C23","v":0},{"$f":"VLOOKUP($B23,'MI materialen'!$B:$AS,28,FALSE)*$C23","v":0}]
[null,{"$f":"Invul_Alt_Materialen!G22","v":"Leeg"},{"$f":"Invul_Alt_Materialen!H22*(IF(B24=\"Leeg\",0,1))","v":0},{"$f":"IF(Invul_Alt_Materialen!I22=\"Standaard\",Invul_Alt_Materialen!J22,Invul_Alt_Materialen!N22)*(IF(B24=\"Leeg\",0,1))","v":0},{"$f":"VLOOKUP(B24,MKI!$B$1:$Z$263,5,FALSE)*C24","v":0},{"$f":"VLOOKUP($B24,'MI materialen'!$B:$AS,5,FALSE)*$C24","v":0},{"$f":"VLOOKUP($B24,'MI materialen'!$B:$AS,6,FALSE)*$C24","v":0},{"$f":"VLOOKUP($B24,'MI materialen'!$B:$AS,7,FALSE)*$C24","v":0},{"$f":"VLOOKUP($B24,'MI materialen'!$B:$AS,8,FALSE)*$C24","v":0},{"$f":"VLOOKUP($B24,'MI materialen'!$B:$AS,9,FALSE)*$C24","v":0},{"$f":"VLOOKUP($B24,'MI materialen'!$B:$AS,10,FALSE)*$C24","v":0},{"$f":"VLOOKUP($B24,'MI materialen'!$B:$AS,11,FALSE)*$C24","v":0},{"$f":"VLOOKUP($B24,'MI materialen'!$B:$AS,12,FALSE)*$C24","v":0},{"$f":"VLOOKUP($B24,'MI materialen'!$B:$AS,13,FALSE)*$C24","v":0},{"$f":"VLOOKUP($B24,'MI materialen'!$B:$AS,14,FALSE)*$C24","v":0},{"$f":"VLOOKUP($B24,'MI materialen'!$B:$AS,15,FALSE)*$C24","v":0},{"$f":"VLOOKUP($B24,'MI materialen'!$B:$AS,18,FALSE)*$C24","v":0},{"$f":"VLOOKUP($B24,'MI materialen'!$B:$AS,21,FALSE)*$C24","v":0},{"$f":"VLOOKUP($B24,'MI materialen'!$B:$AS,25,FALSE)*$C24","v":0},{"$f":"VLOOKUP($B24,'MI materialen'!$B:$AS,26,FALSE)*$C24","v":0},{"$f":"VLOOKUP($B24,'MI materialen'!$B:$AS,27,FALSE)*$C24","v":0},{"$f":"VLOOKUP($B24,'MI materialen'!$B:$AS,28,FALSE)*$C24","v":0}]
[null,{"$f":"Invul_Alt_Materialen!G23","v":"Leeg"},{"$f":"Invul_Alt_Materialen!H23*(IF(B25=\"Leeg\",0,1))","v":0},{"$f":"IF(Invul_Alt_Materialen!I23=\"Standaard\",Invul_Alt_Materialen!J23,Invul_Alt_Materialen!N23)*(IF(B25=\"Leeg\",0,1))","v":0},{"$f":"VLOOKUP(B25,MKI!$B$1:$Z$263,5,FALSE)*C25","v":0},{"$f":"VLOOKUP($B25,'MI materialen'!$B:$AS,5,FALSE)*$C25","v":0},{"$f":"VLOOKUP($B25,'MI materialen'!$B:$AS,6,FALSE)*$C25","v":0},{"$f":"VLOOKUP($B25,'MI materialen'!$B:$AS,7,FALSE)*$C25","v":0},{"$f":"VLOOKUP($B25,'MI materialen'!$B:$AS,8,FALSE)*$C25","v":0},{"$f":"VLOOKUP($B25,'MI materialen'!$B:$AS,9,FALSE)*$C25","v":0},{"$f":"VLOOKUP($B25,'MI materialen'!$B:$AS,10,FALSE)*$C25","v":0},{"$f":"VLOOKUP($B25,'MI materialen'!$B:$AS,11,FALSE)*$C25","v":0},{"$f":"VLOOKUP($B25,'MI materialen'!$B:$AS,12,FALSE)*$C25","v":0},{"$f":"VLOOKUP($B25,'MI materialen'!$B:$AS,13,FALSE)*$C25","v":0},{"$f":"VLOOKUP($B25,'MI materialen'!$B:$AS,14,FALSE)*$C25","v":0},{"$f":"VLOOKUP($B25,'MI materialen'!$B:$AS,15,FALSE)*$C25","v":0},{"$f":"VLOOKUP($B25,'MI materialen'!$B:$AS,18,FALSE)*$C25","v":0},{"$f":"VLOOKUP($B25,'MI materialen'!$B:$AS,21,FALSE)*$C25","v":0},{"$f":"VLOOKUP($B25,'MI materialen'!$B:$AS,25,FALSE)*$C25","v":0},{"$f":"VLOOKUP($B25,'MI materialen'!$B:$AS,26,FALSE)*$C25","v":0},{"$f":"VLOOKUP($B25,'MI materialen'!$B:$AS,27,FALSE)*$C25","v":0},{"$f":"VLOOKUP($B25,'MI materialen'!$B:$AS,28,FALSE)*$C25","v":0}]
[null,{"$f":"Invul_Alt_Materialen!G24","v":"Leeg"},{"$f":"Invul_Alt_Materialen!H24*(IF(B26=\"Leeg\",0,1))","v":0},{"$f":"IF(Invul_Alt_Materialen!I24=\"Standaard\",Invul_Alt_Materialen!J24,Invul_Alt_Materialen!N24)*(IF(B26=\"Leeg\",0,1))","v":0},{"$f":"VLOOKUP(B26,MKI!$B$1:$Z$263,5,FALSE)*C26","v":0},{"$f":"VLOOKUP($B26,'MI materialen'!$B:$AS,5,FALSE)*$C26","v":0},{"$f":"VLOOKUP($B26,'MI materialen'!$B:$AS,6,FALSE)*$C26","v":0},{"$f":"VLOOKUP($B26,'MI materialen'!$B:$AS,7,FALSE)*$C26","v":0},{"$f":"VLOOKUP($B26,'MI materialen'!$B:$AS,8,FALSE)*$C26","v":0},{"$f":"VLOOKUP($B26,'MI materialen'!$B:$AS,9,FALSE)*$C26","v":0},{"$f":"VLOOKUP($B26,'MI materialen'!$B:$AS,10,FALSE)*$C26","v":0},{"$f":"VLOOKUP($B26,'MI materialen'!$B:$AS,11,FALSE)*$C26","v":0},{"$f":"VLOOKUP($B26,'MI materialen'!$B:$AS,12,FALSE)*$C26","v":0},{"$f":"VLOOKUP($B26,'MI materialen'!$B:$AS,13,FALSE)*$C26","v":0},{"$f":"VLOOKUP($B26,'MI materialen'!$B:$AS,14,FALSE)*$C26","v":0},{"$f":"VLOOKUP($B26,'MI materialen'!$B:$AS,15,FALSE)*$C26","v":0},{"$f":"VLOOKUP($B26,'MI materialen'!$B:$AS,18,FALSE)*$C26","v":0},{"$f":"VLOOKUP($B26,'MI materialen'!$B:$AS,21,FALSE)*$C26","v":0},{"$f":"VLOOKUP($B26,'MI materialen'!$B:$AS,25,FALSE)*$C26","v":0},{"$f":"VLOOKUP($B26,'MI materialen'!$B:$AS,26,FALSE)*$C26","v":0},{"$f":"VLOOKUP($B26,'MI materialen'!$B:$AS,27,FALSE)*$C26","v":0},{"$f":"VLOOKUP($B26,'MI materialen'!$B:$AS,28,FALSE)*$C26","v":0}]
[null,{"$f":"Invul_Alt_Materialen!G25","v":"Leeg"},{"$f":"Invul_Alt_Materialen!H25*(IF(B27=\"Leeg\",0,1))","v":0},{"$f":"IF(Invul_Alt_Materialen!I25=\"Standaard\",Invul_Alt_Materialen!J25,Invul_Alt_Materialen!N25)*(IF(B27=\"Leeg\",0,1))","v":0},{"$f":"VLOOKUP(B27,MKI!$B$1:$Z$263,5,FALSE)*C27","v":0},{"$f":"VLOOKUP($B27,'MI materialen'!$B:$AS,5,FALSE)*$C27","v":0},{"$f":"VLOOKUP($B27,'MI materialen'!$B:$AS,6,FALSE)*$C27","v":0},{"$f":"VLOOKUP($B27,'MI materialen'!$B:$AS,7,FALSE)*$C27","v":0},{"$f":"VLOOKUP($B27,'MI materialen'!$B:$AS,8,FALSE)*$C27","v":0},{"$f":"VLOOKUP($B27,'MI materialen'!$B:$AS,9,FALSE)*$C27","v":0},{"$f":"VLOOKUP($B27,'MI materialen'!$B:$AS,10,FALSE)*$C27","v":0},{"$f":"VLOOKUP($B27,'MI materialen'!$B:$AS,11,FALSE)*$C27","v":0},{"$f":"VLOOKUP($B27,'MI materialen'!$B:$AS,12,FALSE)*$C27","v":0},{"$f":"VLOOKUP($B27,'MI materialen'!$B:$AS,13,FALSE)*$C27","v":0},{"$f":"VLOOKUP($B27,'MI materialen'!$B:$AS,14,FALSE)*$C27","v":0},{"$f":"VLOOKUP($B27,'MI materialen'!$B:$AS,15,FALSE)*$C27","v":0},{"$f":"VLOOKUP($B27,'MI materialen'!$B:$AS,18,FALSE)*$C27","v":0},{"$f":"VLOOKUP($B27,'MI materialen'!$B:$AS,21,FALSE)*$C27","v":0},{"$f":"VLOOKUP($B27,'MI materialen'!$B:$AS,25,FALSE)*$C27","v":0},{"$f":"VLOOKUP($B27,'MI materialen'!$B:$AS,26,FALSE)*$C27","v":0},{"$f":"VLOOKUP($B27,'MI materialen'!$B:$AS,27,FALSE)*$C27","v":0},{"$f":"VLOOKUP($B27,'MI materialen'!$B:$AS,28,FALSE)*$C27","v":0}]
[null,{"$f":"Invul_Alt_Materialen!G26","v":"Leeg"},{"$f":"Invul_Alt_Materialen!H26*(IF(B28=\"Leeg\",0,1))","v":0},{"$f":"IF(Invul_Alt_Materialen!I26=\"Standaard\",Invul_Alt_Materialen!J26,Invul_Alt_Materialen!N26)*(IF(B28=\"Leeg\",0,1))","v":0},{"$f":"VLOOKUP(B28,MKI!$B$1:$Z$263,5,FALSE)*C28","v":0},{"$f":"VLOOKUP($B28,'MI materialen'!$B:$AS,5,FALSE)*$C28","v":0},{"$f":"VLOOKUP($B28,'MI materialen'!$B:$AS,6,FALSE)*$C28","v":0},{"$f":"VLOOKUP($B28,'MI materialen'!$B:$AS,7,FALSE)*$C28","v":0},{"$f":"VLOOKUP($B28,'MI materialen'!$B:$AS,8,FALSE)*$C28","v":0},{"$f":"VLOOKUP($B28,'MI materialen'!$B:$AS,9,FALSE)*$C28","v":0},{"$f":"VLOOKUP($B28,'MI materialen'!$B:$AS,10,FALSE)*$C28","v":0},{"$f":"VLOOKUP($B28,'MI materialen'!$B:$AS,11,FALSE)*$C28","v":0},{"$f":"VLOOKUP($B28,'MI materialen'!$B:$AS,12,FALSE)*$C28","v":0},{"$f":"VLOOKUP($B28,'MI materialen'!$B:$AS,13,FALSE)*$C28","v":0},{"$f":"VLOOKUP($B28,'MI materialen'!$B:$AS,14,FALSE)*$C28","v":0},{"$f":"VLOOKUP($B28,'MI materialen'!$B:$AS,15,FALSE)*$C28","v":0},{"$f":"VLOOKUP($B28,'MI materialen'!$B:$AS,18,FALSE)*$C28","v":0},{"$f":"VLOOKUP($B28,'MI materialen'!$B:$AS,21,FALSE)*$C28","v":0},{"$f":"VLOOKUP($B28,'MI materialen'!$B:$AS,25,FALSE)*$C28","v":0},{"$f":"VLOOKUP($B28,'MI materialen'!$B:$AS,26,FALSE)*$C28","v":0},{"$f":"VLOOKUP($B28,'MI materialen'!$B:$AS,27,FALSE)*$C28","v":0},{"$f":"VLOOKUP($B28,'MI materialen'!$B:$AS,28,FALSE)*$C28","v":0}]
[null,{"$f":"Invul_Alt_Materialen!G27","v":"Leeg"},{"$f":"Invul_Alt_Materialen!H27*(IF(B29=\"Leeg\",0,1))","v":0},{"$f":"IF(Invul_Alt_Materialen!I27=\"Standaard\",Invul_Alt_Materialen!J27,Invul_Alt_Materialen!N27)*(IF(B29=\"Leeg\",0,1))","v":0},{"$f":"VLOOKUP(B29,MKI!$B$1:$Z$263,5,FALSE)*C29","v":0},{"$f":"VLOOKUP($B29,'MI materialen'!$B:$AS,5,FALSE)*$C29","v":0},{"$f":"VLOOKUP($B29,'MI materialen'!$B:$AS,6,FALSE)*$C29","v":0},{"$f":"VLOOKUP($B29,'MI materialen'!$B:$AS,7,FALSE)*$C29","v":0},{"$f":"VLOOKUP($B29,'MI materialen'!$B:$AS,8,FALSE)*$C29","v":0},{"$f":"VLOOKUP($B29,'MI materialen'!$B:$AS,9,FALSE)*$C29","v":0},{"$f":"VLOOKUP($B29,'MI materialen'!$B:$AS,10,FALSE)*$C29","v":0},{"$f":"VLOOKUP($B29,'MI materialen'!$B:$AS,11,FALSE)*$C29","v":0},{"$f":"VLOOKUP($B29,'MI materialen'!$B:$AS,12,FALSE)*$C29","v":0},{"$f":"VLOOKUP($B29,'MI materialen'!$B:$AS,13,FALSE)*$C29","v":0},{"$f":"VLOOKUP($B29,'MI materialen'!$B:$AS,14,FALSE)*$C29","v":0},{"$f":"VLOOKUP($B29,'MI materialen'!$B:$AS,15,FALSE)*$C29","v":0},{"$f":"VLOOKUP($B29,'MI materialen'!$B:$AS,18,FALSE)*$C29","v":0},{"$f":"VLOOKUP($B29,'MI materialen'!$B:$AS,21,FALSE)*$C29","v":0},{"$f":"VLOOKUP($B29,'MI materialen'!$B:$AS,25,FALSE)*$C29","v":0},{"$f":"VLOOKUP($B29,'MI materialen'!$B:$AS,26,FALSE)*$C29","v":0},{"$f":"VLOOKUP($B29,'MI materialen'!$B:$AS,27,FALSE)*$C29","v":0},{"$f":"VLOOKUP($B29,'MI materialen'!$B:$AS,28,FALSE)*$C29","v":0}]
[null,{"$f":"Invul_Alt_Materialen!G28","v":"Leeg"},{"$f":"Invul_Alt_Materialen!H28*(IF(B30=\"Leeg\",0,1))","v":0},{"$f":"IF(Invul_Alt_Materialen!I28=\"Standaard\",Invul_Alt_Materialen!J28,Invul_Alt_Materialen!N28)*(IF(B30=\"Leeg\",0,1))","v":0},{"$f":"VLOOKUP(B30,MKI!$B$1:$Z$263,5,FALSE)*C30","v":0},{"$f":"VLOOKUP($B30,'MI materialen'!$B:$AS,5,FALSE)*$C30","v":0},{"$f":"VLOOKUP($B30,'MI materialen'!$B:$AS,6,FALSE)*$C30","v":0},{"$f":"VLOOKUP($B30,'MI materialen'!$B:$AS,7,FALSE)*$C30","v":0},{"$f":"VLOOKUP($B30,'MI materialen'!$B:$AS,8,FALSE)*$C30","v":0},{"$f":"VLOOKUP($B30,'MI materialen'!$B:$AS,9,FALSE)*$C30","v":0},{"$f":"VLOOKUP($B30,'MI materialen'!$B:$AS,10,FALSE)*$C30","v":0},{"$f":"VLOOKUP($B30,'MI materialen'!$B:$AS,11,FALSE)*$C30","v":0},{"$f":"VLOOKUP($B30,'MI materialen'!$B:$AS,12,FALSE)*$C30","v":0},{"$f":"VLOOKUP($B30,'MI materialen'!$B:$AS,13,FALSE)*$C30","v":0},{"$f":"VLOOKUP($B30,'MI materialen'!$B:$AS,14,FALSE)*$C30","v":0},{"$f":"VLOOKUP($B30,'MI materialen'!$B:$AS,15,FALSE)*$C30","v":0},{"$f":"VLOOKUP($B30,'MI materialen'!$B:$AS,18,FALSE)*$C30","v":0},{"$f":"VLOOKUP($B30,'MI materialen'!$B:$AS,21,FALSE)*$C30","v":0},{"$f":"VLOOKUP($B30,'MI materialen'!$B:$AS,25,FALSE)*$C30","v":0},{"$f":"VLOOKUP($B30,'MI materialen'!$B:$AS,26,FALSE)*$C30","v":0},{"$f":"VLOOKUP($B30,'MI materialen'!$B:$AS,27,FALSE)*$C30","v":0},{"$f":"VLOOKUP($B30,'MI materialen'!$B:$AS,28,FALSE)*$C30","v":0}]
[null,{"$f":"Invul_Alt_Materialen!G29","v":"Leeg"},{"$f":"Invul_Alt_Materialen!H29*(IF(B31=\"Leeg\",0,1))","v":0},{"$f":"IF(Invul_Alt_Materialen!I29=\"Standaard\",Invul_Alt_Materialen!J29,Invul_Alt_Materialen!N29)*(IF(B31=\"Leeg\",0,1))","v":0},{"$f":"VLOOKUP(B31,MKI!$B$1:$Z$263,5,FALSE)*C31","v":0},{"$f":"VLOOKUP($B31,'MI materialen'!$B:$AS,5,FALSE)*$C31","v":0},{"$f":"VLOOKUP($B31,'MI materialen'!$B:$AS,6,FALSE)*$C31","v":0},{"$f":"VLOOKUP($B31,'MI materialen'!$B:$AS,7,FALSE)*$C31","v":0},{"$f":"VLOOKUP($B31,'MI materialen'!$B:$AS,8,FALSE)*$C31","v":0},{"$f":"VLOOKUP($B31,'MI materialen'!$B:$AS,9,FALSE)*$C31","v":0},{"$f":"VLOOKUP($B31,'MI materialen'!$B:$AS,10,FALSE)*$C31","v":0},{"$f":"VLOOKUP($B31,'MI materialen'!$B:$AS,11,FALSE)*$C31","v":0},{"$f":"VLOOKUP($B31,'MI materialen'!$B:$AS,12,FALSE)*$C31","v":0},{"$f":"VLOOKUP($B31,'MI materialen'!$B:$AS,13,FALSE)*$C31","v":0},{"$f":"VLOOKUP($B31,'MI materialen'!$B:$AS,14,FALSE)*$C31","v":0},{"$f":"VLOOKUP($B31,'MI materialen'!$B:$AS,15,FALSE)*$C31","v":0},{"$f":"VLOOKUP($B31,'MI materialen'!$B:$AS,18,FALSE)*$C31","v":0},{"$f":"VLOOKUP($B31,'MI materialen'!$B:$AS,21,FALSE)*$C31","v":0},{"$f":"VLOOKUP($B31,'MI materialen'!$B:$AS,25,FALSE)*$C31","v":0},{"$f":"VLOOKUP($B31,'MI materialen'!$B:$AS,26,FALSE)*$C31","v":0},{"$f":"VLOOKUP($B31,'MI materialen'!$B:$AS,27,FALSE)*$C31","v":0},{"$f":"VLOOKUP($B31,'MI materialen'!$B:$AS,28,FALSE)*$C31","v":0}]
[null,{"$f":"Invul_Alt_Materialen!G30","v":"Leeg"},{"$f":"Invul_Alt_Materialen!H30*(IF(B32=\"Leeg\",0,1))","v":0},{"$f":"IF(Invul_Alt_Materialen!I30=\"Standaard\",Invul_Alt_Materialen!J30,Invul_Alt_Materialen!N30)*(IF(B32=\"Leeg\",0,1))","v":0},{"$f":"VLOOKUP(B32,MKI!$B$1:$Z$263,5,FALSE)*C32","v":0},{"$f":"VLOOKUP($B32,'MI materialen'!$B:$AS,5,FALSE)*$C32","v":0},{"$f":"VLOOKUP($B32,'MI materialen'!$B:$AS,6,FALSE)*$C32","v":0},{"$f":"VLOOKUP($B32,'MI materialen'!$B:$AS,7,FALSE)*$C32","v":0},{"$f":"VLOOKUP($B32,'MI materialen'!$B:$AS,8,FALSE)*$C32","v":0},{"$f":"VLOOKUP($B32,'MI materialen'!$B:$AS,9,FALSE)*$C32","v":0},{"$f":"VLOOKUP($B32,'MI materialen'!$B:$AS,10,FALSE)*$C32","v":0},{"$f":"VLOOKUP($B32,'MI materialen'!$B:$AS,11,FALSE)*$C32","v":0},{"$f":"VLOOKUP($B32,'MI materialen'!$B:$AS,12,FALSE)*$C32","v":0},{"$f":"VLOOKUP($B32,'MI materialen'!$B:$AS,13,FALSE)*$C32","v":0},{"$f":"VLOOKUP($B32,'MI materialen'!$B:$AS,14,FALSE)*$C32","v":0},{"$f":"VLOOKUP($B32,'MI materialen'!$B:$AS,15,FALSE)*$C32","v":0},{"$f":"VLOOKUP($B32,'MI materialen'!$B:$AS,18,FALSE)*$C32","v":0},{"$f":"VLOOKUP($B32,'MI materialen'!$B:$AS,21,FALSE)*$C32","v":0},{"$f":"VLOOKUP($B32,'MI materialen'!$B:$AS,25,FALSE)*$C32","v":0},{"$f":"VLOOKUP($B32,'MI materialen'!$B:$AS,26,FALSE)*$C32","v":0},{"$f":"VLOOKUP($B32,'MI materialen'!$B:$AS,27,FALSE)*$C32","v":0},{"$f":"VLOOKUP($B32,'MI materialen'!$B:$AS,28,FALSE)*$C32","v":0}]
[null,{"$f":"Invul_Alt_Materialen!G31","v":"Leeg"},{"$f":"Invul_Alt_Materialen!H31*(IF(B33=\"Leeg\",0,1))","v":0},{"$f":"IF(Invul_Alt_Materialen!I31=\"Standaard\",Invul_Alt_Materialen!J31,Invul_Alt_Materialen!N31)*(IF(B33=\"Leeg\",0,1))","v":0},{"$f":"VLOOKUP(B33,MKI!$B$1:$Z$263,5,FALSE)*C33","v":0},{"$f":"VLOOKUP($B33,'MI materialen'!$B:$AS,5,FALSE)*$C33","v":0},{"$f":"VLOOKUP($B33,'MI materialen'!$B:$AS,6,FALSE)*$C33","v":0},{"$f":"VLOOKUP($B33,'MI materialen'!$B:$AS,7,FALSE)*$C33","v":0},{"$f":"VLOOKUP($B33,'MI materialen'!$B:$AS,8,FALSE)*$C33","v":0},{"$f":"VLOOKUP($B33,'MI materialen'!$B:$AS,9,FALSE)*$C33","v":0},{"$f":"VLOOKUP($B33,'MI materialen'!$B:$AS,10,FALSE)*$C33","v":0},{"$f":"VLOOKUP($B33,'MI materialen'!$B:$AS,11,FALSE)*$C33","v":0},{"$f":"VLOOKUP($B33,'MI materialen'!$B:$AS,12,FALSE)*$C33","v":0},{"$f":"VLOOKUP($B33,'MI materialen'!$B:$AS,13,FALSE)*$C33","v":0},{"$f":"VLOOKUP($B33,'MI materialen'!$B:$AS,14,FALSE)*$C33","v":0},{"$f":"VLOOKUP($B33,'MI materialen'!$B:$AS,15,FALSE)*$C33","v":0},{"$f":"VLOOKUP($B33,'MI materialen'!$B:$AS,18,FALSE)*$C33","v":0},{"$f":"VLOOKUP($B33,'MI materialen'!$B:$AS,21,FALSE)*$C33","v":0},{"$f":"VLOOKUP($B33,'MI materialen'!$B:$AS,25,FALSE)*$C33","v":0},{"$f":"VLOOKUP($B33,'MI materialen'!$B:$AS,26,FALSE)*$C33","v":0},{"$f":"VLOOKUP($B33,'MI materialen'!$B:$AS,27,FALSE)*$C33","v":0},{"$f":"VLOOKUP($B33,'MI materialen'!$B:$AS,28,FALSE)*$C33","v":0}]
[null,"Totaal",{"$f":"SUM(C14:C33)","v":0},{"$f":"SUM((D14*C14+D15*C15+D16*C16+D17*C17+D18*C18+D19*C19+D20*C20+D21*C21+D22*C22+D23*C23+D24*C24+D25*C25+D26*C26+D27*C27+D28*C28+D29*C29+D30*C30+D31*C31+D32*C32+D33*C33)/C34)","v":{"$error":"#DIV/0!"}}]
[]
[null,"Bewerkingen, ENERGIEVERBRUIK MI & MKI",null,null,"Totale milieu-kosten ","1 abiotic depletion, non fuel (AD)","2 abiotic depletion, fuel (AD)","4 global warming (GWP)","5 ozone layer depletion (ODP)","6 photochemical oxidation (POCP)","7 acidification (AP)","8 eutrophication (EP)","9 human toxicity (HT)","10 Ecotoxicity, fresh water (FAETP)","12 Ecotoxcity, marine water (MAETP)","14 Ecotoxicity, terrestric (TETP)","101 Energy, primary, renewable (MJ)","102 Energy, primary, non-renewable (MJ)","104 Water, fresh water use (m3)","106 Waste, hazardous (kg)","105 Waste, non hazardous (kg)","107. Waste, radioactive (kg)"]
[null,"Naam proces","Energiebron","Hoeveelheid","€","kg Sb eq","kg Sb eq","kg CO2 eq","kg CFC-11 eq","kg C2H4","kg SO2 eq","kg PO4--- eq","kg 1,4-DB eq","kg 1,4-DB eq","kg 1,4-DB eq","kg 1,4-DB eq","MJ","MJ","m3","kg","kg","kg"]
[null,{"$f":"Invul_Alt_Bewerking!F12","v":"Naam proces 1"},{"$f":"Invul_Alt_Bewerking!G12","v":"Leeg"},{"$f":"Invul_Alt_Bewerking!H12","v":0},{"$f":"VLOOKUP(C38,MKI!$B$1:$Z$263,5,FALSE)*D38","v":0},{"$f":"VLOOKUP($C38,'MI materialen'!$B:$AS,5,FALSE)*$D38","v":0},{"$f":"VLOOKUP($C38,'MI materialen'!$B:$AS,6,FALSE)*$D38","v":0},{"$f":"VLOOKUP($C38,'MI materialen'!$B:$AS,7,FALSE)*$D38","v":0},{"$f":"VLOOKUP($C38,'MI materialen'!$B:$AS,8,FALSE)*$D38","v":0},{"$f":"VLOOKUP($C38,'MI materialen'!$B:$AS,9,FALSE)*$D38","v":0},{"$f":"VLOOKUP($C38,'MI materialen'!$B:$AS,10,FALSE)*$D38","v":0},{"$f":"VLOOKUP($C38,'MI materialen'!$B:$AS,11,FALSE)*$D38","v":0},{"$f":"VLOOKUP($C38,'MI materialen'!$B:$AS,12,FALSE)*$D38","v":0},{"$f":"VLOOKUP($C38,'MI materialen'!$B:$AS,13,FALSE)*$D38","v":0},{"$f":"VLOOKUP($C38,'MI materialen'!$B:$AS,14,FALSE)*$D38","v":0},{"$f":"VLOOKUP($C38,'MI materialen'!$B:$AS,15,FALSE)*$D38","v":0},{"$f":"VLOOKUP($C38,'MI materialen'!$B:$AS,18,FALSE)*$D38","v":0},{"$f":"VLOOKUP($C38,'MI materialen'!$B:$AS,21,FALSE)*$D38","v":0},{"$f":"VLOOKUP($C38,'MI materialen'!$B:$AS,25,FALSE)*$D38","v":0},{"$f":"VLOOKUP($C38,'MI materialen'!$B:$AS,26,FALSE)*$D38","v":0},{"$f":"VLOOKUP($C38,'MI materialen'!$B:$AS,27,FALSE)*$D38","v":0},{"$f":"VLOOKUP($C38,'MI materialen'!$B:$AS,28,FALSE)*$D38","v":0}]
[null,{"$f":"Invul_Alt_Bewerking!F13","v":"Naam proces 2"},{"$f":"Invul_Alt_Bewerking!G13","v":"Leeg"},{"$f":"Invul_Alt_Bewerking!H13","v":0},{"$f":"VLOOKUP(C39,MKI!$B$1:$Z$263,5,FALSE)*D39","v":0},{"$f":"VLOOKUP($C39,'MI materialen'!$B:$AS,5,FALSE)*$D39","v":0},{"$f":"VLOOKUP($C39,'MI materialen'!$B:$AS,6,FALSE)*$D39","v":0},{"$f":"VLOOKUP($C39,'MI materialen'!$B:$AS,7,FALSE)*$D39","v":0},{"$f":"VLOOKUP($C39,'MI materialen'!$B:$AS,8,FALSE)*$D39","v":0},{"$f":"VLOOKUP($C39,'MI materialen'!$B:$AS,9,FALSE)*$D39","v":0},{"$f":"VLOOKUP($C39,'MI materialen'!$B:$AS,10,FALSE)*$D39","v":0},{"$f":"VLOOKUP($C39,'MI materialen'!$B:$AS,11,FALSE)*$D39","v":0},{"$f":"VLOOKUP($C39,'MI materialen'!$B:$AS,12,FALSE)*$D39","v":0},{"$f":"VLOOKUP($C39,'MI materialen'!$B:$AS,13,FALSE)*$D39","v":0},{"$f":"VLOOKUP($C39,'MI materialen'!$B:$AS,14,FALSE)*$D39","v":0},{"$f":"VLOOKUP($C39,'MI materialen'!$B:$AS,15,FALSE)*$D39","v":0},{"$f":"VLOOKUP($C39,'MI materialen'!$B:$AS,18,FALSE)*$D39","v":0},{"$f":"VLOOKUP($C39,'MI materialen'!$B:$AS,21,FALSE)*$D39","v":0},{"$f":"VLOOKUP($C39,'MI materialen'!$B:$AS,25,FALSE)*$D39","v":0},{"$f":"VLOOKUP($C39,'MI materialen'!$B:$AS,26,FALSE)*$D39","v":0},{"$f":"VLOOKUP($C39,'MI materialen'!$B:$AS,27,FALSE)*$D39","v":0},{"$f":"VLOOKUP($C39,'MI materialen'!$B:$AS,28,FALSE)*$D39","v":0}]
[null,{"$f":"Invul_Alt_Bewerking!F14","v":"Naam proces 3"},{"$f":"Invul_Alt_Bewerking!G14","v":"Leeg"},{"$f":"Invul_Alt_Bewerking!H14","v":0},{"$f":"VLOOKUP(C40,MKI!$B$1:$Z$263,5,FALSE)*D40","v":0},{"$f":"VLOOKUP($C40,'MI materialen'!$B:$AS,5,FALSE)*$D40","v":0},{"$f":"VLOOKUP($C40,'MI materialen'!$B:$AS,6,FALSE)*$D40","v":0},{"$f":"VLOOKUP($C40,'MI materialen'!$B:$AS,7,FALSE)*$D40","v":0},{"$f":"VLOOKUP($C40,'MI materialen'!$B:$AS,8,FALSE)*$D40","v":0},{"$f":"VLOOKUP($C40,'MI materialen'!$B:$AS,9,FALSE)*$D40","v":0},{"$f":"VLOOKUP($C40,'MI materialen'!$B:$AS,10,FALSE)*$D40","v":0},{"$f":"VLOOKUP($C40,'MI materialen'!$B:$AS,11,FALSE)*$D40","v":0},{"$f":"VLOOKUP($C40,'MI materialen'!$B:$AS,12,FALSE)*$D40","v":0},{"$f":"VLOOKUP($C40,'MI materialen'!$B:$AS,13,FALSE)*$D40","v":0},{"$f":"VLOOKUP($C40,'MI materialen'!$B:$AS,14,FALSE)*$D40","v":0},{"$f":"VLOOKUP($C40,'MI materialen'!$B:$AS,15,FALSE)*$D40","v":0},{"$f":"VLOOKUP($C40,'MI materialen'!$B:$AS,18,FALSE)*$D40","v":0},{"$f":"VLOOKUP($C40,'MI materialen'!$B:$AS,21,FALSE)*$D40","v":0},{"$f":"VLOOKUP($C40,'MI materialen'!$B:$AS,25,FALSE)*$D40","v":0},{"$f":"VLOOKUP($C40,'MI materialen'!$B:$AS,26,FALSE)*$D40","v":0},{"$f":"VLOOKUP($C40,'MI materialen'!$B:$AS,27,FALSE)*$D40","v":0},{"$f":"VLOOKUP($C40,'MI materialen'!$B:$AS,28,FALSE)*$D40","v":0}]
[null,{"$f":"Invul_Alt_Bewerking!F15","v":"Naam proces 4"},{"$f":"Invul_Alt_Bewerking!G15","v":"Leeg"},{"$f":"Invul_Alt_Bewerking!H15","v":0},{"$f":"VLOOKUP(C41,MKI!$B$1:$Z$263,5,FALSE)*D41","v":0},{"$f":"VLOOKUP($C41,'MI materialen'!$B:$AS,5,FALSE)*$D41","v":0},{"$f":"VLOOKUP($C41,'MI materialen'!$B:$AS,6,FALSE)*$D41","v":0},{"$f":"VLOOKUP($C41,'MI materialen'!$B:$AS,7,FALSE)*$D41","v":0},{"$f":"VLOOKUP($C41,'MI materialen'!$B:$AS,8,FALSE)*$D41","v":0},{"$f":"VLOOKUP($C41,'MI materialen'!$B:$AS,9,FALSE)*$D41","v":0},{"$f":"VLOOKUP($C41,'MI materialen'!$B:$AS,10,FALSE)*$D41","v":0},{"$f":"VLOOKUP($C41,'MI materialen'!$B:$AS,11,FALSE)*$D41","v":0},{"$f":"VLOOKUP($C41,'MI materialen'!$B:$AS,12,FALSE)*$D41","v":0},{"$f":"VLOOKUP($C41,'MI materialen'!$B:$AS,13,FALSE)*$D41","v":0},{"$f":"VLOOKUP($C41,'MI materialen'!$B:$AS,14,FALSE)*$D41","v":0},{"$f":"VLOOKUP($C41,'MI materialen'!$B:$AS,15,FALSE)*$D41","v":0},{"$f":"VLOOKUP($C41,'MI materialen'!$B:$AS,18,FALSE)*$D41","v":0},{"$f":"VLOOKUP($C41,'MI materialen'!$B:$AS,21,FALSE)*$D41","v":0},{"$f":"VLOOKUP($C41,'MI materialen'!$B:$AS,25,FALSE)*$D41","v":0},{"$f":"VLOOKUP($C41,'MI materialen'!$B:$AS,26,FALSE)*$D41","v":0},{"$f":"VLOOKUP($C41,'MI materialen'!$B:$AS,27,FALSE)*$D41","v":0},{"$f":"VLOOKUP($C41,'MI materialen'!$B:$AS,28,FALSE)*$D41","v":0}]
[null,{"$f":"Invul_Alt_Bewerking!F16","v":"Naam proces 5"},{"$f":"Invul_Alt_Bewerking!G16","v":"Leeg"},{"$f":"Invul_Alt_Bewerking!H16","v":0},{"$f":"VLOOKUP(C42,MKI!$B$1:$Z$263,5,FALSE)*D42","v":0},{"$f":"VLOOKUP($C42,'MI materialen'!$B:$AS,5,FALSE)*$D42","v":0},{"$f":"VLOOKUP($C42,'MI materialen'!$B:$AS,6,FALSE)*$D42","v":0},{"$f":"VLOOKUP($C42,'MI materialen'!$B:$AS,7,FALSE)*$D42","v":0},{"$f":"VLOOKUP($C42,'MI materialen'!$B:$AS,8,FALSE)*$D42","v":0},{"$f":"VLOOKUP($C42,'MI materialen'!$B:$AS,9,FALSE)*$D42","v":0},{"$f":"VLOOKUP($C42,'MI materialen'!$B:$AS,10,FALSE)*$D42","v":0},{"$f":"VLOOKUP($C42,'MI materialen'!$B:$AS,11,FALSE)*$D42","v":0},{"$f":"VLOOKUP($C42,'MI materialen'!$B:$AS,12,FALSE)*$D42","v":0},{"$f":"VLOOKUP($C42,'MI materialen'!$B:$AS,13,FALSE)*$D42","v":0},{"$f":"VLOOKUP($C42,'MI materialen'!$B:$AS,14,FALSE)*$D42","v":0},{"$f":"VLOOKUP($C42,'MI materialen'!$B:$AS,15,FALSE)*$D42","v":0},{"$f":"VLOOKUP($C42,'MI materialen'!$B:$AS,18,FALSE)*$D42","v":0},{"$f":"VLOOKUP($C42,'MI materialen'!$B:$AS,21,FALSE)*$D42","v":0},{"$f":"VLOOKUP($C42,'MI materialen'!$B:$AS,25,FALSE)*$D42","v":0},{"$f":"VLOOKUP($C42,'MI materialen'!$B:$AS,26,FALSE)*$D42","v":0},{"$f":"VLOOKUP($C42,'MI materialen'!$B:$AS,27,FALSE)*$D42","v":0},{"$f":"VLOOKUP($C42,'MI materialen'!$B:$AS,28,FALSE)*$D42","v":0}]
[null,{"$f":"Invul_Alt_Bewerking!F17","v":"Naam proces 6"},{"$f":"Invul_Alt_Bewerking!G17","v":"Leeg"},{"$f":"Invul_Alt_Bewerking!H17","v":0},{"$f":"VLOOKUP(C43,MKI!$B$1:$Z$263,5,FALSE)*D43","v":0},{"$f":"VLOOKUP($C43,'MI materialen'!$B:$AS,5,FALSE)*$D43","v":0},{"$f":"VLOOKUP($C43,'MI materialen'!$B:$AS,6,FALSE)*$D43","v":0},{"$f":"VLOOKUP($C43,'MI materialen'!$B:$AS,7,FALSE)*$D43","v":0},{"$f":"VLOOKUP($C43,'MI materialen'!$B:$AS,8,FALSE)*$D43","v":0},{"$f":"VLOOKUP($C43,'MI materialen'!$B:$AS,9,FALSE)*$D43","v":0},{"$f":"VLOOKUP($C43,'MI materialen'!$B:$AS,10,FALSE)*$D43","v":0},{"$f":"VLOOKUP($C43,'MI materialen'!$B:$AS,11,FALSE)*$D43","v":0},{"$f":"VLOOKUP($C43,'MI materialen'!$B:$AS,12,FALSE)*$D43","v":0},{"$f":"VLOOKUP($C43,'MI materialen'!$B:$AS,13,FALSE)*$D43","v":0},{"$f":"VLOOKUP($C43,'MI materialen'!$B:$AS,14,FALSE)*$D43","v":0},{"$f":"VLOOKUP($C43,'MI materialen'!$B:$AS,15,FALSE)*$D43","v":0},{"$f":"VLOOKUP($C43,'MI materialen'!$B:$AS,18,FALSE)*$D43","v":0},{"$f":"VLOOKUP($C43,'MI materialen'!$B:$AS,21,FALSE)*$D43","v":0},{"$f":"VLOOKUP($C43,'MI materialen'!$B:$AS,25,FALSE)*$D43","v":0},{"$f":"VLOOKUP($C43,'MI materialen'!$B:$AS,26,FALSE)*$D43","v":0},{"$f":"VLOOKUP($C43,'MI materialen'!$B:$AS,27,FALSE)*$D43","v":0},{"$f":"VLOOKUP($C43,'MI materialen'!$B:$AS,28,FALSE)*$D43","v":0}]
[null,{"$f":"Invul_Alt_Bewerking!F18","v":"Naam proces 7"},{"$f":"Invul_Alt_Bewerking!G18","v":"Leeg"},{"$f":"Invul_Alt_Bewerking!H18","v":0},{"$f":"VLOOKUP(C44,MKI!$B$1:$Z$263,5,FALSE)*D44","v":0},{"$f":"VLOOKUP($C44,'MI materialen'!$B:$AS,5,FALSE)*$D44","v":0},{"$f":"VLOOKUP($C44,'MI materialen'!$B:$AS,6,FALSE)*$D44","v":0},{"$f":"VLOOKUP($C44,'MI materialen'!$B:$AS,7,FALSE)*$D44","v":0},{"$f":"VLOOKUP($C44,'MI materialen'!$B:$AS,8,FALSE)*$D44","v":0},{"$f":"VLOOKUP($C44,'MI materialen'!$B:$AS,9,FALSE)*$D44","v":0},{"$f":"VLOOKUP($C44,'MI materialen'!$B:$AS,10,FALSE)*$D44","v":0},{"$f":"VLOOKUP($C44,'MI materialen'!$B:$AS,11,FALSE)*$D44","v":0},{"$f":"VLOOKUP($C44,'MI materialen'!$B:$AS,12,FALSE)*$D44","v":0},{"$f":"VLOOKUP($C44,'MI materialen'!$B:$AS,13,FALSE)*$D44","v":0},{"$f":"VLOOKUP($C44,'MI materialen'!$B:$AS,14,FALSE)*$D44","v":0},{"$f":"VLOOKUP($C44,'MI materialen'!$B:$AS,15,FALSE)*$D44","v":0},{"$f":"VLOOKUP($C44,'MI materialen'!$B:$AS,18,FALSE)*$D44","v":0},{"$f":"VLOOKUP($C44,'MI materialen'!$B:$AS,21,FALSE)*$D44","v":0},{"$f":"VLOOKUP($C44,'MI materialen'!$B:$AS,25,FALSE)*$D44","v":0},{"$f":"VLOOKUP($C44,'MI materialen'!$B:$AS,26,FALSE)*$D44","v":0},{"$f":"VLOOKUP($C44,'MI materialen'!$B:$AS,27,FALSE)*$D44","v":0},{"$f":"VLOOKUP($C44,'MI materialen'!$B:$AS,28,FALSE)*$D44","v":0}]
[null,{"$f":"Invul_Alt_Bewerking!F19","v":"Naam proces 8"},{"$f":"Invul_Alt_Bewerking!G19","v":"Leeg"},{"$f":"Invul_Alt_Bewerking!H19","v":0},{"$f":"VLOOKUP(C45,MKI!$B$1:$Z$263,5,FALSE)*D45","v":0},{"$f":"VLOOKUP($C45,'MI materialen'!$B:$AS,5,FALSE)*$D45","v":0},{"$f":"VLOOKUP($C45,'MI materialen'!$B:$AS,6,FALSE)*$D45","v":0},{"$f":"VLOOKUP($C45,'MI materialen'!$B:$AS,7,FALSE)*$D45","v":0},{"$f":"VLOOKUP($C45,'MI materialen'!$B:$AS,8,FALSE)*$D45","v":0},{"$f":"VLOOKUP($C45,'MI materialen'!$B:$AS,9,FALSE)*$D45","v":0},{"$f":"VLOOKUP($C45,'MI materialen'!$B:$AS,10,FALSE)*$D45","v":0},{"$f":"VLOOKUP($C45,'MI materialen'!$B:$AS,11,FALSE)*$D45","v":0},{"$f":"VLOOKUP($C45,'MI materialen'!$B:$AS,12,FALSE)*$D45","v":0},{"$f":"VLOOKUP($C45,'MI materialen'!$B:$AS,13,FALSE)*$D45","v":0},{"$f":"VLOOKUP($C45,'MI materialen'!$B:$AS,14,FALSE)*$D45","v":0},{"$f":"VLOOKUP($C45,'MI materialen'!$B:$AS,15,FALSE)*$D45","v":0},{"$f":"VLOOKUP($C45,'MI materialen'!$B:$AS,18,FALSE)*$D45","v":0},{"$f":"VLOOKUP($C45,'MI materialen'!$B:$AS,21,FALSE)*$D45","v":0},{"$f":"VLOOKUP($C45,'MI materialen'!$B:$AS,25,FALSE)*$D45","v":0},{"$f":"VLOOKUP($C45,'MI materialen'!$B:$AS,26,FALSE)*$D45","v":0},{"$f":"VLOOKUP($C45,'MI materialen'!$B:$AS,27,FALSE)*$D45","v":0},{"$f":"VLOOKUP($C45,'MI materialen'!$B:$AS,28,FALSE)*$D45","v":0}]
[]
[]
[null,"TRANSPORT MI & MKI (per producteenheid)",null,null,"Totale milieu-kosten ","1 abiotic depletion, non fuel (AD)","2 abiotic depletion, fuel (AD)","4 global warming (GWP)","5 ozone layer depletion (ODP)","6 photochemical oxidation (POCP)","7 acidification (AP)","8 eutrophication (EP)","9 human toxicity (HT)","10 Ecotoxicity, fresh water (FAETP)","12 Ecotoxcity, marine water (MAETP)","14 Ecotoxicity, terrestric (TETP)","101 Energy, primary, renewable (MJ)","102 Energy, primary, non-renewable (MJ)","104 Water, fresh water use (m3)","106 Waste, hazardous (kg)","105 Waste, non hazardous (kg)","107. Waste, radioactive (kg)"]
[null,"Vervoersmiddel","Aantal kilometers","Tonkilometers","€","kg Sb eq","kg Sb eq","kg CO2 eq","kg CFC-11 eq","kg C2H4","kg SO2 eq","kg PO4--- eq","kg 1,4-DB eq","kg 1,4-DB eq","kg 1,4-DB eq","kg 1,4-DB eq","MJ","MJ","m3","kg","kg","kg"]
[null,{"$f":"Invul_Alt_Distributie!F12","v":"Leeg"},null,{"$f":"Invul_Alt_Distributie!N12","v":0},{"$f":"VLOOKUP(B50,MKI!$B$1:$Z$263,5,FALSE)*D50","v":0},{"$f":"VLOOKUP($B50,'MI materialen'!$B:$AS,5,FALSE)*$D50","v":0},{"$f":"VLOOKUP($B50,'MI materialen'!$B:$AS,6,FALSE)*$D50","v":0},{"$f":"VLOOKUP($B50,'MI materialen'!$B:$AS,7,FALSE)*$D50","v":0},{"$f":"VLOOKUP($B50,'MI materialen'!$B:$AS,8,FALSE)*$D50","v":0},{"$f":"VLOOKUP($B50,'MI materialen'!$B:$AS,9,FALSE)*$D50","v":0},{"$f":"VLOOKUP($B50,'MI materialen'!$B:$AS,10,FALSE)*$D50","v":0},{"$f":"VLOOKUP($B50,'MI materialen'!$B:$AS,11,FALSE)*$D50","v":0},{"$f":"VLOOKUP($B50,'MI materialen'!$B:$AS,12,FALSE)*$D50","v":0},{"$f":"VLOOKUP($B50,'MI materialen'!$B:$AS,13,FALSE)*$D50","v":0},{"$f":"VLOOKUP($B50,'MI materialen'!$B:$AS,14,FALSE)*$D50","v":0},{"$f":"VLOOKUP($B50,'MI materialen'!$B:$AS,15,FALSE)*$D50","v":0},{"$f":"VLOOKUP($B50,'MI materialen'!$B:$AS,18,FALSE)*$D50","v":0},{"$f":"VLOOKUP($B50,'MI materialen'!$B:$AS,21,FALSE)*$D50","v":0},{"$f":"VLOOKUP($B50,'MI materialen'!$B:$AS,25,FALSE)*$D50","v":0},{"$f":"VLOOKUP($B50,'MI materialen'!$B:$AS,26,FALSE)*$D50","v":0},{"$f":"VLOOKUP($B50,'MI materialen'!$B:$AS,27,FALSE)*$D50","v":0},{"$f":"VLOOKUP($B50,'MI materialen'!$B:$AS,28,FALSE)*$D50","v":0}]
[null,{"$f":"Invul_Alt_Distributie!F13","v":"Leeg"},null,{"$f":"Invul_Alt_Distributie!N13","v":0},{"$f":"VLOOKUP(B51,MKI!$B$1:$Z$263,5,FALSE)*D51","v":0},{"$f":"VLOOKUP($B51,'MI materialen'!$B:$AS,5,FALSE)*$D51","v":0},{"$f":"VLOOKUP($B51,'MI materialen'!$B:$AS,6,FALSE)*$D51","v":0},{"$f":"VLOOKUP($B51,'MI materialen'!$B:$AS,7,FALSE)*$D51","v":0},{"$f":"VLOOKUP($B51,'MI materialen'!$B:$AS,8,FALSE)*$D51","v":0},{"$f":"VLOOKUP($B51,'MI materialen'!$B:$AS,9,FALSE)*$D51","v":0},{"$f":"VLOOKUP($B51,'MI materialen'!$B:$AS,10,FALSE)*$D51","v":0},{"$f":"VLOOKUP($B51,'MI materialen'!$B:$AS,11,FALSE)*$D51","v":0},{"$f":"VLOOKUP($B51,'MI materialen'!$B:$AS,12,FALSE)*$D51","v":0},{"$f":"VLOOKUP($B51,'MI materialen'!$B:$AS,13,FALSE)*$D51","v":0},{"$f":"VLOOKUP($B51,'MI materialen'!$B:$AS,14,FALSE)*$D51","v":0},{"$f":"VLOOKUP($B51,'MI materialen'!$B:$AS,15,FALSE)*$D51","v":0},{"$f":"VLOOKUP($B51,'MI materialen'!$B:$AS,18,FALSE)*$D51","v":0},{"$f":"VLOOKUP($B51,'MI materialen'!$B:$AS,21,FALSE)*$D51","v":0},{"$f":"VLOOKUP($B51,'MI materialen'!$B:$AS,25,FALSE)*$D51","v":0},{"$f":"VLOOKUP($B51,'MI materialen'!$B:$AS,26,FALSE)*$D51","v":0},{"$f":"VLOOKUP($B51,'MI materialen'!$B:$AS,27,FALSE)*$D51","v":0},{"$f":"VLOOKUP($B51,'MI materialen'!$B:$AS,28,FALSE)*$D51","v":0}]
[null,{"$f":"Invul_Alt_Distributie!F14","v":"Leeg"},null,{"$f":"Invul_Alt_Distributie!N14","v":0},{"$f":"VLOOKUP(B52,MKI!$B$1:$Z$263,5,FALSE)*D52","v":0},{"$f":"VLOOKUP($B52,'MI materialen'!$B:$AS,5,FALSE)*$D52","v":0},{"$f":"VLOOKUP($B52,'MI materialen'!$B:$AS,6,FALSE)*$D52","v":0},{"$f":"VLOOKUP($B52,'MI materialen'!$B:$AS,7,FALSE)*$D52","v":0},{"$f":"VLOOKUP($B52,'MI materialen'!$B:$AS,8,FALSE)*$D52","v":0},{"$f":"VLOOKUP($B52,'MI materialen'!$B:$AS,9,FALSE)*$D52","v":0},{"$f":"VLOOKUP($B52,'MI materialen'!$B:$AS,10,FALSE)*$D52","v":0},{"$f":"VLOOKUP($B52,'MI materialen'!$B:$AS,11,FALSE)*$D52","v":0},{"$f":"VLOOKUP($B52,'MI materialen'!$B:$AS,12,FALSE)*$D52","v":0},{"$f":"VLOOKUP($B52,'MI materialen'!$B:$AS,13,FALSE)*$D52","v":0},{"$f":"VLOOKUP($B52,'MI materialen'!$B:$AS,14,FALSE)*$D52","v":0},{"$f":"VLOOKUP($B52,'MI materialen'!$B:$AS,15,FALSE)*$D52","v":0},{"$f":"VLOOKUP($B52,'MI materialen'!$B:$AS,18,FALSE)*$D52","v":0},{"$f":"VLOOKUP($B52,'MI materialen'!$B:$AS,21,FALSE)*$D52","v":0},{"$f":"VLOOKUP($B52,'MI materialen'!$B:$AS,25,FALSE)*$D52","v":0},{"$f":"VLOOKUP($B52,'MI materialen'!$B:$AS,26,FALSE)*$D52","v":0},{"$f":"VLOOKUP($B52,'MI materialen'!$B:$AS,27,FALSE)*$D52","v":0},{"$f":"VLOOKUP($B52,'MI materialen'!$B:$AS,28,FALSE)*$D52","v":0}]
[null,{"$f":"Invul_Alt_Distributie!F15","v":"Leeg"},null,{"$f":"Invul_Alt_Distributie!N15","v":0},{"$f":"VLOOKUP(B53,MKI!$B$1:$Z$263,5,FALSE)*D53","v":0},{"$f":"VLOOKUP($B53,'MI materialen'!$B:$AS,5,FALSE)*$D53","v":0},{"$f":"VLOOKUP($B53,'MI materialen'!$B:$AS,6,FALSE)*$D53","v":0},{"$f":"VLOOKUP($B53,'MI materialen'!$B:$AS,7,FALSE)*$D53","v":0},{"$f":"VLOOKUP($B53,'MI materialen'!$B:$AS,8,FALSE)*$D53","v":0},{"$f":"VLOOKUP($B53,'MI materialen'!$B:$AS,9,FALSE)*$D53","v":0},{"$f":"VLOOKUP($B53,'MI materialen'!$B:$AS,10,FALSE)*$D53","v":0},{"$f":"VLOOKUP($B53,'MI materialen'!$B:$AS,11,FALSE)*$D53","v":0},{"$f":"VLOOKUP($B53,'MI materialen'!$B:$AS,12,FALSE)*$D53","v":0},{"$f":"VLOOKUP($B53,'MI materialen'!$B:$AS,13,FALSE)*$D53","v":0},{"$f":"VLOOKUP($B53,'MI materialen'!$B:$AS,14,FALSE)*$D53","v":0},{"$f":"VLOOKUP($B53,'MI materialen'!$B:$AS,15,FALSE)*$D53","v":0},{"$f":"VLOOKUP($B53,'MI materialen'!$B:$AS,18,FALSE)*$D53","v":0},{"$f":"VLOOKUP($B53,'MI materialen'!$B:$AS,21,FALSE)*$D53","v":0},{"$f":"VLOOKUP($B53,'MI materialen'!$B:$AS,25,FALSE)*$D53","v":0},{"$f":"VLOOKUP($B53,'MI materialen'!$B:$AS,26,FALSE)*$D53","v":0},{"$f":"VLOOKUP($B53,'MI materialen'!$B:$AS,27,FALSE)*$D53","v":0},{"$f":"VLOOKUP($B53,'MI materialen'!$B:$AS,28,FALSE)*$D53","v":0}]
[null,{"$f":"Invul_Alt_Distributie!F16","v":"Leeg"},null,{"$f":"Invul_Alt_Distributie!N16","v":0},{"$f":"VLOOKUP(B54,MKI!$B$1:$Z$263,5,FALSE)*D54","v":0},{"$f":"VLOOKUP($B54,'MI materialen'!$B:$AS,5,FALSE)*$D54","v":0},{"$f":"VLOOKUP($B54,'MI materialen'!$B:$AS,6,FALSE)*$D54","v":0},{"$f":"VLOOKUP($B54,'MI materialen'!$B:$AS,7,FALSE)*$D54","v":0},{"$f":"VLOOKUP($B54,'MI materialen'!$B:$AS,8,FALSE)*$D54","v":0},{"$f":"VLOOKUP($B54,'MI materialen'!$B:$AS,9,FALSE)*$D54","v":0},{"$f":"VLOOKUP($B54,'MI materialen'!$B:$AS,10,FALSE)*$D54","v":0},{"$f":"VLOOKUP($B54,'MI materialen'!$B:$AS,11,FALSE)*$D54","v":0},{"$f":"VLOOKUP($B54,'MI materialen'!$B:$AS,12,FALSE)*$D54","v":0},{"$f":"VLOOKUP($B54,'MI materialen'!$B:$AS,13,FALSE)*$D54","v":0},{"$f":"VLOOKUP($B54,'MI materialen'!$B:$AS,14,FALSE)*$D54","v":0},{"$f":"VLOOKUP($B54,'MI materialen'!$B:$AS,15,FALSE)*$D54","v":0},{"$f":"VLOOKUP($B54,'MI materialen'!$B:$AS,18,FALSE)*$D54","v":0},{"$f":"VLOOKUP($B54,'MI materialen'!$B:$AS,21,FALSE)*$D54","v":0},{"$f":"VLOOKUP($B54,'MI materialen'!$B:$AS,25,FALSE)*$D54","v":0},{"$f":"VLOOKUP($B54,'MI materialen'!$B:$AS,26,FALSE)*$D54","v":0},{"$f":"VLOOKUP($B54,'MI materialen'!$B:$AS,27,FALSE)*$D54","v":0},{"$f":"VLOOKUP($B54,'MI materialen'!$B:$AS,28,FALSE)*$D54","v":0}]
[null,{"$f":"Invul_Alt_Distributie!F17","v":"Leeg"},null,{"$f":"Invul_Alt_Distributie!N17","v":0},{"$f":"VLOOKUP(B55,MKI!$B$1:$Z$263,5,FALSE)*D55","v":0},{"$f":"VLOOKUP($B55,'MI materialen'!$B:$AS,5,FALSE)*$D55","v":0},{"$f":"VLOOKUP($B55,'MI materialen'!$B:$AS,6,FALSE)*$D55","v":0},{"$f":"VLOOKUP($B55,'MI materialen'!$B:$AS,7,FALSE)*$D55","v":0},{"$f":"VLOOKUP($B55,'MI materialen'!$B:$AS,8,FALSE)*$D55","v":0},{"$f":"VLOOKUP($B55,'MI materialen'!$B:$AS,9,FALSE)*$D55","v":0},{"$f":"VLOOKUP($B55,'MI materialen'!$B:$AS,10,FALSE)*$D55","v":0},{"$f":"VLOOKUP($B55,'MI materialen'!$B:$AS,11,FALSE)*$D55","v":0},{"$f":"VLOOKUP($B55,'MI materialen'!$B:$AS,12,FALSE)*$D55","v":0},{"$f":"VLOOKUP($B55,'MI materialen'!$B:$AS,13,FALSE)*$D55","v":0},{"$f":"VLOOKUP($B55,'MI materialen'!$B:$AS,14,FALSE)*$D55","v":0},{"$f":"VLOOKUP($B55,'MI materialen'!$B:$AS,15,FALSE)*$D55","v":0},{"$f":"VLOOKUP($B55,'MI materialen'!$B:$AS,18,FALSE)*$D55","v":0},{"$f":"VLOOKUP($B55,'MI materialen'!$B:$AS,21,FALSE)*$D55","v":0},{"$f":"VLOOKUP($B55,'MI materialen'!$B:$AS,25,FALSE)*$D55","v":0},{"$f":"VLOOKUP($B55,'MI materialen'!$B:$AS,26,FALSE)*$D55","v":0},{"$f":"VLOOKUP($B55,'MI materialen'!$B:$AS,27,FALSE)*$D55","v":0},{"$f":"VLOOKUP($B55,'MI materialen'!$B:$AS,28,FALSE)*$D55","v":0}]
[null,{"$f":"Invul_Alt_Distributie!F18","v":"Leeg"},null,{"$f":"Invul_Alt_Distributie!N18","v":0},{"$f":"VLOOKUP(B56,MKI!$B$1:$Z$263,5,FALSE)*D56","v":0},{"$f":"VLOOKUP($B56,'MI materialen'!$B:$AS,5,FALSE)*$D56","v":0},{"$f":"VLOOKUP($B56,'MI materialen'!$B:$AS,6,FALSE)*$D56","v":0},{"$f":"VLOOKUP($B56,'MI materialen'!$B:$AS,7,FALSE)*$D56","v":0},{"$f":"VLOOKUP($B56,'MI materialen'!$B:$AS,8,FALSE)*$D56","v":0},{"$f":"VLOOKUP($B56,'MI materialen'!$B:$AS,9,FALSE)*$D56","v":0},{"$f":"VLOOKUP($B56,'MI materialen'!$B:$AS,10,FALSE)*$D56","v":0},{"$f":"VLOOKUP($B56,'MI materialen'!$B:$AS,11,FALSE)*$D56","v":0},{"$f":"VLOOKUP($B56,'MI materialen'!$B:$AS,12,FALSE)*$D56","v":0},{"$f":"VLOOKUP($B56,'MI materialen'!$B:$AS,13,FALSE)*$D56","v":0},{"$f":"VLOOKUP($B56,'MI materialen'!$B:$AS,14,FALSE)*$D56","v":0},{"$f":"VLOOKUP($B56,'MI materialen'!$B:$AS,15,FALSE)*$D56","v":0},{"$f":"VLOOKUP($B56,'MI materialen'!$B:$AS,18,FALSE)*$D56","v":0},{"$f":"VLOOKUP($B56,'MI materialen'!$B:$AS,21,FALSE)*$D56","v":0},{"$f":"VLOOKUP($B56,'MI materialen'!$B:$AS,25,FALSE)*$D56","v":0},{"$f":"VLOOKUP($B56,'MI materialen'!$B:$AS,26,FALSE)*$D56","v":0},{"$f":"VLOOKUP($B56,'MI materialen'!$B:$AS,27,FALSE)*$D56","v":0},{"$f":"VLOOKUP($B56,'MI materialen'!$B:$AS,28,FALSE)*$D56","v":0}]
[null,{"$f":"Invul_Alt_Distributie!F19","v":"Leeg"},null,{"$f":"Invul_Alt_Distributie!N19","v":0},{"$f":"VLOOKUP(B57,MKI!$B$1:$Z$263,5,FALSE)*D57","v":0},{"$f":"VLOOKUP($B57,'MI materialen'!$B:$AS,5,FALSE)*$D57","v":0},{"$f":"VLOOKUP($B57,'MI materialen'!$B:$AS,6,FALSE)*$D57","v":0},{"$f":"VLOOKUP($B57,'MI materialen'!$B:$AS,7,FALSE)*$D57","v":0},{"$f":"VLOOKUP($B57,'MI materialen'!$B:$AS,8,FALSE)*$D57","v":0},{"$f":"VLOOKUP($B57,'MI materialen'!$B:$AS,9,FALSE)*$D57","v":0},{"$f":"VLOOKUP($B57,'MI materialen'!$B:$AS,10,FALSE)*$D57","v":0},{"$f":"VLOOKUP($B57,'MI materialen'!$B:$AS,11,FALSE)*$D57","v":0},{"$f":"VLOOKUP($B57,'MI materialen'!$B:$AS,12,FALSE)*$D57","v":0},{"$f":"VLOOKUP($B57,'MI materialen'!$B:$AS,13,FALSE)*$D57","v":0},{"$f":"VLOOKUP($B57,'MI materialen'!$B:$AS,14,FALSE)*$D57","v":0},{"$f":"VLOOKUP($B57,'MI materialen'!$B:$AS,15,FALSE)*$D57","v":0},{"$f":"VLOOKUP($B57,'MI materialen'!$B:$AS,18,FALSE)*$D57","v":0},{"$f":"VLOOKUP($B57,'MI materialen'!$B:$AS,21,FALSE)*$D57","v":0},{"$f":"VLOOKUP($B57,'MI materialen'!$B:$AS,25,FALSE)*$D57","v":0},{"$f":"VLOOKUP($B57,'MI materialen'!$B:$AS,26,FALSE)*$D57","v":0},{"$f":"VLOOKUP($B57,'MI materialen'!$B:$AS,27,FALSE)*$D57","v":0},{"$f":"VLOOKUP($B57,'MI materialen'!$B:$AS,28,FALSE)*$D57","v":0}]
[]
[null,"Energiegebruik MI & MKI (per producteenheid)",null,null,"Totale milieu-kosten ","1 abiotic depletion, non fuel (AD)","2 abiotic depletion, fuel (AD)","4 global warming (GWP)","5 ozone layer depletion (ODP)","6 photochemical oxidation (POCP)","7 acidification (AP)","8 eutrophication (EP)","9 human toxicity (HT)","10 Ecotoxicity, fresh water (FAETP)","12 Ecotoxcity, marine water (MAETP)","14 Ecotoxicity, terrestric (TETP)","101 Energy, primary, renewable (MJ)","102 Energy, primary, non-renewable (MJ)","104 Water, fresh water use (m3)","106 Waste, hazardous (kg)","105 Waste, non hazardous (kg)","107. Waste, radioactive (kg)"]
[null,"Energiedrager","Verbruik",null,"€","kg Sb eq","kg Sb eq","kg CO2 eq","kg CFC-11 eq","kg C2H4","kg SO2 eq","kg PO4--- eq","kg 1,4-DB eq","kg 1,4-DB eq","kg 1,4-DB eq","kg 1,4-DB eq","MJ","MJ","m3","kg","kg","kg"]
[null,{"$f":"Invul_Alt_Gebruik!F12","v":"Leeg"},{"$f":"Invul_Alt_Gebruik!G12","v":0},null,{"$f":"VLOOKUP(B61,MKI!$B$1:$Z$263,5,FALSE)*C61","v":0},{"$f":"VLOOKUP($B61,'MI materialen'!$B:$AS,5,FALSE)*$C61","v":0},{"$f":"VLOOKUP($B61,'MI materialen'!$B:$AS,6,FALSE)*$C61","v":0},{"$f":"VLOOKUP($B61,'MI materialen'!$B:$AS,7,FALSE)*$C61","v":0},{"$f":"VLOOKUP($B61,'MI materialen'!$B:$AS,8,FALSE)*$C61","v":0},{"$f":"VLOOKUP($B61,'MI materialen'!$B:$AS,9,FALSE)*$C61","v":0},{"$f":"VLOOKUP($B61,'MI materialen'!$B:$AS,10,FALSE)*$C61","v":0},{"$f":"VLOOKUP($B61,'MI materialen'!$B:$AS,11,FALSE)*$C61","v":0},{"$f":"VLOOKUP($B61,'MI materialen'!$B:$AS,12,FALSE)*$C61","v":0},{"$f":"VLOOKUP($B61,'MI materialen'!$B:$AS,13,FALSE)*$C61","v":0},{"$f":"VLOOKUP($B61,'MI materialen'!$B:$AS,14,FALSE)*$C61","v":0},{"$f":"VLOOKUP($B61,'MI materialen'!$B:$AS,15,FALSE)*$C61","v":0},{"$f":"VLOOKUP($B61,'MI materialen'!$B:$AS,18,FALSE)*$C61","v":0},{"$f":"VLOOKUP($B61,'MI materialen'!$B:$AS,21,FALSE)*$C61","v":0},{"$f":"VLOOKUP($B61,'MI materialen'!$B:$AS,25,FALSE)*$C61","v":0},{"$f":"VLOOKUP($B61,'MI materialen'!$B:$AS,26,FALSE)*$C61","v":0},{"$f":"VLOOKUP($B61,'MI materialen'!$B:$AS,27,FALSE)*$C61","v":0},{"$f":"VLOOKUP($B61,'MI materialen'!$B:$AS,28,FALSE)*$C61","v":0}]
[null,{"$f":"Invul_Alt_Gebruik!F13","v":"Leeg"},{"$f":"Invul_Alt_Gebruik!G13","v":0},null,{"$f":"VLOOKUP(B62,MKI!$B$1:$Z$263,5,FALSE)*C62","v":0},{"$f":"VLOOKUP($B62,'MI materialen'!$B:$AS,5,FALSE)*$C62","v":0},{"$f":"VLOOKUP($B62,'MI materialen'!$B:$AS,6,FALSE)*$C62","v":0},{"$f":"VLOOKUP($B62,'MI materialen'!$B:$AS,7,FALSE)*$C62","v":0},{"$f":"VLOOKUP($B62,'MI materialen'!$B:$AS,8,FALSE)*$C62","v":0},{"$f":"VLOOKUP($B62,'MI materialen'!$B:$AS,9,FALSE)*$C62","v":0},{"$f":"VLOOKUP($B62,'MI materialen'!$B:$AS,10,FALSE)*$C62","v":0},{"$f":"VLOOKUP($B62,'MI materialen'!$B:$AS,11,FALSE)*$C62","v":0},{"$f":"VLOOKUP($B62,'MI materialen'!$B:$AS,12,FALSE)*$C62","v":0},{"$f":"VLOOKUP($B62,'MI materialen'!$B:$AS,13,FALSE)*$C62","v":0},{"$f":"VLOOKUP($B62,'MI materialen'!$B:$AS,14,FALSE)*$C62","v":0},{"$f":"VLOOKUP($B62,'MI materialen'!$B:$AS,15,FALSE)*$C62","v":0},{"$f":"VLOOKUP($B62,'MI materialen'!$B:$AS,18,FALSE)*$C62","v":0},{"$f":"VLOOKUP($B62,'MI materialen'!$B:$AS,21,FALSE)*$C62","v":0},{"$f":"VLOOKUP($B62,'MI materialen'!$B:$AS,25,FALSE)*$C62","v":0},{"$f":"VLOOKUP($B62,'MI materialen'!$B:$AS,26,FALSE)*$C62","v":0},{"$f":"VLOOKUP($B62,'MI materialen'!$B:$AS,27,FALSE)*$C62","v":0},{"$f":"VLOOKUP($B62,'MI materialen'!$B:$AS,28,FALSE)*$C62","v":0}]
[null,{"$f":"Invul_Alt_Gebruik!F14","v":"Leeg"},{"$f":"Invul_Alt_Gebruik!G14","v":0},null,{"$f":"VLOOKUP(B63,MKI!$B$1:$Z$263,5,FALSE)*C63","v":0},{"$f":"VLOOKUP($B63,'MI materialen'!$B:$AS,5,FALSE)*$C63","v":0},{"$f":"VLOOKUP($B63,'MI materialen'!$B:$AS,6,FALSE)*$C63","v":0},{"$f":"VLOOKUP($B63,'MI materialen'!$B:$AS,7,FALSE)*$C63","v":0},{"$f":"VLOOKUP($B63,'MI materialen'!$B:$AS,8,FALSE)*$C63","v":0},{"$f":"VLOOKUP($B63,'MI materialen'!$B:$AS,9,FALSE)*$C63","v":0},{"$f":"VLOOKUP($B63,'MI materialen'!$B:$AS,10,FALSE)*$C63","v":0},{"$f":"VLOOKUP($B63,'MI materialen'!$B:$AS,11,FALSE)*$C63","v":0},{"$f":"VLOOKUP($B63,'MI materialen'!$B:$AS,12,FALSE)*$C63","v":0},{"$f":"VLOOKUP($B63,'MI materialen'!$B:$AS,13,FALSE)*$C63","v":0},{"$f":"VLOOKUP($B63,'MI materialen'!$B:$AS,14,FALSE)*$C63","v":0},{"$f":"VLOOKUP($B63,'MI materialen'!$B:$AS,15,FALSE)*$C63","v":0},{"$f":"VLOOKUP($B63,'MI materialen'!$B:$AS,18,FALSE)*$C63","v":0},{"$f":"VLOOKUP($B63,'MI materialen'!$B:$AS,21,FALSE)*$C63","v":0},{"$f":"VLOOKUP($B63,'MI materialen'!$B:$AS,25,FALSE)*$C63","v":0},{"$f":"VLOOKUP($B63,'MI materialen'!$B:$AS,26,FALSE)*$C63","v":0},{"$f":"VLOOKUP($B63,'MI materialen'!$B:$AS,27,FALSE)*$C63","v":0},{"$f":"VLOOKUP($B63,'MI materialen'!$B:$AS,28,FALSE)*$C63","v":0}]
[null,{"$f":"Invul_Alt_Gebruik!F15","v":"Leeg"},{"$f":"Invul_Alt_Gebruik!G15","v":0},null,{"$f":"VLOOKUP(B64,MKI!$B$1:$Z$263,5,FALSE)*C64","v":0},{"$f":"VLOOKUP($B64,'MI materialen'!$B:$AS,5,FALSE)*$C64","v":0},{"$f":"VLOOKUP($B64,'MI materialen'!$B:$AS,6,FALSE)*$C64","v":0},{"$f":"VLOOKUP($B64,'MI materialen'!$B:$AS,7,FALSE)*$C64","v":0},{"$f":"VLOOKUP($B64,'MI materialen'!$B:$AS,8,FALSE)*$C64","v":0},{"$f":"VLOOKUP($B64,'MI materialen'!$B:$AS,9,FALSE)*$C64","v":0},{"$f":"VLOOKUP($B64,'MI materialen'!$B:$AS,10,FALSE)*$C64","v":0},{"$f":"VLOOKUP($B64,'MI materialen'!$B:$AS,11,FALSE)*$C64","v":0},{"$f":"VLOOKUP($B64,'MI materialen'!$B:$AS,12,FALSE)*$C64","v":0},{"$f":"VLOOKUP($B64,'MI materialen'!$B:$AS,13,FALSE)*$C64","v":0},{"$f":"VLOOKUP($B64,'MI materialen'!$B:$AS,14,FALSE)*$C64","v":0},{"$f":"VLOOKUP($B64,'MI materialen'!$B:$AS,15,FALSE)*$C64","v":0},{"$f":"VLOOKUP($B64,'MI materialen'!$B:$AS,18,FALSE)*$C64","v":0},{"$f":"VLOOKUP($B64,'MI materialen'!$B:$AS,21,FALSE)*$C64","v":0},{"$f":"VLOOKUP($B64,'MI materialen'!$B:$AS,25,FALSE)*$C64","v":0},{"$f":"VLOOKUP($B64,'MI materialen'!$B:$AS,26,FALSE)*$C64","v":0},{"$f":"VLOOKUP($B64,'MI materialen'!$B:$AS,27,FALSE)*$C64","v":0},{"$f":"VLOOKUP($B64,'MI materialen'!$B:$AS,28,FALSE)*$C64","v":0}]
[]
[null,null,null,null,"Kolom nr. (vert.zoeken):",2,3,4,5,6,7,8,9,10,11,12,15,18,22,23,24,25]
[null,"Einde levensfase",null,null,"Totale milieu-kosten ","1 abiotic depletion, non fuel (AD)","2 abiotic depletion, fuel (AD)","4 global warming (GWP)","5 ozone layer depletion (ODP)","6 photochemical oxidation (POCP)","7 acidification (AP)","8 eutrophication (EP)","9 human toxicity (HT)","10 Ecotoxicity, fresh water (FAETP)","12 Ecotoxcity, marine water (MAETP)","14 Ecotoxicity, terrestric (TETP)","101 Energy, primary, renewable (MJ)","102 Energy, primary, non-renewable (MJ)","104 Water, fresh water use (m3)","106 Waste, hazardous (kg)","105 Waste, non hazardous (kg)","107. Waste, radioactive (kg)"]
[null,"Materiaal, afvalscenario","Massa (kg)","Koppelingproces","€","kg Sb eq","kg Sb eq","kg CO2 eq","kg CFC-11 eq","kg C2H4","kg SO2 eq","kg PO4--- eq","kg 1,4-DB eq","kg 1,4-DB eq","kg 1,4-DB eq","kg 1,4-DB eq","MJ","MJ","m3","kg","kg","kg"]
["Som",{"$f":"Invul_Alt_EindeL!$F$13","v":"Leeg"},{"$f":"Invul_Alt_EindeL!$G$13","v":0},null,{"$f":"SUM(E70:E73)","v":0},{"$f":"SUM(F70:F73)","v":0},0,0,0,0,0,0,0,0,0,0,0,0,0,0,0,0]
["Stort",{"$f":"IF(Invul_Alt_EindeL!$I$13=\"Standaard\",Invul_Alt_EindeL!$J$13,Invul_Alt_EindeL!$N$13)","v":0},{"$f":"C69","v":0},{"$f":"VLOOKUP($B69,'MI materialen'!B:AS,41,FALSE)","v":0},{"$f":"IF($B70=0,0,VLOOKUP($D70,MKI!E:K,2,FALSE)*$B70*$C70)","v":0},{"$f":"IF($B70=0,0,VLOOKUP($D70,'MI materialen'!$E:$AS,F$66,FALSE)*$B70*$C70)","v":0},{"$f":"IF($B70=0,0,VLOOKUP($D70,'MI materialen'!$E:$AS,G$66,FALSE)*$B70*$C70)","v":0},{"$f":"IF($B70=0,0,VLOOKUP($D70,'MI materialen'!$E:$AS,H$66,FALSE)*$B70*$C70)","v":0},{"$f":"IF($B70=0,0,VLOOKUP($D70,'MI materialen'!$E:$AS,I$66,FALSE)*$B70*$C70)","v":0},{"$f":"IF($B70=0,0,VLOOKUP($D70,'MI materialen'!$E:$AS,J$66,FALSE)*$B70*$C70)","v":0},{"$f":"IF($B70=0,0,VLOOKUP($D70,'MI materialen'!$E:$AS,K$66,FALSE)*$B70*$C70)","v":0},{"$f":"IF($B70=0,0,VLOOKUP($D70,'MI materialen'!$E:$AS,L$66,FALSE)*$B70*$C70)","v":0},{"$f":"IF($B70=0,0,VLOOKUP($D70,'MI materialen'!$E:$AS,M$66,FALSE)*$B70*$C70)","v":0},{"$f":"IF($B70=0,0,VLOOKUP($D70,'MI materialen'!$E:$AS,N$66,FALSE)*$B70*$C70)","v":0},{"$f":"IF($B70=0,0,VLOOKUP($D70,'MI materialen'!$E:$AS,O$66,FALSE)*$B70*$C70)","v":0},{"$f":"IF($B70=0,0,VLOOKUP($D70,'MI materialen'!$E:$AS,P$66,FALSE)*$B70*$C70)","v":0},{"$f":"IF($B70=0,0,VLOOKUP($D70,'MI materialen'!$E:$AS,Q$66,FALSE)*$B70*$C70)","v":0},{"$f":"IF($B70=0,0,VLOOKUP($D70,'MI materialen'!$E:$AS,R$66,FALSE)*$B70*$C70)","v":0},{"$f":"IF($B70=0,0,VLOOKUP($D70,'MI materialen'!$E:$AS,S$66,FALSE)*$B70*$C70)","v":0},{"$f":"IF($B70=0,0,VLOOKUP($D70,'MI materialen'!$E:$AS,T$66,FALSE)*$B70*$C70)","v":0},{"$f":"IF($B70=0,0,VLOOKUP($D70,'MI materialen'!$E:$AS,U$66,FALSE)*$B70*$C70)","v":0},{"$f":"IF($B70=0,0,VLOOKUP($D70,'MI materialen'!$E:$AS,V$66,FALSE)*$B70*$C70)","v":0}]
["Verbranding",{"$f":"IF(Invul_Alt_EindeL!$I$13=\"Standaard\",Invul_Alt_EindeL!$K$13,Invul_Alt_EindeL!$O$13)","v":0},{"$f":"C69","v":0},{"$f":"VLOOKUP($B69,'MI materialen'!B:AS,42,FALSE)","v":0},{"$f":"IF($B71=0,0,VLOOKUP($D71,MKI!E:K,2,FALSE)*$B71*$C71)","v":0},{"$f":"IF($B71=0,0,VLOOKUP($D71,'MI materialen'!$E:$AS,F$66,FALSE)*$B71*$C71)","v":0},{"$f":"IF($B71=0,0,VLOOKUP($D71,'MI materialen'!$E:$AS,G$66,FALSE)*$B71*$C71)","v":0},{"$f":"IF($B71=0,0,VLOOKUP($D71,'MI materialen'!$E:$AS,H$66,FALSE)*$B71*$C71)","v":0},{"$f":"IF($B71=0,0,VLOOKUP($D71,'MI materialen'!$E:$AS,I$66,FALSE)*$B71*$C71)","v":0},{"$f":"IF($B71=0,0,VLOOKUP($D71,'MI materialen'!$E:$AS,J$66,FALSE)*$B71*$C71)","v":0},{"$f":"IF($B71=0,0,VLOOKUP($D71,'MI materialen'!$E:$AS,K$66,FALSE)*$B71*$C71)","v":0},{"$f":"IF($B71=0,0,VLOOKUP($D71,'MI materialen'!$E:$AS,L$66,FALSE)*$B71*$C71)","v":0},{"$f":"IF($B71=0,0,VLOOKUP($D71,'MI materialen'!$E:$AS,M$66,FALSE)*$B71*$C71)","v":0},{"$f":"IF($B71=0,0,VLOOKUP($D71,'MI materialen'!$E:$AS,N$66,FALSE)*$B71*$C71)","v":0},{"$f":"IF($B71=0,0,VLOOKUP($D71,'MI materialen'!$E:$AS,O$66,FALSE)*$B71*$C71)","v":0},{"$f":"IF($B71=0,0,VLOOKUP($D71,'MI materialen'!$E:$AS,P$66,FALSE)*$B71*$C71)","v":0},{"$f":"IF($B71=0,0,VLOOKUP($D71,'MI materialen'!$E:$AS,Q$66,FALSE)*$B71*$C71)","v":0},{"$f":"IF($B71=0,0,VLOOKUP($D71,'MI materialen'!$E:$AS,R$66,FALSE)*$B71*$C71)","v":0},{"$f":"IF($B71=0,0,VLOOKUP($D71,'MI materialen'!$E:$AS,S$66,FALSE)*$B71*$C71)","v":0},{"$f":"IF($B71=0,0,VLOOKUP($D71,'MI materialen'!$E:$AS,T$66,FALSE)*$B71*$C71)","v":0},{"$f":"IF($B71=0,0,VLOOKUP($D71,'MI materialen'!$E:$AS,U$66,FALSE)*$B71*$C71)","v":0},{"$f":"IF($B71=0,0,VLOOKUP($D71,'MI materialen'!$E:$AS,V$66,FALSE)*$B71*$C71)","v":0}]
["Recycling baten",{"$f":"IF(Invul_Alt_EindeL!$I$13=\"Standaard\",Invul_Alt_EindeL!$L$13,Invul_Alt_EindeL!$P$13)*(100%-Invul_Alt_Materialen!$J$12)","v":0},{"$f":"C69","v":0},{"$f":"VLOOKUP($B69,'MI materialen'!B:AS,43,FALSE)","v":0},{"$f":"IF($B72=0,0,VLOOKUP($D72,MKI!E:K,2,FALSE)*$B72*$C72)","v":0},{"$f":"IF($B72=0,0,VLOOKUP($D72,'MI materialen'!$E:$AS,F$66,FALSE)*$B72*$C72)","v":0},{"$f":"IF($B72=0,0,VLOOKUP($D72,'MI materialen'!$E:$AS,G$66,FALSE)*$B72*$C72)","v":0},{"$f":"IF($B72=0,0,VLOOKUP($D72,'MI materialen'!$E:$AS,H$66,FALSE)*$B72*$C72)","v":0},{"$f":"IF($B72=0,0,VLOOKUP($D72,'MI materialen'!$E:$AS,I$66,FALSE)*$B72*$C72)","v":0},{"$f":"IF($B72=0,0,VLOOKUP($D72,'MI materialen'!$E:$AS,J$66,FALSE)*$B72*$C72)","v":0},{"$f":"IF($B72=0,0,VLOOKUP($D72,'MI materialen'!$E:$AS,K$66,FALSE)*$B72*$C72)","v":0},{"$f":"IF($B72=0,0,VLOOKUP($D72,'MI materialen'!$E:$AS,L$66,FALSE)*$B72*$C72)","v":0},{"$f":"IF($B72=0,0,VLOOKUP($D72,'MI materialen'!$E:$AS,M$66,FALSE)*$B72*$C72)","v":0},{"$f":"IF($B72=0,0,VLOOKUP($D72,'MI materialen'!$E:$AS,N$66,FALSE)*$B72*$C72)","v":0},{"$f":"IF($B72=0,0,VLOOKUP($D72,'MI materialen'!$E:$AS,O$66,FALSE)*$B72*$C72)","v":0},{"$f":"IF($B72=0,0,VLOOKUP($D72,'MI materialen'!$E:$AS,P$66,FALSE)*$B72*$C72)","v":0},{"$f":"IF($B72=0,0,VLOOKUP($D72,'MI materialen'!$E:$AS,Q$66,FALSE)*$B72*$C72)","v":0},{"$f":"IF($B72=0,0,VLOOKUP($D72,'MI materialen'!$E:$AS,R$66,FALSE)*$B72*$C72)","v":0},{"$f":"IF($B72=0,0,VLOOKUP($D72,'MI materialen'!$E:$AS,S$66,FALSE)*$B72*$C72)","v":0},{"$f":"IF($B72=0,0,VLOOKUP($D72,'MI materialen'!$E:$AS,T$66,FALSE)*$B72*$C72)","v":0},{"$f":"IF($B72=0,0,VLOOKUP($D72,'MI materialen'!$E:$AS,U$66,FALSE)*$B72*$C72)","v":0},{"$f":"IF($B72=0,0,VLOOKUP($D72,'MI materialen'!$E:$AS,V$66,FALSE)*$B72*$C72)","v":0}]
["Hergebruik",{"$f":"IF(Invul_Alt_EindeL!$I$13=\"Standaard\",Invul_Alt_EindeL!$M$13,Invul_Alt_EindeL!$Q$13)*(100%-Invul_Alt_Materialen!$J$12)","v":0},{"$f":"C69","v":0},{"$f":"VLOOKUP($B69,'MI materialen'!B:AS,43,FALSE)","v":0},{"$f":"IF($B73=0,0,VLOOKUP($D73,MKI!E:K,2,FALSE)*$B73*$C73)","v":0},{"$f":"IF($B73=0,0,VLOOKUP($D73,'MI materialen'!$E:$AS,F$66,FALSE)*$B73*$C73)","v":0},{"$f":"IF($B73=0,0,VLOOKUP($D73,'MI materialen'!$E:$AS,G$66,FALSE)*$B73*$C73)","v":0},{"$f":"IF($B73=0,0,VLOOKUP($D73,'MI materialen'!$E:$AS,H$66,FALSE)*$B73*$C73)","v":0},{"$f":"IF($B73=0,0,VLOOKUP($D73,'MI materialen'!$E:$AS,I$66,FALSE)*$B73*$C73)","v":0},{"$f":"IF($B73=0,0,VLOOKUP($D73,'MI materialen'!$E:$AS,J$66,FALSE)*$B73*$C73)","v":0},{"$f":"IF($B73=0,0,VLOOKUP($D73,'MI materialen'!$E:$AS,K$66,FALSE)*$B73*$C73)","v":0},{"$f":"IF($B73=0,0,VLOOKUP($D73,'MI materialen'!$E:$AS,L$66,FALSE)*$B73*$C73)","v":0},{"$f":"IF($B73=0,0,VLOOKUP($D73,'MI materialen'!$E:$AS,M$66,FALSE)*$B73*$C73)","v":0},{"$f":"IF($B73=0,0,VLOOKUP($D73,'MI materialen'!$E:$AS,N$66,FALSE)*$B73*$C73)","v":0},{"$f":"IF($B73=0,0,VLOOKUP($D73,'MI materialen'!$E:$AS,O$66,FALSE)*$B73*$C73)","v":0},{"$f":"IF($B73=0,0,VLOOKUP($D73,'MI materialen'!$E:$AS,P$66,FALSE)*$B73*$C73)","v":0},{"$f":"IF($B73=0,0,VLOOKUP($D73,'MI materialen'!$E:$AS,Q$66,FALSE)*$B73*$C73)","v":0},{"$f":"IF($B73=0,0,VLOOKUP($D73,'MI materialen'!$E:$AS,R$66,FALSE)*$B73*$C73)","v":0},{"$f":"IF($B73=0,0,VLOOKUP($D73,'MI materialen'!$E:$AS,S$66,FALSE)*$B73*$C73)","v":0},{"$f":"IF($B73=0,0,VLOOKUP($D73,'MI materialen'!$E:$AS,T$66,FALSE)*$B73*$C73)","v":0},{"$f":"IF($B73=0,0,VLOOKUP($D73,'MI materialen'!$E:$AS,U$66,FALSE)*$B73*$C73)","v":0},{"$f":"IF($B73=0,0,VLOOKUP($D73,'MI materialen'!$E:$AS,V$66,FALSE)*$B73*$C73)","v":0}]
["Som",{"$f":"Invul_Alt_EindeL!$F$14","v":"Leeg"},{"$f":"Invul_Alt_EindeL!$G$14","v":0},null,{"$f":"SUM(E75:E78)","v":0},{"$f":"SUM(F75:F78)","v":0},0,0,0,0,0,0,0,0,0,0,0,0,0,0,0,0]
["Stort",{"$f":"IF(Invul_Alt_EindeL!$I$14=\"Standaard\",Invul_Alt_EindeL!$J$14,Invul_Alt_EindeL!$N$14)","v":0},{"$f":"C74","v":0},{"$f":"VLOOKUP($B74,'MI materialen'!B:AS,41,FALSE)","v":0},{"$f":"IF($B75=0,0,VLOOKUP($D75,MKI!E:K,2,FALSE)*$B75*$C75)","v":0},{"$f":"IF($B75=0,0,VLOOKUP($D75,'MI materialen'!$E:$AS,F$66,FALSE)*$B75*$C75)","v":0},{"$f":"IF($B75=0,0,VLOOKUP($D75,'MI materialen'!$E:$AS,G$66,FALSE)*$B75*$C75)","v":0},{"$f":"IF($B75=0,0,VLOOKUP($D75,'MI materialen'!$E:$AS,H$66,FALSE)*$B75*$C75)","v":0},{"$f":"IF($B75=0,0,VLOOKUP($D75,'MI materialen'!$E:$AS,I$66,FALSE)*$B75*$C75)","v":0},{"$f":"IF($B75=0,0,VLOOKUP($D75,'MI materialen'!$E:$AS,J$66,FALSE)*$B75*$C75)","v":0},{"$f":"IF($B75=0,0,VLOOKUP($D75,'MI materialen'!$E:$AS,K$66,FALSE)*$B75*$C75)","v":0},{"$f":"IF($B75=0,0,VLOOKUP($D75,'MI materialen'!$E:$AS,L$66,FALSE)*$B75*$C75)","v":0},{"$f":"IF($B75=0,0,VLOOKUP($D75,'MI materialen'!$E:$AS,M$66,FALSE)*$B75*$C75)","v":0},{"$f":"IF($B75=0,0,VLOOKUP($D75,'MI materialen'!$E:$AS,N$66,FALSE)*$B75*$C75)","v":0},{"$f":"IF($B75=0,0,VLOOKUP($D75,'MI materialen'!$E:$AS,O$66,FALSE)*$B75*$C75)","v":0},{"$f":"IF($B75=0,0,VLOOKUP($D75,'MI materialen'!$E:$AS,P$66,FALSE)*$B75*$C75)","v":0},{"$f":"IF($B75=0,0,VLOOKUP($D75,'MI materialen'!$E:$AS,Q$66,FALSE)*$B75*$C75)","v":0},{"$f":"IF($B75=0,0,VLOOKUP($D75,'MI materialen'!$E:$AS,R$66,FALSE)*$B75*$C75)","v":0},{"$f":"IF($B75=0,0,VLOOKUP($D75,'MI materialen'!$E:$AS,S$66,FALSE)*$B75*$C75)","v":0},{"$f":"IF($B75=0,0,VLOOKUP($D75,'MI materialen'!$E:$AS,T$66,FALSE)*$B75*$C75)","v":0},{"$f":"IF($B75=0,0,VLOOKUP($D75,'MI materialen'!$E:$AS,U$66,FALSE)*$B75*$C75)","v":0},{"$f":"IF($B75=0,0,VLOOKUP($D75,'MI materialen'!$E:$AS,V$66,FALSE)*$B75*$C75)","v":0}]
["Verbranding",{"$f":"IF(Invul_Alt_EindeL!$I$14=\"Standaard\",Invul_Alt_EindeL!$K$14,Invul_Alt_EindeL!$O$14)","v":0},{"$f":"C74","v":0},{"$f":"VLOOKUP($B74,'MI materialen'!B:AS,42,FALSE)","v":0},{"$f":"IF($B76=0,0,VLOOKUP($D76,MKI!E:K,2,FALSE)*$B76*$C76)","v":0},{"$f":"IF($B76=0,0,VLOOKUP($D76,'MI materialen'!$E:$AS,F$66,FALSE)*$B76*$C76)","v":0},{"$f":"IF($B76=0,0,VLOOKUP($D76,'MI materialen'!$E:$AS,G$66,FALSE)*$B76*$C76)","v":0},{"$f":"IF($B76=0,0,VLOOKUP($D76,'MI materialen'!$E:$AS,H$66,FALSE)*$B76*$C76)","v":0},{"$f":"IF($B76=0,0,VLOOKUP($D76,'MI materialen'!$E:$AS,I$66,FALSE)*$B76*$C76)","v":0},{"$f":"IF($B76=0,0,VLOOKUP($D76,'MI materialen'!$E:$AS,J$66,FALSE)*$B76*$C76)","v":0},{"$f":"IF($B76=0,0,VLOOKUP($D76,'MI materialen'!$E:$AS,K$66,FALSE)*$B76*$C76)","v":0},{"$f":"IF($B76=0,0,VLOOKUP($D76,'MI materialen'!$E:$AS,L$66,FALSE)*$B76*$C76)","v":0},{"$f":"IF($B76=0,0,VLOOKUP($D76,'MI materialen'!$E:$AS,M$66,FALSE)*$B76*$C76)","v":0},{"$f":"IF($B76=0,0,VLOOKUP($D76,'MI materialen'!$E:$AS,N$66,FALSE)*$B76*$C76)","v":0},{"$f":"IF($B76=0,0,VLOOKUP($D76,'MI materialen'!$E:$AS,O$66,FALSE)*$B76*$C76)","v":0},{"$f":"IF($B76=0,0,VLOOKUP($D76,'MI materialen'!$E:$AS,P$66,FALSE)*$B76*$C76)","v":0},{"$f":"IF($B76=0,0,VLOOKUP($D76,'MI materialen'!$E:$AS,Q$66,FALSE)*$B76*$C76)","v":0},{"$f":"IF($B76=0,0,VLOOKUP($D76,'MI materialen'!$E:$AS,R$66,FALSE)*$B76*$C76)","v":0},{"$f":"IF($B76=0,0,VLOOKUP($D76,'MI materialen'!$E:$AS,S$66,FALSE)*$B76*$C76)","v":0},{"$f":"IF($B76=0,0,VLOOKUP($D76,'MI materialen'!$E:$AS,T$66,FALSE)*$B76*$C76)","v":0},{"$f":"IF($B76=0,0,VLOOKUP($D76,'MI materialen'!$E:$AS,U$66,FALSE)*$B76*$C76)","v":0},{"$f":"IF($B76=0,0,VLOOKUP($D76,'MI materialen'!$E:$AS,V$66,FALSE)*$B76*$C76)","v":0}]
["Recycling",{"$f":"IF(Invul_Alt_EindeL!$I$14=\"Standaard\",Invul_Alt_EindeL!$L$14,Invul_Alt_EindeL!$P$14)*(100%-Invul_Alt_Materialen!$J$13)","v":0},{"$f":"C74","v":0},{"$f":"VLOOKUP($B74,'MI materialen'!B:AS,43,FALSE)","v":0},{"$f":"IF($B77=0,0,VLOOKUP($D77,MKI!E:K,2,FALSE)*$B77*$C77)","v":0},{"$f":"IF($B77=0,0,VLOOKUP($D77,'MI materialen'!$E:$AS,F$66,FALSE)*$B77*$C77)","v":0},{"$f":"IF($B77=0,0,VLOOKUP($D77,'MI materialen'!$E:$AS,G$66,FALSE)*$B77*$C77)","v":0},{"$f":"IF($B77=0,0,VLOOKUP($D77,'MI materialen'!$E:$AS,H$66,FALSE)*$B77*$C77)","v":0},{"$f":"IF($B77=0,0,VLOOKUP($D77,'MI materialen'!$E:$AS,I$66,FALSE)*$B77*$C77)","v":0},{"$f":"IF($B77=0,0,VLOOKUP($D77,'MI materialen'!$E:$AS,J$66,FALSE)*$B77*$C77)","v":0},{"$f":"IF($B77=0,0,VLOOKUP($D77,'MI materialen'!$E:$AS,K$66,FALSE)*$B77*$C77)","v":0},{"$f":"IF($B77=0,0,VLOOKUP($D77,'MI materialen'!$E:$AS,L$66,FALSE)*$B77*$C77)","v":0},{"$f":"IF($B77=0,0,VLOOKUP($D77,'MI materialen'!$E:$AS,M$66,FALSE)*$B77*$C77)","v":0},{"$f":"IF($B77=0,0,VLOOKUP($D77,'MI materialen'!$E:$AS,N$66,FALSE)*$B77*$C77)","v":0},{"$f":"IF($B77=0,0,VLOOKUP($D77,'MI materialen'!$E:$AS,O$66,FALSE)*$B77*$C77)","v":0},{"$f":"IF($B77=0,0,VLOOKUP($D77,'MI materialen'!$E:$AS,P$66,FALSE)*$B77*$C77)","v":0},{"$f":"IF($B77=0,0,VLOOKUP($D77,'MI materialen'!$E:$AS,Q$66,FALSE)*$B77*$C77)","v":0},{"$f":"IF($B77=0,0,VLOOKUP($D77,'MI materialen'!$E:$AS,R$66,FALSE)*$B77*$C77)","v":0},{"$f":"IF($B77=0,0,VLOOKUP($D77,'MI materialen'!$E:$AS,S$66,FALSE)*$B77*$C77)","v":0},{"$f":"IF($B77=0,0,VLOOKUP($D77,'MI materialen'!$E:$AS,T$66,FALSE)*$B77*$C77)","v":0},{"$f":"IF($B77=0,0,VLOOKUP($D77,'MI materialen'!$E:$AS,U$66,FALSE)*$B77*$C77)","v":0},{"$f":"IF($B77=0,0,VLOOKUP($D77,'MI materialen'!$E:$AS,V$66,FALSE)*$B77*$C77)","v":0}]
["Hergebruik",{"$f":"IF(Invul_Alt_EindeL!$I$14=\"Standaard\",Invul_Alt_EindeL!$M$14,Invul_Alt_EindeL!$Q$14)*(100%-Invul_Alt_Materialen!$J$13)","v":0},{"$f":"C74","v":0},{"$f":"VLOOKUP($B74,'MI materialen'!B:AS,43,FALSE)","v":0},{"$f":"IF($B78=0,0,VLOOKUP($D78,MKI!E:K,2,FALSE)*$B78*$C78)","v":0},{"$f":"IF($B78=0,0,VLOOKUP($D78,'MI materialen'!$E:$AS,F$66,FALSE)*$B78*$C78)","v":0},{"$f":"IF($B78=0,0,VLOOKUP($D78,'MI materialen'!$E:$AS,G$66,FALSE)*$B78*$C78)","v":0},{"$f":"IF($B78=0,0,VLOOKUP($D78,'MI materialen'!$E:$AS,H$66,FALSE)*$B78*$C78)","v":0},{"$f":"IF($B78=0,0,VLOOKUP($D78,'MI materialen'!$E:$AS,I$66,FALSE)*$B78*$C78)","v":0},{"$f":"IF($B78=0,0,VLOOKUP($D78,'MI materialen'!$E:$AS,J$66,FALSE)*$B78*$C78)","v":0},{"$f":"IF($B78=0,0,VLOOKUP($D78,'MI materialen'!$E:$AS,K$66,FALSE)*$B78*$C78)","v":0},{"$f":"IF($B78=0,0,VLOOKUP($D78,'MI materialen'!$E:$AS,L$66,FALSE)*$B78*$C78)","v":0},{"$f":"IF($B78=0,0,VLOOKUP($D78,'MI materialen'!$E:$AS,M$66,FALSE)*$B78*$C78)","v":0},{"$f":"IF($B78=0,0,VLOOKUP($D78,'MI materialen'!$E:$AS,N$66,FALSE)*$B78*$C78)","v":0},{"$f":"IF($B78=0,0,VLOOKUP($D78,'MI materialen'!$E:$AS,O$66,FALSE)*$B78*$C78)","v":0},{"$f":"IF($B78=0,0,VLOOKUP($D78,'MI materialen'!$E:$AS,P$66,FALSE)*$B78*$C78)","v":0},{"$f":"IF($B78=0,0,VLOOKUP($D78,'MI materialen'!$E:$AS,Q$66,FALSE)*$B78*$C78)","v":0},{"$f":"IF($B78=0,0,VLOOKUP($D78,'MI materialen'!$E:$AS,R$66,FALSE)*$B78*$C78)","v":0},{"$f":"IF($B78=0,0,VLOOKUP($D78,'MI materialen'!$E:$AS,S$66,FALSE)*$B78*$C78)","v":0},{"$f":"IF($B78=0,0,VLOOKUP($D78,'MI materialen'!$E:$AS,T$66,FALSE)*$B78*$C78)","v":0},{"$f":"IF($B78=0,0,VLOOKUP($D78,'MI materialen'!$E:$AS,U$66,FALSE)*$B78*$C78)","v":0},{"$f":"IF($B78=0,0,VLOOKUP($D78,'MI materialen'!$E:$AS,V$66,FALSE)*$B78*$C78)","v":0}]
["Som",{"$f":"Invul_Alt_EindeL!$F$15","v":"Leeg"},{"$f":"Invul_Alt_EindeL!$G$15","v":0},null,{"$f":"SUM(E80:E83)","v":0},{"$f":"SUM(F80:F83)","v":0},0,0,0,0,0,0,0,0,0,0,0,0,0,0,0,0]
["Stort",{"$f":"IF(Invul_Alt_EindeL!$I$15=\"Standaard\",Invul_Alt_EindeL!$J$15,Invul_Alt_EindeL!$N$15)","v":0},{"$f":"C79","v":0},{"$f":"VLOOKUP($B79,'MI materialen'!B:AS,41,FALSE)","v":0},{"$f":"IF($B80=0,0,VLOOKUP($D80,MKI!E:K,2,FALSE)*$B80*$C80)","v":0},{"$f":"IF($B80=0,0,VLOOKUP($D80,'MI materialen'!$E:$AS,F$66,FALSE)*$B80*$C80)","v":0},{"$f":"IF($B80=0,0,VLOOKUP($D80,'MI materialen'!$E:$AS,G$66,FALSE)*$B80*$C80)","v":0},{"$f":"IF($B80=0,0,VLOOKUP($D80,'MI materialen'!$E:$AS,H$66,FALSE)*$B80*$C80)","v":0},{"$f":"IF($B80=0,0,VLOOKUP($D80,'MI materialen'!$E:$AS,I$66,FALSE)*$B80*$C80)","v":0},{"$f":"IF($B80=0,0,VLOOKUP($D80,'MI materialen'!$E:$AS,J$66,FALSE)*$B80*$C80)","v":0},{"$f":"IF($B80=0,0,VLOOKUP($D80,'MI materialen'!$E:$AS,K$66,FALSE)*$B80*$C80)","v":0},{"$f":"IF($B80=0,0,VLOOKUP($D80,'MI materialen'!$E:$AS,L$66,FALSE)*$B80*$C80)","v":0},{"$f":"IF($B80=0,0,VLOOKUP($D80,'MI materialen'!$E:$AS,M$66,FALSE)*$B80*$C80)","v":0},{"$f":"IF($B80=0,0,VLOOKUP($D80,'MI materialen'!$E:$AS,N$66,FALSE)*$B80*$C80)","v":0},{"$f":"IF($B80=0,0,VLOOKUP($D80,'MI materialen'!$E:$AS,O$66,FALSE)*$B80*$C80)","v":0},{"$f":"IF($B80=0,0,VLOOKUP($D80,'MI materialen'!$E:$AS,P$66,FALSE)*$B80*$C80)","v":0},{"$f":"IF($B80=0,0,VLOOKUP($D80,'MI materialen'!$E:$AS,Q$66,FALSE)*$B80*$C80)","v":0},{"$f":"IF($B80=0,0,VLOOKUP($D80,'MI materialen'!$E:$AS,R$66,FALSE)*$B80*$C80)","v":0},{"$f":"IF($B80=0,0,VLOOKUP($D80,'MI materialen'!$E:$AS,S$66,FALSE)*$B80*$C80)","v":0},{"$f":"IF($B80=0,0,VLOOKUP($D80,'MI materialen'!$E:$AS,T$66,FALSE)*$B80*$C80)","v":0},{"$f":"IF($B80=0,0,VLOOKUP($D80,'MI materialen'!$E:$AS,U$66,FALSE)*$B80*$C80)","v":0},{"$f":"IF($B80=0,0,VLOOKUP($D80,'MI materialen'!$E:$AS,V$66,FALSE)*$B80*$C80)","v":0}]
["Verbranding",{"$f":"IF(Invul_Alt_EindeL!$I$15=\"Standaard\",Invul_Alt_EindeL!$K$15,Invul_Alt_EindeL!$O$15)","v":0},{"$f":"C79","v":0},{"$f":"VLOOKUP($B79,'MI materialen'!B:AS,42,FALSE)","v":0},{"$f":"IF($B81=0,0,VLOOKUP($D81,MKI!E:K,2,FALSE)*$B81*$C81)","v":0},{"$f":"IF($B81=0,0,VLOOKUP($D81,'MI materialen'!$E:$AS,F$66,FALSE)*$B81*$C81)","v":0},{"$f":"IF($B81=0,0,VLOOKUP($D81,'MI materialen'!$E:$AS,G$66,FALSE)*$B81*$C81)","v":0},{"$f":"IF($B81=0,0,VLOOKUP($D81,'MI materialen'!$E:$AS,H$66,FALSE)*$B81*$C81)","v":0},{"$f":"IF($B81=0,0,VLOOKUP($D81,'MI materialen'!$E:$AS,I$66,FALSE)*$B81*$C81)","v":0},{"$f":"IF($B81=0,0,VLOOKUP($D81,'MI materialen'!$E:$AS,J$66,FALSE)*$B81*$C81)","v":0},{"$f":"IF($B81=0,0,VLOOKUP($D81,'MI materialen'!$E:$AS,K$66,FALSE)*$B81*$C81)","v":0},{"$f":"IF($B81=0,0,VLOOKUP($D81,'MI materialen'!$E:$AS,L$66,FALSE)*$B81*$C81)","v":0},{"$f":"IF($B81=0,0,VLOOKUP($D81,'MI materialen'!$E:$AS,M$66,FALSE)*$B81*$C81)","v":0},{"$f":"IF($B81=0,0,VLOOKUP($D81,'MI materialen'!$E:$AS,N$66,FALSE)*$B81*$C81)","v":0},{"$f":"IF($B81=0,0,VLOOKUP($D81,'MI materialen'!$E:$AS,O$66,FALSE)*$B81*$C81)","v":0},{"$f":"IF($B81=0,0,VLOOKUP($D81,'MI materialen'!$E:$AS,P$66,FALSE)*$B81*$C81)","v":0},{"$f":"IF($B81=0,0,VLOOKUP($D81,'MI materialen'!$E:$AS,Q$66,FALSE)*$B81*$C81)","v":0},{"$f":"IF($B81=0,0,VLOOKUP($D81,'MI materialen'!$E:$AS,R$66,FALSE)*$B81*$C81)","v":0},{"$f":"IF($B81=0,0,VLOOKUP($D81,'MI materialen'!$E:$AS,S$66,FALSE)*$B81*$C81)","v":0},{"$f":"IF($B81=0,0,VLOOKUP($D81,'MI materialen'!$E:$AS,T$66,FALSE)*$B81*$C81)","v":0},{"$f":"IF($B81=0,0,VLOOKUP($D81,'MI materialen'!$E:$AS,U$66,FALSE)*$B81*$C81)","v":0},{"$f":"IF($B81=0,0,VLOOKUP($D81,'MI materialen'!$E:$AS,V$66,FALSE)*$B81*$C81)","v":0}]
["Recycling",{"$f":"IF(Invul_Alt_EindeL!$I$15=\"Standaard\",Invul_Alt_EindeL!$L$15,Invul_Alt_EindeL!$P$15)*(100%-Invul_Alt_Materialen!$J$14)","v":0},{"$f":"C79","v":0},{"$f":"VLOOKUP($B79,'MI materialen'!B:AS,43,FALSE)","v":0},{"$f":"IF($B82=0,0,VLOOKUP($D82,MKI!E:K,2,FALSE)*$B82*$C82)","v":0},{"$f":"IF($B82=0,0,VLOOKUP($D82,'MI materialen'!$E:$AS,F$66,FALSE)*$B82*$C82)","v":0},{"$f":"IF($B82=0,0,VLOOKUP($D82,'MI materialen'!$E:$AS,G$66,FALSE)*$B82*$C82)","v":0},{"$f":"IF($B82=0,0,VLOOKUP($D82,'MI materialen'!$E:$AS,H$66,FALSE)*$B82*$C82)","v":0},{"$f":"IF($B82=0,0,VLOOKUP($D82,'MI materialen'!$E:$AS,I$66,FALSE)*$B82*$C82)","v":0},{"$f":"IF($B82=0,0,VLOOKUP($D82,'MI materialen'!$E:$AS,J$66,FALSE)*$B82*$C82)","v":0},{"$f":"IF($B82=0,0,VLOOKUP($D82,'MI materialen'!$E:$AS,K$66,FALSE)*$B82*$C82)","v":0},{"$f":"IF($B82=0,0,VLOOKUP($D82,'MI materialen'!$E:$AS,L$66,FALSE)*$B82*$C82)","v":0},{"$f":"IF($B82=0,0,VLOOKUP($D82,'MI materialen'!$E:$AS,M$66,FALSE)*$B82*$C82)","v":0},{"$f":"IF($B82=0,0,VLOOKUP($D82,'MI materialen'!$E:$AS,N$66,FALSE)*$B82*$C82)","v":0},{"$f":"IF($B82=0,0,VLOOKUP($D82,'MI materialen'!$E:$AS,O$66,FALSE)*$B82*$C82)","v":0},{"$f":"IF($B82=0,0,VLOOKUP($D82,'MI materialen'!$E:$AS,P$66,FALSE)*$B82*$C82)","v":0},{"$f":"IF($B82=0,0,VLOOKUP($D82,'MI materialen'!$E:$AS,Q$66,FALSE)*$B82*$C82)","v":0},{"$f":"IF($B82=0,0,VLOOKUP($D82,'MI materialen'!$E:$AS,R$66,FALSE)*$B82*$C82)","v":0},{"$f":"IF($B82=0,0,VLOOKUP($D82,'MI materialen'!$E:$AS,S$66,FALSE)*$B82*$C82)","v":0},{"$f":"IF($B82=0,0,VLOOKUP($D82,'MI materialen'!$E:$AS,T$66,FALSE)*$B82*$C82)","v":0},{"$f":"IF($B82=0,0,VLOOKUP($D82,'MI materialen'!$E:$AS,U$66,FALSE)*$B82*$C82)","v":0},{"$f":"IF($B82=0,0,VLOOKUP($D82,'MI materialen'!$E:$AS,V$66,FALSE)*$B82*$C82)","v":0}]
["Hergebruik",{"$f":"IF(Invul_Alt_EindeL!$I$15=\"Standaard\",Invul_Alt_EindeL!$M$15,Invul_Alt_EindeL!$Q$15)*(100%-Invul_Alt_Materialen!$J$14)","v":0},{"$f":"C79","v":0},{"$f":"VLOOKUP($B79,'MI materialen'!B:AS,43,FALSE)","v":0},{"$f":"IF($B83=0,0,VLOOKUP($D83,MKI!E:K,2,FALSE)*$B83*$C83)","v":0},{"$f":"IF($B83=0,0,VLOOKUP($D83,'MI materialen'!$E:$AS,F$66,FALSE)*$B83*$C83)","v":0},{"$f":"IF($B83=0,0,VLOOKUP($D83,'MI materialen'!$E:$AS,G$66,FALSE)*$B83*$C83)","v":0},{"$f":"IF($B83=0,0,VLOOKUP($D83,'MI materialen'!$E:$AS,H$66,FALSE)*$B83*$C83)","v":0},{"$f":"IF($B83=0,0,VLOOKUP($D83,'MI materialen'!$E:$AS,I$66,FALSE)*$B83*$C83)","v":0},{"$f":"IF($B83=0,0,VLOOKUP($D83,'MI materialen'!$E:$AS,J$66,FALSE)*$B83*$C83)","v":0},{"$f":"IF($B83=0,0,VLOOKUP($D83,'MI materialen'!$E:$AS,K$66,FALSE)*$B83*$C83)","v":0},{"$f":"IF($B83=0,0,VLOOKUP($D83,'MI materialen'!$E:$AS,L$66,FALSE)*$B83*$C83)","v":0},{"$f":"IF($B83=0,0,VLOOKUP($D83,'MI materialen'!$E:$AS,M$66,FALSE)*$B83*$C83)","v":0},{"$f":"IF($B83=0,0,VLOOKUP($D83,'MI materialen'!$E:$AS,N$66,FALSE)*$B83*$C83)","v":0},{"$f":"IF($B83=0,0,VLOOKUP($D83,'MI materialen'!$E:$AS,O$66,FALSE)*$B83*$C83)","v":0},{"$f":"IF($B83=0,0,VLOOKUP($D83,'MI materialen'!$E:$AS,P$66,FALSE)*$B83*$C83)","v":0},{"$f":"IF($B83=0,0,VLOOKUP($D83,'MI materialen'!$E:$AS,Q$66,FALSE)*$B83*$C83)","v":0},{"$f":"IF($B83=0,0,VLOOKUP($D83,'MI materialen'!$E:$AS,R$66,FALSE)*$B83*$C83)","v":0},{"$f":"IF($B83=0,0,VLOOKUP($D83,'MI materialen'!$E:$AS,S$66,FALSE)*$B83*$C83)","v":0},{"$f":"IF($B83=0,0,VLOOKUP($D83,'MI materialen'!$E:$AS,T$66,FALSE)*$B83*$C83)","v":0},{"$f":"IF($B83=0,0,VLOOKUP($D83,'MI materialen'!$E:$AS,U$66,FALSE)*$B83*$C83)","v":0},{"$f":"IF($B83=0,0,VLOOKUP($D83,'MI materialen'!$E:$AS,V$66,FALSE)*$B83*$C83)","v":0}]
["Som",{"$f":"Invul_Alt_EindeL!$F$16","v":"Leeg"},{"$f":"Invul_Alt_EindeL!$G$16","v":0},null,{"$f":"SUM(E85:E88)","v":0},{"$f":"SUM(F85:F88)","v":0},0,0,0,0,0,0,0,0,0,0,0,0,0,0,0,0]
["Stort",{"$f":"IF(Invul_Alt_EindeL!$I$16=\"Standaard\",Invul_Alt_EindeL!$J$16,Invul_Alt_EindeL!$N$16)","v":0},{"$f":"C84","v":0},{"$f":"VLOOKUP($B84,'MI materialen'!B:AS,41,FALSE)","v":0},{"$f":"IF($B85=0,0,VLOOKUP($D85,MKI!E:K,2,FALSE)*$B85*$C85)","v":0},{"$f":"IF($B85=0,0,VLOOKUP($D85,'MI materialen'!$E:$AS,F$66,FALSE)*$B85*$C85)","v":0},{"$f":"IF($B85=0,0,VLOOKUP($D85,'MI materialen'!$E:$AS,G$66,FALSE)*$B85*$C85)","v":0},{"$f":"IF($B85=0,0,VLOOKUP($D85,'MI materialen'!$E:$AS,H$66,FALSE)*$B85*$C85)","v":0},{"$f":"IF($B85=0,0,VLOOKUP($D85,'MI materialen'!$E:$AS,I$66,FALSE)*$B85*$C85)","v":0},{"$f":"IF($B85=0,0,VLOOKUP($D85,'MI materialen'!$E:$AS,J$66,FALSE)*$B85*$C85)","v":0},{"$f":"IF($B85=0,0,VLOOKUP($D85,'MI materialen'!$E:$AS,K$66,FALSE)*$B85*$C85)","v":0},{"$f":"IF($B85=0,0,VLOOKUP($D85,'MI materialen'!$E:$AS,L$66,FALSE)*$B85*$C85)","v":0},{"$f":"IF($B85=0,0,VLOOKUP($D85,'MI materialen'!$E:$AS,M$66,FALSE)*$B85*$C85)","v":0},{"$f":"IF($B85=0,0,VLOOKUP($D85,'MI materialen'!$E:$AS,N$66,FALSE)*$B85*$C85)","v":0},{"$f":"IF($B85=0,0,VLOOKUP($D85,'MI materialen'!$E:$AS,O$66,FALSE)*$B85*$C85)","v":0},{"$f":"IF($B85=0,0,VLOOKUP($D85,'MI materialen'!$E:$AS,P$66,FALSE)*$B85*$C85)","v":0},{"$f":"IF($B85=0,0,VLOOKUP($D85,'MI materialen'!$E:$AS,Q$66,FALSE)*$B85*$C85)","v":0},{"$f":"IF($B85=0,0,VLOOKUP($D85,'MI materialen'!$E:$AS,R$66,FALSE)*$B85*$C85)","v":0},{"$f":"IF($B85=0,0,VLOOKUP($D85,'MI materialen'!$E:$AS,S$66,FALSE)*$B85*$C85)","v":0},{"$f":"IF($B85=0,0,VLOOKUP($D85,'MI materialen'!$E:$AS,T$66,FALSE)*$B85*$C85)","v":0},{"$f":"IF($B85=0,0,VLOOKUP($D85,'MI materialen'!$E:$AS,U$66,FALSE)*$B85*$C85)","v":0},{"$f":"IF($B85=0,0,VLOOKUP($D85,'MI materialen'!$E:$AS,V$66,FALSE)*$B85*$C85)","v":0}]
["Verbranding",{"$f":"IF(Invul_Alt_EindeL!$I$16=\"Standaard\",Invul_Alt_EindeL!$K$16,Invul_Alt_EindeL!$O$16)","v":0},{"$f":"C84","v":0},{"$f":"VLOOKUP($B84,'MI materialen'!B:AS,42,FALSE)","v":0},{"$f":"IF($B86=0,0,VLOOKUP($D86,MKI!E:K,2,FALSE)*$B86*$C86)","v":0},{"$f":"IF($B86=0,0,VLOOKUP($D86,'MI materialen'!$E:$AS,F$66,FALSE)*$B86*$C86)","v":0},{"$f":"IF($B86=0,0,VLOOKUP($D86,'MI materialen'!$E:$AS,G$66,FALSE)*$B86*$C86)","v":0},{"$f":"IF($B86=0,0,VLOOKUP($D86,'MI materialen'!$E:$AS,H$66,FALSE)*$B86*$C86)","v":0},{"$f":"IF($B86=0,0,VLOOKUP($D86,'MI materialen'!$E:$AS,I$66,FALSE)*$B86*$C86)","v":0},{"$f":"IF($B86=0,0,VLOOKUP($D86,'MI materialen'!$E:$AS,J$66,FALSE)*$B86*$C86)","v":0},{"$f":"IF($B86=0,0,VLOOKUP($D86,'MI materialen'!$E:$AS,K$66,FALSE)*$B86*$C86)","v":0},{"$f":"IF($B86=0,0,VLOOKUP($D86,'MI materialen'!$E:$AS,L$66,FALSE)*$B86*$C86)","v":0},{"$f":"IF($B86=0,0,VLOOKUP($D86,'MI materialen'!$E:$AS,M$66,FALSE)*$B86*$C86)","v":0},{"$f":"IF($B86=0,0,VLOOKUP($D86,'MI materialen'!$E:$AS,N$66,FALSE)*$B86*$C86)","v":0},{"$f":"IF($B86=0,0,VLOOKUP($D86,'MI materialen'!$E:$AS,O$66,FALSE)*$B86*$C86)","v":0},{"$f":"IF($B86=0,0,VLOOKUP($D86,'MI materialen'!$E:$AS,P$66,FALSE)*$B86*$C86)","v":0},{"$f":"IF($B86=0,0,VLOOKUP($D86,'MI materialen'!$E:$AS,Q$66,FALSE)*$B86*$C86)","v":0},{"$f":"IF($B86=0,0,VLOOKUP($D86,'MI materialen'!$E:$AS,R$66,FALSE)*$B86*$C86)","v":0},{"$f":"IF($B86=0,0,VLOOKUP($D86,'MI materialen'!$E:$AS,S$66,FALSE)*$B86*$C86)","v":0},{"$f":"IF($B86=0,0,VLOOKUP($D86,'MI materialen'!$E:$AS,T$66,FALSE)*$B86*$C86)","v":0},{"$f":"IF($B86=0,0,VLOOKUP($D86,'MI materialen'!$E:$AS,U$66,FALSE)*$B86*$C86)","v":0},{"$f":"IF($B86=0,0,VLOOKUP($D86,'MI materialen'!$E:$AS,V$66,FALSE)*$B86*$C86)","v":0}]
["Recycling",{"$f":"IF(Invul_Alt_EindeL!$I$16=\"Standaard\",Invul_Alt_EindeL!$L$16,Invul_Alt_EindeL!$P$16)*(100%-Invul_Alt_Materialen!$J$15)","v":0},{"$f":"C84","v":0},{"$f":"VLOOKUP($B84,'MI materialen'!B:AS,43,FALSE)","v":0},{"$f":"IF($B87=0,0,VLOOKUP($D87,MKI!E:K,2,FALSE)*$B87*$C87)","v":0},{"$f":"IF($B87=0,0,VLOOKUP($D87,'MI materialen'!$E:$AS,F$66,FALSE)*$B87*$C87)","v":0},{"$f":"IF($B87=0,0,VLOOKUP($D87,'MI materialen'!$E:$AS,G$66,FALSE)*$B87*$C87)","v":0},{"$f":"IF($B87=0,0,VLOOKUP($D87,'MI materialen'!$E:$AS,H$66,FALSE)*$B87*$C87)","v":0},{"$f":"IF($B87=0,0,VLOOKUP($D87,'MI materialen'!$E:$AS,I$66,FALSE)*$B87*$C87)","v":0},{"$f":"IF($B87=0,0,VLOOKUP($D87,'MI materialen'!$E:$AS,J$66,FALSE)*$B87*$C87)","v":0},{"$f":"IF($B87=0,0,VLOOKUP($D87,'MI materialen'!$E:$AS,K$66,FALSE)*$B87*$C87)","v":0},{"$f":"IF($B87=0,0,VLOOKUP($D87,'MI materialen'!$E:$AS,L$66,FALSE)*$B87*$C87)","v":0},{"$f":"IF($B87=0,0,VLOOKUP($D87,'MI materialen'!$E:$AS,M$66,FALSE)*$B87*$C87)","v":0},{"$f":"IF($B87=0,0,VLOOKUP($D87,'MI materialen'!$E:$AS,N$66,FALSE)*$B87*$C87)","v":0},{"$f":"IF($B87=0,0,VLOOKUP($D87,'MI materialen'!$E:$AS,O$66,FALSE)*$B87*$C87)","v":0},{"$f":"IF($B87=0,0,VLOOKUP($D87,'MI materialen'!$E:$AS,P$66,FALSE)*$B87*$C87)","v":0},{"$f":"IF($B87=0,0,VLOOKUP($D87,'MI materialen'!$E:$AS,Q$66,FALSE)*$B87*$C87)","v":0},{"$f":"IF($B87=0,0,VLOOKUP($D87,'MI materialen'!$E:$AS,R$66,FALSE)*$B87*$C87)","v":0},{"$f":"IF($B87=0,0,VLOOKUP($D87,'MI materialen'!$E:$AS,S$66,FALSE)*$B87*$C87)","v":0},{"$f":"IF($B87=0,0,VLOOKUP($D87,'MI materialen'!$E:$AS,T$66,FALSE)*$B87*$C87)","v":0},{"$f":"IF($B87=0,0,VLOOKUP($D87,'MI materialen'!$E:$AS,U$66,FALSE)*$B87*$C87)","v":0},{"$f":"IF($B87=0,0,VLOOKUP($D87,'MI materialen'!$E:$AS,V$66,FALSE)*$B87*$C87)","v":0}]
["Hergebruik",{"$f":"IF(Invul_Alt_EindeL!$I$16=\"Standaard\",Invul_Alt_EindeL!$M$16,Invul_Alt_EindeL!$Q$16)*(100%-Invul_Alt_Materialen!$J$15)","v":0},{"$f":"C84","v":0},{"$f":"VLOOKUP($B84,'MI materialen'!B:AS,43,FALSE)","v":0},{"$f":"IF($B88=0,0,VLOOKUP($D88,MKI!E:K,2,FALSE)*$B88*$C88)","v":0},{"$f":"IF($B88=0,0,VLOOKUP($D88,'MI materialen'!$E:$AS,F$66,FALSE)*$B88*$C88)","v":0},{"$f":"IF($B88=0,0,VLOOKUP($D88,'MI materialen'!$E:$AS,G$66,FALSE)*$B88*$C88)","v":0},{"$f":"IF($B88=0,0,VLOOKUP($D88,'MI materialen'!$E:$AS,H$66,FALSE)*$B88*$C88)","v":0},{"$f":"IF($B88=0,0,VLOOKUP($D88,'MI materialen'!$E:$AS,I$66,FALSE)*$B88*$C88)","v":0},{"$f":"IF($B88=0,0,VLOOKUP($D88,'MI materialen'!$E:$AS,J$66,FALSE)*$B88*$C88)","v":0},{"$f":"IF($B88=0,0,VLOOKUP($D88,'MI materialen'!$E:$AS,K$66,FALSE)*$B88*$C88)","v":0},{"$f":"IF($B88=0,0,VLOOKUP($D88,'MI materialen'!$E:$AS,L$66,FALSE)*$B88*$C88)","v":0},{"$f":"IF($B88=0,0,VLOOKUP($D88,'MI materialen'!$E:$AS,M$66,FALSE)*$B88*$C88)","v":0},{"$f":"IF($B88=0,0,VLOOKUP($D88,'MI materialen'!$E:$AS,N$66,FALSE)*$B88*$C88)","v":0},{"$f":"IF($B88=0,0,VLOOKUP($D88,'MI materialen'!$E:$AS,O$66,FALSE)*$B88*$C88)","v":0},{"$f":"IF($B88=0,0,VLOOKUP($D88,'MI materialen'!$E:$AS,P$66,FALSE)*$B88*$C88)","v":0},{"$f":"IF($B88=0,0,VLOOKUP($D88,'MI materialen'!$E:$AS,Q$66,FALSE)*$B88*$C88)","v":0},{"$f":"IF($B88=0,0,VLOOKUP($D88,'MI materialen'!$E:$AS,R$66,FALSE)*$B88*$C88)","v":0},{"$f":"IF($B88=0,0,VLOOKUP($D88,'MI materialen'!$E:$AS,S$66,FALSE)*$B88*$C88)","v":0},{"$f":"IF($B88=0,0,VLOOKUP($D88,'MI materialen'!$E:$AS,T$66,FALSE)*$B88*$C88)","v":0},{"$f":"IF($B88=0,0,VLOOKUP($D88,'MI materialen'!$E:$AS,U$66,FALSE)*$B88*$C88)","v":0},{"$f":"IF($B88=0,0,VLOOKUP($D88,'MI materialen'!$E:$AS,V$66,FALSE)*$B88*$C88)","v":0}]
["Som",{"$f":"Invul_Alt_EindeL!$F$17","v":"Leeg"},{"$f":"Invul_Alt_EindeL!$G$17","v":0},null,{"$f":"SUM(E90:E93)","v":0},{"$f":"SUM(F90:F93)","v":0},0,0,0,0,0,0,0,0,0,0,0,0,0,0,0,0]
["Stort",{"$f":"IF(Invul_Alt_EindeL!$I$17=\"Standaard\",Invul_Alt_EindeL!$J$17,Invul_Alt_EindeL!$N$17)","v":0},{"$f":"C89","v":0},{"$f":"VLOOKUP($B89,'MI materialen'!B:AS,41,FALSE)","v":0},{"$f":"IF($B90=0,0,VLOOKUP($D90,MKI!E:K,2,FALSE)*$B90*$C90)","v":0},{"$f":"IF($B90=0,0,VLOOKUP($D90,'MI materialen'!$E:$AS,F$66,FALSE)*$B90*$C90)","v":0},{"$f":"IF($B90=0,0,VLOOKUP($D90,'MI materialen'!$E:$AS,G$66,FALSE)*$B90*$C90)","v":0},{"$f":"IF($B90=0,0,VLOOKUP($D90,'MI materialen'!$E:$AS,H$66,FALSE)*$B90*$C90)","v":0},{"$f":"IF($B90=0,0,VLOOKUP($D90,'MI materialen'!$E:$AS,I$66,FALSE)*$B90*$C90)","v":0},{"$f":"IF($B90=0,0,VLOOKUP($D90,'MI materialen'!$E:$AS,J$66,FALSE)*$B90*$C90)","v":0},{"$f":"IF($B90=0,0,VLOOKUP($D90,'MI materialen'!$E:$AS,K$66,FALSE)*$B90*$C90)","v":0},{"$f":"IF($B90=0,0,VLOOKUP($D90,'MI materialen'!$E:$AS,L$66,FALSE)*$B90*$C90)","v":0},{"$f":"IF($B90=0,0,VLOOKUP($D90,'MI materialen'!$E:$AS,M$66,FALSE)*$B90*$C90)","v":0},{"$f":"IF($B90=0,0,VLOOKUP($D90,'MI materialen'!$E:$AS,N$66,FALSE)*$B90*$C90)","v":0},{"$f":"IF($B90=0,0,VLOOKUP($D90,'MI materialen'!$E:$AS,O$66,FALSE)*$B90*$C90)","v":0},{"$f":"IF($B90=0,0,VLOOKUP($D90,'MI materialen'!$E:$AS,P$66,FALSE)*$B90*$C90)","v":0},{"$f":"IF($B90=0,0,VLOOKUP($D90,'MI materialen'!$E:$AS,Q$66,FALSE)*$B90*$C90)","v":0},{"$f":"IF($B90=0,0,VLOOKUP($D90,'MI materialen'!$E:$AS,R$66,FALSE)*$B90*$C90)","v":0},{"$f":"IF($B90=0,0,VLOOKUP($D90,'MI materialen'!$E:$AS,S$66,FALSE)*$B90*$C90)","v":0},{"$f":"IF($B90=0,0,VLOOKUP($D90,'MI materialen'!$E:$AS,T$66,FALSE)*$B90*$C90)","v":0},{"$f":"IF($B90=0,0,VLOOKUP($D90,'MI materialen'!$E:$AS,U$66,FALSE)*$B90*$C90)","v":0},{"$f":"IF($B90=0,0,VLOOKUP($D90,'MI materialen'!$E:$AS,V$66,FALSE)*$B90*$C90)","v":0}]
["Verbranding",{"$f":"IF(Invul_Alt_EindeL!$I$17=\"Standaard\",Invul_Alt_EindeL!$K$17,Invul_Alt_EindeL!$O$17)","v":0},{"$f":"C89","v":0},{"$f":"VLOOKUP($B89,'MI materialen'!B:AS,42,FALSE)","v":0},{"$f":"IF($B91=0,0,VLOOKUP($D91,MKI!E:K,2,FALSE)*$B91*$C91)","v":0},{"$f":"IF($B91=0,0,VLOOKUP($D91,'MI materialen'!$E:$AS,F$66,FALSE)*$B91*$C91)","v":0},{"$f":"IF($B91=0,0,VLOOKUP($D91,'MI materialen'!$E:$AS,G$66,FALSE)*$B91*$C91)","v":0},{"$f":"IF($B91=0,0,VLOOKUP($D91,'MI materialen'!$E:$AS,H$66,FALSE)*$B91*$C91)","v":0},{"$f":"IF($B91=0,0,VLOOKUP($D91,'MI materialen'!$E:$AS,I$66,FALSE)*$B91*$C91)","v":0},{"$f":"IF($B91=0,0,VLOOKUP($D91,'MI materialen'!$E:$AS,J$66,FALSE)*$B91*$C91)","v":0},{"$f":"IF($B91=0,0,VLOOKUP($D91,'MI materialen'!$E:$AS,K$66,FALSE)*$B91*$C91)","v":0},{"$f":"IF($B91=0,0,VLOOKUP($D91,'MI materialen'!$E:$AS,L$66,FALSE)*$B91*$C91)","v":0},{"$f":"IF($B91=0,0,VLOOKUP($D91,'MI materialen'!$E:$AS,M$66,FALSE)*$B91*$C91)","v":0},{"$f":"IF($B91=0,0,VLOOKUP($D91,'MI materialen'!$E:$AS,N$66,FALSE)*$B91*$C91)","v":0},{"$f":"IF($B91=0,0,VLOOKUP($D91,'MI materialen'!$E:$AS,O$66,FALSE)*$B91*$C91)","v":0},{"$f":"IF($B91=0,0,VLOOKUP($D91,'MI materialen'!$E:$AS,P$66,FALSE)*$B91*$C91)","v":0},{"$f":"IF($B91=0,0,VLOOKUP($D91,'MI materialen'!$E:$AS,Q$66,FALSE)*$B91*$C91)","v":0},{"$f":"IF($B91=0,0,VLOOKUP($D91,'MI materialen'!$E:$AS,R$66,FALSE)*$B91*$C91)","v":0},{"$f":"IF($B91=0,0,VLOOKUP($D91,'MI materialen'!$E:$AS,S$66,FALSE)*$B91*$C91)","v":0},{"$f":"IF($B91=0,0,VLOOKUP($D91,'MI materialen'!$E:$AS,T$66,FALSE)*$B91*$C91)","v":0},{"$f":"IF($B91=0,0,VLOOKUP($D91,'MI materialen'!$E:$AS,U$66,FALSE)*$B91*$C91)","v":0},{"$f":"IF($B91=0,0,VLOOKUP($D91,'MI materialen'!$E:$AS,V$66,FALSE)*$B91*$C91)","v":0}]
["Recycling",{"$f":"IF(Invul_Alt_EindeL!$I$17=\"Standaard\",Invul_Alt_EindeL!$L$17,Invul_Alt_EindeL!$P$17)*(100%-Invul_Alt_Materialen!$J$16)","v":0},{"$f":"C89","v":0},{"$f":"VLOOKUP($B89,'MI materialen'!B:AS,43,FALSE)","v":0},{"$f":"IF($B92=0,0,VLOOKUP($D92,MKI!E:K,2,FALSE)*$B92*$C92)","v":0},{"$f":"IF($B92=0,0,VLOOKUP($D92,'MI materialen'!$E:$AS,F$66,FALSE)*$B92*$C92)","v":0},{"$f":"IF($B92=0,0,VLOOKUP($D92,'MI materialen'!$E:$AS,G$66,FALSE)*$B92*$C92)","v":0},{"$f":"IF($B92=0,0,VLOOKUP($D92,'MI materialen'!$E:$AS,H$66,FALSE)*$B92*$C92)","v":0},{"$f":"IF($B92=0,0,VLOOKUP($D92,'MI materialen'!$E:$AS,I$66,FALSE)*$B92*$C92)","v":0},{"$f":"IF($B92=0,0,VLOOKUP($D92,'MI materialen'!$E:$AS,J$66,FALSE)*$B92*$C92)","v":0},{"$f":"IF($B92=0,0,VLOOKUP($D92,'MI materialen'!$E:$AS,K$66,FALSE)*$B92*$C92)","v":0},{"$f":"IF($B92=0,0,VLOOKUP($D92,'MI materialen'!$E:$AS,L$66,FALSE)*$B92*$C92)","v":0},{"$f":"IF($B92=0,0,VLOOKUP($D92,'MI materialen'!$E:$AS,M$66,FALSE)*$B92*$C92)","v":0},{"$f":"IF($B92=0,0,VLOOKUP($D92,'MI materialen'!$E:$AS,N$66,FALSE)*$B92*$C92)","v":0},{"$f":"IF($B92=0,0,VLOOKUP($D92,'MI materialen'!$E:$AS,O$66,FALSE)*$B92*$C92)","v":0},{"$f":"IF($B92=0,0,VLOOKUP($D92,'MI materialen'!$E:$AS,P$66,FALSE)*$B92*$C92)","v":0},{"$f":"IF($B92=0,0,VLOOKUP($D92,'MI materialen'!$E:$AS,Q$66,FALSE)*$B92*$C92)","v":0},{"$f":"IF($B92=0,0,VLOOKUP($D92,'MI materialen'!$E:$AS,R$66,FALSE)*$B92*$C92)","v":0},{"$f":"IF($B92=0,0,VLOOKUP($D92,'MI materialen'!$E:$AS,S$66,FALSE)*$B92*$C92)","v":0},{"$f":"IF($B92=0,0,VLOOKUP($D92,'MI materialen'!$E:$AS,T$66,FALSE)*$B92*$C92)","v":0},{"$f":"IF($B92=0,0,VLOOKUP($D92,'MI materialen'!$E:$AS,U$66,FALSE)*$B92*$C92)","v":0},{"$f":"IF($B92=0,0,VLOOKUP($D92,'MI materialen'!$E:$AS,V$66,FALSE)*$B92*$C92)","v":0}]
["Hergebruik",{"$f":"IF(Invul_Alt_EindeL!$I$17=\"Standaard\",Invul_Alt_EindeL!$M$17,Invul_Alt_EindeL!$Q$17)*(100%-Invul_Alt_Materialen!$J$16)","v":0},{"$f":"C89","v":0},{"$f":"VLOOKUP($B89,'MI materialen'!B:AS,43,FALSE)","v":0},{"$f":"IF($B93=0,0,VLOOKUP($D93,MKI!E:K,2,FALSE)*$B93*$C93)","v":0},{"$f":"IF($B93=0,0,VLOOKUP($D93,'MI materialen'!$E:$AS,F$66,FALSE)*$B93*$C93)","v":0},{"$f":"IF($B93=0,0,VLOOKUP($D93,'MI materialen'!$E:$AS,G$66,FALSE)*$B93*$C93)","v":0},{"$f":"IF($B93=0,0,VLOOKUP($D93,'MI materialen'!$E:$AS,H$66,FALSE)*$B93*$C93)","v":0},{"$f":"IF($B93=0,0,VLOOKUP($D93,'MI materialen'!$E:$AS,I$66,FALSE)*$B93*$C93)","v":0},{"$f":"IF($B93=0,0,VLOOKUP($D93,'MI materialen'!$E:$AS,J$66,FALSE)*$B93*$C93)","v":0},{"$f":"IF($B93=0,0,VLOOKUP($D93,'MI materialen'!$E:$AS,K$66,FALSE)*$B93*$C93)","v":0},{"$f":"IF($B93=0,0,VLOOKUP($D93,'MI materialen'!$E:$AS,L$66,FALSE)*$B93*$C93)","v":0},{"$f":"IF($B93=0,0,VLOOKUP($D93,'MI materialen'!$E:$AS,M$66,FALSE)*$B93*$C93)","v":0},{"$f":"IF($B93=0,0,VLOOKUP($D93,'MI materialen'!$E:$AS,N$66,FALSE)*$B93*$C93)","v":0},{"$f":"IF($B93=0,0,VLOOKUP($D93,'MI materialen'!$E:$AS,O$66,FALSE)*$B93*$C93)","v":0},{"$f":"IF($B93=0,0,VLOOKUP($D93,'MI materialen'!$E:$AS,P$66,FALSE)*$B93*$C93)","v":0},{"$f":"IF($B93=0,0,VLOOKUP($D93,'MI materialen'!$E:$AS,Q$66,FALSE)*$B93*$C93)","v":0},{"$f":"IF($B93=0,0,VLOOKUP($D93,'MI materialen'!$E:$AS,R$66,FALSE)*$B93*$C93)","v":0},{"$f":"IF($B93=0,0,VLOOKUP($D93,'MI materialen'!$E:$AS,S$66,FALSE)*$B93*$C93)","v":0},{"$f":"IF($B93=0,0,VLOOKUP($D93,'MI materialen'!$E:$AS,T$66,FALSE)*$B93*$C93)","v":0},{"$f":"IF($B93=0,0,VLOOKUP($D93,'MI materialen'!$E:$AS,U$66,FALSE)*$B93*$C93)","v":0},{"$f":"IF($B93=0,0,VLOOKUP($D93,'MI materialen'!$E:$AS,V$66,FALSE)*$B93*$C93)","v":0}]
["Som",{"$f":"Invul_Alt_EindeL!$F$18","v":"Leeg"},{"$f":"Invul_Alt_EindeL!$G$18","v":0},null,{"$f":"SUM(E95:E98)","v":0},{"$f":"SUM(F95:F98)","v":0},0,0,0,0,0,0,0,0,0,0,0,0,0,0,0,0]
["Stort",{"$f":"IF(Invul_Alt_EindeL!$I$18=\"Standaard\",Invul_Alt_EindeL!$J$18,Invul_Alt_EindeL!$N$18)","v":0},{"$f":"C94","v":0},{"$f":"VLOOKUP($B94,'MI materialen'!B:AS,41,FALSE)","v":0},{"$f":"IF($B95=0,0,VLOOKUP($D95,MKI!E:K,2,FALSE)*$B95*$C95)","v":0},{"$f":"IF($B95=0,0,VLOOKUP($D95,'MI materialen'!$E:$AS,F$66,FALSE)*$B95*$C95)","v":0},{"$f":"IF($B95=0,0,VLOOKUP($D95,'MI materialen'!$E:$AS,G$66,FALSE)*$B95*$C95)","v":0},{"$f":"IF($B95=0,0,VLOOKUP($D95,'MI materialen'!$E:$AS,H$66,FALSE)*$B95*$C95)","v":0},{"$f":"IF($B95=0,0,VLOOKUP($D95,'MI materialen'!$E:$AS,I$66,FALSE)*$B95*$C95)","v":0},{"$f":"IF($B95=0,0,VLOOKUP($D95,'MI materialen'!$E:$AS,J$66,FALSE)*$B95*$C95)","v":0},{"$f":"IF($B95=0,0,VLOOKUP($D95,'MI materialen'!$E:$AS,K$66,FALSE)*$B95*$C95)","v":0},{"$f":"IF($B95=0,0,VLOOKUP($D95,'MI materialen'!$E:$AS,L$66,FALSE)*$B95*$C95)","v":0},{"$f":"IF($B95=0,0,VLOOKUP($D95,'MI materialen'!$E:$AS,M$66,FALSE)*$B95*$C95)","v":0},{"$f":"IF($B95=0,0,VLOOKUP($D95,'MI materialen'!$E:$AS,N$66,FALSE)*$B95*$C95)","v":0},{"$f":"IF($B95=0,0,VLOOKUP($D95,'MI materialen'!$E:$AS,O$66,FALSE)*$B95*$C95)","v":0},{"$f":"IF($B95=0,0,VLOOKUP($D95,'MI materialen'!$E:$AS,P$66,FALSE)*$B95*$C95)","v":0},{"$f":"IF($B95=0,0,VLOOKUP($D95,'MI materialen'!$E:$AS,Q$66,FALSE)*$B95*$C95)","v":0},{"$f":"IF($B95=0,0,VLOOKUP($D95,'MI materialen'!$E:$AS,R$66,FALSE)*$B95*$C95)","v":0},{"$f":"IF($B95=0,0,VLOOKUP($D95,'MI materialen'!$E:$AS,S$66,FALSE)*$B95*$C95)","v":0},{"$f":"IF($B95=0,0,VLOOKUP($D95,'MI materialen'!$E:$AS,T$66,FALSE)*$B95*$C95)","v":0},{"$f":"IF($B95=0,0,VLOOKUP($D95,'MI materialen'!$E:$AS,U$66,FALSE)*$B95*$C95)","v":0},{"$f":"IF($B95=0,0,VLOOKUP($D95,'MI materialen'!$E:$AS,V$66,FALSE)*$B95*$C95)","v":0}]
["Verbranding",{"$f":"IF(Invul_Alt_EindeL!$I$18=\"Standaard\",Invul_Alt_EindeL!$K$18,Invul_Alt_EindeL!$O$18)","v":0},{"$f":"C94","v":0},{"$f":"VLOOKUP($B94,'MI materialen'!B:AS,42,FALSE)","v":0},{"$f":"IF($B96=0,0,VLOOKUP($D96,MKI!E:K,2,FALSE)*$B96*$C96)","v":0},{"$f":"IF($B96=0,0,VLOOKUP($D96,'MI materialen'!$E:$AS,F$66,FALSE)*$B96*$C96)","v":0},{"$f":"IF($B96=0,0,VLOOKUP($D96,'MI materialen'!$E:$AS,G$66,FALSE)*$B96*$C96)","v":0},{"$f":"IF($B96=0,0,VLOOKUP($D96,'MI materialen'!$E:$AS,H$66,FALSE)*$B96*$C96)","v":0},{"$f":"IF($B96=0,0,VLOOKUP($D96,'MI materialen'!$E:$AS,I$66,FALSE)*$B96*$C96)","v":0},{"$f":"IF($B96=0,0,VLOOKUP($D96,'MI materialen'!$E:$AS,J$66,FALSE)*$B96*$C96)","v":0},{"$f":"IF($B96=0,0,VLOOKUP($D96,'MI materialen'!$E:$AS,K$66,FALSE)*$B96*$C96)","v":0},{"$f":"IF($B96=0,0,VLOOKUP($D96,'MI materialen'!$E:$AS,L$66,FALSE)*$B96*$C96)","v":0},{"$f":"IF($B96=0,0,VLOOKUP($D96,'MI materialen'!$E:$AS,M$66,FALSE)*$B96*$C96)","v":0},{"$f":"IF($B96=0,0,VLOOKUP($D96,'MI materialen'!$E:$AS,N$66,FALSE)*$B96*$C96)","v":0},{"$f":"IF($B96=0,0,VLOOKUP($D96,'MI materialen'!$E:$AS,O$66,FALSE)*$B96*$C96)","v":0},{"$f":"IF($B96=0,0,VLOOKUP($D96,'MI materialen'!$E:$AS,P$66,FALSE)*$B96*$C96)","v":0},{"$f":"IF($B96=0,0,VLOOKUP($D96,'MI materialen'!$E:$AS,Q$66,FALSE)*$B96*$C96)","v":0},{"$f":"IF($B96=0,0,VLOOKUP($D96,'MI materialen'!$E:$AS,R$66,FALSE)*$B96*$C96)","v":0},{"$f":"IF($B96=0,0,VLOOKUP($D96,'MI materialen'!$E:$AS,S$66,FALSE)*$B96*$C96)","v":0},{"$f":"IF($B96=0,0,VLOOKUP($D96,'MI materialen'!$E:$AS,T$66,FALSE)*$B96*$C96)","v":0},{"$f":"IF($B96=0,0,VLOOKUP($D96,'MI materialen'!$E:$AS,U$66,FALSE)*$B96*$C96)","v":0},{"$f":"IF($B96=0,0,VLOOKUP($D96,'MI materialen'!$E:$AS,V$66,FALSE)*$B96*$C96)","v":0}]
["Recycling",{"$f":"IF(Invul_Alt_EindeL!$I$18=\"Standaard\",Invul_Alt_EindeL!$L$18,Invul_Alt_EindeL!$P$18)*(100%-Invul_Alt_Materialen!$J$17)","v":0},{"$f":"C94","v":0},{"$f":"VLOOKUP($B94,'MI materialen'!B:AS,43,FALSE)","v":0},{"$f":"IF($B97=0,0,VLOOKUP($D97,MKI!E:K,2,FALSE)*$B97*$C97)","v":0},{"$f":"IF($B97=0,0,VLOOKUP($D97,'MI materialen'!$E:$AS,F$66,FALSE)*$B97*$C97)","v":0},{"$f":"IF($B97=0,0,VLOOKUP($D97,'MI materialen'!$E:$AS,G$66,FALSE)*$B97*$C97)","v":0},{"$f":"IF($B97=0,0,VLOOKUP($D97,'MI materialen'!$E:$AS,H$66,FALSE)*$B97*$C97)","v":0},{"$f":"IF($B97=0,0,VLOOKUP($D97,'MI materialen'!$E:$AS,I$66,FALSE)*$B97*$C97)","v":0},{"$f":"IF($B97=0,0,VLOOKUP($D97,'MI materialen'!$E:$AS,J$66,FALSE)*$B97*$C97)","v":0},{"$f":"IF($B97=0,0,VLOOKUP($D97,'MI materialen'!$E:$AS,K$66,FALSE)*$B97*$C97)","v":0},{"$f":"IF($B97=0,0,VLOOKUP($D97,'MI materialen'!$E:$AS,L$66,FALSE)*$B97*$C97)","v":0},{"$f":"IF($B97=0,0,VLOOKUP($D97,'MI materialen'!$E:$AS,M$66,FALSE)*$B97*$C97)","v":0},{"$f":"IF($B97=0,0,VLOOKUP($D97,'MI materialen'!$E:$AS,N$66,FALSE)*$B97*$C97)","v":0},{"$f":"IF($B97=0,0,VLOOKUP($D97,'MI materialen'!$E:$AS,O$66,FALSE)*$B97*$C97)","v":0},{"$f":"IF($B97=0,0,VLOOKUP($D97,'MI materialen'!$E:$AS,P$66,FALSE)*$B97*$C97)","v":0},{"$f":"IF($B97=0,0,VLOOKUP($D97,'MI materialen'!$E:$AS,Q$66,FALSE)*$B97*$C97)","v":0},{"$f":"IF($B97=0,0,VLOOKUP($D97,'MI materialen'!$E:$AS,R$66,FALSE)*$B97*$C97)","v":0},{"$f":"IF($B97=0,0,VLOOKUP($D97,'MI materialen'!$E:$AS,S$66,FALSE)*$B97*$C97)","v":0},{"$f":"IF($B97=0,0,VLOOKUP($D97,'MI materialen'!$E:$AS,T$66,FALSE)*$B97*$C97)","v":0},{"$f":"IF($B97=0,0,VLOOKUP($D97,'MI materialen'!$E:$AS,U$66,FALSE)*$B97*$C97)","v":0},{"$f":"IF($B97=0,0,VLOOKUP($D97,'MI materialen'!$E:$AS,V$66,FALSE)*$B97*$C97)","v":0}]
["Hergebruik",{"$f":"IF(Invul_Alt_EindeL!$I$18=\"Standaard\",Invul_Alt_EindeL!$M$18,Invul_Alt_EindeL!$Q$18)*(100%-Invul_Alt_Materialen!$J$17)","v":0},{"$f":"C94","v":0},{"$f":"VLOOKUP($B94,'MI materialen'!B:AS,43,FALSE)","v":0},{"$f":"IF($B98=0,0,VLOOKUP($D98,MKI!E:K,2,FALSE)*$B98*$C98)","v":0},{"$f":"IF($B98=0,0,VLOOKUP($D98,'MI materialen'!$E:$AS,F$66,FALSE)*$B98*$C98)","v":0},{"$f":"IF($B98=0,0,VLOOKUP($D98,'MI materialen'!$E:$AS,G$66,FALSE)*$B98*$C98)","v":0},{"$f":"IF($B98=0,0,VLOOKUP($D98,'MI materialen'!$E:$AS,H$66,FALSE)*$B98*$C98)","v":0},{"$f":"IF($B98=0,0,VLOOKUP($D98,'MI materialen'!$E:$AS,I$66,FALSE)*$B98*$C98)","v":0},{"$f":"IF($B98=0,0,VLOOKUP($D98,'MI materialen'!$E:$AS,J$66,FALSE)*$B98*$C98)","v":0},{"$f":"IF($B98=0,0,VLOOKUP($D98,'MI materialen'!$E:$AS,K$66,FALSE)*$B98*$C98)","v":0},{"$f":"IF($B98=0,0,VLOOKUP($D98,'MI materialen'!$E:$AS,L$66,FALSE)*$B98*$C98)","v":0},{"$f":"IF($B98=0,0,VLOOKUP($D98,'MI materialen'!$E:$AS,M$66,FALSE)*$B98*$C98)","v":0},{"$f":"IF($B98=0,0,VLOOKUP($D98,'MI materialen'!$E:$AS,N$66,FALSE)*$B98*$C98)","v":0},{"$f":"IF($B98=0,0,VLOOKUP($D98,'MI materialen'!$E:$AS,O$66,FALSE)*$B98*$C98)","v":0},{"$f":"IF($B98=0,0,VLOOKUP($D98,'MI materialen'!$E:$AS,P$66,FALSE)*$B98*$C98)","v":0},{"$f":"IF($B98=0,0,VLOOKUP($D98,'MI materialen'!$E:$AS,Q$66,FALSE)*$B98*$C98)","v":0},{"$f":"IF($B98=0,0,VLOOKUP($D98,'MI materialen'!$E:$AS,R$66,FALSE)*$B98*$C98)","v":0},{"$f":"IF($B98=0,0,VLOOKUP($D98,'MI materialen'!$E:$AS,S$66,FALSE)*$B98*$C98)","v":0},{"$f":"IF($B98=0,0,VLOOKUP($D98,'MI materialen'!$E:$AS,T$66,FALSE)*$B98*$C98)","v":0},{"$f":"IF($B98=0,0,VLOOKUP($D98,'MI materialen'!$E:$AS,U$66,FALSE)*$B98*$C98)","v":0},{"$f":"IF($B98=0,0,VLOOKUP($D98,'MI materialen'!$E:$AS,V$66,FALSE)*$B98*$C98)","v":0}]
["Som",{"$f":"Invul_Alt_EindeL!$F$19","v":"Leeg"},{"$f":"Invul_Alt_EindeL!$G$19","v":0},null,{"$f":"SUM(E100:E103)","v":0},{"$f":"SUM(F100:F103)","v":0},0,0,0,0,0,0,0,0,0,0,0,0,0,0,0,0]
["Stort",{"$f":"IF(Invul_Alt_EindeL!$I$19=\"Standaard\",Invul_Alt_EindeL!$J$19,Invul_Alt_EindeL!$N$19)","v":0},{"$f":"C99","v":0},{"$f":"VLOOKUP($B99,'MI materialen'!B:AS,41,FALSE)","v":0},{"$f":"IF($B100=0,0,VLOOKUP($D100,MKI!E:K,2,FALSE)*$B100*$C100)","v":0},{"$f":"IF($B100=0,0,VLOOKUP($D100,'MI materialen'!$E:$AS,F$66,FALSE)*$B100*$C100)","v":0},{"$f":"IF($B100=0,0,VLOOKUP($D100,'MI materialen'!$E:$AS,G$66,FALSE)*$B100*$C100)","v":0},{"$f":"IF($B100=0,0,VLOOKUP($D100,'MI materialen'!$E:$AS,H$66,FALSE)*$B100*$C100)","v":0},{"$f":"IF($B100=0,0,VLOOKUP($D100,'MI materialen'!$E:$AS,I$66,FALSE)*$B100*$C100)","v":0},{"$f":"IF($B100=0,0,VLOOKUP($D100,'MI materialen'!$E:$AS,J$66,FALSE)*$B100*$C100)","v":0},{"$f":"IF($B100=0,0,VLOOKUP($D100,'MI materialen'!$E:$AS,K$66,FALSE)*$B100*$C100)","v":0},{"$f":"IF($B100=0,0,VLOOKUP($D100,'MI materialen'!$E:$AS,L$66,FALSE)*$B100*$C100)","v":0},{"$f":"IF($B100=0,0,VLOOKUP($D100,'MI materialen'!$E:$AS,M$66,FALSE)*$B100*$C100)","v":0},{"$f":"IF($B100=0,0,VLOOKUP($D100,'MI materialen'!$E:$AS,N$66,FALSE)*$B100*$C100)","v":0},{"$f":"IF($B100=0,0,VLOOKUP($D100,'MI materialen'!$E:$AS,O$66,FALSE)*$B100*$C100)","v":0},{"$f":"IF($B100=0,0,VLOOKUP($D100,'MI materialen'!$E:$AS,P$66,FALSE)*$B100*$C100)","v":0},{"$f":"IF($B100=0,0,VLOOKUP($D100,'MI materialen'!$E:$AS,Q$66,FALSE)*$B100*$C100)","v":0},{"$f":"IF($B100=0,0,VLOOKUP($D100,'MI materialen'!$E:$AS,R$66,FALSE)*$B100*$C100)","v":0},{"$f":"IF($B100=0,0,VLOOKUP($D100,'MI materialen'!$E:$AS,S$66,FALSE)*$B100*$C100)","v":0},{"$f":"IF($B100=0,0,VLOOKUP($D100,'MI materialen'!$E:$AS,T$66,FALSE)*$B100*$C100)","v":0},{"$f":"IF($B100=0,0,VLOOKUP($D100,'MI materialen'!$E:$AS,U$66,FALSE)*$B100*$C100)","v":0},{"$f":"IF($B100=0,0,VLOOKUP($D100,'MI materialen'!$E:$AS,V$66,FALSE)*$B100*$C100)","v":0}]
["Verbranding",{"$f":"IF(Invul_Alt_EindeL!$I$19=\"Standaard\",Invul_Alt_EindeL!$K$19,Invul_Alt_EindeL!$O$19)","v":0},{"$f":"C99","v":0},{"$f":"VLOOKUP($B99,'MI materialen'!B:AS,42,FALSE)","v":0},{"$f":"IF($B101=0,0,VLOOKUP($D101,MKI!E:K,2,FALSE)*$B101*$C101)","v":0},{"$f":"IF($B101=0,0,VLOOKUP($D101,'MI materialen'!$E:$AS,F$66,FALSE)*$B101*$C101)","v":0},{"$f":"IF($B101=0,0,VLOOKUP($D101,'MI materialen'!$E:$AS,G$66,FALSE)*$B101*$C101)","v":0},{"$f":"IF($B101=0,0,VLOOKUP($D101,'MI materialen'!$E:$AS,H$66,FALSE)*$B101*$C101)","v":0},{"$f":"IF($B101=0,0,VLOOKUP($D101,'MI materialen'!$E:$AS,I$66,FALSE)*$B101*$C101)","v":0},{"$f":"IF($B101=0,0,VLOOKUP($D101,'MI materialen'!$E:$AS,J$66,FALSE)*$B101*$C101)","v":0},{"$f":"IF($B101=0,0,VLOOKUP($D101,'MI materialen'!$E:$AS,K$66,FALSE)*$B101*$C101)","v":0},{"$f":"IF($B101=0,0,VLOOKUP($D101,'MI materialen'!$E:$AS,L$66,FALSE)*$B101*$C101)","v":0},{"$f":"IF($B101=0,0,VLOOKUP($D101,'MI materialen'!$E:$AS,M$66,FALSE)*$B101*$C101)","v":0},{"$f":"IF($B101=0,0,VLOOKUP($D101,'MI materialen'!$E:$AS,N$66,FALSE)*$B101*$C101)","v":0},{"$f":"IF($B101=0,0,VLOOKUP($D101,'MI materialen'!$E:$AS,O$66,FALSE)*$B101*$C101)","v":0},{"$f":"IF($B101=0,0,VLOOKUP($D101,'MI materialen'!$E:$AS,P$66,FALSE)*$B101*$C101)","v":0},{"$f":"IF($B101=0,0,VLOOKUP($D101,'MI materialen'!$E:$AS,Q$66,FALSE)*$B101*$C101)","v":0},{"$f":"IF($B101=0,0,VLOOKUP($D101,'MI materialen'!$E:$AS,R$66,FALSE)*$B101*$C101)","v":0},{"$f":"IF($B101=0,0,VLOOKUP($D101,'MI materialen'!$E:$AS,S$66,FALSE)*$B101*$C101)","v":0},{"$f":"IF($B101=0,0,VLOOKUP($D101,'MI materialen'!$E:$AS,T$66,FALSE)*$B101*$C101)","v":0},{"$f":"IF($B101=0,0,VLOOKUP($D101,'MI materialen'!$E:$AS,U$66,FALSE)*$B101*$C101)","v":0},{"$f":"IF($B101=0,0,VLOOKUP($D101,'MI materialen'!$E:$AS,V$66,FALSE)*$B101*$C101)","v":0}]
["Recycling",{"$f":"IF(Invul_Alt_EindeL!$I$19=\"Standaard\",Invul_Alt_EindeL!$L$19,Invul_Alt_EindeL!$P$19)*(100%-Invul_Alt_Materialen!$J$18)","v":0},{"$f":"C99","v":0},{"$f":"VLOOKUP($B99,'MI materialen'!B:AS,43,FALSE)","v":0},{"$f":"IF($B102=0,0,VLOOKUP($D102,MKI!E:K,2,FALSE)*$B102*$C102)","v":0},{"$f":"IF($B102=0,0,VLOOKUP($D102,'MI materialen'!$E:$AS,F$66,FALSE)*$B102*$C102)","v":0},{"$f":"IF($B102=0,0,VLOOKUP($D102,'MI materialen'!$E:$AS,G$66,FALSE)*$B102*$C102)","v":0},{"$f":"IF($B102=0,0,VLOOKUP($D102,'MI materialen'!$E:$AS,H$66,FALSE)*$B102*$C102)","v":0},{"$f":"IF($B102=0,0,VLOOKUP($D102,'MI materialen'!$E:$AS,I$66,FALSE)*$B102*$C102)","v":0},{"$f":"IF($B102=0,0,VLOOKUP($D102,'MI materialen'!$E:$AS,J$66,FALSE)*$B102*$C102)","v":0},{"$f":"IF($B102=0,0,VLOOKUP($D102,'MI materialen'!$E:$AS,K$66,FALSE)*$B102*$C102)","v":0},{"$f":"IF($B102=0,0,VLOOKUP($D102,'MI materialen'!$E:$AS,L$66,FALSE)*$B102*$C102)","v":0},{"$f":"IF($B102=0,0,VLOOKUP($D102,'MI materialen'!$E:$AS,M$66,FALSE)*$B102*$C102)","v":0},{"$f":"IF($B102=0,0,VLOOKUP($D102,'MI materialen'!$E:$AS,N$66,FALSE)*$B102*$C102)","v":0},{"$f":"IF($B102=0,0,VLOOKUP($D102,'MI materialen'!$E:$AS,O$66,FALSE)*$B102*$C102)","v":0},{"$f":"IF($B102=0,0,VLOOKUP($D102,'MI materialen'!$E:$AS,P$66,FALSE)*$B102*$C102)","v":0},{"$f":"IF($B102=0,0,VLOOKUP($D102,'MI materialen'!$E:$AS,Q$66,FALSE)*$B102*$C102)","v":0},{"$f":"IF($B102=0,0,VLOOKUP($D102,'MI materialen'!$E:$AS,R$66,FALSE)*$B102*$C102)","v":0},{"$f":"IF($B102=0,0,VLOOKUP($D102,'MI materialen'!$E:$AS,S$66,FALSE)*$B102*$C102)","v":0},{"$f":"IF($B102=0,0,VLOOKUP($D102,'MI materialen'!$E:$AS,T$66,FALSE)*$B102*$C102)","v":0},{"$f":"IF($B102=0,0,VLOOKUP($D102,'MI materialen'!$E:$AS,U$66,FALSE)*$B102*$C102)","v":0},{"$f":"IF($B102=0,0,VLOOKUP($D102,'MI materialen'!$E:$AS,V$66,FALSE)*$B102*$C102)","v":0}]
["Hergebruik",{"$f":"IF(Invul_Alt_EindeL!$I$19=\"Standaard\",Invul_Alt_EindeL!$M$19,Invul_Alt_EindeL!$Q$19)*(100%-Invul_Alt_Materialen!$J$18)","v":0},{"$f":"C99","v":0},{"$f":"VLOOKUP($B99,'MI materialen'!B:AS,43,FALSE)","v":0},{"$f":"IF($B103=0,0,VLOOKUP($D103,MKI!E:K,2,FALSE)*$B103*$C103)","v":0},{"$f":"IF($B103=0,0,VLOOKUP($D103,'MI materialen'!$E:$AS,F$66,FALSE)*$B103*$C103)","v":0},{"$f":"IF($B103=0,0,VLOOKUP($D103,'MI materialen'!$E:$AS,G$66,FALSE)*$B103*$C103)","v":0},{"$f":"IF($B103=0,0,VLOOKUP($D103,'MI materialen'!$E:$AS,H$66,FALSE)*$B103*$C103)","v":0},{"$f":"IF($B103=0,0,VLOOKUP($D103,'MI materialen'!$E:$AS,I$66,FALSE)*$B103*$C103)","v":0},{"$f":"IF($B103=0,0,VLOOKUP($D103,'MI materialen'!$E:$AS,J$66,FALSE)*$B103*$C103)","v":0},{"$f":"IF($B103=0,0,VLOOKUP($D103,'MI materialen'!$E:$AS,K$66,FALSE)*$B103*$C103)","v":0},{"$f":"IF($B103=0,0,VLOOKUP($D103,'MI materialen'!$E:$AS,L$66,FALSE)*$B103*$C103)","v":0},{"$f":"IF($B103=0,0,VLOOKUP($D103,'MI materialen'!$E:$AS,M$66,FALSE)*$B103*$C103)","v":0},{"$f":"IF($B103=0,0,VLOOKUP($D103,'MI materialen'!$E:$AS,N$66,FALSE)*$B103*$C103)","v":0},{"$f":"IF($B103=0,0,VLOOKUP($D103,'MI materialen'!$E:$AS,O$66,FALSE)*$B103*$C103)","v":0},{"$f":"IF($B103=0,0,VLOOKUP($D103,'MI materialen'!$E:$AS,P$66,FALSE)*$B103*$C103)","v":0},{"$f":"IF($B103=0,0,VLOOKUP($D103,'MI materialen'!$E:$AS,Q$66,FALSE)*$B103*$C103)","v":0},{"$f":"IF($B103=0,0,VLOOKUP($D103,'MI materialen'!$E:$AS,R$66,FALSE)*$B103*$C103)","v":0},{"$f":"IF($B103=0,0,VLOOKUP($D103,'MI materialen'!$E:$AS,S$66,FALSE)*$B103*$C103)","v":0},{"$f":"IF($B103=0,0,VLOOKUP($D103,'MI materialen'!$E:$AS,T$66,FALSE)*$B103*$C103)","v":0},{"$f":"IF($B103=0,0,VLOOKUP($D103,'MI materialen'!$E:$AS,U$66,FALSE)*$B103*$C103)","v":0},{"$f":"IF($B103=0,0,VLOOKUP($D103,'MI materialen'!$E:$AS,V$66,FALSE)*$B103*$C103)","v":0}]
["Som",{"$f":"Invul_Alt_EindeL!$F$20","v":"Leeg"},{"$f":"Invul_Alt_EindeL!$G$20","v":0},null,{"$f":"SUM(E105:E108)","v":0},{"$f":"SUM(F105:F108)","v":0},0,0,0,0,0,0,0,0,0,0,0,0,0,0,0,0]
["Stort",{"$f":"IF(Invul_Alt_EindeL!$I$20=\"Standaard\",Invul_Alt_EindeL!$J$20,Invul_Alt_EindeL!$N$20)","v":0},{"$f":"C104","v":0},{"$f":"VLOOKUP($B104,'MI materialen'!B:AS,41,FALSE)","v":0},{"$f":"IF($B105=0,0,VLOOKUP($D105,MKI!E:K,2,FALSE)*$B105*$C105)","v":0},{"$f":"IF($B105=0,0,VLOOKUP($D105,'MI materialen'!$E:$AS,F$66,FALSE)*$B105*$C105)","v":0},{"$f":"IF($B105=0,0,VLOOKUP($D105,'MI materialen'!$E:$AS,G$66,FALSE)*$B105*$C105)","v":0},{"$f":"IF($B105=0,0,VLOOKUP($D105,'MI materialen'!$E:$AS,H$66,FALSE)*$B105*$C105)","v":0},{"$f":"IF($B105=0,0,VLOOKUP($D105,'MI materialen'!$E:$AS,I$66,FALSE)*$B105*$C105)","v":0},{"$f":"IF($B105=0,0,VLOOKUP($D105,'MI materialen'!$E:$AS,J$66,FALSE)*$B105*$C105)","v":0},{"$f":"IF($B105=0,0,VLOOKUP($D105,'MI materialen'!$E:$AS,K$66,FALSE)*$B105*$C105)","v":0},{"$f":"IF($B105=0,0,VLOOKUP($D105,'MI materialen'!$E:$AS,L$66,FALSE)*$B105*$C105)","v":0},{"$f":"IF($B105=0,0,VLOOKUP($D105,'MI materialen'!$E:$AS,M$66,FALSE)*$B105*$C105)","v":0},{"$f":"IF($B105=0,0,VLOOKUP($D105,'MI materialen'!$E:$AS,N$66,FALSE)*$B105*$C105)","v":0},{"$f":"IF($B105=0,0,VLOOKUP($D105,'MI materialen'!$E:$AS,O$66,FALSE)*$B105*$C105)","v":0},{"$f":"IF($B105=0,0,VLOOKUP($D105,'MI materialen'!$E:$AS,P$66,FALSE)*$B105*$C105)","v":0},{"$f":"IF($B105=0,0,VLOOKUP($D105,'MI materialen'!$E:$AS,Q$66,FALSE)*$B105*$C105)","v":0},{"$f":"IF($B105=0,0,VLOOKUP($D105,'MI materialen'!$E:$AS,R$66,FALSE)*$B105*$C105)","v":0},{"$f":"IF($B105=0,0,VLOOKUP($D105,'MI materialen'!$E:$AS,S$66,FALSE)*$B105*$C105)","v":0},{"$f":"IF($B105=0,0,VLOOKUP($D105,'MI materialen'!$E:$AS,T$66,FALSE)*$B105*$C105)","v":0},{"$f":"IF($B105=0,0,VLOOKUP($D105,'MI materialen'!$E:$AS,U$66,FALSE)*$B105*$C105)","v":0},{"$f":"IF($B105=0,0,VLOOKUP($D105,'MI materialen'!$E:$AS,V$66,FALSE)*$B105*$C105)","v":0}]
["Verbranding",{"$f":"IF(Invul_Alt_EindeL!$I$20=\"Standaard\",Invul_Alt_EindeL!$K$20,Invul_Alt_EindeL!$O$20)","v":0},{"$f":"C104","v":0},{"$f":"VLOOKUP($B104,'MI materialen'!B:AS,42,FALSE)","v":0},{"$f":"IF($B106=0,0,VLOOKUP($D106,MKI!E:K,2,FALSE)*$B106*$C106)","v":0},{"$f":"IF($B106=0,0,VLOOKUP($D106,'MI materialen'!$E:$AS,F$66,FALSE)*$B106*$C106)","v":0},{"$f":"IF($B106=0,0,VLOOKUP($D106,'MI materialen'!$E:$AS,G$66,FALSE)*$B106*$C106)","v":0},{"$f":"IF($B106=0,0,VLOOKUP($D106,'MI materialen'!$E:$AS,H$66,FALSE)*$B106*$C106)","v":0},{"$f":"IF($B106=0,0,VLOOKUP($D106,'MI materialen'!$E:$AS,I$66,FALSE)*$B106*$C106)","v":0},{"$f":"IF($B106=0,0,VLOOKUP($D106,'MI materialen'!$E:$AS,J$66,FALSE)*$B106*$C106)","v":0},{"$f":"IF($B106=0,0,VLOOKUP($D106,'MI materialen'!$E:$AS,K$66,FALSE)*$B106*$C106)","v":0},{"$f":"IF($B106=0,0,VLOOKUP($D106,'MI materialen'!$E:$AS,L$66,FALSE)*$B106*$C106)","v":0},{"$f":"IF($B106=0,0,VLOOKUP($D106,'MI materialen'!$E:$AS,M$66,FALSE)*$B106*$C106)","v":0},{"$f":"IF($B106=0,0,VLOOKUP($D106,'MI materialen'!$E:$AS,N$66,FALSE)*$B106*$C106)","v":0},{"$f":"IF($B106=0,0,VLOOKUP($D106,'MI materialen'!$E:$AS,O$66,FALSE)*$B106*$C106)","v":0},{"$f":"IF($B106=0,0,VLOOKUP($D106,'MI materialen'!$E:$AS,P$66,FALSE)*$B106*$C106)","v":0},{"$f":"IF($B106=0,0,VLOOKUP($D106,'MI materialen'!$E:$AS,Q$66,FALSE)*$B106*$C106)","v":0},{"$f":"IF($B106=0,0,VLOOKUP($D106,'MI materialen'!$E:$AS,R$66,FALSE)*$B106*$C106)","v":0},{"$f":"IF($B106=0,0,VLOOKUP($D106,'MI materialen'!$E:$AS,S$66,FALSE)*$B106*$C106)","v":0},{"$f":"IF($B106=0,0,VLOOKUP($D106,'MI materialen'!$E:$AS,T$66,FALSE)*$B106*$C106)","v":0},{"$f":"IF($B106=0,0,VLOOKUP($D106,'MI materialen'!$E:$AS,U$66,FALSE)*$B106*$C106)","v":0},{"$f":"IF($B106=0,0,VLOOKUP($D106,'MI materialen'!$E:$AS,V$66,FALSE)*$B106*$C106)","v":0}]
["Recycling",{"$f":"IF(Invul_Alt_EindeL!$I$20=\"Standaard\",Invul_Alt_EindeL!$L$20,Invul_Alt_EindeL!$P$20)*(100%-Invul_Alt_Materialen!$J$19)","v":0},{"$f":"C104","v":0},{"$f":"VLOOKUP($B104,'MI materialen'!B:AS,43,FALSE)","v":0},{"$f":"IF($B107=0,0,VLOOKUP($D107,MKI!E:K,2,FALSE)*$B107*$C107)","v":0},{"$f":"IF($B107=0,0,VLOOKUP($D107,'MI materialen'!$E:$AS,F$66,FALSE)*$B107*$C107)","v":0},{"$f":"IF($B107=0,0,VLOOKUP($D107,'MI materialen'!$E:$AS,G$66,FALSE)*$B107*$C107)","v":0},{"$f":"IF($B107=0,0,VLOOKUP($D107,'MI materialen'!$E:$AS,H$66,FALSE)*$B107*$C107)","v":0},{"$f":"IF($B107=0,0,VLOOKUP($D107,'MI materialen'!$E:$AS,I$66,FALSE)*$B107*$C107)","v":0},{"$f":"IF($B107=0,0,VLOOKUP($D107,'MI materialen'!$E:$AS,J$66,FALSE)*$B107*$C107)","v":0},{"$f":"IF($B107=0,0,VLOOKUP($D107,'MI materialen'!$E:$AS,K$66,FALSE)*$B107*$C107)","v":0},{"$f":"IF($B107=0,0,VLOOKUP($D107,'MI materialen'!$E:$AS,L$66,FALSE)*$B107*$C107)","v":0},{"$f":"IF($B107=0,0,VLOOKUP($D107,'MI materialen'!$E:$AS,M$66,FALSE)*$B107*$C107)","v":0},{"$f":"IF($B107=0,0,VLOOKUP($D107,'MI materialen'!$E:$AS,N$66,FALSE)*$B107*$C107)","v":0},{"$f":"IF($B107=0,0,VLOOKUP($D107,'MI materialen'!$E:$AS,O$66,FALSE)*$B107*$C107)","v":0},{"$f":"IF($B107=0,0,VLOOKUP($D107,'MI materialen'!$E:$AS,P$66,FALSE)*$B107*$C107)","v":0},{"$f":"IF($B107=0,0,VLOOKUP($D107,'MI materialen'!$E:$AS,Q$66,FALSE)*$B107*$C107)","v":0},{"$f":"IF($B107=0,0,VLOOKUP($D107,'MI materialen'!$E:$AS,R$66,FALSE)*$B107*$C107)","v":0},{"$f":"IF($B107=0,0,VLOOKUP($D107,'MI materialen'!$E:$AS,S$66,FALSE)*$B107*$C107)","v":0},{"$f":"IF($B107=0,0,VLOOKUP($D107,'MI materialen'!$E:$AS,T$66,FALSE)*$B107*$C107)","v":0},{"$f":"IF($B107=0,0,VLOOKUP($D107,'MI materialen'!$E:$AS,U$66,FALSE)*$B107*$C107)","v":0},{"$f":"IF($B107=0,0,VLOOKUP($D107,'MI materialen'!$E:$AS,V$66,FALSE)*$B107*$C107)","v":0}]
["Hergebruik",{"$f":"IF(Invul_Alt_EindeL!$I$20=\"Standaard\",Invul_Alt_EindeL!$M$20,Invul_Alt_EindeL!$Q$20)*(100%-Invul_Alt_Materialen!$J$19)","v":0},{"$f":"C104","v":0},{"$f":"VLOOKUP($B104,'MI materialen'!B:AS,43,FALSE)","v":0},{"$f":"IF($B108=0,0,VLOOKUP($D108,MKI!E:K,2,FALSE)*$B108*$C108)","v":0},{"$f":"IF($B108=0,0,VLOOKUP($D108,'MI materialen'!$E:$AS,F$66,FALSE)*$B108*$C108)","v":0},{"$f":"IF($B108=0,0,VLOOKUP($D108,'MI materialen'!$E:$AS,G$66,FALSE)*$B108*$C108)","v":0},{"$f":"IF($B108=0,0,VLOOKUP($D108,'MI materialen'!$E:$AS,H$66,FALSE)*$B108*$C108)","v":0},{"$f":"IF($B108=0,0,VLOOKUP($D108,'MI materialen'!$E:$AS,I$66,FALSE)*$B108*$C108)","v":0},{"$f":"IF($B108=0,0,VLOOKUP($D108,'MI materialen'!$E:$AS,J$66,FALSE)*$B108*$C108)","v":0},{"$f":"IF($B108=0,0,VLOOKUP($D108,'MI materialen'!$E:$AS,K$66,FALSE)*$B108*$C108)","v":0},{"$f":"IF($B108=0,0,VLOOKUP($D108,'MI materialen'!$E:$AS,L$66,FALSE)*$B108*$C108)","v":0},{"$f":"IF($B108=0,0,VLOOKUP($D108,'MI materialen'!$E:$AS,M$66,FALSE)*$B108*$C108)","v":0},{"$f":"IF($B108=0,0,VLOOKUP($D108,'MI materialen'!$E:$AS,N$66,FALSE)*$B108*$C108)","v":0},{"$f":"IF($B108=0,0,VLOOKUP($D108,'MI materialen'!$E:$AS,O$66,FALSE)*$B108*$C108)","v":0},{"$f":"IF($B108=0,0,VLOOKUP($D108,'MI materialen'!$E:$AS,P$66,FALSE)*$B108*$C108)","v":0},{"$f":"IF($B108=0,0,VLOOKUP($D108,'MI materialen'!$E:$AS,Q$66,FALSE)*$B108*$C108)","v":0},{"$f":"IF($B108=0,0,VLOOKUP($D108,'MI materialen'!$E:$AS,R$66,FALSE)*$B108*$C108)","v":0},{"$f":"IF($B108=0,0,VLOOKUP($D108,'MI materialen'!$E:$AS,S$66,FALSE)*$B108*$C108)","v":0},{"$f":"IF($B108=0,0,VLOOKUP($D108,'MI materialen'!$E:$AS,T$66,FALSE)*$B108*$C108)","v":0},{"$f":"IF($B108=0,0,VLOOKUP($D108,'MI materialen'!$E:$AS,U$66,FALSE)*$B108*$C108)","v":0},{"$f":"IF($B108=0,0,VLOOKUP($D108,'MI materialen'!$E:$AS,V$66,FALSE)*$B108*$C108)","v":0}]
["Som",{"$f":"Invul_Alt_EindeL!$F$21","v":"Leeg"},{"$f":"Invul_Alt_EindeL!$G$21","v":0},null,{"$f":"SUM(E110:E113)","v":0},{"$f":"SUM(F110:F113)","v":0},0,0,0,0,0,0,0,0,0,0,0,0,0,0,0,0]
["Stort",{"$f":"IF(Invul_Alt_EindeL!$I$21=\"Standaard\",Invul_Alt_EindeL!$J$21,Invul_Alt_EindeL!$N$21)","v":0},{"$f":"C109","v":0},{"$f":"VLOOKUP($B109,'MI materialen'!B:AS,41,FALSE)","v":0},{"$f":"IF($B110=0,0,VLOOKUP($D110,MKI!E:K,2,FALSE)*$B110*$C110)","v":0},{"$f":"IF($B110=0,0,VLOOKUP($D110,'MI materialen'!$E:$AS,F$66,FALSE)*$B110*$C110)","v":0},{"$f":"IF($B110=0,0,VLOOKUP($D110,'MI materialen'!$E:$AS,G$66,FALSE)*$B110*$C110)","v":0},{"$f":"IF($B110=0,0,VLOOKUP($D110,'MI materialen'!$E:$AS,H$66,FALSE)*$B110*$C110)","v":0},{"$f":"IF($B110=0,0,VLOOKUP($D110,'MI materialen'!$E:$AS,I$66,FALSE)*$B110*$C110)","v":0},{"$f":"IF($B110=0,0,VLOOKUP($D110,'MI materialen'!$E:$AS,J$66,FALSE)*$B110*$C110)","v":0},{"$f":"IF($B110=0,0,VLOOKUP($D110,'MI materialen'!$E:$AS,K$66,FALSE)*$B110*$C110)","v":0},{"$f":"IF($B110=0,0,VLOOKUP($D110,'MI materialen'!$E:$AS,L$66,FALSE)*$B110*$C110)","v":0},{"$f":"IF($B110=0,0,VLOOKUP($D110,'MI materialen'!$E:$AS,M$66,FALSE)*$B110*$C110)","v":0},{"$f":"IF($B110=0,0,VLOOKUP($D110,'MI materialen'!$E:$AS,N$66,FALSE)*$B110*$C110)","v":0},{"$f":"IF($B110=0,0,VLOOKUP($D110,'MI materialen'!$E:$AS,O$66,FALSE)*$B110*$C110)","v":0},{"$f":"IF($B110=0,0,VLOOKUP($D110,'MI materialen'!$E:$AS,P$66,FALSE)*$B110*$C110)","v":0},{"$f":"IF($B110=0,0,VLOOKUP($D110,'MI materialen'!$E:$AS,Q$66,FALSE)*$B110*$C110)","v":0},{"$f":"IF($B110=0,0,VLOOKUP($D110,'MI materialen'!$E:$AS,R$66,FALSE)*$B110*$C110)","v":0},{"$f":"IF($B110=0,0,VLOOKUP($D110,'MI materialen'!$E:$AS,S$66,FALSE)*$B110*$C110)","v":0},{"$f":"IF($B110=0,0,VLOOKUP($D110,'MI materialen'!$E:$AS,T$66,FALSE)*$B110*$C110)","v":0},{"$f":"IF($B110=0,0,VLOOKUP($D110,'MI materialen'!$E:$AS,U$66,FALSE)*$B110*$C110)","v":0},{"$f":"IF($B110=0,0,VLOOKUP($D110,'MI materialen'!$E:$AS,V$66,FALSE)*$B110*$C110)","v":0}]
["Verbranding",{"$f":"IF(Invul_Alt_EindeL!$I$21=\"Standaard\",Invul_Alt_EindeL!$K$21,Invul_Alt_EindeL!$O$21)","v":0},{"$f":"C109","v":0},{"$f":"VLOOKUP($B109,'MI materialen'!B:AS,42,FALSE)","v":0},{"$f":"IF($B111=0,0,VLOOKUP($D111,MKI!E:K,2,FALSE)*$B111*$C111)","v":0},{"$f":"IF($B111=0,0,VLOOKUP($D111,'MI materialen'!$E:$AS,F$66,FALSE)*$B111*$C111)","v":0},{"$f":"IF($B111=0,0,VLOOKUP($D111,'MI materialen'!$E:$AS,G$66,FALSE)*$B111*$C111)","v":0},{"$f":"IF($B111=0,0,VLOOKUP($D111,'MI materialen'!$E:$AS,H$66,FALSE)*$B111*$C111)","v":0},{"$f":"IF($B111=0,0,VLOOKUP($D111,'MI materialen'!$E:$AS,I$66,FALSE)*$B111*$C111)","v":0},{"$f":"IF($B111=0,0,VLOOKUP($D111,'MI materialen'!$E:$AS,J$66,FALSE)*$B111*$C111)","v":0},{"$f":"IF($B111=0,0,VLOOKUP($D111,'MI materialen'!$E:$AS,K$66,FALSE)*$B111*$C111)","v":0},{"$f":"IF($B111=0,0,VLOOKUP($D111,'MI materialen'!$E:$AS,L$66,FALSE)*$B111*$C111)","v":0},{"$f":"IF($B111=0,0,VLOOKUP($D111,'MI materialen'!$E:$AS,M$66,FALSE)*$B111*$C111)","v":0},{"$f":"IF($B111=0,0,VLOOKUP($D111,'MI materialen'!$E:$AS,N$66,FALSE)*$B111*$C111)","v":0},{"$f":"IF($B111=0,0,VLOOKUP($D111,'MI materialen'!$E:$AS,O$66,FALSE)*$B111*$C111)","v":0},{"$f":"IF($B111=0,0,VLOOKUP($D111,'MI materialen'!$E:$AS,P$66,FALSE)*$B111*$C111)","v":0},{"$f":"IF($B111=0,0,VLOOKUP($D111,'MI materialen'!$E:$AS,Q$66,FALSE)*$B111*$C111)","v":0},{"$f":"IF($B111=0,0,VLOOKUP($D111,'MI materialen'!$E:$AS,R$66,FALSE)*$B111*$C111)","v":0},{"$f":"IF($B111=0,0,VLOOKUP($D111,'MI materialen'!$E:$AS,S$66,FALSE)*$B111*$C111)","v":0},{"$f":"IF($B111=0,0,VLOOKUP($D111,'MI materialen'!$E:$AS,T$66,FALSE)*$B111*$C111)","v":0},{"$f":"IF($B111=0,0,VLOOKUP($D111,'MI materialen'!$E:$AS,U$66,FALSE)*$B111*$C111)","v":0},{"$f":"IF($B111=0,0,VLOOKUP($D111,'MI materialen'!$E:$AS,V$66,FALSE)*$B111*$C111)","v":0}]
["Recycling",{"$f":"IF(Invul_Alt_EindeL!$I$21=\"Standaard\",Invul_Alt_EindeL!$L$21,Invul_Alt_EindeL!$P$21)*(100%-Invul_Alt_Materialen!$J$20)","v":0},{"$f":"C109","v":0},{"$f":"VLOOKUP($B109,'MI materialen'!B:AS,43,FALSE)","v":0},{"$f":"IF($B112=0,0,VLOOKUP($D112,MKI!E:K,2,FALSE)*$B112*$C112)","v":0},{"$f":"IF($B112=0,0,VLOOKUP($D112,'MI materialen'!$E:$AS,F$66,FALSE)*$B112*$C112)","v":0},{"$f":"IF($B112=0,0,VLOOKUP($D112,'MI materialen'!$E:$AS,G$66,FALSE)*$B112*$C112)","v":0},{"$f":"IF($B112=0,0,VLOOKUP($D112,'MI materialen'!$E:$AS,H$66,FALSE)*$B112*$C112)","v":0},{"$f":"IF($B112=0,0,VLOOKUP($D112,'MI materialen'!$E:$AS,I$66,FALSE)*$B112*$C112)","v":0},{"$f":"IF($B112=0,0,VLOOKUP($D112,'MI materialen'!$E:$AS,J$66,FALSE)*$B112*$C112)","v":0},{"$f":"IF($B112=0,0,VLOOKUP($D112,'MI materialen'!$E:$AS,K$66,FALSE)*$B112*$C112)","v":0},{"$f":"IF($B112=0,0,VLOOKUP($D112,'MI materialen'!$E:$AS,L$66,FALSE)*$B112*$C112)","v":0},{"$f":"IF($B112=0,0,VLOOKUP($D112,'MI materialen'!$E:$AS,M$66,FALSE)*$B112*$C112)","v":0},{"$f":"IF($B112=0,0,VLOOKUP($D112,'MI materialen'!$E:$AS,N$66,FALSE)*$B112*$C112)","v":0},{"$f":"IF($B112=0,0,VLOOKUP($D112,'MI materialen'!$E:$AS,O$66,FALSE)*$B112*$C112)","v":0},{"$f":"IF($B112=0,0,VLOOKUP($D112,'MI materialen'!$E:$AS,P$66,FALSE)*$B112*$C112)","v":0},{"$f":"IF($B112=0,0,VLOOKUP($D112,'MI materialen'!$E:$AS,Q$66,FALSE)*$B112*$C112)","v":0},{"$f":"IF($B112=0,0,VLOOKUP($D112,'MI materialen'!$E:$AS,R$66,FALSE)*$B112*$C112)","v":0},{"$f":"IF($B112=0,0,VLOOKUP($D112,'MI materialen'!$E:$AS,S$66,FALSE)*$B112*$C112)","v":0},{"$f":"IF($B112=0,0,VLOOKUP($D112,'MI materialen'!$E:$AS,T$66,FALSE)*$B112*$C112)","v":0},{"$f":"IF($B112=0,0,VLOOKUP($D112,'MI materialen'!$E:$AS,U$66,FALSE)*$B112*$C112)","v":0},{"$f":"IF($B112=0,0,VLOOKUP($D112,'MI materialen'!$E:$AS,V$66,FALSE)*$B112*$C112)","v":0}]
["Hergebruik",{"$f":"IF(Invul_Alt_EindeL!$I$21=\"Standaard\",Invul_Alt_EindeL!$M$21,Invul_Alt_EindeL!$Q$21)*(100%-Invul_Alt_Materialen!$J$20)","v":0},{"$f":"C109","v":0},{"$f":"VLOOKUP($B109,'MI materialen'!B:AS,43,FALSE)","v":0},{"$f":"IF($B113=0,0,VLOOKUP($D113,MKI!E:K,2,FALSE)*$B113*$C113)","v":0},{"$f":"IF($B113=0,0,VLOOKUP($D113,'MI materialen'!$E:$AS,F$66,FALSE)*$B113*$C113)","v":0},{"$f":"IF($B113=0,0,VLOOKUP($D113,'MI materialen'!$E:$AS,G$66,FALSE)*$B113*$C113)","v":0},{"$f":"IF($B113=0,0,VLOOKUP($D113,'MI materialen'!$E:$AS,H$66,FALSE)*$B113*$C113)","v":0},{"$f":"IF($B113=0,0,VLOOKUP($D113,'MI materialen'!$E:$AS,I$66,FALSE)*$B113*$C113)","v":0},{"$f":"IF($B113=0,0,VLOOKUP($D113,'MI materialen'!$E:$AS,J$66,FALSE)*$B113*$C113)","v":0},{"$f":"IF($B113=0,0,VLOOKUP($D113,'MI materialen'!$E:$AS,K$66,FALSE)*$B113*$C113)","v":0},{"$f":"IF($B113=0,0,VLOOKUP($D113,'MI materialen'!$E:$AS,L$66,FALSE)*$B113*$C113)","v":0},{"$f":"IF($B113=0,0,VLOOKUP($D113,'MI materialen'!$E:$AS,M$66,FALSE)*$B113*$C113)","v":0},{"$f":"IF($B113=0,0,VLOOKUP($D113,'MI materialen'!$E:$AS,N$66,FALSE)*$B113*$C113)","v":0},{"$f":"IF($B113=0,0,VLOOKUP($D113,'MI materialen'!$E:$AS,O$66,FALSE)*$B113*$C113)","v":0},{"$f":"IF($B113=0,0,VLOOKUP($D113,'MI materialen'!$E:$AS,P$66,FALSE)*$B113*$C113)","v":0},{"$f":"IF($B113=0,0,VLOOKUP($D113,'MI materialen'!$E:$AS,Q$66,FALSE)*$B113*$C113)","v":0},{"$f":"IF($B113=0,0,VLOOKUP($D113,'MI materialen'!$E:$AS,R$66,FALSE)*$B113*$C113)","v":0},{"$f":"IF($B113=0,0,VLOOKUP($D113,'MI materialen'!$E:$AS,S$66,FALSE)*$B113*$C113)","v":0},{"$f":"IF($B113=0,0,VLOOKUP($D113,'MI materialen'!$E:$AS,T$66,FALSE)*$B113*$C113)","v":0},{"$f":"IF($B113=0,0,VLOOKUP($D113,'MI materialen'!$E:$AS,U$66,FALSE)*$B113*$C113)","v":0},{"$f":"IF($B113=0,0,VLOOKUP($D113,'MI materialen'!$E:$AS,V$66,FALSE)*$B113*$C113)","v":0}]
["Som",{"$f":"Invul_Alt_EindeL!$F$22","v":"Leeg"},{"$f":"Invul_Alt_EindeL!$G$22","v":0},null,{"$f":"SUM(E115:E118)","v":0},{"$f":"SUM(F115:F118)","v":0},0,0,0,0,0,0,0,0,0,0,0,0,0,0,0,0]
["Stort",{"$f":"IF(Invul_Alt_EindeL!$I$22=\"Standaard\",Invul_Alt_EindeL!$J$22,Invul_Alt_EindeL!$N$22)","v":0},{"$f":"C114","v":0},{"$f":"VLOOKUP($B114,'MI materialen'!B:AS,41,FALSE)","v":0},{"$f":"IF($B115=0,0,VLOOKUP($D115,MKI!E:K,2,FALSE)*$B115*$C115)","v":0},{"$f":"IF($B115=0,0,VLOOKUP($D115,'MI materialen'!$E:$AS,F$66,FALSE)*$B115*$C115)","v":0},{"$f":"IF($B115=0,0,VLOOKUP($D115,'MI materialen'!$E:$AS,G$66,FALSE)*$B115*$C115)","v":0},{"$f":"IF($B115=0,0,VLOOKUP($D115,'MI materialen'!$E:$AS,H$66,FALSE)*$B115*$C115)","v":0},{"$f":"IF($B115=0,0,VLOOKUP($D115,'MI materialen'!$E:$AS,I$66,FALSE)*$B115*$C115)","v":0},{"$f":"IF($B115=0,0,VLOOKUP($D115,'MI materialen'!$E:$AS,J$66,FALSE)*$B115*$C115)","v":0},{"$f":"IF($B115=0,0,VLOOKUP($D115,'MI materialen'!$E:$AS,K$66,FALSE)*$B115*$C115)","v":0},{"$f":"IF($B115=0,0,VLOOKUP($D115,'MI materialen'!$E:$AS,L$66,FALSE)*$B115*$C115)","v":0},{"$f":"IF($B115=0,0,VLOOKUP($D115,'MI materialen'!$E:$AS,M$66,FALSE)*$B115*$C115)","v":0},{"$f":"IF($B115=0,0,VLOOKUP($D115,'MI materialen'!$E:$AS,N$66,FALSE)*$B115*$C115)","v":0},{"$f":"IF($B115=0,0,VLOOKUP($D115,'MI materialen'!$E:$AS,O$66,FALSE)*$B115*$C115)","v":0},{"$f":"IF($B115=0,0,VLOOKUP($D115,'MI materialen'!$E:$AS,P$66,FALSE)*$B115*$C115)","v":0},{"$f":"IF($B115=0,0,VLOOKUP($D115,'MI materialen'!$E:$AS,Q$66,FALSE)*$B115*$C115)","v":0},{"$f":"IF($B115=0,0,VLOOKUP($D115,'MI materialen'!$E:$AS,R$66,FALSE)*$B115*$C115)","v":0},{"$f":"IF($B115=0,0,VLOOKUP($D115,'MI materialen'!$E:$AS,S$66,FALSE)*$B115*$C115)","v":0},{"$f":"IF($B115=0,0,VLOOKUP($D115,'MI materialen'!$E:$AS,T$66,FALSE)*$B115*$C115)","v":0},{"$f":"IF($B115=0,0,VLOOKUP($D115,'MI materialen'!$E:$AS,U$66,FALSE)*$B115*$C115)","v":0},{"$f":"IF($B115=0,0,VLOOKUP($D115,'MI materialen'!$E:$AS,V$66,FALSE)*$B115*$C115)","v":0}]
["Verbranding",{"$f":"IF(Invul_Alt_EindeL!$I$22=\"Standaard\",Invul_Alt_EindeL!$K$22,Invul_Alt_EindeL!$O$22)","v":0},{"$f":"C114","v":0},{"$f":"VLOOKUP($B114,'MI materialen'!B:AS,42,FALSE)","v":0},{"$f":"IF($B116=0,0,VLOOKUP($D116,MKI!E:K,2,FALSE)*$B116*$C116)","v":0},{"$f":"IF($B116=0,0,VLOOKUP($D116,'MI materialen'!$E:$AS,F$66,FALSE)*$B116*$C116)","v":0},{"$f":"IF($B116=0,0,VLOOKUP($D116,'MI materialen'!$E:$AS,G$66,FALSE)*$B116*$C116)","v":0},{"$f":"IF($B116=0,0,VLOOKUP($D116,'MI materialen'!$E:$AS,H$66,FALSE)*$B116*$C116)","v":0},{"$f":"IF($B116=0,0,VLOOKUP($D116,'MI materialen'!$E:$AS,I$66,FALSE)*$B116*$C116)","v":0},{"$f":"IF($B116=0,0,VLOOKUP($D116,'MI materialen'!$E:$AS,J$66,FALSE)*$B116*$C116)","v":0},{"$f":"IF($B116=0,0,VLOOKUP($D116,'MI materialen'!$E:$AS,K$66,FALSE)*$B116*$C116)","v":0},{"$f":"IF($B116=0,0,VLOOKUP($D116,'MI materialen'!$E:$AS,L$66,FALSE)*$B116*$C116)","v":0},{"$f":"IF($B116=0,0,VLOOKUP($D116,'MI materialen'!$E:$AS,M$66,FALSE)*$B116*$C116)","v":0},{"$f":"IF($B116=0,0,VLOOKUP($D116,'MI materialen'!$E:$AS,N$66,FALSE)*$B116*$C116)","v":0},{"$f":"IF($B116=0,0,VLOOKUP($D116,'MI materialen'!$E:$AS,O$66,FALSE)*$B116*$C116)","v":0},{"$f":"IF($B116=0,0,VLOOKUP($D116,'MI materialen'!$E:$AS,P$66,FALSE)*$B116*$C116)","v":0},{"$f":"IF($B116=0,0,VLOOKUP($D116,'MI materialen'!$E:$AS,Q$66,FALSE)*$B116*$C116)","v":0},{"$f":"IF($B116=0,0,VLOOKUP($D116,'MI materialen'!$E:$AS,R$66,FALSE)*$B116*$C116)","v":0},{"$f":"IF($B116=0,0,VLOOKUP($D116,'MI materialen'!$E:$AS,S$66,FALSE)*$B116*$C116)","v":0},{"$f":"IF($B116=0,0,VLOOKUP($D116,'MI materialen'!$E:$AS,T$66,FALSE)*$B116*$C116)","v":0},{"$f":"IF($B116=0,0,VLOOKUP($D116,'MI materialen'!$E:$AS,U$66,FALSE)*$B116*$C116)","v":0},{"$f":"IF($B116=0,0,VLOOKUP($D116,'MI materialen'!$E:$AS,V$66,FALSE)*$B116*$C116)","v":0}]
["Recycling",{"$f":"IF(Invul_Alt_EindeL!$I$22=\"Standaard\",Invul_Alt_EindeL!$L$22,Invul_Alt_EindeL!$P$22)*(100%-Invul_Alt_Materialen!$J$21)","v":0},{"$f":"C114","v":0},{"$f":"VLOOKUP($B114,'MI materialen'!B:AS,43,FALSE)","v":0},{"$f":"IF($B117=0,0,VLOOKUP($D117,MKI!E:K,2,FALSE)*$B117*$C117)","v":0},{"$f":"IF($B117=0,0,VLOOKUP($D117,'MI materialen'!$E:$AS,F$66,FALSE)*$B117*$C117)","v":0},{"$f":"IF($B117=0,0,VLOOKUP($D117,'MI materialen'!$E:$AS,G$66,FALSE)*$B117*$C117)","v":0},{"$f":"IF($B117=0,0,VLOOKUP($D117,'MI materialen'!$E:$AS,H$66,FALSE)*$B117*$C117)","v":0},{"$f":"IF($B117=0,0,VLOOKUP($D117,'MI materialen'!$E:$AS,I$66,FALSE)*$B117*$C117)","v":0},{"$f":"IF($B117=0,0,VLOOKUP($D117,'MI materialen'!$E:$AS,J$66,FALSE)*$B117*$C117)","v":0},{"$f":"IF($B117=0,0,VLOOKUP($D117,'MI materialen'!$E:$AS,K$66,FALSE)*$B117*$C117)","v":0},{"$f":"IF($B117=0,0,VLOOKUP($D117,'MI materialen'!$E:$AS,L$66,FALSE)*$B117*$C117)","v":0},{"$f":"IF($B117=0,0,VLOOKUP($D117,'MI materialen'!$E:$AS,M$66,FALSE)*$B117*$C117)","v":0},{"$f":"IF($B117=0,0,VLOOKUP($D117,'MI materialen'!$E:$AS,N$66,FALSE)*$B117*$C117)","v":0},{"$f":"IF($B117=0,0,VLOOKUP($D117,'MI materialen'!$E:$AS,O$66,FALSE)*$B117*$C117)","v":0},{"$f":"IF($B117=0,0,VLOOKUP($D117,'MI materialen'!$E:$AS,P$66,FALSE)*$B117*$C117)","v":0},{"$f":"IF($B117=0,0,VLOOKUP($D117,'MI materialen'!$E:$AS,Q$66,FALSE)*$B117*$C117)","v":0},{"$f":"IF($B117=0,0,VLOOKUP($D117,'MI materialen'!$E:$AS,R$66,FALSE)*$B117*$C117)","v":0},{"$f":"IF($B117=0,0,VLOOKUP($D117,'MI materialen'!$E:$AS,S$66,FALSE)*$B117*$C117)","v":0},{"$f":"IF($B117=0,0,VLOOKUP($D117,'MI materialen'!$E:$AS,T$66,FALSE)*$B117*$C117)","v":0},{"$f":"IF($B117=0,0,VLOOKUP($D117,'MI materialen'!$E:$AS,U$66,FALSE)*$B117*$C117)","v":0},{"$f":"IF($B117=0,0,VLOOKUP($D117,'MI materialen'!$E:$AS,V$66,FALSE)*$B117*$C117)","v":0}]
["Hergebruik",{"$f":"IF(Invul_Alt_EindeL!$I$22=\"Standaard\",Invul_Alt_EindeL!$M$22,Invul_Alt_EindeL!$Q$22)*(100%-Invul_Alt_Materialen!$J$21)","v":0},{"$f":"C114","v":0},{"$f":"VLOOKUP($B114,'MI materialen'!B:AS,43,FALSE)","v":0},{"$f":"IF($B118=0,0,VLOOKUP($D118,MKI!E:K,2,FALSE)*$B118*$C118)","v":0},{"$f":"IF($B118=0,0,VLOOKUP($D118,'MI materialen'!$E:$AS,F$66,FALSE)*$B118*$C118)","v":0},{"$f":"IF($B118=0,0,VLOOKUP($D118,'MI materialen'!$E:$AS,G$66,FALSE)*$B118*$C118)","v":0},{"$f":"IF($B118=0,0,VLOOKUP($D118,'MI materialen'!$E:$AS,H$66,FALSE)*$B118*$C118)","v":0},{"$f":"IF($B118=0,0,VLOOKUP($D118,'MI materialen'!$E:$AS,I$66,FALSE)*$B118*$C118)","v":0},{"$f":"IF($B118=0,0,VLOOKUP($D118,'MI materialen'!$E:$AS,J$66,FALSE)*$B118*$C118)","v":0},{"$f":"IF($B118=0,0,VLOOKUP($D118,'MI materialen'!$E:$AS,K$66,FALSE)*$B118*$C118)","v":0},{"$f":"IF($B118=0,0,VLOOKUP($D118,'MI materialen'!$E:$AS,L$66,FALSE)*$B118*$C118)","v":0},{"$f":"IF($B118=0,0,VLOOKUP($D118,'MI materialen'!$E:$AS,M$66,FALSE)*$B118*$C118)","v":0},{"$f":"IF($B118=0,0,VLOOKUP($D118,'MI materialen'!$E:$AS,N$66,FALSE)*$B118*$C118)","v":0},{"$f":"IF($B118=0,0,VLOOKUP($D118,'MI materialen'!$E:$AS,O$66,FALSE)*$B118*$C118)","v":0},{"$f":"IF($B118=0,0,VLOOKUP($D118,'MI materialen'!$E:$AS,P$66,FALSE)*$B118*$C118)","v":0},{"$f":"IF($B118=0,0,VLOOKUP($D118,'MI materialen'!$E:$AS,Q$66,FALSE)*$B118*$C118)","v":0},{"$f":"IF($B118=0,0,VLOOKUP($D118,'MI materialen'!$E:$AS,R$66,FALSE)*$B118*$C118)","v":0},{"$f":"IF($B118=0,0,VLOOKUP($D118,'MI materialen'!$E:$AS,S$66,FALSE)*$B118*$C118)","v":0},{"$f":"IF($B118=0,0,VLOOKUP($D118,'MI materialen'!$E:$AS,T$66,FALSE)*$B118*$C118)","v":0},{"$f":"IF($B118=0,0,VLOOKUP($D118,'MI materialen'!$E:$AS,U$66,FALSE)*$B118*$C118)","v":0},{"$f":"IF($B118=0,0,VLOOKUP($D118,'MI materialen'!$E:$AS,V$66,FALSE)*$B118*$C118)","v":0}]
["Som",{"$f":"Invul_Alt_EindeL!$F$23","v":"Leeg"},{"$f":"Invul_Alt_EindeL!$G$23","v":0},null,{"$f":"SUM(E120:E123)","v":0},{"$f":"SUM(F120:F123)","v":0},0,0,0,0,0,0,0,0,0,0,0,0,0,0,0,0]
["Stort",{"$f":"IF(Invul_Alt_EindeL!$I$23=\"Standaard\",Invul_Alt_EindeL!$J$23,Invul_Alt_EindeL!$N$23)","v":0},{"$f":"C119","v":0},{"$f":"VLOOKUP($B119,'MI materialen'!B:AS,41,FALSE)","v":0},{"$f":"IF($B120=0,0,VLOOKUP($D120,MKI!E:K,2,FALSE)*$B120*$C120)","v":0},{"$f":"IF($B120=0,0,VLOOKUP($D120,'MI materialen'!$E:$AS,F$66,FALSE)*$B120*$C120)","v":0},{"$f":"IF($B120=0,0,VLOOKUP($D120,'MI materialen'!$E:$AS,G$66,FALSE)*$B120*$C120)","v":0},{"$f":"IF($B120=0,0,VLOOKUP($D120,'MI materialen'!$E:$AS,H$66,FALSE)*$B120*$C120)","v":0},{"$f":"IF($B120=0,0,VLOOKUP($D120,'MI materialen'!$E:$AS,I$66,FALSE)*$B120*$C120)","v":0},{"$f":"IF($B120=0,0,VLOOKUP($D120,'MI materialen'!$E:$AS,J$66,FALSE)*$B120*$C120)","v":0},{"$f":"IF($B120=0,0,VLOOKUP($D120,'MI materialen'!$E:$AS,K$66,FALSE)*$B120*$C120)","v":0},{"$f":"IF($B120=0,0,VLOOKUP($D120,'MI materialen'!$E:$AS,L$66,FALSE)*$B120*$C120)","v":0},{"$f":"IF($B120=0,0,VLOOKUP($D120,'MI materialen'!$E:$AS,M$66,FALSE)*$B120*$C120)","v":0},{"$f":"IF($B120=0,0,VLOOKUP($D120,'MI materialen'!$E:$AS,N$66,FALSE)*$B120*$C120)","v":0},{"$f":"IF($B120=0,0,VLOOKUP($D120,'MI materialen'!$E:$AS,O$66,FALSE)*$B120*$C120)","v":0},{"$f":"IF($B120=0,0,VLOOKUP($D120,'MI materialen'!$E:$AS,P$66,FALSE)*$B120*$C120)","v":0},{"$f":"IF($B120=0,0,VLOOKUP($D120,'MI materialen'!$E:$AS,Q$66,FALSE)*$B120*$C120)","v":0},{"$f":"IF($B120=0,0,VLOOKUP($D120,'MI materialen'!$E:$AS,R$66,FALSE)*$B120*$C120)","v":0},{"$f":"IF($B120=0,0,VLOOKUP($D120,'MI materialen'!$E:$AS,S$66,FALSE)*$B120*$C120)","v":0},{"$f":"IF($B120=0,0,VLOOKUP($D120,'MI materialen'!$E:$AS,T$66,FALSE)*$B120*$C120)","v":0},{"$f":"IF($B120=0,0,VLOOKUP($D120,'MI materialen'!$E:$AS,U$66,FALSE)*$B120*$C120)","v":0},{"$f":"IF($B120=0,0,VLOOKUP($D120,'MI materialen'!$E:$AS,V$66,FALSE)*$B120*$C120)","v":0}]
["Verbranding",{"$f":"IF(Invul_Alt_EindeL!$I$23=\"Standaard\",Invul_Alt_EindeL!$K$23,Invul_Alt_EindeL!$O$23)","v":0},{"$f":"C119","v":0},{"$f":"VLOOKUP($B119,'MI materialen'!B:AS,42,FALSE)","v":0},{"$f":"IF($B121=0,0,VLOOKUP($D121,MKI!E:K,2,FALSE)*$B121*$C121)","v":0},{"$f":"IF($B121=0,0,VLOOKUP($D121,'MI materialen'!$E:$AS,F$66,FALSE)*$B121*$C121)","v":0},{"$f":"IF($B121=0,0,VLOOKUP($D121,'MI materialen'!$E:$AS,G$66,FALSE)*$B121*$C121)","v":0},{"$f":"IF($B121=0,0,VLOOKUP($D121,'MI materialen'!$E:$AS,H$66,FALSE)*$B121*$C121)","v":0},{"$f":"IF($B121=0,0,VLOOKUP($D121,'MI materialen'!$E:$AS,I$66,FALSE)*$B121*$C121)","v":0},{"$f":"IF($B121=0,0,VLOOKUP($D121,'MI materialen'!$E:$AS,J$66,FALSE)*$B121*$C121)","v":0},{"$f":"IF($B121=0,0,VLOOKUP($D121,'MI materialen'!$E:$AS,K$66,FALSE)*$B121*$C121)","v":0},{"$f":"IF($B121=0,0,VLOOKUP($D121,'MI materialen'!$E:$AS,L$66,FALSE)*$B121*$C121)","v":0},{"$f":"IF($B121=0,0,VLOOKUP($D121,'MI materialen'!$E:$AS,M$66,FALSE)*$B121*$C121)","v":0},{"$f":"IF($B121=0,0,VLOOKUP($D121,'MI materialen'!$E:$AS,N$66,FALSE)*$B121*$C121)","v":0},{"$f":"IF($B121=0,0,VLOOKUP($D121,'MI materialen'!$E:$AS,O$66,FALSE)*$B121*$C121)","v":0},{"$f":"IF($B121=0,0,VLOOKUP($D121,'MI materialen'!$E:$AS,P$66,FALSE)*$B121*$C121)","v":0},{"$f":"IF($B121=0,0,VLOOKUP($D121,'MI materialen'!$E:$AS,Q$66,FALSE)*$B121*$C121)","v":0},{"$f":"IF($B121=0,0,VLOOKUP($D121,'MI materialen'!$E:$AS,R$66,FALSE)*$B121*$C121)","v":0},{"$f":"IF($B121=0,0,VLOOKUP($D121,'MI materialen'!$E:$AS,S$66,FALSE)*$B121*$C121)","v":0},{"$f":"IF($B121=0,0,VLOOKUP($D121,'MI materialen'!$E:$AS,T$66,FALSE)*$B121*$C121)","v":0},{"$f":"IF($B121=0,0,VLOOKUP($D121,'MI materialen'!$E:$AS,U$66,FALSE)*$B121*$C121)","v":0},{"$f":"IF($B121=0,0,VLOOKUP($D121,'MI materialen'!$E:$AS,V$66,FALSE)*$B121*$C121)","v":0}]
["Recycling",{"$f":"IF(Invul_Alt_EindeL!$I$23=\"Standaard\",Invul_Alt_EindeL!$L$23,Invul_Alt_EindeL!$P$23)*(100%-Invul_Alt_Materialen!$J$22)","v":0},{"$f":"C119","v":0},{"$f":"VLOOKUP($B119,'MI materialen'!B:AS,43,FALSE)","v":0},{"$f":"IF($B122=0,0,VLOOKUP($D122,MKI!E:K,2,FALSE)*$B122*$C122)","v":0},{"$f":"IF($B122=0,0,VLOOKUP($D122,'MI materialen'!$E:$AS,F$66,FALSE)*$B122*$C122)","v":0},{"$f":"IF($B122=0,0,VLOOKUP($D122,'MI materialen'!$E:$AS,G$66,FALSE)*$B122*$C122)","v":0},{"$f":"IF($B122=0,0,VLOOKUP($D122,'MI materialen'!$E:$AS,H$66,FALSE)*$B122*$C122)","v":0},{"$f":"IF($B122=0,0,VLOOKUP($D122,'MI materialen'!$E:$AS,I$66,FALSE)*$B122*$C122)","v":0},{"$f":"IF($B122=0,0,VLOOKUP($D122,'MI materialen'!$E:$AS,J$66,FALSE)*$B122*$C122)","v":0},{"$f":"IF($B122=0,0,VLOOKUP($D122,'MI materialen'!$E:$AS,K$66,FALSE)*$B122*$C122)","v":0},{"$f":"IF($B122=0,0,VLOOKUP($D122,'MI materialen'!$E:$AS,L$66,FALSE)*$B122*$C122)","v":0},{"$f":"IF($B122=0,0,VLOOKUP($D122,'MI materialen'!$E:$AS,M$66,FALSE)*$B122*$C122)","v":0},{"$f":"IF($B122=0,0,VLOOKUP($D122,'MI materialen'!$E:$AS,N$66,FALSE)*$B122*$C122)","v":0},{"$f":"IF($B122=0,0,VLOOKUP($D122,'MI materialen'!$E:$AS,O$66,FALSE)*$B122*$C122)","v":0},{"$f":"IF($B122=0,0,VLOOKUP($D122,'MI materialen'!$E:$AS,P$66,FALSE)*$B122*$C122)","v":0},{"$f":"IF($B122=0,0,VLOOKUP($D122,'MI materialen'!$E:$AS,Q$66,FALSE)*$B122*$C122)","v":0},{"$f":"IF($B122=0,0,VLOOKUP($D122,'MI materialen'!$E:$AS,R$66,FALSE)*$B122*$C122)","v":0},{"$f":"IF($B122=0,0,VLOOKUP($D122,'MI materialen'!$E:$AS,S$66,FALSE)*$B122*$C122)","v":0},{"$f":"IF($B122=0,0,VLOOKUP($D122,'MI materialen'!$E:$AS,T$66,FALSE)*$B122*$C122)","v":0},{"$f":"IF($B122=0,0,VLOOKUP($D122,'MI materialen'!$E:$AS,U$66,FALSE)*$B122*$C122)","v":0},{"$f":"IF($B122=0,0,VLOOKUP($D122,'MI materialen'!$E:$AS,V$66,FALSE)*$B122*$C122)","v":0}]
["Hergebruik",{"$f":"IF(Invul_Alt_EindeL!$I$23=\"Standaard\",Invul_Alt_EindeL!$M$23,Invul_Alt_EindeL!$Q$23)*(100%-Invul_Alt_Materialen!$J$22)","v":0},{"$f":"C119","v":0},{"$f":"VLOOKUP($B119,'MI materialen'!B:AS,43,FALSE)","v":0},{"$f":"IF($B123=0,0,VLOOKUP($D123,MKI!E:K,2,FALSE)*$B123*$C123)","v":0},{"$f":"IF($B123=0,0,VLOOKUP($D123,'MI materialen'!$E:$AS,F$66,FALSE)*$B123*$C123)","v":0},{"$f":"IF($B123=0,0,VLOOKUP($D123,'MI materialen'!$E:$AS,G$66,FALSE)*$B123*$C123)","v":0},{"$f":"IF($B123=0,0,VLOOKUP($D123,'MI materialen'!$E:$AS,H$66,FALSE)*$B123*$C123)","v":0},{"$f":"IF($B123=0,0,VLOOKUP($D123,'MI materialen'!$E:$AS,I$66,FALSE)*$B123*$C123)","v":0},{"$f":"IF($B123=0,0,VLOOKUP($D123,'MI materialen'!$E:$AS,J$66,FALSE)*$B123*$C123)","v":0},{"$f":"IF($B123=0,0,VLOOKUP($D123,'MI materialen'!$E:$AS,K$66,FALSE)*$B123*$C123)","v":0},{"$f":"IF($B123=0,0,VLOOKUP($D123,'MI materialen'!$E:$AS,L$66,FALSE)*$B123*$C123)","v":0},{"$f":"IF($B123=0,0,VLOOKUP($D123,'MI materialen'!$E:$AS,M$66,FALSE)*$B123*$C123)","v":0},{"$f":"IF($B123=0,0,VLOOKUP($D123,'MI materialen'!$E:$AS,N$66,FALSE)*$B123*$C123)","v":0},{"$f":"IF($B123=0,0,VLOOKUP($D123,'MI materialen'!$E:$AS,O$66,FALSE)*$B123*$C123)","v":0},{"$f":"IF($B123=0,0,VLOOKUP($D123,'MI materialen'!$E:$AS,P$66,FALSE)*$B123*$C123)","v":0},{"$f":"IF($B123=0,0,VLOOKUP($D123,'MI materialen'!$E:$AS,Q$66,FALSE)*$B123*$C123)","v":0},{"$f":"IF($B123=0,0,VLOOKUP($D123,'MI materialen'!$E:$AS,R$66,FALSE)*$B123*$C123)","v":0},{"$f":"IF($B123=0,0,VLOOKUP($D123,'MI materialen'!$E:$AS,S$66,FALSE)*$B123*$C123)","v":0},{"$f":"IF($B123=0,0,VLOOKUP($D123,'MI materialen'!$E:$AS,T$66,FALSE)*$B123*$C123)","v":0},{"$f":"IF($B123=0,0,VLOOKUP($D123,'MI materialen'!$E:$AS,U$66,FALSE)*$B123*$C123)","v":0},{"$f":"IF($B123=0,0,VLOOKUP($D123,'MI materialen'!$E:$AS,V$66,FALSE)*$B123*$C123)","v":0}]
["Som",{"$f":"Invul_Alt_EindeL!$F$24","v":"Leeg"},{"$f":"Invul_Alt_EindeL!$G$24","v":0},null,{"$f":"SUM(E125:E128)","v":0},{"$f":"SUM(F125:F128)","v":0},0,0,0,0,0,0,0,0,0,0,0,0,0,0,0,0]
["Stort",{"$f":"IF(Invul_Alt_EindeL!$I$24=\"Standaard\",Invul_Alt_EindeL!$J$24,Invul_Alt_EindeL!$N$24)","v":0},{"$f":"C124","v":0},{"$f":"VLOOKUP($B124,'MI materialen'!B:AS,41,FALSE)","v":0},{"$f":"IF($B125=0,0,VLOOKUP($D125,MKI!E:K,2,FALSE)*$B125*$C125)","v":0},{"$f":"IF($B125=0,0,VLOOKUP($D125,'MI materialen'!$E:$AS,F$66,FALSE)*$B125*$C125)","v":0},{"$f":"IF($B125=0,0,VLOOKUP($D125,'MI materialen'!$E:$AS,G$66,FALSE)*$B125*$C125)","v":0},{"$f":"IF($B125=0,0,VLOOKUP($D125,'MI materialen'!$E:$AS,H$66,FALSE)*$B125*$C125)","v":0},{"$f":"IF($B125=0,0,VLOOKUP($D125,'MI materialen'!$E:$AS,I$66,FALSE)*$B125*$C125)","v":0},{"$f":"IF($B125=0,0,VLOOKUP($D125,'MI materialen'!$E:$AS,J$66,FALSE)*$B125*$C125)","v":0},{"$f":"IF($B125=0,0,VLOOKUP($D125,'MI materialen'!$E:$AS,K$66,FALSE)*$B125*$C125)","v":0},{"$f":"IF($B125=0,0,VLOOKUP($D125,'MI materialen'!$E:$AS,L$66,FALSE)*$B125*$C125)","v":0},{"$f":"IF($B125=0,0,VLOOKUP($D125,'MI materialen'!$E:$AS,M$66,FALSE)*$B125*$C125)","v":0},{"$f":"IF($B125=0,0,VLOOKUP($D125,'MI materialen'!$E:$AS,N$66,FALSE)*$B125*$C125)","v":0},{"$f":"IF($B125=0,0,VLOOKUP($D125,'MI materialen'!$E:$AS,O$66,FALSE)*$B125*$C125)","v":0},{"$f":"IF($B125=0,0,VLOOKUP($D125,'MI materialen'!$E:$AS,P$66,FALSE)*$B125*$C125)","v":0},{"$f":"IF($B125=0,0,VLOOKUP($D125,'MI materialen'!$E:$AS,Q$66,FALSE)*$B125*$C125)","v":0},{"$f":"IF($B125=0,0,VLOOKUP($D125,'MI materialen'!$E:$AS,R$66,FALSE)*$B125*$C125)","v":0},{"$f":"IF($B125=0,0,VLOOKUP($D125,'MI materialen'!$E:$AS,S$66,FALSE)*$B125*$C125)","v":0},{"$f":"IF($B125=0,0,VLOOKUP($D125,'MI materialen'!$E:$AS,T$66,FALSE)*$B125*$C125)","v":0},{"$f":"IF($B125=0,0,VLOOKUP($D125,'MI materialen'!$E:$AS,U$66,FALSE)*$B125*$C125)","v":0},{"$f":"IF($B125=0,0,VLOOKUP($D125,'MI materialen'!$E:$AS,V$66,FALSE)*$B125*$C125)","v":0}]
["Verbranding",{"$f":"IF(Invul_Alt_EindeL!$I$24=\"Standaard\",Invul_Alt_EindeL!$K$24,Invul_Alt_EindeL!$O$24)","v":0},{"$f":"C124","v":0},{"$f":"VLOOKUP($B124,'MI materialen'!B:AS,42,FALSE)","v":0},{"$f":"IF($B126=0,0,VLOOKUP($D126,MKI!E:K,2,FALSE)*$B126*$C126)","v":0},{"$f":"IF($B126=0,0,VLOOKUP($D126,'MI materialen'!$E:$AS,F$66,FALSE)*$B126*$C126)","v":0},{"$f":"IF($B126=0,0,VLOOKUP($D126,'MI materialen'!$E:$AS,G$66,FALSE)*$B126*$C126)","v":0},{"$f":"IF($B126=0,0,VLOOKUP($D126,'MI materialen'!$E:$AS,H$66,FALSE)*$B126*$C126)","v":0},{"$f":"IF($B126=0,0,VLOOKUP($D126,'MI materialen'!$E:$AS,I$66,FALSE)*$B126*$C126)","v":0},{"$f":"IF($B126=0,0,VLOOKUP($D126,'MI materialen'!$E:$AS,J$66,FALSE)*$B126*$C126)","v":0},{"$f":"IF($B126=0,0,VLOOKUP($D126,'MI materialen'!$E:$AS,K$66,FALSE)*$B126*$C126)","v":0},{"$f":"IF($B126=0,0,VLOOKUP($D126,'MI materialen'!$E:$AS,L$66,FALSE)*$B126*$C126)","v":0},{"$f":"IF($B126=0,0,VLOOKUP($D126,'MI materialen'!$E:$AS,M$66,FALSE)*$B126*$C126)","v":0},{"$f":"IF($B126=0,0,VLOOKUP($D126,'MI materialen'!$E:$AS,N$66,FALSE)*$B126*$C126)","v":0},{"$f":"IF($B126=0,0,VLOOKUP($D126,'MI materialen'!$E:$AS,O$66,FALSE)*$B126*$C126)","v":0},{"$f":"IF($B126=0,0,VLOOKUP($D126,'MI materialen'!$E:$AS,P$66,FALSE)*$B126*$C126)","v":0},{"$f":"IF($B126=0,0,VLOOKUP($D126,'MI materialen'!$E:$AS,Q$66,FALSE)*$B126*$C126)","v":0},{"$f":"IF($B126=0,0,VLOOKUP($D126,'MI materialen'!$E:$AS,R$66,FALSE)*$B126*$C126)","v":0},{"$f":"IF($B126=0,0,VLOOKUP($D126,'MI materialen'!$E:$AS,S$66,FALSE)*$B126*$C126)","v":0},{"$f":"IF($B126=0,0,VLOOKUP($D126,'MI materialen'!$E:$AS,T$66,FALSE)*$B126*$C126)","v":0},{"$f":"IF($B126=0,0,VLOOKUP($D126,'MI materialen'!$E:$AS,U$66,FALSE)*$B126*$C126)","v":0},{"$f":"IF($B126=0,0,VLOOKUP($D126,'MI materialen'!$E:$AS,V$66,FALSE)*$B126*$C126)","v":0}]
["Recycling",{"$f":"IF(Invul_Alt_EindeL!$I$24=\"Standaard\",Invul_Alt_EindeL!$L$24,Invul_Alt_EindeL!$P$24)*(100%-Invul_Alt_Materialen!$J$23)","v":0},{"$f":"C124","v":0},{"$f":"VLOOKUP($B124,'MI materialen'!B:AS,43,FALSE)","v":0},{"$f":"IF($B127=0,0,VLOOKUP($D127,MKI!E:K,2,FALSE)*$B127*$C127)","v":0},{"$f":"IF($B127=0,0,VLOOKUP($D127,'MI materialen'!$E:$AS,F$66,FALSE)*$B127*$C127)","v":0},{"$f":"IF($B127=0,0,VLOOKUP($D127,'MI materialen'!$E:$AS,G$66,FALSE)*$B127*$C127)","v":0},{"$f":"IF($B127=0,0,VLOOKUP($D127,'MI materialen'!$E:$AS,H$66,FALSE)*$B127*$C127)","v":0},{"$f":"IF($B127=0,0,VLOOKUP($D127,'MI materialen'!$E:$AS,I$66,FALSE)*$B127*$C127)","v":0},{"$f":"IF($B127=0,0,VLOOKUP($D127,'MI materialen'!$E:$AS,J$66,FALSE)*$B127*$C127)","v":0},{"$f":"IF($B127=0,0,VLOOKUP($D127,'MI materialen'!$E:$AS,K$66,FALSE)*$B127*$C127)","v":0},{"$f":"IF($B127=0,0,VLOOKUP($D127,'MI materialen'!$E:$AS,L$66,FALSE)*$B127*$C127)","v":0},{"$f":"IF($B127=0,0,VLOOKUP($D127,'MI materialen'!$E:$AS,M$66,FALSE)*$B127*$C127)","v":0},{"$f":"IF($B127=0,0,VLOOKUP($D127,'MI materialen'!$E:$AS,N$66,FALSE)*$B127*$C127)","v":0},{"$f":"IF($B127=0,0,VLOOKUP($D127,'MI materialen'!$E:$AS,O$66,FALSE)*$B127*$C127)","v":0},{"$f":"IF($B127=0,0,VLOOKUP($D127,'MI materialen'!$E:$AS,P$66,FALSE)*$B127*$C127)","v":0},{"$f":"IF($B127=0,0,VLOOKUP($D127,'MI materialen'!$E:$AS,Q$66,FALSE)*$B127*$C127)","v":0},{"$f":"IF($B127=0,0,VLOOKUP($D127,'MI materialen'!$E:$AS,R$66,FALSE)*$B127*$C127)","v":0},{"$f":"IF($B127=0,0,VLOOKUP($D127,'MI materialen'!$E:$AS,S$66,FALSE)*$B127*$C127)","v":0},{"$f":"IF($B127=0,0,VLOOKUP($D127,'MI materialen'!$E:$AS,T$66,FALSE)*$B127*$C127)","v":0},{"$f":"IF($B127=0,0,VLOOKUP($D127,'MI materialen'!$E:$AS,U$66,FALSE)*$B127*$C127)","v":0},{"$f":"IF($B127=0,0,VLOOKUP($D127,'MI materialen'!$E:$AS,V$66,FALSE)*$B127*$C127)","v":0}]
["Hergebruik",{"$f":"IF(Invul_Alt_EindeL!$I$24=\"Standaard\",Invul_Alt_EindeL!$M$24,Invul_Alt_EindeL!$Q$24)*(100%-Invul_Alt_Materialen!$J$23)","v":0},{"$f":"C124","v":0},{"$f":"VLOOKUP($B124,'MI materialen'!B:AS,43,FALSE)","v":0},{"$f":"IF($B128=0,0,VLOOKUP($D128,MKI!E:K,2,FALSE)*$B128*$C128)","v":0},{"$f":"IF($B128=0,0,VLOOKUP($D128,'MI materialen'!$E:$AS,F$66,FALSE)*$B128*$C128)","v":0},{"$f":"IF($B128=0,0,VLOOKUP($D128,'MI materialen'!$E:$AS,G$66,FALSE)*$B128*$C128)","v":0},{"$f":"IF($B128=0,0,VLOOKUP($D128,'MI materialen'!$E:$AS,H$66,FALSE)*$B128*$C128)","v":0},{"$f":"IF($B128=0,0,VLOOKUP($D128,'MI materialen'!$E:$AS,I$66,FALSE)*$B128*$C128)","v":0},{"$f":"IF($B128=0,0,VLOOKUP($D128,'MI materialen'!$E:$AS,J$66,FALSE)*$B128*$C128)","v":0},{"$f":"IF($B128=0,0,VLOOKUP($D128,'MI materialen'!$E:$AS,K$66,FALSE)*$B128*$C128)","v":0},{"$f":"IF($B128=0,0,VLOOKUP($D128,'MI materialen'!$E:$AS,L$66,FALSE)*$B128*$C128)","v":0},{"$f":"IF($B128=0,0,VLOOKUP($D128,'MI materialen'!$E:$AS,M$66,FALSE)*$B128*$C128)","v":0},{"$f":"IF($B128=0,0,VLOOKUP($D128,'MI materialen'!$E:$AS,N$66,FALSE)*$B128*$C128)","v":0},{"$f":"IF($B128=0,0,VLOOKUP($D128,'MI materialen'!$E:$AS,O$66,FALSE)*$B128*$C128)","v":0},{"$f":"IF($B128=0,0,VLOOKUP($D128,'MI materialen'!$E:$AS,P$66,FALSE)*$B128*$C128)","v":0},{"$f":"IF($B128=0,0,VLOOKUP($D128,'MI materialen'!$E:$AS,Q$66,FALSE)*$B128*$C128)","v":0},{"$f":"IF($B128=0,0,VLOOKUP($D128,'MI materialen'!$E:$AS,R$66,FALSE)*$B128*$C128)","v":0},{"$f":"IF($B128=0,0,VLOOKUP($D128,'MI materialen'!$E:$AS,S$66,FALSE)*$B128*$C128)","v":0},{"$f":"IF($B128=0,0,VLOOKUP($D128,'MI materialen'!$E:$AS,T$66,FALSE)*$B128*$C128)","v":0},{"$f":"IF($B128=0,0,VLOOKUP($D128,'MI materialen'!$E:$AS,U$66,FALSE)*$B128*$C128)","v":0},{"$f":"IF($B128=0,0,VLOOKUP($D128,'MI materialen'!$E:$AS,V$66,FALSE)*$B128*$C128)","v":0}]
["Som",{"$f":"Invul_Alt_EindeL!$F$25","v":"Leeg"},{"$f":"Invul_Alt_EindeL!$G$25","v":0},null,{"$f":"SUM(E130:E133)","v":0},{"$f":"SUM(F130:F133)","v":0},0,0,0,0,0,0,0,0,0,0,0,0,0,0,0,0]
["Stort",{"$f":"IF(Invul_Alt_EindeL!$I$25=\"Standaard\",Invul_Alt_EindeL!$J$25,Invul_Alt_EindeL!$N$25)","v":0},{"$f":"C129","v":0},{"$f":"VLOOKUP($B129,'MI materialen'!B:AS,41,FALSE)","v":0},{"$f":"IF($B130=0,0,VLOOKUP($D130,MKI!E:K,2,FALSE)*$B130*$C130)","v":0},{"$f":"IF($B130=0,0,VLOOKUP($D130,'MI materialen'!$E:$AS,F$66,FALSE)*$B130*$C130)","v":0},{"$f":"IF($B130=0,0,VLOOKUP($D130,'MI materialen'!$E:$AS,G$66,FALSE)*$B130*$C130)","v":0},{"$f":"IF($B130=0,0,VLOOKUP($D130,'MI materialen'!$E:$AS,H$66,FALSE)*$B130*$C130)","v":0},{"$f":"IF($B130=0,0,VLOOKUP($D130,'MI materialen'!$E:$AS,I$66,FALSE)*$B130*$C130)","v":0},{"$f":"IF($B130=0,0,VLOOKUP($D130,'MI materialen'!$E:$AS,J$66,FALSE)*$B130*$C130)","v":0},{"$f":"IF($B130=0,0,VLOOKUP($D130,'MI materialen'!$E:$AS,K$66,FALSE)*$B130*$C130)","v":0},{"$f":"IF($B130=0,0,VLOOKUP($D130,'MI materialen'!$E:$AS,L$66,FALSE)*$B130*$C130)","v":0},{"$f":"IF($B130=0,0,VLOOKUP($D130,'MI materialen'!$E:$AS,M$66,FALSE)*$B130*$C130)","v":0},{"$f":"IF($B130=0,0,VLOOKUP($D130,'MI materialen'!$E:$AS,N$66,FALSE)*$B130*$C130)","v":0},{"$f":"IF($B130=0,0,VLOOKUP($D130,'MI materialen'!$E:$AS,O$66,FALSE)*$B130*$C130)","v":0},{"$f":"IF($B130=0,0,VLOOKUP($D130,'MI materialen'!$E:$AS,P$66,FALSE)*$B130*$C130)","v":0},{"$f":"IF($B130=0,0,VLOOKUP($D130,'MI materialen'!$E:$AS,Q$66,FALSE)*$B130*$C130)","v":0},{"$f":"IF($B130=0,0,VLOOKUP($D130,'MI materialen'!$E:$AS,R$66,FALSE)*$B130*$C130)","v":0},{"$f":"IF($B130=0,0,VLOOKUP($D130,'MI materialen'!$E:$AS,S$66,FALSE)*$B130*$C130)","v":0},{"$f":"IF($B130=0,0,VLOOKUP($D130,'MI materialen'!$E:$AS,T$66,FALSE)*$B130*$C130)","v":0},{"$f":"IF($B130=0,0,VLOOKUP($D130,'MI materialen'!$E:$AS,U$66,FALSE)*$B130*$C130)","v":0},{"$f":"IF($B130=0,0,VLOOKUP($D130,'MI materialen'!$E:$AS,V$66,FALSE)*$B130*$C130)","v":0}]
["Verbranding",{"$f":"IF(Invul_Alt_EindeL!$I$25=\"Standaard\",Invul_Alt_EindeL!$K$25,Invul_Alt_EindeL!$O$25)","v":0},{"$f":"C129","v":0},{"$f":"VLOOKUP($B129,'MI materialen'!B:AS,42,FALSE)","v":0},{"$f":"IF($B131=0,0,VLOOKUP($D131,MKI!E:K,2,FALSE)*$B131*$C131)","v":0},{"$f":"IF($B131=0,0,VLOOKUP($D131,'MI materialen'!$E:$AS,F$66,FALSE)*$B131*$C131)","v":0},{"$f":"IF($B131=0,0,VLOOKUP($D131,'MI materialen'!$E:$AS,G$66,FALSE)*$B131*$C131)","v":0},{"$f":"IF($B131=0,0,VLOOKUP($D131,'MI materialen'!$E:$AS,H$66,FALSE)*$B131*$C131)","v":0},{"$f":"IF($B131=0,0,VLOOKUP($D131,'MI materialen'!$E:$AS,I$66,FALSE)*$B131*$C131)","v":0},{"$f":"IF($B131=0,0,VLOOKUP($D131,'MI materialen'!$E:$AS,J$66,FALSE)*$B131*$C131)","v":0},{"$f":"IF($B131=0,0,VLOOKUP($D131,'MI materialen'!$E:$AS,K$66,FALSE)*$B131*$C131)","v":0},{"$f":"IF($B131=0,0,VLOOKUP($D131,'MI materialen'!$E:$AS,L$66,FALSE)*$B131*$C131)","v":0},{"$f":"IF($B131=0,0,VLOOKUP($D131,'MI materialen'!$E:$AS,M$66,FALSE)*$B131*$C131)","v":0},{"$f":"IF($B131=0,0,VLOOKUP($D131,'MI materialen'!$E:$AS,N$66,FALSE)*$B131*$C131)","v":0},{"$f":"IF($B131=0,0,VLOOKUP($D131,'MI materialen'!$E:$AS,O$66,FALSE)*$B131*$C131)","v":0},{"$f":"IF($B131=0,0,VLOOKUP($D131,'MI materialen'!$E:$AS,P$66,FALSE)*$B131*$C131)","v":0},{"$f":"IF($B131=0,0,VLOOKUP($D131,'MI materialen'!$E:$AS,Q$66,FALSE)*$B131*$C131)","v":0},{"$f":"IF($B131=0,0,VLOOKUP($D131,'MI materialen'!$E:$AS,R$66,FALSE)*$B131*$C131)","v":0},{"$f":"IF($B131=0,0,VLOOKUP($D131,'MI materialen'!$E:$AS,S$66,FALSE)*$B131*$C131)","v":0},{"$f":"IF($B131=0,0,VLOOKUP($D131,'MI materialen'!$E:$AS,T$66,FALSE)*$B131*$C131)","v":0},{"$f":"IF($B131=0,0,VLOOKUP($D131,'MI materialen'!$E:$AS,U$66,FALSE)*$B131*$C131)","v":0},{"$f":"IF($B131=0,0,VLOOKUP($D131,'MI materialen'!$E:$AS,V$66,FALSE)*$B131*$C131)","v":0}]
["Recycling",{"$f":"IF(Invul_Alt_EindeL!$I$25=\"Standaard\",Invul_Alt_EindeL!$L$25,Invul_Alt_EindeL!$P$25)*(100%-Invul_Alt_Materialen!$J$24)","v":0},{"$f":"C129","v":0},{"$f":"VLOOKUP($B129,'MI materialen'!B:AS,43,FALSE)","v":0},{"$f":"IF($B132=0,0,VLOOKUP($D132,MKI!E:K,2,FALSE)*$B132*$C132)","v":0},{"$f":"IF($B132=0,0,VLOOKUP($D132,'MI materialen'!$E:$AS,F$66,FALSE)*$B132*$C132)","v":0},{"$f":"IF($B132=0,0,VLOOKUP($D132,'MI materialen'!$E:$AS,G$66,FALSE)*$B132*$C132)","v":0},{"$f":"IF($B132=0,0,VLOOKUP($D132,'MI materialen'!$E:$AS,H$66,FALSE)*$B132*$C132)","v":0},{"$f":"IF($B132=0,0,VLOOKUP($D132,'MI materialen'!$E:$AS,I$66,FALSE)*$B132*$C132)","v":0},{"$f":"IF($B132=0,0,VLOOKUP($D132,'MI materialen'!$E:$AS,J$66,FALSE)*$B132*$C132)","v":0},{"$f":"IF($B132=0,0,VLOOKUP($D132,'MI materialen'!$E:$AS,K$66,FALSE)*$B132*$C132)","v":0},{"$f":"IF($B132=0,0,VLOOKUP($D132,'MI materialen'!$E:$AS,L$66,FALSE)*$B132*$C132)","v":0},{"$f":"IF($B132=0,0,VLOOKUP($D132,'MI materialen'!$E:$AS,M$66,FALSE)*$B132*$C132)","v":0},{"$f":"IF($B132=0,0,VLOOKUP($D132,'MI materialen'!$E:$AS,N$66,FALSE)*$B132*$C132)","v":0},{"$f":"IF($B132=0,0,VLOOKUP($D132,'MI materialen'!$E:$AS,O$66,FALSE)*$B132*$C132)","v":0},{"$f":"IF($B132=0,0,VLOOKUP($D132,'MI materialen'!$E:$AS,P$66,FALSE)*$B132*$C132)","v":0},{"$f":"IF($B132=0,0,VLOOKUP($D132,'MI materialen'!$E:$AS,Q$66,FALSE)*$B132*$C132)","v":0},{"$f":"IF($B132=0,0,VLOOKUP($D132,'MI materialen'!$E:$AS,R$66,FALSE)*$B132*$C132)","v":0},{"$f":"IF($B132=0,0,VLOOKUP($D132,'MI materialen'!$E:$AS,S$66,FALSE)*$B132*$C132)","v":0},{"$f":"IF($B132=0,0,VLOOKUP($D132,'MI materialen'!$E:$AS,T$66,FALSE)*$B132*$C132)","v":0},{"$f":"IF($B132=0,0,VLOOKUP($D132,'MI materialen'!$E:$AS,U$66,FALSE)*$B132*$C132)","v":0},{"$f":"IF($B132=0,0,VLOOKUP($D132,'MI materialen'!$E:$AS,V$66,FALSE)*$B132*$C132)","v":0}]
["Hergebruik",{"$f":"IF(Invul_Alt_EindeL!$I$25=\"Standaard\",Invul_Alt_EindeL!$M$25,Invul_Alt_EindeL!$Q$25)*(100%-Invul_Alt_Materialen!$J$24)","v":0},{"$f":"C129","v":0},{"$f":"VLOOKUP($B129,'MI materialen'!B:AS,43,FALSE)","v":0},{"$f":"IF($B133=0,0,VLOOKUP($D133,MKI!E:K,2,FALSE)*$B133*$C133)","v":0},{"$f":"IF($B133=0,0,VLOOKUP($D133,'MI materialen'!$E:$AS,F$66,FALSE)*$B133*$C133)","v":0},{"$f":"IF($B133=0,0,VLOOKUP($D133,'MI materialen'!$E:$AS,G$66,FALSE)*$B133*$C133)","v":0},{"$f":"IF($B133=0,0,VLOOKUP($D133,'MI materialen'!$E:$AS,H$66,FALSE)*$B133*$C133)","v":0},{"$f":"IF($B133=0,0,VLOOKUP($D133,'MI materialen'!$E:$AS,I$66,FALSE)*$B133*$C133)","v":0},{"$f":"IF($B133=0,0,VLOOKUP($D133,'MI materialen'!$E:$AS,J$66,FALSE)*$B133*$C133)","v":0},{"$f":"IF($B133=0,0,VLOOKUP($D133,'MI materialen'!$E:$AS,K$66,FALSE)*$B133*$C133)","v":0},{"$f":"IF($B133=0,0,VLOOKUP($D133,'MI materialen'!$E:$AS,L$66,FALSE)*$B133*$C133)","v":0},{"$f":"IF($B133=0,0,VLOOKUP($D133,'MI materialen'!$E:$AS,M$66,FALSE)*$B133*$C133)","v":0},{"$f":"IF($B133=0,0,VLOOKUP($D133,'MI materialen'!$E:$AS,N$66,FALSE)*$B133*$C133)","v":0},{"$f":"IF($B133=0,0,VLOOKUP($D133,'MI materialen'!$E:$AS,O$66,FALSE)*$B133*$C133)","v":0},{"$f":"IF($B133=0,0,VLOOKUP($D133,'MI materialen'!$E:$AS,P$66,FALSE)*$B133*$C133)","v":0},{"$f":"IF($B133=0,0,VLOOKUP($D133,'MI materialen'!$E:$AS,Q$66,FALSE)*$B133*$C133)","v":0},{"$f":"IF($B133=0,0,VLOOKUP($D133,'MI materialen'!$E:$AS,R$66,FALSE)*$B133*$C133)","v":0},{"$f":"IF($B133=0,0,VLOOKUP($D133,'MI materialen'!$E:$AS,S$66,FALSE)*$B133*$C133)","v":0},{"$f":"IF($B133=0,0,VLOOKUP($D133,'MI materialen'!$E:$AS,T$66,FALSE)*$B133*$C133)","v":0},{"$f":"IF($B133=0,0,VLOOKUP($D133,'MI materialen'!$E:$AS,U$66,FALSE)*$B133*$C133)","v":0},{"$f":"IF($B133=0,0,VLOOKUP($D133,'MI materialen'!$E:$AS,V$66,FALSE)*$B133*$C133)","v":0}]
["Som",{"$f":"Invul_Alt_EindeL!$F$26","v":"Leeg"},{"$f":"Invul_Alt_EindeL!$G$26","v":0},null,{"$f":"SUM(E135:E138)","v":0},{"$f":"SUM(F135:F138)","v":0},0,0,0,0,0,0,0,0,0,0,0,0,0,0,0,0]
["Stort",{"$f":"IF(Invul_Alt_EindeL!$I$26=\"Standaard\",Invul_Alt_EindeL!$J$26,Invul_Alt_EindeL!$N$26)","v":0},{"$f":"C134","v":0},{"$f":"VLOOKUP($B134,'MI materialen'!B:AS,41,FALSE)","v":0},{"$f":"IF($B135=0,0,VLOOKUP($D135,MKI!E:K,2,FALSE)*$B135*$C135)","v":0},{"$f":"IF($B135=0,0,VLOOKUP($D135,'MI materialen'!$E:$AS,F$66,FALSE)*$B135*$C135)","v":0},{"$f":"IF($B135=0,0,VLOOKUP($D135,'MI materialen'!$E:$AS,G$66,FALSE)*$B135*$C135)","v":0},{"$f":"IF($B135=0,0,VLOOKUP($D135,'MI materialen'!$E:$AS,H$66,FALSE)*$B135*$C135)","v":0},{"$f":"IF($B135=0,0,VLOOKUP($D135,'MI materialen'!$E:$AS,I$66,FALSE)*$B135*$C135)","v":0},{"$f":"IF($B135=0,0,VLOOKUP($D135,'MI materialen'!$E:$AS,J$66,FALSE)*$B135*$C135)","v":0},{"$f":"IF($B135=0,0,VLOOKUP($D135,'MI materialen'!$E:$AS,K$66,FALSE)*$B135*$C135)","v":0},{"$f":"IF($B135=0,0,VLOOKUP($D135,'MI materialen'!$E:$AS,L$66,FALSE)*$B135*$C135)","v":0},{"$f":"IF($B135=0,0,VLOOKUP($D135,'MI materialen'!$E:$AS,M$66,FALSE)*$B135*$C135)","v":0},{"$f":"IF($B135=0,0,VLOOKUP($D135,'MI materialen'!$E:$AS,N$66,FALSE)*$B135*$C135)","v":0},{"$f":"IF($B135=0,0,VLOOKUP($D135,'MI materialen'!$E:$AS,O$66,FALSE)*$B135*$C135)","v":0},{"$f":"IF($B135=0,0,VLOOKUP($D135,'MI materialen'!$E:$AS,P$66,FALSE)*$B135*$C135)","v":0},{"$f":"IF($B135=0,0,VLOOKUP($D135,'MI materialen'!$E:$AS,Q$66,FALSE)*$B135*$C135)","v":0},{"$f":"IF($B135=0,0,VLOOKUP($D135,'MI materialen'!$E:$AS,R$66,FALSE)*$B135*$C135)","v":0},{"$f":"IF($B135=0,0,VLOOKUP($D135,'MI materialen'!$E:$AS,S$66,FALSE)*$B135*$C135)","v":0},{"$f":"IF($B135=0,0,VLOOKUP($D135,'MI materialen'!$E:$AS,T$66,FALSE)*$B135*$C135)","v":0},{"$f":"IF($B135=0,0,VLOOKUP($D135,'MI materialen'!$E:$AS,U$66,FALSE)*$B135*$C135)","v":0},{"$f":"IF($B135=0,0,VLOOKUP($D135,'MI materialen'!$E:$AS,V$66,FALSE)*$B135*$C135)","v":0}]
["Verbranding",{"$f":"IF(Invul_Alt_EindeL!$I$26=\"Standaard\",Invul_Alt_EindeL!$K$26,Invul_Alt_EindeL!$O$26)","v":0},{"$f":"C134","v":0},{"$f":"VLOOKUP($B134,'MI materialen'!B:AS,42,FALSE)","v":0},{"$f":"IF($B136=0,0,VLOOKUP($D136,MKI!E:K,2,FALSE)*$B136*$C136)","v":0},{"$f":"IF($B136=0,0,VLOOKUP($D136,'MI materialen'!$E:$AS,F$66,FALSE)*$B136*$C136)","v":0},{"$f":"IF($B136=0,0,VLOOKUP($D136,'MI materialen'!$E:$AS,G$66,FALSE)*$B136*$C136)","v":0},{"$f":"IF($B136=0,0,VLOOKUP($D136,'MI materialen'!$E:$AS,H$66,FALSE)*$B136*$C136)","v":0},{"$f":"IF($B136=0,0,VLOOKUP($D136,'MI materialen'!$E:$AS,I$66,FALSE)*$B136*$C136)","v":0},{"$f":"IF($B136=0,0,VLOOKUP($D136,'MI materialen'!$E:$AS,J$66,FALSE)*$B136*$C136)","v":0},{"$f":"IF($B136=0,0,VLOOKUP($D136,'MI materialen'!$E:$AS,K$66,FALSE)*$B136*$C136)","v":0},{"$f":"IF($B136=0,0,VLOOKUP($D136,'MI materialen'!$E:$AS,L$66,FALSE)*$B136*$C136)","v":0},{"$f":"IF($B136=0,0,VLOOKUP($D136,'MI materialen'!$E:$AS,M$66,FALSE)*$B136*$C136)","v":0},{"$f":"IF($B136=0,0,VLOOKUP($D136,'MI materialen'!$E:$AS,N$66,FALSE)*$B136*$C136)","v":0},{"$f":"IF($B136=0,0,VLOOKUP($D136,'MI materialen'!$E:$AS,O$66,FALSE)*$B136*$C136)","v":0},{"$f":"IF($B136=0,0,VLOOKUP($D136,'MI materialen'!$E:$AS,P$66,FALSE)*$B136*$C136)","v":0},{"$f":"IF($B136=0,0,VLOOKUP($D136,'MI materialen'!$E:$AS,Q$66,FALSE)*$B136*$C136)","v":0},{"$f":"IF($B136=0,0,VLOOKUP($D136,'MI materialen'!$E:$AS,R$66,FALSE)*$B136*$C136)","v":0},{"$f":"IF($B136=0,0,VLOOKUP($D136,'MI materialen'!$E:$AS,S$66,FALSE)*$B136*$C136)","v":0},{"$f":"IF($B136=0,0,VLOOKUP($D136,'MI materialen'!$E:$AS,T$66,FALSE)*$B136*$C136)","v":0},{"$f":"IF($B136=0,0,VLOOKUP($D136,'MI materialen'!$E:$AS,U$66,FALSE)*$B136*$C136)","v":0},{"$f":"IF($B136=0,0,VLOOKUP($D136,'MI materialen'!$E:$AS,V$66,FALSE)*$B136*$C136)","v":0}]
["Recycling",{"$f":"IF(Invul_Alt_EindeL!$I$26=\"Standaard\",Invul_Alt_EindeL!$L$26,Invul_Alt_EindeL!$P$26)*(100%-Invul_Alt_Materialen!$J$25)","v":0},{"$f":"C134","v":0},{"$f":"VLOOKUP($B134,'MI materialen'!B:AS,43,FALSE)","v":0},{"$f":"IF($B137=0,0,VLOOKUP($D137,MKI!E:K,2,FALSE)*$B137*$C137)","v":0},{"$f":"IF($B137=0,0,VLOOKUP($D137,'MI materialen'!$E:$AS,F$66,FALSE)*$B137*$C137)","v":0},{"$f":"IF($B137=0,0,VLOOKUP($D137,'MI materialen'!$E:$AS,G$66,FALSE)*$B137*$C137)","v":0},{"$f":"IF($B137=0,0,VLOOKUP($D137,'MI materialen'!$E:$AS,H$66,FALSE)*$B137*$C137)","v":0},{"$f":"IF($B137=0,0,VLOOKUP($D137,'MI materialen'!$E:$AS,I$66,FALSE)*$B137*$C137)","v":0},{"$f":"IF($B137=0,0,VLOOKUP($D137,'MI materialen'!$E:$AS,J$66,FALSE)*$B137*$C137)","v":0},{"$f":"IF($B137=0,0,VLOOKUP($D137,'MI materialen'!$E:$AS,K$66,FALSE)*$B137*$C137)","v":0},{"$f":"IF($B137=0,0,VLOOKUP($D137,'MI materialen'!$E:$AS,L$66,FALSE)*$B137*$C137)","v":0},{"$f":"IF($B137=0,0,VLOOKUP($D137,'MI materialen'!$E:$AS,M$66,FALSE)*$B137*$C137)","v":0},{"$f":"IF($B137=0,0,VLOOKUP($D137,'MI materialen'!$E:$AS,N$66,FALSE)*$B137*$C137)","v":0},{"$f":"IF($B137=0,0,VLOOKUP($D137,'MI materialen'!$E:$AS,O$66,FALSE)*$B137*$C137)","v":0},{"$f":"IF($B137=0,0,VLOOKUP($D137,'MI materialen'!$E:$AS,P$66,FALSE)*$B137*$C137)","v":0},{"$f":"IF($B137=0,0,VLOOKUP($D137,'MI materialen'!$E:$AS,Q$66,FALSE)*$B137*$C137)","v":0},{"$f":"IF($B137=0,0,VLOOKUP($D137,'MI materialen'!$E:$AS,R$66,FALSE)*$B137*$C137)","v":0},{"$f":"IF($B137=0,0,VLOOKUP($D137,'MI materialen'!$E:$AS,S$66,FALSE)*$B137*$C137)","v":0},{"$f":"IF($B137=0,0,VLOOKUP($D137,'MI materialen'!$E:$AS,T$66,FALSE)*$B137*$C137)","v":0},{"$f":"IF($B137=0,0,VLOOKUP($D137,'MI materialen'!$E:$AS,U$66,FALSE)*$B137*$C137)","v":0},{"$f":"IF($B137=0,0,VLOOKUP($D137,'MI materialen'!$E:$AS,V$66,FALSE)*$B137*$C137)","v":0}]
["Hergebruik",{"$f":"IF(Invul_Alt_EindeL!$I$26=\"Standaard\",Invul_Alt_EindeL!$M$26,Invul_Alt_EindeL!$Q$26)*(100%-Invul_Alt_Materialen!$J$25)","v":0},{"$f":"C134","v":0},{"$f":"VLOOKUP($B134,'MI materialen'!B:AS,43,FALSE)","v":0},{"$f":"IF($B138=0,0,VLOOKUP($D138,MKI!E:K,2,FALSE)*$B138*$C138)","v":0},{"$f":"IF($B138=0,0,VLOOKUP($D138,'MI materialen'!$E:$AS,F$66,FALSE)*$B138*$C138)","v":0},{"$f":"IF($B138=0,0,VLOOKUP($D138,'MI materialen'!$E:$AS,G$66,FALSE)*$B138*$C138)","v":0},{"$f":"IF($B138=0,0,VLOOKUP($D138,'MI materialen'!$E:$AS,H$66,FALSE)*$B138*$C138)","v":0},{"$f":"IF($B138=0,0,VLOOKUP($D138,'MI materialen'!$E:$AS,I$66,FALSE)*$B138*$C138)","v":0},{"$f":"IF($B138=0,0,VLOOKUP($D138,'MI materialen'!$E:$AS,J$66,FALSE)*$B138*$C138)","v":0},{"$f":"IF($B138=0,0,VLOOKUP($D138,'MI materialen'!$E:$AS,K$66,FALSE)*$B138*$C138)","v":0},{"$f":"IF($B138=0,0,VLOOKUP($D138,'MI materialen'!$E:$AS,L$66,FALSE)*$B138*$C138)","v":0},{"$f":"IF($B138=0,0,VLOOKUP($D138,'MI materialen'!$E:$AS,M$66,FALSE)*$B138*$C138)","v":0},{"$f":"IF($B138=0,0,VLOOKUP($D138,'MI materialen'!$E:$AS,N$66,FALSE)*$B138*$C138)","v":0},{"$f":"IF($B138=0,0,VLOOKUP($D138,'MI materialen'!$E:$AS,O$66,FALSE)*$B138*$C138)","v":0},{"$f":"IF($B138=0,0,VLOOKUP($D138,'MI materialen'!$E:$AS,P$66,FALSE)*$B138*$C138)","v":0},{"$f":"IF($B138=0,0,VLOOKUP($D138,'MI materialen'!$E:$AS,Q$66,FALSE)*$B138*$C138)","v":0},{"$f":"IF($B138=0,0,VLOOKUP($D138,'MI materialen'!$E:$AS,R$66,FALSE)*$B138*$C138)","v":0},{"$f":"IF($B138=0,0,VLOOKUP($D138,'MI materialen'!$E:$AS,S$66,FALSE)*$B138*$C138)","v":0},{"$f":"IF($B138=0,0,VLOOKUP($D138,'MI materialen'!$E:$AS,T$66,FALSE)*$B138*$C138)","v":0},{"$f":"IF($B138=0,0,VLOOKUP($D138,'MI materialen'!$E:$AS,U$66,FALSE)*$B138*$C138)","v":0},{"$f":"IF($B138=0,0,VLOOKUP($D138,'MI materialen'!$E:$AS,V$66,FALSE)*$B138*$C138)","v":0}]
["Som",{"$f":"Invul_Alt_EindeL!$F$27","v":"Leeg"},{"$f":"Invul_Alt_EindeL!$G$27","v":0},null,{"$f":"SUM(E140:E143)","v":0},{"$f":"SUM(F140:F143)","v":0},0,0,0,0,0,0,0,0,0,0,0,0,0,0,0,0]
["Stort",{"$f":"IF(Invul_Alt_EindeL!$I$27=\"Standaard\",Invul_Alt_EindeL!$J$27,Invul_Alt_EindeL!$N$27)","v":0},{"$f":"C139","v":0},{"$f":"VLOOKUP($B139,'MI materialen'!B:AS,41,FALSE)","v":0},{"$f":"IF($B140=0,0,VLOOKUP($D140,MKI!E:K,2,FALSE)*$B140*$C140)","v":0},{"$f":"IF($B140=0,0,VLOOKUP($D140,'MI materialen'!$E:$AS,F$66,FALSE)*$B140*$C140)","v":0},{"$f":"IF($B140=0,0,VLOOKUP($D140,'MI materialen'!$E:$AS,G$66,FALSE)*$B140*$C140)","v":0},{"$f":"IF($B140=0,0,VLOOKUP($D140,'MI materialen'!$E:$AS,H$66,FALSE)*$B140*$C140)","v":0},{"$f":"IF($B140=0,0,VLOOKUP($D140,'MI materialen'!$E:$AS,I$66,FALSE)*$B140*$C140)","v":0},{"$f":"IF($B140=0,0,VLOOKUP($D140,'MI materialen'!$E:$AS,J$66,FALSE)*$B140*$C140)","v":0},{"$f":"IF($B140=0,0,VLOOKUP($D140,'MI materialen'!$E:$AS,K$66,FALSE)*$B140*$C140)","v":0},{"$f":"IF($B140=0,0,VLOOKUP($D140,'MI materialen'!$E:$AS,L$66,FALSE)*$B140*$C140)","v":0},{"$f":"IF($B140=0,0,VLOOKUP($D140,'MI materialen'!$E:$AS,M$66,FALSE)*$B140*$C140)","v":0},{"$f":"IF($B140=0,0,VLOOKUP($D140,'MI materialen'!$E:$AS,N$66,FALSE)*$B140*$C140)","v":0},{"$f":"IF($B140=0,0,VLOOKUP($D140,'MI materialen'!$E:$AS,O$66,FALSE)*$B140*$C140)","v":0},{"$f":"IF($B140=0,0,VLOOKUP($D140,'MI materialen'!$E:$AS,P$66,FALSE)*$B140*$C140)","v":0},{"$f":"IF($B140=0,0,VLOOKUP($D140,'MI materialen'!$E:$AS,Q$66,FALSE)*$B140*$C140)","v":0},{"$f":"IF($B140=0,0,VLOOKUP($D140,'MI materialen'!$E:$AS,R$66,FALSE)*$B140*$C140)","v":0},{"$f":"IF($B140=0,0,VLOOKUP($D140,'MI materialen'!$E:$AS,S$66,FALSE)*$B140*$C140)","v":0},{"$f":"IF($B140=0,0,VLOOKUP($D140,'MI materialen'!$E:$AS,T$66,FALSE)*$B140*$C140)","v":0},{"$f":"IF($B140=0,0,VLOOKUP($D140,'MI materialen'!$E:$AS,U$66,FALSE)*$B140*$C140)","v":0},{"$f":"IF($B140=0,0,VLOOKUP($D140,'MI materialen'!$E:$AS,V$66,FALSE)*$B140*$C140)","v":0}]
["Verbranding",{"$f":"IF(Invul_Alt_EindeL!$I$27=\"Standaard\",Invul_Alt_EindeL!$K$27,Invul_Alt_EindeL!$O$27)","v":0},{"$f":"C139","v":0},{"$f":"VLOOKUP($B139,'MI materialen'!B:AS,42,FALSE)","v":0},{"$f":"IF($B141=0,0,VLOOKUP($D141,MKI!E:K,2,FALSE)*$B141*$C141)","v":0},{"$f":"IF($B141=0,0,VLOOKUP($D141,'MI materialen'!$E:$AS,F$66,FALSE)*$B141*$C141)","v":0},{"$f":"IF($B141=0,0,VLOOKUP($D141,'MI materialen'!$E:$AS,G$66,FALSE)*$B141*$C141)","v":0},{"$f":"IF($B141=0,0,VLOOKUP($D141,'MI materialen'!$E:$AS,H$66,FALSE)*$B141*$C141)","v":0},{"$f":"IF($B141=0,0,VLOOKUP($D141,'MI materialen'!$E:$AS,I$66,FALSE)*$B141*$C141)","v":0},{"$f":"IF($B141=0,0,VLOOKUP($D141,'MI materialen'!$E:$AS,J$66,FALSE)*$B141*$C141)","v":0},{"$f":"IF($B141=0,0,VLOOKUP($D141,'MI materialen'!$E:$AS,K$66,FALSE)*$B141*$C141)","v":0},{"$f":"IF($B141=0,0,VLOOKUP($D141,'MI materialen'!$E:$AS,L$66,FALSE)*$B141*$C141)","v":0},{"$f":"IF($B141=0,0,VLOOKUP($D141,'MI materialen'!$E:$AS,M$66,FALSE)*$B141*$C141)","v":0},{"$f":"IF($B141=0,0,VLOOKUP($D141,'MI materialen'!$E:$AS,N$66,FALSE)*$B141*$C141)","v":0},{"$f":"IF($B141=0,0,VLOOKUP($D141,'MI materialen'!$E:$AS,O$66,FALSE)*$B141*$C141)","v":0},{"$f":"IF($B141=0,0,VLOOKUP($D141,'MI materialen'!$E:$AS,P$66,FALSE)*$B141*$C141)","v":0},{"$f":"IF($B141=0,0,VLOOKUP($D141,'MI materialen'!$E:$AS,Q$66,FALSE)*$B141*$C141)","v":0},{"$f":"IF($B141=0,0,VLOOKUP($D141,'MI materialen'!$E:$AS,R$66,FALSE)*$B141*$C141)","v":0},{"$f":"IF($B141=0,0,VLOOKUP($D141,'MI materialen'!$E:$AS,S$66,FALSE)*$B141*$C141)","v":0},{"$f":"IF($B141=0,0,VLOOKUP($D141,'MI materialen'!$E:$AS,T$66,FALSE)*$B141*$C141)","v":0},{"$f":"IF($B141=0,0,VLOOKUP($D141,'MI materialen'!$E:$AS,U$66,FALSE)*$B141*$C141)","v":0},{"$f":"IF($B141=0,0,VLOOKUP($D141,'MI materialen'!$E:$AS,V$66,FALSE)*$B141*$C141)","v":0}]
["Recycling",{"$f":"IF(Invul_Alt_EindeL!$I$27=\"Standaard\",Invul_Alt_EindeL!$L$27,Invul_Alt_EindeL!$P$27)*(100%-Invul_Alt_Materialen!$J$26)","v":0},{"$f":"C139","v":0},{"$f":"VLOOKUP($B139,'MI materialen'!B:AS,43,FALSE)","v":0},{"$f":"IF($B142=0,0,VLOOKUP($D142,MKI!E:K,2,FALSE)*$B142*$C142)","v":0},{"$f":"IF($B142=0,0,VLOOKUP($D142,'MI materialen'!$E:$AS,F$66,FALSE)*$B142*$C142)","v":0},{"$f":"IF($B142=0,0,VLOOKUP($D142,'MI materialen'!$E:$AS,G$66,FALSE)*$B142*$C142)","v":0},{"$f":"IF($B142=0,0,VLOOKUP($D142,'MI materialen'!$E:$AS,H$66,FALSE)*$B142*$C142)","v":0},{"$f":"IF($B142=0,0,VLOOKUP($D142,'MI materialen'!$E:$AS,I$66,FALSE)*$B142*$C142)","v":0},{"$f":"IF($B142=0,0,VLOOKUP($D142,'MI materialen'!$E:$AS,J$66,FALSE)*$B142*$C142)","v":0},{"$f":"IF($B142=0,0,VLOOKUP($D142,'MI materialen'!$E:$AS,K$66,FALSE)*$B142*$C142)","v":0},{"$f":"IF($B142=0,0,VLOOKUP($D142,'MI materialen'!$E:$AS,L$66,FALSE)*$B142*$C142)","v":0},{"$f":"IF($B142=0,0,VLOOKUP($D142,'MI materialen'!$E:$AS,M$66,FALSE)*$B142*$C142)","v":0},{"$f":"IF($B142=0,0,VLOOKUP($D142,'MI materialen'!$E:$AS,N$66,FALSE)*$B142*$C142)","v":0},{"$f":"IF($B142=0,0,VLOOKUP($D142,'MI materialen'!$E:$AS,O$66,FALSE)*$B142*$C142)","v":0},{"$f":"IF($B142=0,0,VLOOKUP($D142,'MI materialen'!$E:$AS,P$66,FALSE)*$B142*$C142)","v":0},{"$f":"IF($B142=0,0,VLOOKUP($D142,'MI materialen'!$E:$AS,Q$66,FALSE)*$B142*$C142)","v":0},{"$f":"IF($B142=0,0,VLOOKUP($D142,'MI materialen'!$E:$AS,R$66,FALSE)*$B142*$C142)","v":0},{"$f":"IF($B142=0,0,VLOOKUP($D142,'MI materialen'!$E:$AS,S$66,FALSE)*$B142*$C142)","v":0},{"$f":"IF($B142=0,0,VLOOKUP($D142,'MI materialen'!$E:$AS,T$66,FALSE)*$B142*$C142)","v":0},{"$f":"IF($B142=0,0,VLOOKUP($D142,'MI materialen'!$E:$AS,U$66,FALSE)*$B142*$C142)","v":0},{"$f":"IF($B142=0,0,VLOOKUP($D142,'MI materialen'!$E:$AS,V$66,FALSE)*$B142*$C142)","v":0}]
["Hergebruik",{"$f":"IF(Invul_Alt_EindeL!$I$27=\"Standaard\",Invul_Alt_EindeL!$M$27,Invul_Alt_EindeL!$Q$27)*(100%-Invul_Alt_Materialen!$J$26)","v":0},{"$f":"C139","v":0},{"$f":"VLOOKUP($B139,'MI materialen'!B:AS,43,FALSE)","v":0},{"$f":"IF($B143=0,0,VLOOKUP($D143,MKI!E:K,2,FALSE)*$B143*$C143)","v":0},{"$f":"IF($B143=0,0,VLOOKUP($D143,'MI materialen'!$E:$AS,F$66,FALSE)*$B143*$C143)","v":0},{"$f":"IF($B143=0,0,VLOOKUP($D143,'MI materialen'!$E:$AS,G$66,FALSE)*$B143*$C143)","v":0},{"$f":"IF($B143=0,0,VLOOKUP($D143,'MI materialen'!$E:$AS,H$66,FALSE)*$B143*$C143)","v":0},{"$f":"IF($B143=0,0,VLOOKUP($D143,'MI materialen'!$E:$AS,I$66,FALSE)*$B143*$C143)","v":0},{"$f":"IF($B143=0,0,VLOOKUP($D143,'MI materialen'!$E:$AS,J$66,FALSE)*$B143*$C143)","v":0},{"$f":"IF($B143=0,0,VLOOKUP($D143,'MI materialen'!$E:$AS,K$66,FALSE)*$B143*$C143)","v":0},{"$f":"IF($B143=0,0,VLOOKUP($D143,'MI materialen'!$E:$AS,L$66,FALSE)*$B143*$C143)","v":0},{"$f":"IF($B143=0,0,VLOOKUP($D143,'MI materialen'!$E:$AS,M$66,FALSE)*$B143*$C143)","v":0},{"$f":"IF($B143=0,0,VLOOKUP($D143,'MI materialen'!$E:$AS,N$66,FALSE)*$B143*$C143)","v":0},{"$f":"IF($B143=0,0,VLOOKUP($D143,'MI materialen'!$E:$AS,O$66,FALSE)*$B143*$C143)","v":0},{"$f":"IF($B143=0,0,VLOOKUP($D143,'MI materialen'!$E:$AS,P$66,FALSE)*$B143*$C143)","v":0},{"$f":"IF($B143=0,0,VLOOKUP($D143,'MI materialen'!$E:$AS,Q$66,FALSE)*$B143*$C143)","v":0},{"$f":"IF($B143=0,0,VLOOKUP($D143,'MI materialen'!$E:$AS,R$66,FALSE)*$B143*$C143)","v":0},{"$f":"IF($B143=0,0,VLOOKUP($D143,'MI materialen'!$E:$AS,S$66,FALSE)*$B143*$C143)","v":0},{"$f":"IF($B143=0,0,VLOOKUP($D143,'MI materialen'!$E:$AS,T$66,FALSE)*$B143*$C143)","v":0},{"$f":"IF($B143=0,0,VLOOKUP($D143,'MI materialen'!$E:$AS,U$66,FALSE)*$B143*$C143)","v":0},{"$f":"IF($B143=0,0,VLOOKUP($D143,'MI materialen'!$E:$AS,V$66,FALSE)*$B143*$C143)","v":0}]
["Som",{"$f":"Invul_Alt_EindeL!$F$28","v":"Leeg"},{"$f":"Invul_Alt_EindeL!$G$28","v":0},null,{"$f":"SUM(E145:E148)","v":0},{"$f":"SUM(F145:F148)","v":0},0,0,0,0,0,0,0,0,0,0,0,0,0,0,0,0]
["Stort",{"$f":"IF(Invul_Alt_EindeL!$I$28=\"Standaard\",Invul_Alt_EindeL!$J$28,Invul_Alt_EindeL!$N$28)","v":0},{"$f":"C144","v":0},{"$f":"VLOOKUP($B144,'MI materialen'!B:AS,41,FALSE)","v":0},{"$f":"IF($B145=0,0,VLOOKUP($D145,MKI!E:K,2,FALSE)*$B145*$C145)","v":0},{"$f":"IF($B145=0,0,VLOOKUP($D145,'MI materialen'!$E:$AS,F$66,FALSE)*$B145*$C145)","v":0},{"$f":"IF($B145=0,0,VLOOKUP($D145,'MI materialen'!$E:$AS,G$66,FALSE)*$B145*$C145)","v":0},{"$f":"IF($B145=0,0,VLOOKUP($D145,'MI materialen'!$E:$AS,H$66,FALSE)*$B145*$C145)","v":0},{"$f":"IF($B145=0,0,VLOOKUP($D145,'MI materialen'!$E:$AS,I$66,FALSE)*$B145*$C145)","v":0},{"$f":"IF($B145=0,0,VLOOKUP($D145,'MI materialen'!$E:$AS,J$66,FALSE)*$B145*$C145)","v":0},{"$f":"IF($B145=0,0,VLOOKUP($D145,'MI materialen'!$E:$AS,K$66,FALSE)*$B145*$C145)","v":0},{"$f":"IF($B145=0,0,VLOOKUP($D145,'MI materialen'!$E:$AS,L$66,FALSE)*$B145*$C145)","v":0},{"$f":"IF($B145=0,0,VLOOKUP($D145,'MI materialen'!$E:$AS,M$66,FALSE)*$B145*$C145)","v":0},{"$f":"IF($B145=0,0,VLOOKUP($D145,'MI materialen'!$E:$AS,N$66,FALSE)*$B145*$C145)","v":0},{"$f":"IF($B145=0,0,VLOOKUP($D145,'MI materialen'!$E:$AS,O$66,FALSE)*$B145*$C145)","v":0},{"$f":"IF($B145=0,0,VLOOKUP($D145,'MI materialen'!$E:$AS,P$66,FALSE)*$B145*$C145)","v":0},{"$f":"IF($B145=0,0,VLOOKUP($D145,'MI materialen'!$E:$AS,Q$66,FALSE)*$B145*$C145)","v":0},{"$f":"IF($B145=0,0,VLOOKUP($D145,'MI materialen'!$E:$AS,R$66,FALSE)*$B145*$C145)","v":0},{"$f":"IF($B145=0,0,VLOOKUP($D145,'MI materialen'!$E:$AS,S$66,FALSE)*$B145*$C145)","v":0},{"$f":"IF($B145=0,0,VLOOKUP($D145,'MI materialen'!$E:$AS,T$66,FALSE)*$B145*$C145)","v":0},{"$f":"IF($B145=0,0,VLOOKUP($D145,'MI materialen'!$E:$AS,U$66,FALSE)*$B145*$C145)","v":0},{"$f":"IF($B145=0,0,VLOOKUP($D145,'MI materialen'!$E:$AS,V$66,FALSE)*$B145*$C145)","v":0}]
["Verbranding",{"$f":"IF(Invul_Alt_EindeL!$I$28=\"Standaard\",Invul_Alt_EindeL!$K$28,Invul_Alt_EindeL!$O$28)","v":0},{"$f":"C144","v":0},{"$f":"VLOOKUP($B144,'MI materialen'!B:AS,42,FALSE)","v":0},{"$f":"IF($B146=0,0,VLOOKUP($D146,MKI!E:K,2,FALSE)*$B146*$C146)","v":0},{"$f":"IF($B146=0,0,VLOOKUP($D146,'MI materialen'!$E:$AS,F$66,FALSE)*$B146*$C146)","v":0},{"$f":"IF($B146=0,0,VLOOKUP($D146,'MI materialen'!$E:$AS,G$66,FALSE)*$B146*$C146)","v":0},{"$f":"IF($B146=0,0,VLOOKUP($D146,'MI materialen'!$E:$AS,H$66,FALSE)*$B146*$C146)","v":0},{"$f":"IF($B146=0,0,VLOOKUP($D146,'MI materialen'!$E:$AS,I$66,FALSE)*$B146*$C146)","v":0},{"$f":"IF($B146=0,0,VLOOKUP($D146,'MI materialen'!$E:$AS,J$66,FALSE)*$B146*$C146)","v":0},{"$f":"IF($B146=0,0,VLOOKUP($D146,'MI materialen'!$E:$AS,K$66,FALSE)*$B146*$C146)","v":0},{"$f":"IF($B146=0,0,VLOOKUP($D146,'MI materialen'!$E:$AS,L$66,FALSE)*$B146*$C146)","v":0},{"$f":"IF($B146=0,0,VLOOKUP($D146,'MI materialen'!$E:$AS,M$66,FALSE)*$B146*$C146)","v":0},{"$f":"IF($B146=0,0,VLOOKUP($D146,'MI materialen'!$E:$AS,N$66,FALSE)*$B146*$C146)","v":0},{"$f":"IF($B146=0,0,VLOOKUP($D146,'MI materialen'!$E:$AS,O$66,FALSE)*$B146*$C146)","v":0},{"$f":"IF($B146=0,0,VLOOKUP($D146,'MI materialen'!$E:$AS,P$66,FALSE)*$B146*$C146)","v":0},{"$f":"IF($B146=0,0,VLOOKUP($D146,'MI materialen'!$E:$AS,Q$66,FALSE)*$B146*$C146)","v":0},{"$f":"IF($B146=0,0,VLOOKUP($D146,'MI materialen'!$E:$AS,R$66,FALSE)*$B146*$C146)","v":0},{"$f":"IF($B146=0,0,VLOOKUP($D146,'MI materialen'!$E:$AS,S$66,FALSE)*$B146*$C146)","v":0},{"$f":"IF($B146=0,0,VLOOKUP($D146,'MI materialen'!$E:$AS,T$66,FALSE)*$B146*$C146)","v":0},{"$f":"IF($B146=0,0,VLOOKUP($D146,'MI materialen'!$E:$AS,U$66,FALSE)*$B146*$C146)","v":0},{"$f":"IF($B146=0,0,VLOOKUP($D146,'MI materialen'!$E:$AS,V$66,FALSE)*$B146*$C146)","v":0}]
["Recycling",{"$f":"IF(Invul_Alt_EindeL!$I$28=\"Standaard\",Invul_Alt_EindeL!$L$28,Invul_Alt_EindeL!$P$28)*(100%-Invul_Alt_Materialen!$J$27)","v":0},{"$f":"C144","v":0},{"$f":"VLOOKUP($B144,'MI materialen'!B:AS,43,FALSE)","v":0},{"$f":"IF($B147=0,0,VLOOKUP($D147,MKI!E:K,2,FALSE)*$B147*$C147)","v":0},{"$f":"IF($B147=0,0,VLOOKUP($D147,'MI materialen'!$E:$AS,F$66,FALSE)*$B147*$C147)","v":0},{"$f":"IF($B147=0,0,VLOOKUP($D147,'MI materialen'!$E:$AS,G$66,FALSE)*$B147*$C147)","v":0},{"$f":"IF($B147=0,0,VLOOKUP($D147,'MI materialen'!$E:$AS,H$66,FALSE)*$B147*$C147)","v":0},{"$f":"IF($B147=0,0,VLOOKUP($D147,'MI materialen'!$E:$AS,I$66,FALSE)*$B147*$C147)","v":0},{"$f":"IF($B147=0,0,VLOOKUP($D147,'MI materialen'!$E:$AS,J$66,FALSE)*$B147*$C147)","v":0},{"$f":"IF($B147=0,0,VLOOKUP($D147,'MI materialen'!$E:$AS,K$66,FALSE)*$B147*$C147)","v":0},{"$f":"IF($B147=0,0,VLOOKUP($D147,'MI materialen'!$E:$AS,L$66,FALSE)*$B147*$C147)","v":0},{"$f":"IF($B147=0,0,VLOOKUP($D147,'MI materialen'!$E:$AS,M$66,FALSE)*$B147*$C147)","v":0},{"$f":"IF($B147=0,0,VLOOKUP($D147,'MI materialen'!$E:$AS,N$66,FALSE)*$B147*$C147)","v":0},{"$f":"IF($B147=0,0,VLOOKUP($D147,'MI materialen'!$E:$AS,O$66,FALSE)*$B147*$C147)","v":0},{"$f":"IF($B147=0,0,VLOOKUP($D147,'MI materialen'!$E:$AS,P$66,FALSE)*$B147*$C147)","v":0},{"$f":"IF($B147=0,0,VLOOKUP($D147,'MI materialen'!$E:$AS,Q$66,FALSE)*$B147*$C147)","v":0},{"$f":"IF($B147=0,0,VLOOKUP($D147,'MI materialen'!$E:$AS,R$66,FALSE)*$B147*$C147)","v":0},{"$f":"IF($B147=0,0,VLOOKUP($D147,'MI materialen'!$E:$AS,S$66,FALSE)*$B147*$C147)","v":0},{"$f":"IF($B147=0,0,VLOOKUP($D147,'MI materialen'!$E:$AS,T$66,FALSE)*$B147*$C147)","v":0},{"$f":"IF($B147=0,0,VLOOKUP($D147,'MI materialen'!$E:$AS,U$66,FALSE)*$B147*$C147)","v":0},{"$f":"IF($B147=0,0,VLOOKUP($D147,'MI materialen'!$E:$AS,V$66,FALSE)*$B147*$C147)","v":0}]
["Hergebruik",{"$f":"IF(Invul_Alt_EindeL!$I$28=\"Standaard\",Invul_Alt_EindeL!$M$28,Invul_Alt_EindeL!$Q$28)*(100%-Invul_Alt_Materialen!$J$27)","v":0},{"$f":"C144","v":0},{"$f":"VLOOKUP($B144,'MI materialen'!B:AS,43,FALSE)","v":0},{"$f":"IF($B148=0,0,VLOOKUP($D148,MKI!E:K,2,FALSE)*$B148*$C148)","v":0},{"$f":"IF($B148=0,0,VLOOKUP($D148,'MI materialen'!$E:$AS,F$66,FALSE)*$B148*$C148)","v":0},{"$f":"IF($B148=0,0,VLOOKUP($D148,'MI materialen'!$E:$AS,G$66,FALSE)*$B148*$C148)","v":0},{"$f":"IF($B148=0,0,VLOOKUP($D148,'MI materialen'!$E:$AS,H$66,FALSE)*$B148*$C148)","v":0},{"$f":"IF($B148=0,0,VLOOKUP($D148,'MI materialen'!$E:$AS,I$66,FALSE)*$B148*$C148)","v":0},{"$f":"IF($B148=0,0,VLOOKUP($D148,'MI materialen'!$E:$AS,J$66,FALSE)*$B148*$C148)","v":0},{"$f":"IF($B148=0,0,VLOOKUP($D148,'MI materialen'!$E:$AS,K$66,FALSE)*$B148*$C148)","v":0},{"$f":"IF($B148=0,0,VLOOKUP($D148,'MI materialen'!$E:$AS,L$66,FALSE)*$B148*$C148)","v":0},{"$f":"IF($B148=0,0,VLOOKUP($D148,'MI materialen'!$E:$AS,M$66,FALSE)*$B148*$C148)","v":0},{"$f":"IF($B148=0,0,VLOOKUP($D148,'MI materialen'!$E:$AS,N$66,FALSE)*$B148*$C148)","v":0},{"$f":"IF($B148=0,0,VLOOKUP($D148,'MI materialen'!$E:$AS,O$66,FALSE)*$B148*$C148)","v":0},{"$f":"IF($B148=0,0,VLOOKUP($D148,'MI materialen'!$E:$AS,P$66,FALSE)*$B148*$C148)","v":0},{"$f":"IF($B148=0,0,VLOOKUP($D148,'MI materialen'!$E:$AS,Q$66,FALSE)*$B148*$C148)","v":0},{"$f":"IF($B148=0,0,VLOOKUP($D148,'MI materialen'!$E:$AS,R$66,FALSE)*$B148*$C148)","v":0},{"$f":"IF($B148=0,0,VLOOKUP($D148,'MI materialen'!$E:$AS,S$66,FALSE)*$B148*$C148)","v":0},{"$f":"IF($B148=0,0,VLOOKUP($D148,'MI materialen'!$E:$AS,T$66,FALSE)*$B148*$C148)","v":0},{"$f":"IF($B148=0,0,VLOOKUP($D148,'MI materialen'!$E:$AS,U$66,FALSE)*$B148*$C148)","v":0},{"$f":"IF($B148=0,0,VLOOKUP($D148,'MI materialen'!$E:$AS,V$66,FALSE)*$B148*$C148)","v":0}]
["Som",{"$f":"Invul_Alt_EindeL!$F$29","v":"Leeg"},{"$f":"Invul_Alt_EindeL!$G$29","v":0},null,{"$f":"SUM(E150:E153)","v":0},{"$f":"SUM(F150:F153)","v":0},0,0,0,0,0,0,0,0,0,0,0,0,0,0,0,0]
["Stort",{"$f":"IF(Invul_Alt_EindeL!$I$29=\"Standaard\",Invul_Alt_EindeL!$J$29,Invul_Alt_EindeL!$N$29)","v":0},{"$f":"C149","v":0},{"$f":"VLOOKUP($B149,'MI materialen'!B:AS,41,FALSE)","v":0},{"$f":"IF($B150=0,0,VLOOKUP($D150,MKI!E:K,2,FALSE)*$B150*$C150)","v":0},{"$f":"IF($B150=0,0,VLOOKUP($D150,'MI materialen'!$E:$AS,F$66,FALSE)*$B150*$C150)","v":0},{"$f":"IF($B150=0,0,VLOOKUP($D150,'MI materialen'!$E:$AS,G$66,FALSE)*$B150*$C150)","v":0},{"$f":"IF($B150=0,0,VLOOKUP($D150,'MI materialen'!$E:$AS,H$66,FALSE)*$B150*$C150)","v":0},{"$f":"IF($B150=0,0,VLOOKUP($D150,'MI materialen'!$E:$AS,I$66,FALSE)*$B150*$C150)","v":0},{"$f":"IF($B150=0,0,VLOOKUP($D150,'MI materialen'!$E:$AS,J$66,FALSE)*$B150*$C150)","v":0},{"$f":"IF($B150=0,0,VLOOKUP($D150,'MI materialen'!$E:$AS,K$66,FALSE)*$B150*$C150)","v":0},{"$f":"IF($B150=0,0,VLOOKUP($D150,'MI materialen'!$E:$AS,L$66,FALSE)*$B150*$C150)","v":0},{"$f":"IF($B150=0,0,VLOOKUP($D150,'MI materialen'!$E:$AS,M$66,FALSE)*$B150*$C150)","v":0},{"$f":"IF($B150=0,0,VLOOKUP($D150,'MI materialen'!$E:$AS,N$66,FALSE)*$B150*$C150)","v":0},{"$f":"IF($B150=0,0,VLOOKUP($D150,'MI materialen'!$E:$AS,O$66,FALSE)*$B150*$C150)","v":0},{"$f":"IF($B150=0,0,VLOOKUP($D150,'MI materialen'!$E:$AS,P$66,FALSE)*$B150*$C150)","v":0},{"$f":"IF($B150=0,0,VLOOKUP($D150,'MI materialen'!$E:$AS,Q$66,FALSE)*$B150*$C150)","v":0},{"$f":"IF($B150=0,0,VLOOKUP($D150,'MI materialen'!$E:$AS,R$66,FALSE)*$B150*$C150)","v":0},{"$f":"IF($B150=0,0,VLOOKUP($D150,'MI materialen'!$E:$AS,S$66,FALSE)*$B150*$C150)","v":0},{"$f":"IF($B150=0,0,VLOOKUP($D150,'MI materialen'!$E:$AS,T$66,FALSE)*$B150*$C150)","v":0},{"$f":"IF($B150=0,0,VLOOKUP($D150,'MI materialen'!$E:$AS,U$66,FALSE)*$B150*$C150)","v":0},{"$f":"IF($B150=0,0,VLOOKUP($D150,'MI materialen'!$E:$AS,V$66,FALSE)*$B150*$C150)","v":0}]
["Verbranding",{"$f":"IF(Invul_Alt_EindeL!$I$29=\"Standaard\",Invul_Alt_EindeL!$K$29,Invul_Alt_EindeL!$O$29)","v":0},{"$f":"C149","v":0},{"$f":"VLOOKUP($B149,'MI materialen'!B:AS,42,FALSE)","v":0},{"$f":"IF($B151=0,0,VLOOKUP($D151,MKI!E:K,2,FALSE)*$B151*$C151)","v":0},{"$f":"IF($B151=0,0,VLOOKUP($D151,'MI materialen'!$E:$AS,F$66,FALSE)*$B151*$C151)","v":0},{"$f":"IF($B151=0,0,VLOOKUP($D151,'MI materialen'!$E:$AS,G$66,FALSE)*$B151*$C151)","v":0},{"$f":"IF($B151=0,0,VLOOKUP($D151,'MI materialen'!$E:$AS,H$66,FALSE)*$B151*$C151)","v":0},{"$f":"IF($B151=0,0,VLOOKUP($D151,'MI materialen'!$E:$AS,I$66,FALSE)*$B151*$C151)","v":0},{"$f":"IF($B151=0,0,VLOOKUP($D151,'MI materialen'!$E:$AS,J$66,FALSE)*$B151*$C151)","v":0},{"$f":"IF($B151=0,0,VLOOKUP($D151,'MI materialen'!$E:$AS,K$66,FALSE)*$B151*$C151)","v":0},{"$f":"IF($B151=0,0,VLOOKUP($D151,'MI materialen'!$E:$AS,L$66,FALSE)*$B151*$C151)","v":0},{"$f":"IF($B151=0,0,VLOOKUP($D151,'MI materialen'!$E:$AS,M$66,FALSE)*$B151*$C151)","v":0},{"$f":"IF($B151=0,0,VLOOKUP($D151,'MI materialen'!$E:$AS,N$66,FALSE)*$B151*$C151)","v":0},{"$f":"IF($B151=0,0,VLOOKUP($D151,'MI materialen'!$E:$AS,O$66,FALSE)*$B151*$C151)","v":0},{"$f":"IF($B151=0,0,VLOOKUP($D151,'MI materialen'!$E:$AS,P$66,FALSE)*$B151*$C151)","v":0},{"$f":"IF($B151=0,0,VLOOKUP($D151,'MI materialen'!$E:$AS,Q$66,FALSE)*$B151*$C151)","v":0},{"$f":"IF($B151=0,0,VLOOKUP($D151,'MI materialen'!$E:$AS,R$66,FALSE)*$B151*$C151)","v":0},{"$f":"IF($B151=0,0,VLOOKUP($D151,'MI materialen'!$E:$AS,S$66,FALSE)*$B151*$C151)","v":0},{"$f":"IF($B151=0,0,VLOOKUP($D151,'MI materialen'!$E:$AS,T$66,FALSE)*$B151*$C151)","v":0},{"$f":"IF($B151=0,0,VLOOKUP($D151,'MI materialen'!$E:$AS,U$66,FALSE)*$B151*$C151)","v":0},{"$f":"IF($B151=0,0,VLOOKUP($D151,'MI materialen'!$E:$AS,V$66,FALSE)*$B151*$C151)","v":0}]
["Recycling",{"$f":"IF(Invul_Alt_EindeL!$I$29=\"Standaard\",Invul_Alt_EindeL!$L$29,Invul_Alt_EindeL!$P$29)*(100%-Invul_Alt_Materialen!$J$28)","v":0},{"$f":"C149","v":0},{"$f":"VLOOKUP($B149,'MI materialen'!B:AS,43,FALSE)","v":0},{"$f":"IF($B152=0,0,VLOOKUP($D152,MKI!E:K,2,FALSE)*$B152*$C152)","v":0},{"$f":"IF($B152=0,0,VLOOKUP($D152,'MI materialen'!$E:$AS,F$66,FALSE)*$B152*$C152)","v":0},{"$f":"IF($B152=0,0,VLOOKUP($D152,'MI materialen'!$E:$AS,G$66,FALSE)*$B152*$C152)","v":0},{"$f":"IF($B152=0,0,VLOOKUP($D152,'MI materialen'!$E:$AS,H$66,FALSE)*$B152*$C152)","v":0},{"$f":"IF($B152=0,0,VLOOKUP($D152,'MI materialen'!$E:$AS,I$66,FALSE)*$B152*$C152)","v":0},{"$f":"IF($B152=0,0,VLOOKUP($D152,'MI materialen'!$E:$AS,J$66,FALSE)*$B152*$C152)","v":0},{"$f":"IF($B152=0,0,VLOOKUP($D152,'MI materialen'!$E:$AS,K$66,FALSE)*$B152*$C152)","v":0},{"$f":"IF($B152=0,0,VLOOKUP($D152,'MI materialen'!$E:$AS,L$66,FALSE)*$B152*$C152)","v":0},{"$f":"IF($B152=0,0,VLOOKUP($D152,'MI materialen'!$E:$AS,M$66,FALSE)*$B152*$C152)","v":0},{"$f":"IF($B152=0,0,VLOOKUP($D152,'MI materialen'!$E:$AS,N$66,FALSE)*$B152*$C152)","v":0},{"$f":"IF($B152=0,0,VLOOKUP($D152,'MI materialen'!$E:$AS,O$66,FALSE)*$B152*$C152)","v":0},{"$f":"IF($B152=0,0,VLOOKUP($D152,'MI materialen'!$E:$AS,P$66,FALSE)*$B152*$C152)","v":0},{"$f":"IF($B152=0,0,VLOOKUP($D152,'MI materialen'!$E:$AS,Q$66,FALSE)*$B152*$C152)","v":0},{"$f":"IF($B152=0,0,VLOOKUP($D152,'MI materialen'!$E:$AS,R$66,FALSE)*$B152*$C152)","v":0},{"$f":"IF($B152=0,0,VLOOKUP($D152,'MI materialen'!$E:$AS,S$66,FALSE)*$B152*$C152)","v":0},{"$f":"IF($B152=0,0,VLOOKUP($D152,'MI materialen'!$E:$AS,T$66,FALSE)*$B152*$C152)","v":0},{"$f":"IF($B152=0,0,VLOOKUP($D152,'MI materialen'!$E:$AS,U$66,FALSE)*$B152*$C152)","v":0},{"$f":"IF($B152=0,0,VLOOKUP($D152,'MI materialen'!$E:$AS,V$66,FALSE)*$B152*$C152)","v":0}]
["Hergebruik",{"$f":"IF(Invul_Alt_EindeL!$I$29=\"Standaard\",Invul_Alt_EindeL!$M$29,Invul_Alt_EindeL!$Q$29)*(100%-Invul_Alt_Materialen!$J$28)","v":0},{"$f":"C149","v":0},{"$f":"VLOOKUP($B149,'MI materialen'!B:AS,43,FALSE)","v":0},{"$f":"IF($B153=0,0,VLOOKUP($D153,MKI!E:K,2,FALSE)*$B153*$C153)","v":0},{"$f":"IF($B153=0,0,VLOOKUP($D153,'MI materialen'!$E:$AS,F$66,FALSE)*$B153*$C153)","v":0},{"$f":"IF($B153=0,0,VLOOKUP($D153,'MI materialen'!$E:$AS,G$66,FALSE)*$B153*$C153)","v":0},{"$f":"IF($B153=0,0,VLOOKUP($D153,'MI materialen'!$E:$AS,H$66,FALSE)*$B153*$C153)","v":0},{"$f":"IF($B153=0,0,VLOOKUP($D153,'MI materialen'!$E:$AS,I$66,FALSE)*$B153*$C153)","v":0},{"$f":"IF($B153=0,0,VLOOKUP($D153,'MI materialen'!$E:$AS,J$66,FALSE)*$B153*$C153)","v":0},{"$f":"IF($B153=0,0,VLOOKUP($D153,'MI materialen'!$E:$AS,K$66,FALSE)*$B153*$C153)","v":0},{"$f":"IF($B153=0,0,VLOOKUP($D153,'MI materialen'!$E:$AS,L$66,FALSE)*$B153*$C153)","v":0},{"$f":"IF($B153=0,0,VLOOKUP($D153,'MI materialen'!$E:$AS,M$66,FALSE)*$B153*$C153)","v":0},{"$f":"IF($B153=0,0,VLOOKUP($D153,'MI materialen'!$E:$AS,N$66,FALSE)*$B153*$C153)","v":0},{"$f":"IF($B153=0,0,VLOOKUP($D153,'MI materialen'!$E:$AS,O$66,FALSE)*$B153*$C153)","v":0},{"$f":"IF($B153=0,0,VLOOKUP($D153,'MI materialen'!$E:$AS,P$66,FALSE)*$B153*$C153)","v":0},{"$f":"IF($B153=0,0,VLOOKUP($D153,'MI materialen'!$E:$AS,Q$66,FALSE)*$B153*$C153)","v":0},{"$f":"IF($B153=0,0,VLOOKUP($D153,'MI materialen'!$E:$AS,R$66,FALSE)*$B153*$C153)","v":0},{"$f":"IF($B153=0,0,VLOOKUP($D153,'MI materialen'!$E:$AS,S$66,FALSE)*$B153*$C153)","v":0},{"$f":"IF($B153=0,0,VLOOKUP($D153,'MI materialen'!$E:$AS,T$66,FALSE)*$B153*$C153)","v":0},{"$f":"IF($B153=0,0,VLOOKUP($D153,'MI materialen'!$E:$AS,U$66,FALSE)*$B153*$C153)","v":0},{"$f":"IF($B153=0,0,VLOOKUP($D153,'MI materialen'!$E:$AS,V$66,FALSE)*$B153*$C153)","v":0}]
["Som",{"$f":"Invul_Alt_EindeL!$F$30","v":"Leeg"},{"$f":"Invul_Alt_EindeL!$G$30","v":0},null,{"$f":"SUM(E155:E158)","v":0},{"$f":"SUM(F155:F158)","v":0},0,0,0,0,0,0,0,0,0,0,0,0,0,0,0,0]
["Stort",{"$f":"IF(Invul_Alt_EindeL!$I$30=\"Standaard\",Invul_Alt_EindeL!$J$30,Invul_Alt_EindeL!$N$30)","v":0},{"$f":"C154","v":0},{"$f":"VLOOKUP($B154,'MI materialen'!B:AS,41,FALSE)","v":0},{"$f":"IF($B155=0,0,VLOOKUP($D155,MKI!E:K,2,FALSE)*$B155*$C155)","v":0},{"$f":"IF($B155=0,0,VLOOKUP($D155,'MI materialen'!$E:$AS,F$66,FALSE)*$B155*$C155)","v":0},{"$f":"IF($B155=0,0,VLOOKUP($D155,'MI materialen'!$E:$AS,G$66,FALSE)*$B155*$C155)","v":0},{"$f":"IF($B155=0,0,VLOOKUP($D155,'MI materialen'!$E:$AS,H$66,FALSE)*$B155*$C155)","v":0},{"$f":"IF($B155=0,0,VLOOKUP($D155,'MI materialen'!$E:$AS,I$66,FALSE)*$B155*$C155)","v":0},{"$f":"IF($B155=0,0,VLOOKUP($D155,'MI materialen'!$E:$AS,J$66,FALSE)*$B155*$C155)","v":0},{"$f":"IF($B155=0,0,VLOOKUP($D155,'MI materialen'!$E:$AS,K$66,FALSE)*$B155*$C155)","v":0},{"$f":"IF($B155=0,0,VLOOKUP($D155,'MI materialen'!$E:$AS,L$66,FALSE)*$B155*$C155)","v":0},{"$f":"IF($B155=0,0,VLOOKUP($D155,'MI materialen'!$E:$AS,M$66,FALSE)*$B155*$C155)","v":0},{"$f":"IF($B155=0,0,VLOOKUP($D155,'MI materialen'!$E:$AS,N$66,FALSE)*$B155*$C155)","v":0},{"$f":"IF($B155=0,0,VLOOKUP($D155,'MI materialen'!$E:$AS,O$66,FALSE)*$B155*$C155)","v":0},{"$f":"IF($B155=0,0,VLOOKUP($D155,'MI materialen'!$E:$AS,P$66,FALSE)*$B155*$C155)","v":0},{"$f":"IF($B155=0,0,VLOOKUP($D155,'MI materialen'!$E:$AS,Q$66,FALSE)*$B155*$C155)","v":0},{"$f":"IF($B155=0,0,VLOOKUP($D155,'MI materialen'!$E:$AS,R$66,FALSE)*$B155*$C155)","v":0},{"$f":"IF($B155=0,0,VLOOKUP($D155,'MI materialen'!$E:$AS,S$66,FALSE)*$B155*$C155)","v":0},{"$f":"IF($B155=0,0,VLOOKUP($D155,'MI materialen'!$E:$AS,T$66,FALSE)*$B155*$C155)","v":0},{"$f":"IF($B155=0,0,VLOOKUP($D155,'MI materialen'!$E:$AS,U$66,FALSE)*$B155*$C155)","v":0},{"$f":"IF($B155=0,0,VLOOKUP($D155,'MI materialen'!$E:$AS,V$66,FALSE)*$B155*$C155)","v":0}]
["Verbranding",{"$f":"IF(Invul_Alt_EindeL!$I$30=\"Standaard\",Invul_Alt_EindeL!$K$30,Invul_Alt_EindeL!$O$30)","v":0},{"$f":"C154","v":0},{"$f":"VLOOKUP($B154,'MI materialen'!B:AS,42,FALSE)","v":0},{"$f":"IF($B156=0,0,VLOOKUP($D156,MKI!E:K,2,FALSE)*$B156*$C156)","v":0},{"$f":"IF($B156=0,0,VLOOKUP($D156,'MI materialen'!$E:$AS,F$66,FALSE)*$B156*$C156)","v":0},{"$f":"IF($B156=0,0,VLOOKUP($D156,'MI materialen'!$E:$AS,G$66,FALSE)*$B156*$C156)","v":0},{"$f":"IF($B156=0,0,VLOOKUP($D156,'MI materialen'!$E:$AS,H$66,FALSE)*$B156*$C156)","v":0},{"$f":"IF($B156=0,0,VLOOKUP($D156,'MI materialen'!$E:$AS,I$66,FALSE)*$B156*$C156)","v":0},{"$f":"IF($B156=0,0,VLOOKUP($D156,'MI materialen'!$E:$AS,J$66,FALSE)*$B156*$C156)","v":0},{"$f":"IF($B156=0,0,VLOOKUP($D156,'MI materialen'!$E:$AS,K$66,FALSE)*$B156*$C156)","v":0},{"$f":"IF($B156=0,0,VLOOKUP($D156,'MI materialen'!$E:$AS,L$66,FALSE)*$B156*$C156)","v":0},{"$f":"IF($B156=0,0,VLOOKUP($D156,'MI materialen'!$E:$AS,M$66,FALSE)*$B156*$C156)","v":0},{"$f":"IF($B156=0,0,VLOOKUP($D156,'MI materialen'!$E:$AS,N$66,FALSE)*$B156*$C156)","v":0},{"$f":"IF($B156=0,0,VLOOKUP($D156,'MI materialen'!$E:$AS,O$66,FALSE)*$B156*$C156)","v":0},{"$f":"IF($B156=0,0,VLOOKUP($D156,'MI materialen'!$E:$AS,P$66,FALSE)*$B156*$C156)","v":0},{"$f":"IF($B156=0,0,VLOOKUP($D156,'MI materialen'!$E:$AS,Q$66,FALSE)*$B156*$C156)","v":0},{"$f":"IF($B156=0,0,VLOOKUP($D156,'MI materialen'!$E:$AS,R$66,FALSE)*$B156*$C156)","v":0},{"$f":"IF($B156=0,0,VLOOKUP($D156,'MI materialen'!$E:$AS,S$66,FALSE)*$B156*$C156)","v":0},{"$f":"IF($B156=0,0,VLOOKUP($D156,'MI materialen'!$E:$AS,T$66,FALSE)*$B156*$C156)","v":0},{"$f":"IF($B156=0,0,VLOOKUP($D156,'MI materialen'!$E:$AS,U$66,FALSE)*$B156*$C156)","v":0},{"$f":"IF($B156=0,0,VLOOKUP($D156,'MI materialen'!$E:$AS,V$66,FALSE)*$B156*$C156)","v":0}]
["Recycling",{"$f":"IF(Invul_Alt_EindeL!$I$30=\"Standaard\",Invul_Alt_EindeL!$L$30,Invul_Alt_EindeL!$P$30)*(100%-Invul_Alt_Materialen!$J$29)","v":0},{"$f":"C154","v":0},{"$f":"VLOOKUP($B154,'MI materialen'!B:AS,43,FALSE)","v":0},{"$f":"IF($B157=0,0,VLOOKUP($D157,MKI!E:K,2,FALSE)*$B157*$C157)","v":0},{"$f":"IF($B157=0,0,VLOOKUP($D157,'MI materialen'!$E:$AS,F$66,FALSE)*$B157*$C157)","v":0},{"$f":"IF($B157=0,0,VLOOKUP($D157,'MI materialen'!$E:$AS,G$66,FALSE)*$B157*$C157)","v":0},{"$f":"IF($B157=0,0,VLOOKUP($D157,'MI materialen'!$E:$AS,H$66,FALSE)*$B157*$C157)","v":0},{"$f":"IF($B157=0,0,VLOOKUP($D157,'MI materialen'!$E:$AS,I$66,FALSE)*$B157*$C157)","v":0},{"$f":"IF($B157=0,0,VLOOKUP($D157,'MI materialen'!$E:$AS,J$66,FALSE)*$B157*$C157)","v":0},{"$f":"IF($B157=0,0,VLOOKUP($D157,'MI materialen'!$E:$AS,K$66,FALSE)*$B157*$C157)","v":0},{"$f":"IF($B157=0,0,VLOOKUP($D157,'MI materialen'!$E:$AS,L$66,FALSE)*$B157*$C157)","v":0},{"$f":"IF($B157=0,0,VLOOKUP($D157,'MI materialen'!$E:$AS,M$66,FALSE)*$B157*$C157)","v":0},{"$f":"IF($B157=0,0,VLOOKUP($D157,'MI materialen'!$E:$AS,N$66,FALSE)*$B157*$C157)","v":0},{"$f":"IF($B157=0,0,VLOOKUP($D157,'MI materialen'!$E:$AS,O$66,FALSE)*$B157*$C157)","v":0},{"$f":"IF($B157=0,0,VLOOKUP($D157,'MI materialen'!$E:$AS,P$66,FALSE)*$B157*$C157)","v":0},{"$f":"IF($B157=0,0,VLOOKUP($D157,'MI materialen'!$E:$AS,Q$66,FALSE)*$B157*$C157)","v":0},{"$f":"IF($B157=0,0,VLOOKUP($D157,'MI materialen'!$E:$AS,R$66,FALSE)*$B157*$C157)","v":0},{"$f":"IF($B157=0,0,VLOOKUP($D157,'MI materialen'!$E:$AS,S$66,FALSE)*$B157*$C157)","v":0},{"$f":"IF($B157=0,0,VLOOKUP($D157,'MI materialen'!$E:$AS,T$66,FALSE)*$B157*$C157)","v":0},{"$f":"IF($B157=0,0,VLOOKUP($D157,'MI materialen'!$E:$AS,U$66,FALSE)*$B157*$C157)","v":0},{"$f":"IF($B157=0,0,VLOOKUP($D157,'MI materialen'!$E:$AS,V$66,FALSE)*$B157*$C157)","v":0}]
["Hergebruik",{"$f":"IF(Invul_Alt_EindeL!$I$30=\"Standaard\",Invul_Alt_EindeL!$M$30,Invul_Alt_EindeL!$Q$30)*(100%-Invul_Alt_Materialen!$J$29)","v":0},{"$f":"C154","v":0},{"$f":"VLOOKUP($B154,'MI materialen'!B:AS,43,FALSE)","v":0},{"$f":"IF($B158=0,0,VLOOKUP($D158,MKI!E:K,2,FALSE)*$B158*$C158)","v":0},{"$f":"IF($B158=0,0,VLOOKUP($D158,'MI materialen'!$E:$AS,F$66,FALSE)*$B158*$C158)","v":0},{"$f":"IF($B158=0,0,VLOOKUP($D158,'MI materialen'!$E:$AS,G$66,FALSE)*$B158*$C158)","v":0},{"$f":"IF($B158=0,0,VLOOKUP($D158,'MI materialen'!$E:$AS,H$66,FALSE)*$B158*$C158)","v":0},{"$f":"IF($B158=0,0,VLOOKUP($D158,'MI materialen'!$E:$AS,I$66,FALSE)*$B158*$C158)","v":0},{"$f":"IF($B158=0,0,VLOOKUP($D158,'MI materialen'!$E:$AS,J$66,FALSE)*$B158*$C158)","v":0},{"$f":"IF($B158=0,0,VLOOKUP($D158,'MI materialen'!$E:$AS,K$66,FALSE)*$B158*$C158)","v":0},{"$f":"IF($B158=0,0,VLOOKUP($D158,'MI materialen'!$E:$AS,L$66,FALSE)*$B158*$C158)","v":0},{"$f":"IF($B158=0,0,VLOOKUP($D158,'MI materialen'!$E:$AS,M$66,FALSE)*$B158*$C158)","v":0},{"$f":"IF($B158=0,0,VLOOKUP($D158,'MI materialen'!$E:$AS,N$66,FALSE)*$B158*$C158)","v":0},{"$f":"IF($B158=0,0,VLOOKUP($D158,'MI materialen'!$E:$AS,O$66,FALSE)*$B158*$C158)","v":0},{"$f":"IF($B158=0,0,VLOOKUP($D158,'MI materialen'!$E:$AS,P$66,FALSE)*$B158*$C158)","v":0},{"$f":"IF($B158=0,0,VLOOKUP($D158,'MI materialen'!$E:$AS,Q$66,FALSE)*$B158*$C158)","v":0},{"$f":"IF($B158=0,0,VLOOKUP($D158,'MI materialen'!$E:$AS,R$66,FALSE)*$B158*$C158)","v":0},{"$f":"IF($B158=0,0,VLOOKUP($D158,'MI materialen'!$E:$AS,S$66,FALSE)*$B158*$C158)","v":0},{"$f":"IF($B158=0,0,VLOOKUP($D158,'MI materialen'!$E:$AS,T$66,FALSE)*$B158*$C158)","v":0},{"$f":"IF($B158=0,0,VLOOKUP($D158,'MI materialen'!$E:$AS,U$66,FALSE)*$B158*$C158)","v":0},{"$f":"IF($B158=0,0,VLOOKUP($D158,'MI materialen'!$E:$AS,V$66,FALSE)*$B158*$C158)","v":0}]
["Som",{"$f":"Invul_Alt_EindeL!$F$31","v":"Leeg"},{"$f":"Invul_Alt_EindeL!$G$31","v":0},null,{"$f":"SUM(E160:E163)","v":0},{"$f":"SUM(F160:F163)","v":0},0,0,0,0,0,0,0,0,0,0,0,0,0,0,0,0]
["Stort",{"$f":"IF(Invul_Alt_EindeL!$I$31=\"Standaard\",Invul_Alt_EindeL!$J$31,Invul_Alt_EindeL!$N$31)","v":0},{"$f":"C159","v":0},{"$f":"VLOOKUP($B159,'MI materialen'!B:AS,41,FALSE)","v":0},{"$f":"IF($B160=0,0,VLOOKUP($D160,MKI!E:K,2,FALSE)*$B160*$C160)","v":0},{"$f":"IF($B160=0,0,VLOOKUP($D160,'MI materialen'!$E:$AS,F$66,FALSE)*$B160*$C160)","v":0},{"$f":"IF($B160=0,0,VLOOKUP($D160,'MI materialen'!$E:$AS,G$66,FALSE)*$B160*$C160)","v":0},{"$f":"IF($B160=0,0,VLOOKUP($D160,'MI materialen'!$E:$AS,H$66,FALSE)*$B160*$C160)","v":0},{"$f":"IF($B160=0,0,VLOOKUP($D160,'MI materialen'!$E:$AS,I$66,FALSE)*$B160*$C160)","v":0},{"$f":"IF($B160=0,0,VLOOKUP($D160,'MI materialen'!$E:$AS,J$66,FALSE)*$B160*$C160)","v":0},{"$f":"IF($B160=0,0,VLOOKUP($D160,'MI materialen'!$E:$AS,K$66,FALSE)*$B160*$C160)","v":0},{"$f":"IF($B160=0,0,VLOOKUP($D160,'MI materialen'!$E:$AS,L$66,FALSE)*$B160*$C160)","v":0},{"$f":"IF($B160=0,0,VLOOKUP($D160,'MI materialen'!$E:$AS,M$66,FALSE)*$B160*$C160)","v":0},{"$f":"IF($B160=0,0,VLOOKUP($D160,'MI materialen'!$E:$AS,N$66,FALSE)*$B160*$C160)","v":0},{"$f":"IF($B160=0,0,VLOOKUP($D160,'MI materialen'!$E:$AS,O$66,FALSE)*$B160*$C160)","v":0},{"$f":"IF($B160=0,0,VLOOKUP($D160,'MI materialen'!$E:$AS,P$66,FALSE)*$B160*$C160)","v":0},{"$f":"IF($B160=0,0,VLOOKUP($D160,'MI materialen'!$E:$AS,Q$66,FALSE)*$B160*$C160)","v":0},{"$f":"IF($B160=0,0,VLOOKUP($D160,'MI materialen'!$E:$AS,R$66,FALSE)*$B160*$C160)","v":0},{"$f":"IF($B160=0,0,VLOOKUP($D160,'MI materialen'!$E:$AS,S$66,FALSE)*$B160*$C160)","v":0},{"$f":"IF($B160=0,0,VLOOKUP($D160,'MI materialen'!$E:$AS,T$66,FALSE)*$B160*$C160)","v":0},{"$f":"IF($B160=0,0,VLOOKUP($D160,'MI materialen'!$E:$AS,U$66,FALSE)*$B160*$C160)","v":0},{"$f":"IF($B160=0,0,VLOOKUP($D160,'MI materialen'!$E:$AS,V$66,FALSE)*$B160*$C160)","v":0}]
["Verbranding",{"$f":"IF(Invul_Alt_EindeL!$I$31=\"Standaard\",Invul_Alt_EindeL!$K$31,Invul_Alt_EindeL!$O$31)","v":0},{"$f":"C159","v":0},{"$f":"VLOOKUP($B159,'MI materialen'!B:AS,42,FALSE)","v":0},{"$f":"IF($B161=0,0,VLOOKUP($D161,MKI!E:K,2,FALSE)*$B161*$C161)","v":0},{"$f":"IF($B161=0,0,VLOOKUP($D161,'MI materialen'!$E:$AS,F$66,FALSE)*$B161*$C161)","v":0},{"$f":"IF($B161=0,0,VLOOKUP($D161,'MI materialen'!$E:$AS,G$66,FALSE)*$B161*$C161)","v":0},{"$f":"IF($B161=0,0,VLOOKUP($D161,'MI materialen'!$E:$AS,H$66,FALSE)*$B161*$C161)","v":0},{"$f":"IF($B161=0,0,VLOOKUP($D161,'MI materialen'!$E:$AS,I$66,FALSE)*$B161*$C161)","v":0},{"$f":"IF($B161=0,0,VLOOKUP($D161,'MI materialen'!$E:$AS,J$66,FALSE)*$B161*$C161)","v":0},{"$f":"IF($B161=0,0,VLOOKUP($D161,'MI materialen'!$E:$AS,K$66,FALSE)*$B161*$C161)","v":0},{"$f":"IF($B161=0,0,VLOOKUP($D161,'MI materialen'!$E:$AS,L$66,FALSE)*$B161*$C161)","v":0},{"$f":"IF($B161=0,0,VLOOKUP($D161,'MI materialen'!$E:$AS,M$66,FALSE)*$B161*$C161)","v":0},{"$f":"IF($B161=0,0,VLOOKUP($D161,'MI materialen'!$E:$AS,N$66,FALSE)*$B161*$C161)","v":0},{"$f":"IF($B161=0,0,VLOOKUP($D161,'MI materialen'!$E:$AS,O$66,FALSE)*$B161*$C161)","v":0},{"$f":"IF($B161=0,0,VLOOKUP($D161,'MI materialen'!$E:$AS,P$66,FALSE)*$B161*$C161)","v":0},{"$f":"IF($B161=0,0,VLOOKUP($D161,'MI materialen'!$E:$AS,Q$66,FALSE)*$B161*$C161)","v":0},{"$f":"IF($B161=0,0,VLOOKUP($D161,'MI materialen'!$E:$AS,R$66,FALSE)*$B161*$C161)","v":0},{"$f":"IF($B161=0,0,VLOOKUP($D161,'MI materialen'!$E:$AS,S$66,FALSE)*$B161*$C161)","v":0},{"$f":"IF($B161=0,0,VLOOKUP($D161,'MI materialen'!$E:$AS,T$66,FALSE)*$B161*$C161)","v":0},{"$f":"IF($B161=0,0,VLOOKUP($D161,'MI materialen'!$E:$AS,U$66,FALSE)*$B161*$C161)","v":0},{"$f":"IF($B161=0,0,VLOOKUP($D161,'MI materialen'!$E:$AS,V$66,FALSE)*$B161*$C161)","v":0}]
["Recycling",{"$f":"IF(Invul_Alt_EindeL!$I$31=\"Standaard\",Invul_Alt_EindeL!$L$31,Invul_Alt_EindeL!$P$31)*(100%-Invul_Alt_Materialen!$J$30)","v":0},{"$f":"C159","v":0},{"$f":"VLOOKUP($B159,'MI materialen'!B:AS,43,FALSE)","v":0},{"$f":"IF($B162=0,0,VLOOKUP($D162,MKI!E:K,2,FALSE)*$B162*$C162)","v":0},{"$f":"IF($B162=0,0,VLOOKUP($D162,'MI materialen'!$E:$AS,F$66,FALSE)*$B162*$C162)","v":0},{"$f":"IF($B162=0,0,VLOOKUP($D162,'MI materialen'!$E:$AS,G$66,FALSE)*$B162*$C162)","v":0},{"$f":"IF($B162=0,0,VLOOKUP($D162,'MI materialen'!$E:$AS,H$66,FALSE)*$B162*$C162)","v":0},{"$f":"IF($B162=0,0,VLOOKUP($D162,'MI materialen'!$E:$AS,I$66,FALSE)*$B162*$C162)","v":0},{"$f":"IF($B162=0,0,VLOOKUP($D162,'MI materialen'!$E:$AS,J$66,FALSE)*$B162*$C162)","v":0},{"$f":"IF($B162=0,0,VLOOKUP($D162,'MI materialen'!$E:$AS,K$66,FALSE)*$B162*$C162)","v":0},{"$f":"IF($B162=0,0,VLOOKUP($D162,'MI materialen'!$E:$AS,L$66,FALSE)*$B162*$C162)","v":0},{"$f":"IF($B162=0,0,VLOOKUP($D162,'MI materialen'!$E:$AS,M$66,FALSE)*$B162*$C162)","v":0},{"$f":"IF($B162=0,0,VLOOKUP($D162,'MI materialen'!$E:$AS,N$66,FALSE)*$B162*$C162)","v":0},{"$f":"IF($B162=0,0,VLOOKUP($D162,'MI materialen'!$E:$AS,O$66,FALSE)*$B162*$C162)","v":0},{"$f":"IF($B162=0,0,VLOOKUP($D162,'MI materialen'!$E:$AS,P$66,FALSE)*$B162*$C162)","v":0},{"$f":"IF($B162=0,0,VLOOKUP($D162,'MI materialen'!$E:$AS,Q$66,FALSE)*$B162*$C162)","v":0},{"$f":"IF($B162=0,0,VLOOKUP($D162,'MI materialen'!$E:$AS,R$66,FALSE)*$B162*$C162)","v":0},{"$f":"IF($B162=0,0,VLOOKUP($D162,'MI materialen'!$E:$AS,S$66,FALSE)*$B162*$C162)","v":0},{"$f":"IF($B162=0,0,VLOOKUP($D162,'MI materialen'!$E:$AS,T$66,FALSE)*$B162*$C162)","v":0},{"$f":"IF($B162=0,0,VLOOKUP($D162,'MI materialen'!$E:$AS,U$66,FALSE)*$B162*$C162)","v":0},{"$f":"IF($B162=0,0,VLOOKUP($D162,'MI materialen'!$E:$AS,V$66,FALSE)*$B162*$C162)","v":0}]
["Hergebruik",{"$f":"IF(Invul_Alt_EindeL!$I$31=\"Standaard\",Invul_Alt_EindeL!$M$31,Invul_Alt_EindeL!$Q$31)*(100%-IF(Invul_Alt_Materialen!$I$30=\"Standaard\",Invul_Alt_Materialen!$J$30,Invul_Alt_Materialen!$N$30))","v":0},{"$f":"C159","v":0},{"$f":"VLOOKUP($B159,'MI materialen'!B:AS,43,FALSE)","v":0},{"$f":"IF($B163=0,0,VLOOKUP($D163,MKI!E:K,2,FALSE)*$B163*$C163)","v":0},{"$f":"IF($B163=0,0,VLOOKUP($D163,'MI materialen'!$E:$AS,F$66,FALSE)*$B163*$C163)","v":0},{"$f":"IF($B163=0,0,VLOOKUP($D163,'MI materialen'!$E:$AS,G$66,FALSE)*$B163*$C163)","v":0},{"$f":"IF($B163=0,0,VLOOKUP($D163,'MI materialen'!$E:$AS,H$66,FALSE)*$B163*$C163)","v":0},{"$f":"IF($B163=0,0,VLOOKUP($D163,'MI materialen'!$E:$AS,I$66,FALSE)*$B163*$C163)","v":0},{"$f":"IF($B163=0,0,VLOOKUP($D163,'MI materialen'!$E:$AS,J$66,FALSE)*$B163*$C163)","v":0},{"$f":"IF($B163=0,0,VLOOKUP($D163,'MI materialen'!$E:$AS,K$66,FALSE)*$B163*$C163)","v":0},{"$f":"IF($B163=0,0,VLOOKUP($D163,'MI materialen'!$E:$AS,L$66,FALSE)*$B163*$C163)","v":0},{"$f":"IF($B163=0,0,VLOOKUP($D163,'MI materialen'!$E:$AS,M$66,FALSE)*$B163*$C163)","v":0},{"$f":"IF($B163=0,0,VLOOKUP($D163,'MI materialen'!$E:$AS,N$66,FALSE)*$B163*$C163)","v":0},{"$f":"IF($B163=0,0,VLOOKUP($D163,'MI materialen'!$E:$AS,O$66,FALSE)*$B163*$C163)","v":0},{"$f":"IF($B163=0,0,VLOOKUP($D163,'MI materialen'!$E:$AS,P$66,FALSE)*$B163*$C163)","v":0},{"$f":"IF($B163=0,0,VLOOKUP($D163,'MI materialen'!$E:$AS,Q$66,FALSE)*$B163*$C163)","v":0},{"$f":"IF($B163=0,0,VLOOKUP($D163,'MI materialen'!$E:$AS,R$66,FALSE)*$B163*$C163)","v":0},{"$f":"IF($B163=0,0,VLOOKUP($D163,'MI materialen'!$E:$AS,S$66,FALSE)*$B163*$C163)","v":0},{"$f":"IF($B163=0,0,VLOOKUP($D163,'MI materialen'!$E:$AS,T$66,FALSE)*$B163*$C163)","v":0},{"$f":"IF($B163=0,0,VLOOKUP($D163,'MI materialen'!$E:$AS,U$66,FALSE)*$B163*$C163)","v":0},{"$f":"IF($B163=0,0,VLOOKUP($D163,'MI materialen'!$E:$AS,V$66,FALSE)*$B163*$C163)","v":0}]
["Som",{"$f":"Invul_Alt_EindeL!$F$32","v":"Leeg"},{"$f":"Invul_Alt_EindeL!$G$32","v":0},null,{"$f":"SUM(E165:E168)","v":0},{"$f":"SUM(F165:F168)","v":0},0,0,0,0,0,0,0,0,0,0,0,0,0,0,0,0]
["Stort",{"$f":"IF(Invul_Alt_EindeL!$I$32=\"Standaard\",Invul_Alt_EindeL!$J$32,Invul_Alt_EindeL!$N$32)","v":0},{"$f":"C164","v":0},{"$f":"VLOOKUP($B164,'MI materialen'!B:AS,41,FALSE)","v":0},{"$f":"IF($B165=0,0,VLOOKUP($D165,MKI!E:K,2,FALSE)*$B165*$C165)","v":0},{"$f":"IF($B165=0,0,VLOOKUP($D165,'MI materialen'!$E:$AS,F$66,FALSE)*$B165*$C165)","v":0},{"$f":"IF($B165=0,0,VLOOKUP($D165,'MI materialen'!$E:$AS,G$66,FALSE)*$B165*$C165)","v":0},{"$f":"IF($B165=0,0,VLOOKUP($D165,'MI materialen'!$E:$AS,H$66,FALSE)*$B165*$C165)","v":0},{"$f":"IF($B165=0,0,VLOOKUP($D165,'MI materialen'!$E:$AS,I$66,FALSE)*$B165*$C165)","v":0},{"$f":"IF($B165=0,0,VLOOKUP($D165,'MI materialen'!$E:$AS,J$66,FALSE)*$B165*$C165)","v":0},{"$f":"IF($B165=0,0,VLOOKUP($D165,'MI materialen'!$E:$AS,K$66,FALSE)*$B165*$C165)","v":0},{"$f":"IF($B165=0,0,VLOOKUP($D165,'MI materialen'!$E:$AS,L$66,FALSE)*$B165*$C165)","v":0},{"$f":"IF($B165=0,0,VLOOKUP($D165,'MI materialen'!$E:$AS,M$66,FALSE)*$B165*$C165)","v":0},{"$f":"IF($B165=0,0,VLOOKUP($D165,'MI materialen'!$E:$AS,N$66,FALSE)*$B165*$C165)","v":0},{"$f":"IF($B165=0,0,VLOOKUP($D165,'MI materialen'!$E:$AS,O$66,FALSE)*$B165*$C165)","v":0},{"$f":"IF($B165=0,0,VLOOKUP($D165,'MI materialen'!$E:$AS,P$66,FALSE)*$B165*$C165)","v":0},{"$f":"IF($B165=0,0,VLOOKUP($D165,'MI materialen'!$E:$AS,Q$66,FALSE)*$B165*$C165)","v":0},{"$f":"IF($B165=0,0,VLOOKUP($D165,'MI materialen'!$E:$AS,R$66,FALSE)*$B165*$C165)","v":0},{"$f":"IF($B165=0,0,VLOOKUP($D165,'MI materialen'!$E:$AS,S$66,FALSE)*$B165*$C165)","v":0},{"$f":"IF($B165=0,0,VLOOKUP($D165,'MI materialen'!$E:$AS,T$66,FALSE)*$B165*$C165)","v":0},{"$f":"IF($B165=0,0,VLOOKUP($D165,'MI materialen'!$E:$AS,U$66,FALSE)*$B165*$C165)","v":0},{"$f":"IF($B165=0,0,VLOOKUP($D165,'MI materialen'!$E:$AS,V$66,FALSE)*$B165*$C165)","v":0}]
["Verbranding",{"$f":"IF(Invul_Alt_EindeL!$I$32=\"Standaard\",Invul_Alt_EindeL!$K$32,Invul_Alt_EindeL!$O$32)","v":0},{"$f":"C164","v":0},{"$f":"VLOOKUP($B164,'MI materialen'!B:AS,42,FALSE)","v":0},{"$f":"IF($B166=0,0,VLOOKUP($D166,MKI!E:K,2,FALSE)*$B166*$C166)","v":0},{"$f":"IF($B166=0,0,VLOOKUP($D166,'MI materialen'!$E:$AS,F$66,FALSE)*$B166*$C166)","v":0},{"$f":"IF($B166=0,0,VLOOKUP($D166,'MI materialen'!$E:$AS,G$66,FALSE)*$B166*$C166)","v":0},{"$f":"IF($B166=0,0,VLOOKUP($D166,'MI materialen'!$E:$AS,H$66,FALSE)*$B166*$C166)","v":0},{"$f":"IF($B166=0,0,VLOOKUP($D166,'MI materialen'!$E:$AS,I$66,FALSE)*$B166*$C166)","v":0},{"$f":"IF($B166=0,0,VLOOKUP($D166,'MI materialen'!$E:$AS,J$66,FALSE)*$B166*$C166)","v":0},{"$f":"IF($B166=0,0,VLOOKUP($D166,'MI materialen'!$E:$AS,K$66,FALSE)*$B166*$C166)","v":0},{"$f":"IF($B166=0,0,VLOOKUP($D166,'MI materialen'!$E:$AS,L$66,FALSE)*$B166*$C166)","v":0},{"$f":"IF($B166=0,0,VLOOKUP($D166,'MI materialen'!$E:$AS,M$66,FALSE)*$B166*$C166)","v":0},{"$f":"IF($B166=0,0,VLOOKUP($D166,'MI materialen'!$E:$AS,N$66,FALSE)*$B166*$C166)","v":0},{"$f":"IF($B166=0,0,VLOOKUP($D166,'MI materialen'!$E:$AS,O$66,FALSE)*$B166*$C166)","v":0},{"$f":"IF($B166=0,0,VLOOKUP($D166,'MI materialen'!$E:$AS,P$66,FALSE)*$B166*$C166)","v":0},{"$f":"IF($B166=0,0,VLOOKUP($D166,'MI materialen'!$E:$AS,Q$66,FALSE)*$B166*$C166)","v":0},{"$f":"IF($B166=0,0,VLOOKUP($D166,'MI materialen'!$E:$AS,R$66,FALSE)*$B166*$C166)","v":0},{"$f":"IF($B166=0,0,VLOOKUP($D166,'MI materialen'!$E:$AS,S$66,FALSE)*$B166*$C166)","v":0},{"$f":"IF($B166=0,0,VLOOKUP($D166,'MI materialen'!$E:$AS,T$66,FALSE)*$B166*$C166)","v":0},{"$f":"IF($B166=0,0,VLOOKUP($D166,'MI materialen'!$E:$AS,U$66,FALSE)*$B166*$C166)","v":0},{"$f":"IF($B166=0,0,VLOOKUP($D166,'MI materialen'!$E:$AS,V$66,FALSE)*$B166*$C166)","v":0}]
["Recycling",{"$f":"IF(Invul_Alt_EindeL!$I$32=\"Standaard\",Invul_Alt_EindeL!$L$32,Invul_Alt_EindeL!$P$32)*(100%-Invul_Alt_Materialen!$J$31)","v":0},{"$f":"C164","v":0},{"$f":"VLOOKUP($B164,'MI materialen'!B:AS,43,FALSE)","v":0},{"$f":"IF($B167=0,0,VLOOKUP($D167,MKI!E:K,2,FALSE)*$B167*$C167)","v":0},{"$f":"IF($B167=0,0,VLOOKUP($D167,'MI materialen'!$E:$AS,F$66,FALSE)*$B167*$C167)","v":0},{"$f":"IF($B167=0,0,VLOOKUP($D167,'MI materialen'!$E:$AS,G$66,FALSE)*$B167*$C167)","v":0},{"$f":"IF($B167=0,0,VLOOKUP($D167,'MI materialen'!$E:$AS,H$66,FALSE)*$B167*$C167)","v":0},{"$f":"IF($B167=0,0,VLOOKUP($D167,'MI materialen'!$E:$AS,I$66,FALSE)*$B167*$C167)","v":0},{"$f":"IF($B167=0,0,VLOOKUP($D167,'MI materialen'!$E:$AS,J$66,FALSE)*$B167*$C167)","v":0},{"$f":"IF($B167=0,0,VLOOKUP($D167,'MI materialen'!$E:$AS,K$66,FALSE)*$B167*$C167)","v":0},{"$f":"IF($B167=0,0,VLOOKUP($D167,'MI materialen'!$E:$AS,L$66,FALSE)*$B167*$C167)","v":0},{"$f":"IF($B167=0,0,VLOOKUP($D167,'MI materialen'!$E:$AS,M$66,FALSE)*$B167*$C167)","v":0},{"$f":"IF($B167=0,0,VLOOKUP($D167,'MI materialen'!$E:$AS,N$66,FALSE)*$B167*$C167)","v":0},{"$f":"IF($B167=0,0,VLOOKUP($D167,'MI materialen'!$E:$AS,O$66,FALSE)*$B167*$C167)","v":0},{"$f":"IF($B167=0,0,VLOOKUP($D167,'MI materialen'!$E:$AS,P$66,FALSE)*$B167*$C167)","v":0},{"$f":"IF($B167=0,0,VLOOKUP($D167,'MI materialen'!$E:$AS,Q$66,FALSE)*$B167*$C167)","v":0},{"$f":"IF($B167=0,0,VLOOKUP($D167,'MI materialen'!$E:$AS,R$66,FALSE)*$B167*$C167)","v":0},{"$f":"IF($B167=0,0,VLOOKUP($D167,'MI materialen'!$E:$AS,S$66,FALSE)*$B167*$C167)","v":0},{"$f":"IF($B167=0,0,VLOOKUP($D167,'MI materialen'!$E:$AS,T$66,FALSE)*$B167*$C167)","v":0},{"$f":"IF($B167=0,0,VLOOKUP($D167,'MI materialen'!$E:$AS,U$66,FALSE)*$B167*$C167)","v":0},{"$f":"IF($B167=0,0,VLOOKUP($D167,'MI materialen'!$E:$AS,V$66,FALSE)*$B167*$C167)","v":0}]
["Hergebruik",{"$f":"IF(Invul_Alt_EindeL!$I$32=\"Standaard\",Invul_Alt_EindeL!$M$32,Invul_Alt_EindeL!$Q$32)*(100%-Invul_Alt_Materialen!$J$31)","v":0},{"$f":"C164","v":0},{"$f":"VLOOKUP($B164,'MI materialen'!B:AS,43,FALSE)","v":0},{"$f":"IF($B168=0,0,VLOOKUP($D168,MKI!E:K,2,FALSE)*$B168*$C168)","v":0},{"$f":"IF($B168=0,0,VLOOKUP($D168,'MI materialen'!$E:$AS,F$66,FALSE)*$B168*$C168)","v":0},{"$f":"IF($B168=0,0,VLOOKUP($D168,'MI materialen'!$E:$AS,G$66,FALSE)*$B168*$C168)","v":0},{"$f":"IF($B168=0,0,VLOOKUP($D168,'MI materialen'!$E:$AS,H$66,FALSE)*$B168*$C168)","v":0},{"$f":"IF($B168=0,0,VLOOKUP($D168,'MI materialen'!$E:$AS,I$66,FALSE)*$B168*$C168)","v":0},{"$f":"IF($B168=0,0,VLOOKUP($D168,'MI materialen'!$E:$AS,J$66,FALSE)*$B168*$C168)","v":0},{"$f":"IF($B168=0,0,VLOOKUP($D168,'MI materialen'!$E:$AS,K$66,FALSE)*$B168*$C168)","v":0},{"$f":"IF($B168=0,0,VLOOKUP($D168,'MI materialen'!$E:$AS,L$66,FALSE)*$B168*$C168)","v":0},{"$f":"IF($B168=0,0,VLOOKUP($D168,'MI materialen'!$E:$AS,M$66,FALSE)*$B168*$C168)","v":0},{"$f":"IF($B168=0,0,VLOOKUP($D168,'MI materialen'!$E:$AS,N$66,FALSE)*$B168*$C168)","v":0},{"$f":"IF($B168=0,0,VLOOKUP($D168,'MI materialen'!$E:$AS,O$66,FALSE)*$B168*$C168)","v":0},{"$f":"IF($B168=0,0,VLOOKUP($D168,'MI materialen'!$E:$AS,P$66,FALSE)*$B168*$C168)","v":0},{"$f":"IF($B168=0,0,VLOOKUP($D168,'MI materialen'!$E:$AS,Q$66,FALSE)*$B168*$C168)","v":0},{"$f":"IF($B168=0,0,VLOOKUP($D168,'MI materialen'!$E:$AS,R$66,FALSE)*$B168*$C168)","v":0},{"$f":"IF($B168=0,0,VLOOKUP($D168,'MI materialen'!$E:$AS,S$66,FALSE)*$B168*$C168)","v":0},{"$f":"IF($B168=0,0,VLOOKUP($D168,'MI materialen'!$E:$AS,T$66,FALSE)*$B168*$C168)","v":0},{"$f":"IF($B168=0,0,VLOOKUP($D168,'MI materialen'!$E:$AS,U$66,FALSE)*$B168*$C168)","v":0},{"$f":"IF($B168=0,0,VLOOKUP($D168,'MI materialen'!$E:$AS,V$66,FALSE)*$B168*$C168)","v":0}]

{"sheet":"Resultaten vergelijken","index":19,"n_rows":118,"n_cols":35,"rows_kept":118,"cut":false,"hidden":false,"merged":[[27,6,29,13],[30,6,33,13],[27,17,31,25],[180,41,180,46],[180,47,180,49],[180,50,180,52],[180,53,180,54],[10,6,20,13],[10,16,20,25],[10,29,15,34],[25,6,25,17],[178,41,178,46],[178,47,178,49],[178,50,178,52],[178,53,178,54],[179,41,179,46],[179,47,179,49],[179,50,179,52],[179,53,179,54],[176,41,176,46],[176,47,176,49],[176,50,176,52],[176,53,176,54],[177,41,177,46],[177,47,177,49],[177,50,177,52],[177,53,177,54],[174,41,174,46],[174,47,174,49],[174,50,174,52],[174,53,174,54],[175,41,175,46],[175,47,175,49],[175,50,175,52],[175,53,175,54],[172,41,172,46],[172,47,172,49],[172,50,172,52],[172,53,172,54],[173,41,173,46],[173,47,173,49],[173,50,173,52],[173,53,173,54],[170,41,170,46],[170,47,170,49],[170,50,170,52],[170,53,170,54],[171,41,171,46],[171,47,171,49],[171,50,171,52],[171,53,171,54],[168,41,168,46],[168,47,168,49],[168,50,168,52],[168,53,168,54],[169,41,169,46],[169,47,169,49],[169,50,169,52],[169,53,169,54],[167,41,167,46],[167,47,167,49],[167,50,167,52],[167,53,167,54],[165,53,165,54],[160,41,162,46],[160,47,162,49],[160,50,162,52],[160,53,162,54],[163,41,163,46],[163,47,163,49],[163,50,163,52],[163,53,163,54],[166,41,166,46],[166,47,166,49],[166,50,166,52],[166,53,166,54],[115,41,115,43],[115,21,115,23],[115,24,115,25],[115,13,115,17],[115,18,115,20],[116,13,116,17],[117,13,117,17],[116,18,116,20],[117,18,117,20],[116,21,116,23],[117,21,117,23],[116,24,116,25],[117,24,117,25],[164,41,164,46],[164,47,164,49],[164,50,164,52],[164,53,164,54],[165,41,165,46],[165,47,165,49],[165,50,165,52],[96,33,96,35],[96,29,96,31],[97,29,98,35],[100,6,101,25],[103,13,103,17],[103,18,103,20],[103,21,103,23],[103,24,103,25],[104,13,105,20],[104,21,105,25],[43,29,46,33],[45,34,45,35],[47,29,48,31],[47,32,47,34],[48,32,48,34],[45,40,46,42],[66,6,75,8],[66,29,66,31],[66,33,66,35],[30,34,31,35],[30,30,31,31],[57,29,58,31],[57,32,57,34],[58,32,58,34],[16,29,16,31],[16,33,16,35],[24,29,25,30],[26,29,26,31],[22,34,22,35],[17,33,21,35],[22,30,22,31],[17,29,21,31],[24,33,25,34],[26,33,26,35],[28,33,29,34],[28,29,29,30],[51,29,51,31],[52,29,52,31],[53,29,56,33],[55,34,55,35],[37,29,40,34],[42,29,42,31],[42,33,42,35],[93,8,93,10],[93,11,93,12],[94,6,94,7],[94,8,94,10],[94,11,94,12],[95,6,95,7],[95,8,95,10],[95,11,95,12],[67,29,68,35],[87,21,87,23],[87,24,87,25],[90,6,90,7],[90,8,90,10],[90,11,90,12],[91,6,91,7],[91,8,91,10],[91,11,91,12],[92,6,92,7],[92,8,92,10],[92,11,92,12],[35,7,35,9],[35,10,35,12],[36,7,36,12],[35,18,35,22],[35,23,35,25],[36,18,36,25],[66,22,79,25],[95,13,95,17],[90,18,90,20],[91,18,91,20],[92,18,92,20],[93,18,93,20],[94,18,94,20],[95,18,95,20],[90,21,90,23],[91,21,91,23],[92,21,92,23],[93,21,93,23],[94,21,94,23],[95,21,95,23],[87,6,89,7],[87,8,87,10],[87,11,87,12],[88,8,89,12],[115,6,115,12],[116,6,116,12],[117,6,117,12],[103,6,105,12],[66,10,79,13],[66,16,79,20],[84,6,85,25],[77,6,79,8],[90,24,90,25],[91,24,91,25],[92,24,92,25],[93,24,93,25],[94,24,94,25],[95,24,95,25],[88,21,89,25],[87,13,87,17],[87,18,87,20],[88,13,89,20],[90,13,90,17],[91,13,91,17],[92,13,92,17],[93,13,93,17],[94,13,94,17],[93,6,93,7],[106,6,106,12],[107,6,107,12],[108,6,108,12],[109,6,109,12],[110,6,110,12],[111,6,111,12],[112,6,112,12],[113,6,113,12],[114,6,114,12],[106,13,106,17],[107,13,107,17],[108,13,108,17],[109,13,109,17],[110,13,110,17],[111,13,111,17],[112,13,112,17],[113,13,113,17],[114,13,114,17],[106,18,106,20],[107,18,107,20],[108,18,108,20],[109,18,109,20],[110,18,110,20],[111,18,111,20],[112,18,112,20],[113,18,113,20],[114,18,114,20],[106,21,106,23],[107,21,107,23],[108,21,108,23],[109,21,109,23],[110,21,110,23],[111,21,111,23],[112,21,112,23],[113,21,113,23],[114,21,114,23],[106,24,106,25],[107,24,107,25],[108,24,108,25],[109,24,109,25],[110,24,110,25],[111,24,111,25],[112,24,112,25],[113,24,113,25],[114,24,114,25]]}
[]
[null,null,null,null,{"$f":"Home!E2","v":"PRODUCTNAAM"}]
[null,null,null,null,{"$f":"Home!E3","v":"NAAM PRODUCENT"}]
[]
[]
[]
[]
[]
[]
[null,null,null,null,null,null,{"$f":"E2","v":"PRODUCTNAAM"},null,null,null,null,null,null,null,null,null,"Alternatief",null,null,null,null,null,null,null,null,null,null,null,null,"CirculariteitsIndex"]
[null,null,null,null,null,null,{"$f":"Home!F62","v":"*Beschrijving product *"},null,null,null,null,null,null,null,null,null,{"$f":"Home!F75","v":"*Beschrijving alternatief*"},null,null,null,null,null,null,null,null,null,null,null,null,"De Circulariteitsindex wordt berekend op basis van massa door het percentage recycled content op te tellen bij het hergebruik percentage in de einde levensfase per materiaal en dit vervolgens te delen door 2. Deze circulariteitsindex sluit aan bij de Mia/vamil circulaire gebouwen."]
[]
[]
[]
[]
[]
[null,null,null,null,null,null,null,null,null,null,null,null,null,null,null,null,null,null,null,null,null,null,null,null,null,null,null,null,null,{"$f":"$E$2","v":"PRODUCTNAAM"},null,null,null,"Alternatief"]
[null,null,null,null,null,null,null,null,null,null,null,null,null,null,null,null,null,null,null,null,null,null,null,null,null,null,null,null,null,{"$f":"(AD25+AD29)/2","v":{"$error":"#DIV/0!"}},null,null,null,{"$f":"(AH25+AH29)/2","v":{"$error":"#DIV/0!"}}]
[]
[]
[]
[]
[null,null,null,null,null,null,null,null,null,null,null,null,null,null,null,null,null,null,null,null,null,null,null,null,null,null,null,null,null,null,"Circulair",null,null,null,"Circulair"]
[]
[null,null,null,null,null,null,null,null,null,null,null,null,null,null,null,null,null,null,null,null,null,null,null,null,null,null,null,null,null,{"$f":"Invul_Basis_Materialen!J32","v":{"$error":"#DIV/0!"}},null,null,null,{"$f":"Invul_Alt_Materialen!J32","v":{"$error":"#DIV/0!"}}]
[null,null,null,null,null,null,"Oorsprong milieu-impact"]
[null,null,null,null,null,null,null,null,null,null,null,null,null,null,null,null,null,null,null,null,null,null,null,null,null,null,null,null,null,"Secundaire content",null,null,null,"Secundaire content"]
[null,null,null,null,null,null,"In deze staafdiagrammen zijn de milieukosten van het basis ontwerpscenario vergeleken met het alternatieve ontwerpscenario. ",null,null,null,null,null,null,null,null,null,null,{"$f":"\"Het kan zijn dat een product over zijn hele levensduur/ gebruiksduur hogere milieukosten heeft, maar tegelijk ook een langere levensduur/ gebruiksduur heeft. De milieukosten zouden dan per \"&Invul_Basis_Alg!H13&\" lager kunnen zijn. Daarom is het ook interessant om de milieukosten per \"&Invul_Basis_Alg!H13&\" te onderzoeken. \"","v":"Het kan zijn dat een product over zijn hele levensduur/ gebruiksduur hogere milieukosten heeft, maar tegelijk ook een langere levensduur/ gebruiksduur heeft. De milieukosten zouden dan per Leeg lager kunnen zijn. Daarom is het ook interessant om de milieukosten per Leeg te onderzoeken. "}]
[null,null,null,null,null,null,null,null,null,null,null,null,null,null,null,null,null,null,null,null,null,null,null,null,null,null,null,null,null,{"$f":"Invul_Basis_EindeL!H33","v":{"$error":"#DIV/0!"}},null,null,null,{"$f":"Invul_Alt_EindeL!H33","v":{"$error":"#DIV/0!"}}]
[]
[null,null,null,null,null,null,{"$f":"\"In de eerste grafiek gaat het om een vergelijking van de milieukosten over de hele levensduur van het product. In de tweede zijn de milieukosten per \"&Invul_Basis_Alg!H13&\" van het eerste ontwerpscenario vergeleken met de milieukosten per \"&Invul_Basis_Alg!H13&\" van het alternatieve ontwerpscenario.\"","v":"In de eerste grafiek gaat het om een vergelijking van de milieukosten over de hele levensduur van het product. In de tweede zijn de milieukosten per Leeg van het eerste ontwerpscenario vergeleken met de milieukosten per Leeg van het alternatieve ontwerpscenario."},null,null,null,null,null,null,null,null,null,null,null,null,null,null,null,null,null,null,null,null,null,null,null,"Hergebruik na einde levensfase",null,null,null,"Hergebruik na einde levensfase"]
[]
[]
[]
[]
[null,null,null,null,null,null,null,{"$f":"E2","v":"PRODUCTNAAM"},null,null,"Alternatief",null,null,null,null,null,null,null,{"$f":"E2","v":"PRODUCTNAAM"},null,null,null,null,"Alternatief"]
[null,null,null,null,null,null,null,"per product",null,null,null,null,null,null,null,null,null,null,{"$f":" \"per product \" & AG49","v":"per product per Leeg"},null,null,null,null,null,null,null,null,null,null,"Milieu Kosten Indicator"]
[null,null,null,null,null,null,null,null,null,null,null,null,null,null,null,null,null,null,null,null,null,null,null,null,null,null,null,null,null,"De milieu-impact wordt hier uitgedrukt in een schaduwprijs (€), oftewel de MKI (milieukostenindicator). Dit is een makkelijke manier om de milieu-impact van producten te vergelijken."]
[]
[]
[]
[]
[null,null,null,null,null,null,null,null,null,null,null,null,null,null,null,null,null,null,null,null,null,null,null,null,null,null,null,null,null,{"$f":"$E$2","v":"PRODUCTNAAM"}]
[null,null,null,null,null,null,null,null,null,null,null,null,null,null,null,null,null,null,null,null,null,null,null,null,null,null,null,null,null,{"$f":"'Rekensheet NN-Basis'!E8","v":0}]
[]
[null,null,null,null,null,null,null,null,null,null,null,null,null,null,null,null,null,null,null,null,null,null,null,null,null,null,null,null,null,null,null,null,null,null,"per product"]
[]
[null,null,null,null,null,null,null,null,null,null,null,null,null,null,null,null,null,null,null,null,null,null,null,null,null,null,null,null,null,{"$f":"AD44/Invul_Basis_Alg!G13","v":{"$error":"#DIV/0!"}},null,null,"per product"]
[null,null,null,null,null,null,null,null,null,null,null,null,null,null,null,null,null,null,null,null,null,null,null,null,null,null,null,null,null,null,null,null,{"$f":" \"per \" &  Invul_Basis_Alg!H13","v":"per Leeg"}]
[]
[]
[]
[null,null,null,null,null,null,null,null,null,null,null,null,null,null,null,null,null,null,null,null,null,null,null,null,null,null,null,null,null,"Alternatief"]
[null,null,null,null,null,null,null,null,null,null,null,null,null,null,null,null,null,null,null,null,null,null,null,null,null,null,null,null,null,{"$f":"'Rekensheet NN-Alt'!E8","v":0}]
[]
[null,null,null,null,null,null,null,null,null,null,null,null,null,null,null,null,null,null,null,null,null,null,null,null,null,null,null,null,null,null,null,null,null,null,"per product"]
[]
[null,null,null,null,null,null,null,null,null,null,null,null,null,null,null,null,null,null,null,null,null,null,null,null,null,null,null,null,null,{"$f":"AD54/Invul_Alt_Alg!G13","v":{"$error":"#DIV/0!"}},null,null,"per product"]
[null,null,null,null,null,null,null,null,null,null,null,null,null,null,null,null,null,null,null,null,null,null,null,null,null,null,null,null,null,null,null,null,{"$f":" \"per \" &  Invul_Alt_Alg!H13","v":"per Leeg"}]
[]
[]
[]
[]
[]
[null,null,null,null,null,null,"Toelichting resultaten",null,null,null,null,null,null,null,null,null,null,null,null,null,null,null,null,null,null,null,null,null,null,"Milieu-impact per categorie"]
[]
[null,null,null,null,null,null,{"$f":"IF('Rekensheet NN-Basis'!E8<'Rekensheet NN-Alt'!E8,VLOOKUP(\"Basis\",Lijsten_Tekst!K2:L3,2,FALSE),IF('Rekensheet NN-Basis'!E8>'Rekensheet NN-Alt'!E8,VLOOKUP(\"Alternatief\",Lijsten_Tekst!K2:L3,2,FALSE),0))","v":0},null,null,null,{"$f":"VLOOKUP(Graph_Basis!L84,Lijsten_Tekst!Q2:R7,2,FALSE)","v":"In de grafiek is te zien dat het materiaalgebruik de grootste milieu-impact veroorzaakt voor het basis ontwerpscenario. Om de milieu-impact van het product te verlagen kunt u onderzoeken of het gebruik van circulaire materialen of andere minder milieubelastende primaire materialen tot minder milieubelasting leidt."},null,null,null,null,null,{"$f":"VLOOKUP(Graph_Alt!L84,Lijsten_Tekst!T2:U7,2,FALSE)","v":"In de grafiek is te zien dat het materiaalgebruik de grootste milieu-impact veroorzaakt voor het alternatieve ontwerpscenario. Om de milieu-impact van het product te verlagen kunt u onderzoeken of het gebruik van circulaire materialen of andere minder milieubelastende primaire materialen tot minder milieubelasting leidt."},null,null,null,null,null,{"$f":"IF(AD18>AH18,VLOOKUP(\"Basis\",Lijsten_Tekst!W2:X3,2,FALSE),IF(AD18<AH18,VLOOKUP(\"Basis\",Lijsten_Tekst!W2:X3,2,FALSE),0))","v":{"$error":"#DIV/0!"}},null,null,null,null,null,null,{"$f":"$E$2","v":"PRODUCTNAAM"},null,null,null,"Alternatief"]
[null,null,null,null,null,null,null,null,null,null,null,null,null,null,null,null,null,null,null,null,null,null,null,null,null,null,null,null,null,"per product"]
[]
[]
[]
[]
[]
[]
[]
[]
[]
[null,null,null,null,null,null,{"$f":"IF(N96>S96,VLOOKUP(\"Alternatief\",Lijsten_Tekst!N2:O3,2,FALSE),IF(N96<S96,VLOOKUP(\"Basis\",Lijsten_Tekst!N2:O3,2,FALSE),0))","v":{"$error":"#DIV/0!"}}]
[]
[]
[]
[]
[]
[null,null,null,null,null,null,"Milieu-impact per levenscyclusfase"]
[null,null,null,null,null,null,"Hieronder wordt de oorsprong van de milieu-impact in absolute en relatieve bijdrage weergegeven. Op die manier kan de MKI waarde per levenscyclusfase worden afgelezen. Voor meer detail dient u de resultaten pagina per product te bezoeken."]
[]
[]
[null,null,null,null,null,null,"Levenscyclusfase",null,{"$f":"$E$2","v":"PRODUCTNAAM"},null,null,"Alternatief\nper product",null,{"$f":"$E$2","v":"PRODUCTNAAM"},null,null,null,null,"Alternatief",null,null,{"$f":"$E$2","v":"PRODUCTNAAM"},null,null,"Alternatief"]
[null,null,null,null,null,null,null,null,"per product",null,null,null,null,{"$f":"\"per product\n\"& AG59","v":"per product\nper Leeg"},null,null,null,null,null,null,null,"Percentage"]
[]
[null,null,null,null,null,null,"Materialen",null,{"$f":"Graph_Basis!$I$23","v":0},null,null,{"$f":"Graph_Alt!$I$23","v":0},null,{"$f":"I91/Invul_Basis_Alg!$G$13","v":{"$error":"#DIV/0!"}},null,null,null,null,{"$f":"L91/Invul_Alt_Alg!$G$13","v":{"$error":"#DIV/0!"}},null,null,{"$f":"N91/$N$96","v":{"$error":"#DIV/0!"}},null,null,{"$f":"S91/$S$96","v":{"$error":"#DIV/0!"}}]
[null,null,null,null,null,null,"Bewerking",null,{"$f":"Graph_Basis!$I$37","v":0},null,null,{"$f":"Graph_Alt!$I$37","v":0},null,{"$f":"I92/Invul_Basis_Alg!$G$13","v":{"$error":"#DIV/0!"}},null,null,null,null,{"$f":"L92/Invul_Alt_Alg!$G$13","v":{"$error":"#DIV/0!"}},null,null,{"$error":"#DIV/0!"},null,null,{"$error":"#DIV/0!"}]
[null,null,null,null,null,null,"Distributie",null,{"$f":"Graph_Basis!$I$49","v":0},null,null,{"$f":"Graph_Alt!$I$49","v":0},null,{"$f":"I93/Invul_Basis_Alg!$G$13","v":{"$error":"#DIV/0!"}},null,null,null,null,{"$f":"L93/Invul_Alt_Alg!$G$13","v":{"$error":"#DIV/0!"}},null,null,{"$error":"#DIV/0!"},null,null,{"$error":"#DIV/0!"}]
[null,null,null,null,null,null,"Gebruik",null,{"$f":"Graph_Basis!$I$58","v":0},null,null,{"$f":"Graph_Alt!$I$58","v":0},null,{"$f":"I94/Invul_Basis_Alg!$G$13","v":{"$error":"#DIV/0!"}},null,null,null,null,{"$f":"L94/Invul_Alt_Alg!$G$13","v":{"$error":"#DIV/0!"}},null,null,{"$error":"#DIV/0!"},null,null,{"$error":"#DIV/0!"}]
[null,null,null,null,null,null,"Einde levensfase",null,{"$f":"Graph_Basis!$I$82","v":0},null,null,{"$f":"Graph_Alt!$I$82","v":0},null,{"$f":"I95/Invul_Basis_Alg!$G$13","v":{"$error":"#DIV/0!"}},null,null,null,null,{"$f":"L95/Invul_Alt_Alg!$G$13","v":{"$error":"#DIV/0!"}},null,null,{"$error":"#DIV/0!"},null,null,{"$error":"#DIV/0!"}]
[null,null,null,null,null,null,"Totaal",null,{"$f":"'Rekensheet NN-Basis'!E8","v":0},null,null,{"$f":"'Rekensheet NN-Alt'!E8","v":0},null,{"$f":"I96/Invul_Basis_Alg!$G$13","v":{"$error":"#DIV/0!"}},null,null,null,null,{"$f":"L96/Invul_Alt_Alg!$G$13","v":{"$error":"#DIV/0!"}},null,null,{"$error":"#DIV/0!"},null,null,{"$error":"#DIV/0!"}]
[null,null,null,null,null,null,null,null,null,null,null,null,null,null,null,null,null,null,null,null,null,null,null,null,null,null,null,null,null,{"$f":"$E$2","v":"PRODUCTNAAM"},null,null,null,"Alternatief"]
[null,null,null,null,null,null,null,null,null,null,null,null,null,null,null,null,null,null,null,null,null,null,null,null,null,null,null,null,null,{"$f":" \"per product \" & $AG$49","v":"per product per Leeg"}]
[]
[null,null,null,null,null,null,"Milieu-impact per impact categorie"]
[null,null,null,null,null,null,"De tabel hieronder toont de bijdrage van het product per milieu-impact categorie aan de totale MilieuKostenIndicator. Een uitleg van de impact categorieën kan worden gevonden op de informatiepagina."]
[]
[]
[null,null,null,null,null,null,"Impact categorie",null,null,null,null,null,null,{"$f":"$E$2","v":"PRODUCTNAAM"},null,null,null,null,"Alternatief",null,null,{"$f":"$E$2","v":"PRODUCTNAAM"},null,null,"Alternatief"]
[null,null,null,null,null,null,null,null,null,null,null,null,null,"per product",null,null,null,null,null,null,null,{"$f":"\"per product \n\"& AG59","v":"per product \nper Leeg"}]
[]
[null,null,null,null,null,null,"Totale milieu-kosten (MKI)",null,null,null,null,null,null,{"$f":"Resultaten_Basis!M72","v":0},null,null,null,null,{"$f":"Resultaten_Alt!M72","v":0},null,null,{"$f":"Resultaten_Basis!P72","v":{"$error":"#DIV/0!"}},null,null,{"$f":"Resultaten_Alt!P72","v":{"$error":"#DIV/0!"}}]
[null,null,null,null,null,null,"Uitputting van abiotische stoffen",null,null,null,null,null,null,{"$f":"Resultaten_Basis!M73","v":0},null,null,null,null,{"$f":"Resultaten_Alt!M73","v":0},null,null,{"$f":"Resultaten_Basis!P73","v":{"$error":"#DIV/0!"}},null,null,{"$f":"Resultaten_Alt!P73","v":{"$error":"#DIV/0!"}}]
[null,null,null,null,null,null,"Uitputting van fossiele brandstoffen",null,null,null,null,null,null,{"$f":"Resultaten_Basis!M74","v":0},null,null,null,null,{"$f":"Resultaten_Alt!M74","v":0},null,null,{"$f":"Resultaten_Basis!P74","v":{"$error":"#DIV/0!"}},null,null,{"$f":"Resultaten_Alt!P74","v":{"$error":"#DIV/0!"}}]
[null,null,null,null,null,null,"Klimaatverandering",null,null,null,null,null,null,{"$f":"Resultaten_Basis!M75","v":0},null,null,null,null,{"$f":"Resultaten_Alt!M75","v":0},null,null,{"$f":"Resultaten_Basis!P75","v":{"$error":"#DIV/0!"}},null,null,{"$f":"Resultaten_Alt!P75","v":{"$error":"#DIV/0!"}}]
[null,null,null,null,null,null,"Aantasting van de ozonlaag",null,null,null,null,null,null,{"$f":"Resultaten_Basis!M76","v":0},null,null,null,null,{"$f":"Resultaten_Alt!M76","v":0},null,null,{"$f":"Resultaten_Basis!P76","v":{"$error":"#DIV/0!"}},null,null,{"$f":"Resultaten_Alt!P76","v":{"$error":"#DIV/0!"}}]
[null,null,null,null,null,null,"Fotochemische oxidatie (zomersmog)",null,null,null,null,null,null,{"$f":"Resultaten_Basis!M77","v":0},null,null,null,null,{"$f":"Resultaten_Alt!M77","v":0},null,null,{"$f":"Resultaten_Basis!P77","v":{"$error":"#DIV/0!"}},null,null,{"$f":"Resultaten_Alt!P77","v":{"$error":"#DIV/0!"}}]
[null,null,null,null,null,null,"Verzuring",null,null,null,null,null,null,{"$f":"Resultaten_Basis!M78","v":0},null,null,null,null,{"$f":"Resultaten_Alt!M78","v":0},null,null,{"$f":"Resultaten_Basis!P78","v":{"$error":"#DIV/0!"}},null,null,{"$f":"Resultaten_Alt!P78","v":{"$error":"#DIV/0!"}}]
[null,null,null,null,null,null,"Vermesting",null,null,null,null,null,null,{"$f":"Resultaten_Basis!M79","v":0},null,null,null,null,{"$f":"Resultaten_Alt!M79","v":0},null,null,{"$f":"Resultaten_Basis!P79","v":{"$error":"#DIV/0!"}},null,null,{"$f":"Resultaten_Alt!P79","v":{"$error":"#DIV/0!"}}]
[null,null,null,null,null,null,"Humane toxiciteit",null,null,null,null,null,null,{"$f":"Resultaten_Basis!M80","v":0},null,null,null,null,{"$f":"Resultaten_Alt!M80","v":0},null,null,{"$f":"Resultaten_Basis!P80","v":{"$error":"#DIV/0!"}},null,null,{"$f":"Resultaten_Alt!P80","v":{"$error":"#DIV/0!"}}]
[null,null,null,null,null,null,"Zoetwater ecotoxiciteit",null,null,null,null,null,null,{"$f":"Resultaten_Basis!M81","v":0},null,null,null,null,{"$f":"Resultaten_Alt!M81","v":0},null,null,{"$f":"Resultaten_Basis!P81","v":{"$error":"#DIV/0!"}},null,null,{"$f":"Resultaten_Alt!P81","v":{"$error":"#DIV/0!"}}]
[null,null,null,null,null,null,"Zoutwater ecotoxiciteit",null,null,null,null,null,null,{"$f":"Resultaten_Basis!M82","v":0},null,null,null,null,{"$f":"Resultaten_Alt!M82","v":0},null,null,{"$f":"Resultaten_Basis!P82","v":{"$error":"#DIV/0!"}},null,null,{"$f":"Resultaten_Alt!P82","v":{"$error":"#DIV/0!"}}]
[null,null,null,null,null,null,"Terrestische ecotoxiciteit",null,null,null,null,null,null,{"$f":"Resultaten_Basis!M83","v":0},null,null,null,null,{"$f":"Resultaten_Alt!M83","v":0},null,null,{"$f":"Resultaten_Basis!P83","v":{"$error":"#DIV/0!"}},null,null,{"$f":"Resultaten_Alt!P83","v":{"$error":"#DIV/0!"}}]

{"sheet":"Informatie_Tool","index":20,"n_rows":54,"n_cols":6,"rows_kept":54,"cut":false,"hidden":false,"merged":[[9,5,9,15],[12,5,12,15],[15,5,15,15],[18,5,18,15],[21,5,39,15],[42,5,42,14],[45,5,45,15],[47,5,47,15],[49,5,49,15],[53,5,53,15],[51,5,51,15]]}
[]
[null,null,null,null,{"$f":"Home!E2","v":"PRODUCTNAAM"}]
[null,null,null,null,{"$f":"Home!E3","v":"NAAM PRODUCENT"}]
[]
[]
[]
[]
[]
[null,null,null,null,null,"Introductie"]
[null,null,null,null,null,"Deze tool is een quickscan om globaal inzicht te krijgen in de milieu impact van uw product over zijn levensloop; van de winning van de grondstoffen die nodig zijn om het product te maken tot en met het afdanken van het product. Dit wordt ook wel een milieu-Levens Cyclus Analyse (LCA) genoemd. Op de 'Introductie LCA' informatie-pagina vind je meer informatie over deze vorm van analyse.\nDe tool richt zich op (vergelijkingen) tussen materiaalgebruik maar geeft geen of zeer beperkt inzicht in complexe bewerkingen in de voorketen. De tool is niet geschikt als basis voor EPD's. Wanneer inzicht hierover gewenst is moet een uitgebreide LCA worden uitgevoerd."]
[]
[null,null,null,null,null,"Wat kunt u met deze tool?"]
[null,null,null,null,null,"- Ontdekken in welke levensfase (bv productieproces, gebruiksfase, distributiefase) van uw product de meeste milieu impact ontstaat.\n- De milieu impact van uw product vergelijken met die van een alternatief ontwerpscenario.\n- Ontdekken of zo ja in welke mate het verlengen van de levensduur van uw product milieuvoordelen oplevert\n- Inzicht krijgen in welk effect het verduurzamen van processen (bv. het verduurzamen van het productieproces of distributieproces) heeft op de totale milieu-impact."]
[]
[null,null,null,null,null,"Wat kunt u niet met deze tool?"]
[null,null,null,null,null,"- Een gedetailleerde milieu analyse maken. Het gaat in deze tool om een quickscan.\nWilt u met grotere precieze rekenen aan de milieu-impact van uw product? \nDan kunt u kiezen om een uitgebreide LCA of EPD conform de geldende normen te laten uitvoeren. \n"]
[]
[null,null,null,null,null,"Hoe werkt de tool?"]
[null,null,null,null,null,"Het gebruik van de tool is afhankelijk van het doel waarvoor u de tool gebruikt. Wanneer u uw doel specificeert op de 'Home'-pagina zal de uitleg van het gebruik van de tool verschijnen voor dat doel."]
[]
[null,null,null,null,null,"Specificaties en beperking"]
[null,null,null,null,null,"1. De berekeningen zijn gebaseerd op een selectie van standaard materialen. De beschikbare materialen kunnen afwijken van het daadwerkelijke materiaal in het product. Complexe bewerkingen in de voorketen vallen buiten de scope van deze tool.\n\n2. De toegepaste milieu gegevens per materiaal, proces, transportmethode en einde levensfase scenario's zijn generiek.\n\n 3. Forfaitaire (standaard) materiaal scenario's worden gebruikt voor de MKI berekening van de materialen. Specifiek ingevulde secundaire content wordt niet meegenomen in de MKI berekening om complexiteit te voorkomen. Deze waarden worden wel meegenomen in de Circulariteitsindex. Een gewijzigd afvalscenario wordt wel meegenomen in de MKI berekening.\n\n4. De milieu baten/lasten van hergebruik in de einde levensfase zijn gebaseerd op de milieu baten/lasten bij recycling. De keuze voor recycling of hergebruik maakt in de tool dus geen verschil, wat in werkelijkheid wel het geval is.\n\n5. Mocht je een nieuw materiaal willen aandragen, dan kunnen we dit op verzoek toevoegen aan de rekentool. De voorkeur gaat uit naar materialen waarvan een EPD is opgemaakt. "]
[]
[]
[]
[]
[]
[]
[]
[]
[]
[]
[]
[]
[]
[]
[]
[]
[]
[]
[]
[null,null,null,null,null,"Uitgangspunten"]
[null,null,null,null,null,"Methode: Bepalingsmethode, jan 2021 (NMD 3.3) V3.04 / MKI-SBK single-score"]
[]
[null,null,null,null,null,"Legenda"]
[null,null,null,null,null,"Aanpasbare velden"]
[]
[null,null,null,null,null,"Niet aanpasbare velde"]
[]
[null,null,null,null,null,"Velden die niet worden meegenomen in de berekening"]
[]
[null,null,null,null,null,"Let op; de informatie is niet beschikbaar/compleet/juist"]
[]
[null,null,null,null,null,"De informatie is compleet"]

{"sheet":"Informatie_IntroLCA","index":21,"n_rows":29,"n_cols":6,"rows_kept":29,"cut":false,"hidden":false,"merged":[[28,5,45,15],[25,5,25,15],[8,5,8,15],[11,5,11,15],[14,5,14,15],[17,5,17,15],[20,5,20,15]]}
[]
[null,null,null,null,{"$f":"Home!E2","v":"PRODUCTNAAM"}]
[null,null,null,null,{"$f":"Home!E3","v":"NAAM PRODUCENT"}]
[]
[]
[]
[]
[]
[null,null,null,null,null,"Een LCA of wel Life Cycle Analyses is een methode om de milieu impact van een product over zijn hele levensduur in kaart te brengen. In LCA wordt de hele levenscyclus van het product bekeken: Van de winning van grondstoffen via productie en (her)gebruik tot en met afvalverwerking. Oftewel: van de wieg tot het graf, zie figuur 1."]
[]
[]
[]
[]
[]
[]
[]
[]
[]
[]
[]
[]
[]
[]
[null,null,null,null,null,"Figuur 1: levenscyclus product"]
[]
[null,null,null,null,null,"De LCA analyse geeft inzicht in de milieu effecten van het product op verschillende milieu aspecten, zoals de bijdrage aan klimaatverandering, uitputting van grondstoffen, watervervuiling, etc.. De verschillende impact categorieën worden toegelicht op de 'impact categorieën' informatie-pagina.\n\nDe resultaten van een LCA analyse kunnen ook worden uitgedrukt in milieukosten. De milieukosten geven een beeld van de schaduw prijs / schaduwkosten van het product aan het milieu. De milieukosten worden uitgedrukt als een single-score, de milieukostenindicator (ook wel de MKI), uitgedrukt in euro’s. Op deze manier kunnen verschillende milieu effecten, middels een wegingssysteem, bij elkaar worden opgeteld om één milieu score te krijgen."]
[]
[null,null,null,null,null,"Begrippen"]
[null,null,null,null,null,"Winning grondstoffen & bewerkingen materiaal:\nIn deze fase worden de ruwe grondstoffen gewonnen. Het kan gaan om grondstoffen die uit de natuur worden gewonnen, fossiel (bv olie) of hernieuwbaar (bv hout). Maar het kan ook gaan om gerecyclede grondstoffen die ingekocht worden van een recycler (bv secundair staal of gerecyclede textielvezels). De ruwe grondstoffen worden verwerkt tot bruikaar materiaal (bv textielvezels tot stof, of een boom tot planken). In de tool vult u in het type en de hoeveelheid van het materiaal dat u gebruikt.\n\nBewerking / productie product:\nIn deze fase wordt het product geproduceerd. In de tool vult u het energiegebruik (elektriciteit, warmte) in dat nodig is om het product te produceren.\n\nDistributie:\nIn deze fase wordt het product van de productielocatie naar de gebruiker getransporteerd. In de tool vult u in met wat voor vervoersmiddel het product vervoerd wordt en over welke afstand. Indien u hier geen gegvens over heeft wordt in de tool aangegeven welke data u dan kunt invullen voor een globale schatting.\n\nGebruik:\nIn deze fase gaat het om het energiegebruik van het product zelf (bv een mobiele telefoon gebruikt in de gebruiksfase stroom). Niet alle producten gebruiken energie (bv een tafel gebruikt geen energie). Indien uw product geen energie gebruikt in de gebruiksfase hoeft u hier niets in te vullen.\n\nEinde levensfase:\nWanneer de gebruiker het product niet meer wilt hebben, dankt hij het af. Dit heet de afdankfase, ook wel einde levensfase genoemd. Wanneer (onderdelen van) het afgedankte product opnieuw worden gebruikt door een volgende gebruiker, heet dit hergebruik (bv een statiegeld bierflesje wordt hergebruikt). Wanneer alleen materialen uit het product worden hergebruikt heet dit recycling (bv een glazen wijnfles wordt gerecycled; het glas wordt hergebruikt). Wanneer hergebruik noch recyling plaatsvindt wordt het product verbrand. In Nederland wordt hierbij energie teruggewonnen uit de verbrandingsovens. Stort is in Nederland verboden, maar kan plaatsvinden wanneer materialen niet juist worden ingeleverd."]

{"sheet":"Informatie_ImpactCat","index":22,"n_rows":59,"n_cols":6,"rows_kept":59,"cut":false,"hidden":false,"merged":[[58,5,59,18],[51,5,52,18],[48,5,48,18],[55,5,55,18],[30,5,30,18],[36,5,36,18],[39,5,39,18],[42,5,42,18],[45,5,45,18],[9,5,9,18],[27,5,27,18],[33,5,33,18],[12,5,12,18],[15,5,15,18],[18,5,18,18],[21,5,21,18],[24,5,24,18]]}
[]
[null,null,null,null,{"$f":"Home!E2","v":"PRODUCTNAAM"}]
[null,null,null,null,{"$f":"Home!E3","v":"NAAM PRODUCENT"}]
[]
[]
[]
[]
[]
[null,null,null,null,null,"Uitputting van abiotische stoffen , excl. fossiele brandstoffen"]
[null,null,null,null,null,"Dit effect beschrijft de bijdrage aan de uitputtig van abiotische (dus niet van dierlijke of plantaardige oorsprong) grondstoffen. Fossiele brandstoffen is ingedeeld in een aparte categorie en valt hier dus niet-onder. Omdat de voorraad niet-biogene grondstoffen op aarde eindig is, kunnen er door winning van deze grondstoffen tekorten ontstaan. Daarnaast en zeer relevant is dat grondstofschaarste ook leveringsrisico's met zich meebrengt. Dit geldt vooral voor bedrijven in de maakindustrie die afhankelijk zijn van zeldzame aardmetalen.\n\n"]
[]
[null,null,null,null,null,"Uitputting van fossiele brandstoffen"]
[null,null,null,null,null,"Dit effect beschrijft de bijdrage aan de uitputting van fossiele brandstoffen, zoals olie, aardgas en steenkool. Omdat de voorraad fossiele brandstoffen op aarde eindig is, kunnen er door winning van deze grondstoffen tekorten ontstaan. Daarnaast zorgt schaarste van fossiele brandstoffen voor leveringsrisico's en afhankelijkheid van geopolitieke ontwikkelingen. "]
[]
[null,null,null,null,null,"Klimaatverandering"]
[null,null,null,null,null,"Klimaatverandering veroorzaakt een aantal mechanismes die van invloed zijn op de ecosystemen op aarde, maar ook op de gezondheid van de mens. De voorspelde effecten van klimaatverandering door toedoen van menselijk handelen manifesteert het duidelijkst in een stijging of daling van de gemiddelde temperatuur, veranderingen van windrichtingen en van de waterkringloop en daarmee van de bewolking en de hoeveelheid neerslag op aarde. Deze veranderingen hebben invloed op verwoestijning, overstromingen en de grootte van ijskappen en gletsjers. Op langere termijn heeft klimaatverandering ook invloed op zeestromingen, het zeeniveau en het zoutgehalte van het zeewater. De bijdrage aan klimaatverandering wordt uitgedrukt in kg CO2-equivalenten. Nederland heeft in de klimaatwet vastgelegd dat de CO2 emissies in 2030 49% lager moeten zijn dan in 1990 en in 2050 95% lager dan in 1990"]
[]
[null,null,null,null,null,"Aantasting van de ozonlaag"]
[null,null,null,null,null,"Deze impact categorie beschrijft de afbraak van ozon door chemische reacties in de atmosfeer onder invloed van zonlicht. Ozon is belangrijk voor het leven op aarde omdat de ozonlaag ons beschermt tegen schadelijk UV-licht. Blootstelling aan UV-licht kan huidkanker en staar veroorzaken."]
[]
[null,null,null,null,null,"Fotochemische oxidatie (zomersmog)"]
[null,null,null,null,null,"Fotochemische oxidatie is een vorm van luchtvervuiling en wordt ook wel zomersmog genoemd. Deze zomersmog kan in de troposfeer onder bepaalde omstandigheden (lage luchtvochtigheid, weinig wind) ontstaan als zonlicht reageert met stiklstofoxiden en vluchtige organische stoffen (VOS), bijv door de verbranding van fossiele brandstoffen. Door deze reactie ontstaan verontreinigende stoffen zoals ozon. Op grote hoogte beschermt ozon ons, maar in de lagere atmosfeer is ozon schadelijk. Fotochemische oxidatie veroorzaakt ademhalingsproblemen, oogirritatie, schade aan sommigen materialen (bijvoorbeeld: plastic, rubber) en schade aan gewassen."]
[]
[null,null,null,null,null,"Verzuring"]
[null,null,null,null,null,"Verzuring beschrijft de verandering van de chemische samenstelling, het zuurder worden, van de bodem of waterlichamen. Verzuring van bodem of water wordt veroorzaakt door de uitstoot van zwaveloxiden (SOx), stikstofoxiden (NOx),  ammoniak (NH3) en vluchtige organische stoffen (VOS). Landbouw, verkeer en de industrie zijn de belangrijkste bronnen van verzurende stoffen. Verzuring tast het ecosysteem aan. De vervuilende stoffen dringen via bladeren en wortels planten en bomen binnen, waardoor deze vatbaarder worden voor ziekten. Ook rivieren en meren raken verzuurd, wat negatieve gevolgen heeft voor planten en dieren die in het water leven leven of eruit drinken. Verzuring tast ook het grondwater aan. Omdat twee derde van het Nederlandse drinkwater uit de grond komt, is het een mogelijke bedreiging voor de volksgezondheid. "]
[]
[null,null,null,null,null,"Vermesting"]
[null,null,null,null,null,"Vermesting is een toename van het gehalte aan stikstof en fosfor in de bodem of het waterlichaam. Hierdoor wordt de natuurlijke chemische balans in de bodem of het water verstoort. Vermesting ontstaat door verontreiniging van de lucht met de stoffen ammoniak en stikstofoxiden. Dezelfde stoffen plus zwaveldioxide zorgen voor verzuring. Landbouw, verkeer en de industrie zijn de belangrijkste bronnen van vermestende en verzurende stoffen. Vermesting veroorzaakt schade aan ecosystemen en verlies aan biodiversiteit."]
[]
[null,null,null,null,null,"Humane toxiciteit"]
[null,null,null,null,null,"De uitstoot van sommige stoffen (zoals zware metalen) kan gevolgen hebben voor de menselijke gezondheid. De schadelijkheid van de stof en de mate van blootstelling aan de stof bepaalt uiteindelijk de gezondheidsschade. Toxische stoffen komen het menselijk lichaam binnen via lucht (ademhaling) en via ons voedsel."]
[]
[null,null,null,null,null,"Zoetwater ecotoxiciteit"]
[null,null,null,null,null,"Zoetwater ecotoxiciteit beschrijft de impact die toxische stoffen hebben op het zoetwaterlichaam en het leven erin. De schadelijkheid van de stof en de hoeveelheid die in het water terecht komt bepaalt de mate vaan verstoring van het zoetwater ecosysteem."]
[]
[null,null,null,null,null,"Zoutwater ecotoxiciteit"]
[null,null,null,null,null,"Zoutwater ecotoxiciteit beschrijft de impact die toxische stoffen hebben op zeeen en oceanen en het leven erin. De schadelijkheid van de stof en de hoeveelheid die in het water terecht komt bepaalt de mate vaan verstoring van het zoutwater ecosysteem."]
[]
[null,null,null,null,null,"Terrestische ecotoxiciteit"]
[null,null,null,null,null,"Terrestische ecotoxiciteit beschrijft de impact die toxische stoffen hebben op ecosystemen op het land. De schadelijkheid van de stof en de hoeveelheid die in het terrestische milieu terecht komt bepaalt de mate vaan verstoring van het ecosysteem op land."]
[]
[null,null,null,null,null,"Hernieuwbaar primair energiegebruik"]
[null,null,null,null,null,"Hernieuwbare energie komt van bronnen waarvan de voorraad op aarde oneindig is (bijv. zonne energie, wind energie) of aangevuld kan worden binnen de termijn waarmee ze gewonnen worden (bijv. biomassa). Deze impactcategorie beschrijft de energie die tijdens de hele levensloop van het product (van winning grondstoffen tot en met afdanking) gebruikt wordt en die gewonnen wordt uit hernieuwbare bronnen."]
[]
[null,null,null,null,null,"Niet-hernieuwbaar primair energiegebruik"]
[null,null,null,null,null,"Niet hernieuwbare energie komt van bronnen waarvan de voorraad op aarde eindig is of waarvan het aanvullen van de voorraad veel meer tijd kost dan de snelheid waarmee ze gewonnen worden. Voorbeelden van niet hernieuwbare energiebronnen zijn olie, aardgas, steenkool. Deze impactcategorie beschrijft de energie die tijdens de hele levensloop van het product (van winning grondstoffen tot en met afdanking) gebruikt wordt en die gewonnen wordt uit niet-hernieuwbare bronnen."]
[]
[null,null,null,null,null,"Zoetwatergebruik"]
[null,null,null,null,null,"Zoetwater is essentieel voor het leven op aarde. Deze milieu indicator geeft aan hoeveel zoetwater er nodig is tijdens de hele levenscyclus van het product (van winning grondstoffen tot en met afdanking). Wanneer zoetwatervoorraden overmatig gebruikt worden kunnen er watertekorten ontstaan. Ook kan de kwaliteit van het beschibare water verminderen, wat een risico is voor de gezondheid van de mens."]
[]
[null,null,null,null,null,"Gevaarlijk afval"]
[null,null,null,null,null,"Gevaarlijk afval is een maat voor de hoeveelheid gevaarlijk afval die tijdens de levenscyclus (van winning grondstoffen tot en met afdanking) van het product ontstaat. Gevaarlijk afval is afval dat substantiële schade kn veroorzamekn aan ecosystemen en/of de menselijke gezondheid. Voorbeelden van gevaarlijk afval is afval dat zware metalen, polychloorbifenylen (pcb's) of (landbouw)chemicaliën bevat. Ook afgewerkte olie, oliefilters, batterijen, accu's, oplosmiddelen en beitsbaden zijn gevaarlijk afval. Vanwege de schadelijke bestanddelen mag gevaarlijk afval niet bij het gewone afval. Het moet apart ingezameld en verwerkt worden. Radioactief afval is weliswaar gevaarlijk, maar valt volgens de Nederlandse wetgeving niet onder gevaarlijk afval. Hiervoor gelden aparte regels."]
[]
[]
[null,null,null,null,null,"Niet-gevaarlijk afval"]
[null,null,null,null,null,"Niet-gevaarlijk afval is een maat voor de hoeveelheid niet-gevaarlijk afval die tijdens de levenscyclus (van winning grondstoffen tot en met afdanking) van het product ontstaat. Niet-gevaarlijk afval vormt in tegenstelling tot gevaarlijk geen directe bedreiging voor de menselijke gezondheid of het milieu. Papier, plastic, glas,  enz. zijn ongevaarlijk afval omdat ze van nature niet giftig zijn.Echter, wanneer niet-gevaarlijk afval in het milieu terecht komt kan het wel degelijk schade veroorzaken aan het ecosysteem. Een voorbeeld van vervuiling door niet-gevaarlijk plastic is de plastic soep."]
[]
[null,null,null,null,null,"Radioactief afval"]
[null,null,null,null,null,"Radioactief afval, ook wel nucleair afval of kernafval genoemd,  is afval dat radioactieve isotopen bevat of daarmee gecontamineerd is, in concentraties hoger dan wat minimaal meetbaar is en waarvoor geen praktische toepassingen bekend zijn. Afhankelijk van onder meer de halveringstijd is dit afval gedurende korte of langere tijd (tot wel honderdduizenden jaren) gevaarlijk voor de volksgezondheid en het milieu als het in het milieu terecht komt."]

{"sheet":"Informatie_Ontwik","index":23,"n_rows":9,"n_cols":18,"rows_kept":9,"cut":false,"hidden":false,"merged":[[7,5,7,14]]}
[]
[null,null,null,null,{"$f":"Home!E2","v":"PRODUCTNAAM"}]
[null,null,null,null,{"$f":"Home!E3","v":"NAAM PRODUCENT"}]
[]
[]
[]
[]
[null,null,null,null,null,"Deze tool is tot stand gekomen uit een samenwerking tussen TNO en LBP Sight. Tijdens de ontwikkeling van de tool is CIRCO betrokken geweest als klankbord."]
[null,null,null,null,null,"Ontwikkeld door:",null,null,null,null,null,null,null,null,null,null,null,"Met behulp van"]

{"sheet":"Lijsten_Tekst","index":24,"n_rows":7,"n_cols":24,"rows_kept":7,"cut":false,"hidden":true,"merged":[]}
["Resultaten Milieu-impact","Toelichting grootste","Toelichting 2nd grootste",null,"Resultaten circulariteit",null,null,"Doelen","Uitleg",null,"Vergelijking","Uitleg",null,"Vergelijking levensduur/gebruiksduur",null,null,"Resultaten Milieu-impact vergelijken basis","Toelichting grootste",null,"Resultaten Milieu-impact vergelijken alternatief","Toelichting grootste",null,"Resultaten circulariteit"]
["Materiaal","In de binnenste cirkel is te zien dat het materiaalgebruik de grootste milieu-impact veroorzaakt. In de buitenste cirkel is af te lezen welk materiaal hieraan de grootste bijdrage heeft. Om de milieu-impact van het product te verlagen kunt u onderzoeken of het gebruik van circulaire materialen of andere minder milieubelastende primaire materialen tot minder milieubelasting leidt. Focus daarbij op de materialen die het grootste deel van de milieu-impact uitmaken. ","De tweede gootste veroorzaker van de milieu-impact is het materiaal gebruik. In de buitenste cirkel is af te lezen welk materiaal hieraan de grootste bijdrage heeft. Om de milieu-impact van het product te verlagen kunt u onderzoeken of het gebruik van circulaire materialen of andere minder milieubelastende primaire materialen tot minder milieubelasting leidt. Focus daarbij op de materialen die het grootste deel van de milieu-impact uitmaken. ",null,"<25%","De circulariteitsindex is kleiner dan 25%. Dat betekent dat er nog genoeg ruimte is voor verbetering van de circulariteit van het product. Dit kunt u doen door ander of meer secundair materiaal te gebruiken of meer materialen te recyclen of hergebruik aan het einde van de levensduur.",null,"*Selecteer uw doel*","*Selecteer eerst uw doel*",null,"Basis",{"$f":"\"Over de gehele levensduur/gebruiksduur van beide producten is het alternatieve ontwerpscenario minder milieuvriendelijk. Wanneer de levensduur van beide ontwerpvarianten echter verschilt, dan is het aan te raden om te onderzoeken of de milieu-impact per \"&Invul_Basis_Alg!$H$13&\" toch lager is.\"","v":"Over de gehele levensduur/gebruiksduur van beide producten is het alternatieve ontwerpscenario minder milieuvriendelijk. Wanneer de levensduur van beide ontwerpvarianten echter verschilt, dan is het aan te raden om te onderzoeken of de milieu-impact per Leeg toch lager is."},null,"Basis",{"$f":"\"Uit de resultaten blijk dat per \"&Invul_Basis_Alg!$H$13&\" het alternatieve ontwerpscenario een grotere impact heeft op het milieu.\"","v":"Uit de resultaten blijk dat per Leeg het alternatieve ontwerpscenario een grotere impact heeft op het milieu."},null,"Materiaal","In de grafiek is te zien dat het materiaalgebruik de grootste milieu-impact veroorzaakt voor het basis ontwerpscenario. Om de milieu-impact van het product te verlagen kunt u onderzoeken of het gebruik van circulaire materialen of andere minder milieubelastende primaire materialen tot minder milieubelasting leidt.",null,"Materiaal","In de grafiek is te zien dat het materiaalgebruik de grootste milieu-impact veroorzaakt voor het alternatieve ontwerpscenario. Om de milieu-impact van het product te verlagen kunt u onderzoeken of het gebruik van circulaire materialen of andere minder milieubelastende primaire materialen tot minder milieubelasting leidt.",null,"Basis","De circulariteitsindicator laat zien dat het basis ontwerpscenario meer circulair is. Wanneer u denkt aan het verbeteren van de circulariteit van u product zou u andere materialen of meer secundair materialen kunnen gebruiken. Ook zou u kunnen denken aan het recyclen of hergebruiken van meer materialen aan het einde van de levensduur van het product."]
["Bewerking","In de binnenste cirkel is te zien dat de bewerkingsprocessen op de productielocatie de grootste milieu-impact veroorzaken. In de buitenste cirkel is af te lezen welke energiedrager de grootste bijdrage heeft aan de milieu-impact van deze bewerkingen. Om de milieu-impact van het product te verlagen kunt u onderzoeken of het productieproces energiezuiniger kan worden uitgevoerd en of er overgestapt kan worden naar duurzame energiebronnen (bv eigen zonnepanelen, inkoop van windenergie). ","De tweede gootste veroorzaker van de milieu-impact zijn de bewerkingsprocessen op de productielocatie. In de buitenste cirkel is af te lezen welke energiedrager de grootste bijdrage heeft aan de milieu-impact van deze bewerkingen. Om de milieu-impact van het product te verlagen kunt u onderzoeken of het productieproces energiezuiniger kan worden uitgevoerd en of er overgestapt kan worden naar duurzame energiebronnen (bv eigen zonnepanelen, inkoop van windenergie). ",null,"25%-50%","De circulariteitsindex is tussen de 25 en 50%. U zou de circulaiteit van het product kunnen verbeteren door andere materialen of meer secundair materialen te gebruiken. Ook zou u kunnen denken aan het recyclen of hergebruiken van meer materialen aan het einde van de levensduur van het product.",null,"Inzicht te krijgen waar in de keten van mijn product de meeste milieu-impact ontstaat","Wanneer u inzicht wilt krijgen waar in de keten van uw product de meeste impact ontstaat dient u de tool op de volgende manier te gebruiken:\n\n- Vul de gegevens van het product in op de invulpagina van het 'basis' product. Wees zo volledig mogelijk en probeer dit te doen voor alle levenscyclusfasen. Op verschillende plekken wordt u geholpen door de standaard waarden.\n\n- Ga naar de resultaten-pagina van het 'basis' product. Daar vindt u de resultaten op basis van de door u ingevulde gegevens. De resultaten tonen waar in de keten de grootste milieu-impact ontstaat.",null,"Alternatief",{"$f":"\"Over de gehele levensduur/gebruiksduur van beide producten is het alternatieve ontwerpscenario milieuvriendelijker. Wanneer de levensduur van beide ontwerpvarianten echter verschilt, dan is het aan te raden om te onderzoeken of de milieu-impact per \"&Invul_Basis_Alg!$H$13&\" toch lager is.\"","v":"Over de gehele levensduur/gebruiksduur van beide producten is het alternatieve ontwerpscenario milieuvriendelijker. Wanneer de levensduur van beide ontwerpvarianten echter verschilt, dan is het aan te raden om te onderzoeken of de milieu-impact per Leeg toch lager is."},null,"Alternatief",{"$f":"\"Uit de resultaten blijk dat per \"&Invul_Basis_Alg!$H$13&\" het alternatieve ontwerpscenario milieuvriendelijker is.\"","v":"Uit de resultaten blijk dat per Leeg het alternatieve ontwerpscenario milieuvriendelijker is."},null,"Bewerking","In de grafiek is te zien dat de bewerkingsprocessen op de productielocatie de grootste milieu-impact veroorzaken voor het basis ontwerpscenario. Om de milieu-impact van het product te verlagen kunt u onderzoeken of het productieproces energiezuiniger kan worden uitgevoerd en of er overgestapt kan worden naar duurzame energiebronnen (bv eigen zonnepanelen, inkoop van windenergie). ",null,"Bewerking","In de grafiek is te zien dat de bewerkingsprocessen op de productielocatie de grootste milieu-impact veroorzaken voor het alternatieve ontwerpscenario. Om de milieu-impact van het product te verlagen kunt u onderzoeken of het productieproces energiezuiniger kan worden uitgevoerd en of er overgestapt kan worden naar duurzame energiebronnen (bv eigen zonnepanelen, inkoop van windenergie). ",null,"Alternatief","De circulariteitsindicator laat zien dat het alternatieve ontwerpscenario meer circulair is. Wanneer u denkt aan het verbeteren van de circulariteit van u product zou u andere materialen of meer secundair materialen kunnen gebruiken. Ook zou u kunnen denken aan het recyclen of hergebruiken van meer materialen aan het einde van de levensduur van het product."]
["Distributie","In de binnenste cirkel is te zien dat de distributie van de productielocatie naar de gebruiker de grootste milieu-impact veroorzaakt. In de buitenste cirkel is af te lezen welke distributieactiviteiten de grootste bijdrage hebben. Om de milieu-impact van het product te verlagen kunt u onderzoeken of de producten op een duurzamere manier vervoerd kunnen worden (bv elektrisch vervoer) of dichterbij de consument geproduceerd kunnen worden. ","De tweede grootste veroorzaken van de milieu-impact is de distributie van de productielocatie naar de gebruiker. In de buitenste cirkel is af te lezen welke distributieactiviteiten de grootste bijdrage hebben. Om de milieu-impact van het product te verlagen kunt u onderzoeken of de producten op een duurzamere manier vervoerd kunnen worden (bv elektrisch vervoer) of dichterbij de consument geproduceerd kunnen worden. ",null,"50%-75%","De circulariteitsindex is tussen de 50 en 75%. Dat betekent dat u al goed op weg bent wat betreft de circulariteit van uw product. U zou de circulariteit kunnen verbeteren door andere materialen of meer secundair materiaal te gebruiken. Ook kunt u denken aan het optimaliseren van het product voor recycling of hergebruik.",null,"Inzicht te krijgen in het verschil in milieu-impact tussen twee ontwerpvarianten","Wanneer u inzicht wilt krijgen in de verschillen in milieu-impact tussen twee varianten dient u de tool op de volgende manier te gebruiken:\n\n- Vul de gegevens van het product in op de invulpagina van het 'basis' product. Wees zo volledig mogelijk en probeer dit te doen voor alle levenscyclusfasen. Op verschillende plekken wordt u geholpen door de standaard waarden. Voor een vergelijking is het belangrijk om goed te kijken naar de levensduur/gebruiksduur. Dit kunt u invullen op de algemene informatie-pagina van het 'basis' product.\n\n- Op de resultaten-pagina van het 'basis' product kunt u de resultaten op basis van de door u ingevulde gegevens zien.\n\n- Vul de gegevens van de variant van het basis product in op de invulpagina van het 'alternatief'.\n\n- Op de resultaten-pagina van het 'alternatief' kunt u de resultaten op basis van de door u ingevulde gegevens zien.\n\n- Ga naar de vergelijken-pagina. Daar kunt u inzicht krijgen in de verschillen tussen de ontwerpvarianten wat betreft milieu-impact.",null,null,null,null,null,null,null,"Distributie","In de grafiek is te zien dat de distributie van de productielocatie naar de gebruiker de grootste milieu-impact veroorzaakt voor het basis ontwerpscenario. Om de milieu-impact van het product te verlagen kunt u onderzoeken of de producten op een duurzamere manier vervoerd kunnen worden (bv elektrisch vervoer) of dichterbij de consument geproduceerd kunnen worden. ",null,"Distributie","In de grafiek is te zien dat de distributie van de productielocatie naar de gebruiker de grootste milieu-impact veroorzaakt voor het alternatieve ontwerpscenario. Om de milieu-impact van het product te verlagen kunt u onderzoeken of de producten op een duurzamere manier vervoerd kunnen worden (bv elektrisch vervoer) of dichterbij de consument geproduceerd kunnen worden. "]
["Gebruik","In de binnenste cirkel is te zien dat het gebruik van het product de grootste milieu-impact veroorzaakt. In de buitenste cirkel is af te lezen welke energiedrager deze bijdrage levert. Om de milieu-impact van het product te verlagen kunt u onderzoeken of\thet product zodanig ontworpen kan worden dat het minder energie verbruikt. ","In de binnenste cirkel is te zien dat het gebruik van het product de tweede grootste veroorzaker van milieu-impact is. In de buitenste cirkel is af te lezen welke energiedrager deze bijdrage levert. Om de milieu-impact van het product te verlagen kunt u onderzoeken of\thet product zodanig ontworpen kan worden dat het minder energie verbruikt. ",null,">75%","De circulariteitsindex is groter dan 75% en dus is het product al aardig circulair. U zou de circulariteit verder kunnen verbeteren door andere materialen of meer secundaire materialen te gebruiken. Ook kunt u denken aan het optimaliseren van het product voor recycling of hergebruik.",null,"Inzicht te krijgen in het verschil in milieu-impact bij levensduur/gebruiksduur verlenging","Wanneer u inzicht wilt krijgen in de verschillen in milieu-impact bij levensduurverlenging dient u de tool op de volgende manier te gebruiken:\n\n- Vul de gegevens van het product in op de invulpagina van het 'basis' product. Wees zo volledig mogelijk en probeer dit te doen voor alle levenscyclusfasen. Op verschillende plekken wordt u geholpen door de standaard waarden. Voor een vergelijking is het belangrijk om goed te kijken naar de levensduur/gebruiksduur. Dit kunt u invullen op de algemene informatie-pagina van het 'basis' product.\n\n- Op de resultaten-pagina van het 'basis' product kunt u de resultaten op basis van de door u ingevulde gegevens zien.\n- Vul de gegevens van de variant van het basis product in op de invulpagina van het 'alternatief'.\n\n- Op de resultaten-pagina van het 'alternatief' kunt u de resultaten op basis van de door u ingevulde gegevens zien.\n\n- Ga naar de vergelijken-pagina. Daar kunt u inzicht krijgen in de verschillen bij levensduur verlenging wat betreft milieu-impact.",null,null,null,null,null,null,null,"Gebruik","In de grafiek is te zien dat het gebruik van het product de grootste milieu-impact veroorzaakt voor het basis ontwerpscenario. Om de milieu-impact van het product te verlagen kunt u onderzoeken of\thet product zodanig ontworpen kan worden dat het minder energie verbruikt. ",null,"Gebruik","In de grafiek is te zien dat het gebruik van het product de grootste milieu-impact veroorzaakt voor het alternatieve ontwerpscenario. Om de milieu-impact van het product te verlagen kunt u onderzoeken of het product zodanig ontworpen kan worden dat het minder energie verbruikt. "]
["Einde levensfase","In de binnenste cirkel is te zien dat de afvalverwerking van het product de grootste milieu-impact veroorzaakt. In de buitenste cirkel is af te lezen welk materiaal de grootste bijdrage levert. Om de milieu-impact van het product te verlagen kunt u onderzoeken of er meer onderdelen van het product her te gebruiken zijn of materialen te recyclen. ","In de binnenste cirkel is te zien dat de afvalverwerking van het product de tweede grootste veroorzaker van de milieu-impact. In de buitenste cirkel is af te lezen welk materiaal de grootste bijdrage levert. Om de milieu-impact van het product te verlagen kunt u onderzoeken of er meer onderdelen van he product her te gebruiken zijn of materialen te recyclen. ",null,null,null,null,"Inzicht te krijgen welk effect het verduurzamen van mijn productieproces bijdraagt aan de totale milieu-impact van het product","Wanneer u inzicht wilt krijgen in de verschillen in milieu-impact bij het verduurzamen van het productieproces dient u de tool op de volgende manier te gebruiken:\n\n- Vul de gegevens van het product in op de invulpagina van het 'basis' product. U doet dit alleen op de algemene informatie-pagina en bewerking-pagina, maar wees zo volledig mogelijk.\n \n- Op de resultaten-pagina van het 'basis' product kunt u de resultaten op basis van de door u ingevulde gegevens zien.\n\n- Vul de gegevens van de variant van het basis product in op de invulpagina van het 'alternatief'.\n\n- Op de resultaten-pagina van het 'alternatief' kunt u de resultaten op basis van de door u ingevulde gegevens zien.\n\n- Ga naar de vergelijken-pagina. Daar kunt u inzicht krijgen in de verschillen tussen de productieprocesses wat betreft milieu-impact.",null,null,null,null,null,null,null,"Einde levensfase","In de grafiek is te zien dat de afvalverwerking van het product de grootste milieu-impact veroorzaakt voor het basis ontwerpscenario.Om de milieu-impact van het product te verlagen kunt u onderzoeken of er meer onderdelen van het product her te gebruiken zijn of materialen te recyclen. ",null,"Einde levensfase","In de grafiek is te zien dat de afvalverwerking van het product de grootste milieu-impact veroorzaakt voor het alternatieve ontwerpscenario. Om de milieu-impact van het product te verlagen kunt u onderzoeken of er meer onderdelen van het product her te gebruiken zijn of materialen te recyclen. "]
[null,null,null,null,null,null,null,"Inzicht te krijgen welk effect het verduurzamen van het distributieproces bijdraagt aan de totale milieu-impact van het product","Wanneer u inzicht wilt krijgen in de verschillen in milieu-impact bij het verduurzamen van het distributieproces dient u de tool op de volgende manier te gebruiken:\n\n- Vul de gegevens van het product in op de invulpagina van het 'basis' product. U doet dit alleen op de algemene informatie-pagina en distributie-pagina, maar wees zo volledig mogelijk.\n \n- Op de resultaten-pagina van het 'basis' product kunt u de resultaten op basis van de door u ingevulde gegevens zien.\n\n- Vul de gegevens van de variant van het basis product in op de invulpagina van het 'alternatief'.\n\n- Op de resultaten-pagina van het 'alternatief' kunt u de resultaten op basis van de door u ingevulde gegevens zien.\n\n- Ga naar de vergelijken-pagina. Daar kunt u inzicht krijgen in de verschillen tussen de distributieprocessen wat betreft milieu-impact."]

{"sheet":"MKI","index":25,"n_rows":228,"n_cols":45,"rows_kept":228,"cut":false,"hidden":true,"merged":[]}
["Milieu-impactcategorie","Equivalent eenheid","Weegfactor\n[€ / kg equivalent]"]
["Uitputting abiotische grondstoffen\n(exclusief fossiele energiedragers) – ADP","Sb eq",0.16]
["Uitputting fossiele energiedragers – ADP","Sb eq10",0.16]
["Klimaatsverandering – GWP 100 j."," CO2 eq",0.05]
["Aantasting ozonlaag – ODP","CFK-11 eq",30]
["Fotochemische oxidantvorming – POCP","C2H4 eq",2]
["Verzuring – AP","SO2 eq",4]
["Vermesting – EP","PO4 eq",9]
["Humane toxiciteit – HTP","1,4-DCB eq",0.09]
["Zoetwater aquatische ecotoxiciteit – FAETP","1,4-DCB eq",0.03]
["Mariene aquatische ecotoxiciteit - MAETP","1,4-DCB eq",1E-4]
["Terrestrische ecotoxiciteit – TETP","1,4-DCB eq",0.06]
[]
[null,null,null,"Weegfactor:",null,null,{"$f":"C2","v":0.16},{"$f":"C3","v":0.16},{"$f":"C4","v":0.05},{"$f":"C5","v":30},{"$f":"C6","v":2},{"$f":"C7","v":4},{"$f":"C8","v":9},{"$f":"C9","v":0.09},{"$f":"C10","v":0.03},{"$f":"C11","v":1E-4},{"$f":"C12","v":0.06},null,null,null,null,null,null,null,null,null,null,null,null,null,null,null,null,null,null,"Einde leven",null,null,null,null,null,null,"Koppelingproces "]
["Materialen",null,null,null,null,null,"001. abiotic depletion, non fuel (AD)","002. abiotic depletion, fuel (AD)","004. global warming (GWP)","005. ozone layer depletion (ODP)","006. photochemical oxidation (POCP)","007. acidification (AP)","008. eutrophication (EP)","009. human toxicity (HT)","010. Ecotoxicity, fresh water (FAETP)","012. Ecotoxcity, marine water (MAETP)","014. Ecotoxicity, terrestric (TETP)","111. Energy, primary, renewable, excludi","113. Energy, primary, renewable, materia","101. Energy, primary, renewable (MJ)","112. Energy, primary, non-renewable, exc","114. Energy, primary, non-renewable, mat","102. Energy, primary, non-renewable (MJ)","108. Secondary material (kg)","109. Secondary fuel, renewable (kg)","110. Secondary fuel, non-renewable (kg)","104. Water, fresh water use (m3)","106. Waste, hazardous (kg)","105. Waste, non hazardous (kg)","107. Waste, radioactive (kg)","120. Components for re-use (kg)","121. Materials for recycling (kg)","122. Materials for energy recovery (kg)","123. Exported energy, electric (MJ)","124. Exported energy, thermal (MJ)","Stroom nr.",null,null,"Stort","AVI","Recycling","Hergebruik","Stort","AVI","Recyling"]
["Categorie","Triviale naam","Eenheid","Secundaire input","Technische naam","Som MKI €","kg Sb eq","kg Sb eq","kg CO2 eq","kg CFC-11 eq","kg C2H4","kg SO2 eq","kg PO4--- eq","kg 1,4-DB eq","kg 1,4-DB eq","kg 1,4-DB eq","kg 1,4-DB eq","MJ","MJ","MJ","MJ","MJ","MJ","kg","MJ","MJ","m3","kg","kg","kg","kg","kg","kg","MJ","MJ",null,"Type","Specificatie"]
[{"$f":"'MI materialen'!A16","v":"Bindmiddelen"},{"$f":"'MI materialen'!B16","v":"Tegellijm"},{"$f":"'MI materialen'!C16","v":"kg"},{"$f":"'MI materialen'!D16","v":0},"_XXXX Lijm, tegellijm, polymeer [VLK]",0.14728991,3.2446734000000001E-6,1.6730846E-3,5.3610307000000003E-2,3.6672324E-6,1.6677420000000001E-3,1.6138857E-2,6.0184625999999998E-3,6.437213E-2,3.7382547000000001E-4,3.3275512999999999E-3,1.0103388E-4,0,0,0,0,0,0,0,0,0,0,0,0,0,0,0,0,0,0,{"$f":"'MI materialen'!AI16","v":2},{"$f":"'MI materialen'!AJ16","v":"afwerkingen"},{"$f":"'MI materialen'!AK16","v":"verkleefd aan puin"},{"$f":"'MI materialen'!AL16","v":1},{"$f":"'MI materialen'!AM16","v":0},{"$f":"'MI materialen'!AN16","v":0},{"$f":"'MI materialen'!AO16","v":0},{"$f":"'MI materialen'!AP16","v":"0299-sto&Stort verf (o.b.v. Waste paint {Europe without Switzerland}| treatment of waste paint, sanitary landfill | Cut-off, U)"},{"$f":"'MI materialen'!AQ16","v":"_0106-pro&Verbranden, overig (o.b.v. Municipal solid waste {NL}| treatment of, incineration | Cut-off, U)"},{"$f":"'MI materialen'!AR16","v":"."}]
[{"$f":"'MI materialen'!A17","v":"Bindmiddelen"},{"$f":"'MI materialen'!B17","v":"Componentenlijm (OCF)"},{"$f":"'MI materialen'!C17","v":"kg"},{"$f":"'MI materialen'!D17","v":0},"_XXXX Lijm, One Component Foam (OCF) [VLK]",0.6793382,1.289458E-5,7.1160929E-3,0.20943705000000001,2.2769087E-5,0.10745876,8.7446362999999999E-2,4.2454766999999997E-2,0.20959905000000001,2.0014986999999998E-3,1.3161239999999999E-2,6.2771694999999995E-4,0,0,0,0,0,0,0,0,0,0,0,0,0,0,0,0,0,0,{"$f":"'MI materialen'!AI17","v":1},{"$f":"'MI materialen'!AJ17","v":"afwerkingen"},{"$f":"'MI materialen'!AK17","v":"verkleefd aan hout, kunststof, metaal"},{"$f":"'MI materialen'!AL17","v":0},{"$f":"'MI materialen'!AM17","v":1},{"$f":"'MI materialen'!AN17","v":0},{"$f":"'MI materialen'!AO17","v":0},{"$f":"'MI materialen'!AP17","v":"0299-sto&Stort verf (o.b.v. Waste paint {Europe without Switzerland}| treatment of waste paint, sanitary landfill | Cut-off, U)"},{"$f":"'MI materialen'!AQ17","v":"_0106-pro&Verbranden, overig (o.b.v. Municipal solid waste {NL}| treatment of, incineration | Cut-off, U)"},{"$f":"'MI materialen'!AR17","v":"."}]
[{"$f":"'MI materialen'!A18","v":"Bindmiddelen"},{"$f":"'MI materialen'!B18","v":"Neopreenlijm"},{"$f":"'MI materialen'!C18","v":"kg"},{"$f":"'MI materialen'!D18","v":0},"_XXXX Lijm, neopreen [VLK]",0.31367347000000001,6.2996526E-6,5.1973749000000001E-3,0.10637139,1.1494167000000001E-5,5.5647743999999999E-3,4.1854127999999997E-2,1.7698960999999999E-2,0.12481927,3.2084652999999999E-3,7.5447991999999997E-3,1.3965124000000001E-3,0,0,0,0,0,0,0,0,0,0,0,0,0,0,0,0,0,0,{"$f":"'MI materialen'!AI18","v":1},{"$f":"'MI materialen'!AJ18","v":"afwerkingen"},{"$f":"'MI materialen'!AK18","v":"verkleefd aan hout, kunststof, metaal"},{"$f":"'MI materialen'!AL18","v":0},{"$f":"'MI materialen'!AM18","v":1},{"$f":"'MI materialen'!AN18","v":0},{"$f":"'MI materialen'!AO18","v":0},{"$f":"'MI materialen'!AP18","v":"0299-sto&Stort verf (o.b.v. Waste paint {Europe without Switzerland}| treatment of waste paint, sanitary landfill | Cut-off, U)"},{"$f":"'MI materialen'!AQ18","v":"_0106-pro&Verbranden, overig (o.b.v. Municipal solid waste {NL}| treatment of, incineration | Cut-off, U)"},{"$f":"'MI materialen'!AR18","v":"."}]
[{"$f":"'MI materialen'!A19","v":"Bindmiddelen"},{"$f":"'MI materialen'!B19","v":"Kitlijm (PU)"},{"$f":"'MI materialen'!C19","v":"kg"},{"$f":"'MI materialen'!D19","v":0},"_XXXX Kit / lijm, PU 1 componenten [VLK]",0.56112613,1.2415372999999999E-5,6.9909567000000002E-3,0.21327404999999999,1.8409365000000001E-5,1.0665628E-2,8.7276200999999998E-2,4.1041504999999999E-2,0.18871267999999999,1.6034886999999999E-3,1.0913417999999999E-2,6.1737144999999996E-4,0,0,0,0,0,0,0,0,0,0,0,0,0,0,0,0,0,0,{"$f":"'MI materialen'!AI19","v":1},{"$f":"'MI materialen'!AJ19","v":"afwerkingen"},{"$f":"'MI materialen'!AK19","v":"verkleefd aan hout, kunststof, metaal"},{"$f":"'MI materialen'!AL19","v":0},{"$f":"'MI materialen'!AM19","v":1},{"$f":"'MI materialen'!AN19","v":0},{"$f":"'MI materialen'!AO19","v":0},{"$f":"'MI materialen'!AP19","v":"0300-sto&Stort PUR (o.b.v. Waste polyurethane {RoW}| treatment of, sanitary landfill | Cut-off, U)"},{"$f":"'MI materialen'!AQ19","v":"_0106-pro&Verbranden, overig (o.b.v. Municipal solid waste {NL}| treatment of, incineration | Cut-off, U)"},{"$f":"'MI materialen'!AR19","v":"."}]
[{"$f":"'MI materialen'!A20","v":"Bindmiddelen"},{"$f":"'MI materialen'!B20","v":"Cement (CEM I)"},{"$f":"'MI materialen'!C20","v":"kg"},{"$f":"'MI materialen'!D20","v":0},"_0172-fab&Cement, CEM I (o.b.v. CEM I 52.5 R)",6.9368422999999999E-2,2.8936429E-8,3.9321058000000002E-4,5.5840094E-2,2.7713066999999999E-7,3.3027160000000002E-4,5.4933357E-3,3.3388846000000001E-3,3.4995706999999998E-3,3.4236907000000003E-5,3.7942298999999997E-4,5.9089952E-5,0,0,0,0,0,0,0,0,0,0,0,0,0,0,0,0,0,0,{"$f":"'MI materialen'!AI20","v":2},{"$f":"'MI materialen'!AJ20","v":"afwerkingen"},{"$f":"'MI materialen'!AK20","v":"verkleefd aan puin"},{"$f":"'MI materialen'!AL20","v":1},{"$f":"'MI materialen'!AM20","v":0},{"$f":"'MI materialen'!AN20","v":0},{"$f":"'MI materialen'!AO20","v":0},{"$f":"'MI materialen'!AP20","v":"0247-sto&Stort inert afval (o.b.v. Inert waste, for final disposal {RoW}| treatment of inert waste, inert material landfill | Cut-off, U) fijn-/grofkeramisch, grind, kalkzandsteen, schelpen, zand"},{"$f":"'MI materialen'!AQ20","v":"_0259-avC&Verbranden bitumen (30,1 MJ/kg) (o.b.v. Waste bitumen sheet {CH}| treatment of, municipal incineration | Cut-off, U)"},{"$f":"'MI materialen'!AR20","v":"."}]
[{"$f":"'MI materialen'!A21","v":"Bindmiddelen"},{"$f":"'MI materialen'!B21","v":"Cementlijm"},{"$f":"'MI materialen'!C21","v":"kg"},{"$f":"'MI materialen'!D21","v":0},"_0066-fab&Lijm, tegellijm cement [VLK]",5.0634774E-2,6.3700807999999998E-7,4.7273117000000002E-4,3.1223408000000001E-2,8.9448616999999999E-7,5.3412089000000004E-4,6.2371876000000001E-3,2.3529368000000002E-3,8.0322129999999999E-3,3.5449854999999999E-4,1.3823221999999999E-3,4.3824245999999999E-5,0,0,0,0,0,0,0,0,0,0,0,0,0,0,0,0,0,0,{"$f":"'MI materialen'!AI21","v":2},{"$f":"'MI materialen'!AJ21","v":"afwerkingen"},{"$f":"'MI materialen'!AK21","v":"verkleefd aan puin"},{"$f":"'MI materialen'!AL21","v":1},{"$f":"'MI materialen'!AM21","v":0},{"$f":"'MI materialen'!AN21","v":0},{"$f":"'MI materialen'!AO21","v":0},{"$f":"'MI materialen'!AP21","v":"0247-sto&Stort inert afval (o.b.v. Inert waste, for final disposal {RoW}| treatment of inert waste, inert material landfill | Cut-off, U) fijn-/grofkeramisch, grind, kalkzandsteen, schelpen, zand"},{"$f":"'MI materialen'!AQ21","v":"_0259-avC&Verbranden bitumen (30,1 MJ/kg) (o.b.v. Waste bitumen sheet {CH}| treatment of, municipal incineration | Cut-off, U)"},{"$f":"'MI materialen'!AR21","v":"."}]
[{"$f":"'MI materialen'!A22","v":"Bindmiddelen"},{"$f":"'MI materialen'!B22","v":"Epoxylijm"},{"$f":"'MI materialen'!C22","v":"kg"},{"$f":"'MI materialen'!D22","v":0},"_0064-fab&Lijm, epoxy 2 componenten [VLK]",0.69287253000000004,1.2839265E-5,7.1306696999999999E-3,0.19326397000000001,1.5040505E-5,8.7992212000000004E-3,6.3423909000000001E-2,2.4262652999999999E-2,0.36367188,2.2152436000000001E-2,9.7933401000000007E-3,3.4657657000000002E-4,0,0,0,0,0,0,0,0,0,0,0,0,0,0,0,0,0,0,{"$f":"'MI materialen'!AI22","v":1},{"$f":"'MI materialen'!AJ22","v":"afwerkingen"},{"$f":"'MI materialen'!AK22","v":"verkleefd aan hout, kunststof, metaal"},{"$f":"'MI materialen'!AL22","v":0},{"$f":"'MI materialen'!AM22","v":1},{"$f":"'MI materialen'!AN22","v":0},{"$f":"'MI materialen'!AO22","v":0},{"$f":"'MI materialen'!AP22","v":"0312-sto&Stort PP, ongecontroleerd ('laten zitten') (o.b.v. Waste polypropylene {GLO}| treatment of waste polypropylene, unsanitary landfill, moist infiltration class (300mm) | Cut-off, U)"},{"$f":"'MI materialen'!AQ22","v":"_0106-pro&Verbranden, overig (o.b.v. Municipal solid waste {NL}| treatment of, incineration | Cut-off, U)"},{"$f":"'MI materialen'!AR22","v":"."}]
[{"$f":"'MI materialen'!A23","v":"Bindmiddelen"},{"$f":"'MI materialen'!B23","v":"Melanimehars"},{"$f":"'MI materialen'!C23","v":"kg"},{"$f":"'MI materialen'!D23","v":0},"_0061-fab&Melaminehars (o.b.v. Melamine formaldehyde resin {RER}| market for melamine formaldehyde resin | Cut-off, U)",0.59263845000000004,1.5988245E-5,6.2674938000000001E-3,0.21856183000000001,1.6617228000000001E-5,4.5183193000000003E-3,9.9720916000000007E-2,3.0814845E-2,0.20203003,2.5331122999999998E-3,2.7700033999999998E-2,4.5926976E-4,0,0,0,0,0,0,0,0,0,0,0,0,0,0,0,0,0,0,{"$f":"'MI materialen'!AI23","v":1},{"$f":"'MI materialen'!AJ23","v":"afwerkingen"},{"$f":"'MI materialen'!AK23","v":"verkleefd aan hout, kunststof, metaal"},{"$f":"'MI materialen'!AL23","v":0},{"$f":"'MI materialen'!AM23","v":1},{"$f":"'MI materialen'!AN23","v":0},{"$f":"'MI materialen'!AO23","v":0},{"$f":"'MI materialen'!AP23","v":"0312-sto&Stort PP, ongecontroleerd ('laten zitten') (o.b.v. Waste polypropylene {GLO}| treatment of waste polypropylene, unsanitary landfill, moist infiltration class (300mm) | Cut-off, U)"},{"$f":"'MI materialen'!AQ23","v":"_0297-avC&Verbranden organisch afval (4,29 MJ/kg) (o.b.v. Biowaste {GLO}| treatment of biowaste, municipal incineration | Cut-off, U)"},{"$f":"'MI materialen'!AR23","v":"."}]
[{"$f":"'MI materialen'!A24","v":"Bindmiddelen"},{"$f":"'MI materialen'!B24","v":"Siliconenlijm"},{"$f":"'MI materialen'!C24","v":"kg"},{"$f":"'MI materialen'!D24","v":0},"_0045-fab&Kit / lijm, siliconen [VLK]",0.22316527999999999,5.6859547999999998E-6,3.3071471999999999E-3,9.6820871000000003E-2,2.3175498E-5,3.8057078E-3,3.4885800000000002E-2,7.9371356000000007E-3,6.8701019000000002E-2,7.7621109999999999E-4,6.7050269999999997E-3,1.9749481999999999E-4,0,0,0,0,0,0,0,0,0,0,0,0,0,0,0,0,0,0,{"$f":"'MI materialen'!AI24","v":1},{"$f":"'MI materialen'!AJ24","v":"afwerkingen"},{"$f":"'MI materialen'!AK24","v":"verkleefd aan hout, kunststof, metaal"},{"$f":"'MI materialen'!AL24","v":0},{"$f":"'MI materialen'!AM24","v":1},{"$f":"'MI materialen'!AN24","v":0},{"$f":"'MI materialen'!AO24","v":0},{"$f":"'MI materialen'!AP24","v":"0299-sto&Stort verf (o.b.v. Waste paint {Europe without Switzerland}| treatment of waste paint, sanitary landfill | Cut-off, U)"},{"$f":"'MI materialen'!AQ24","v":"_0106-pro&Verbranden, overig (o.b.v. Municipal solid waste {NL}| treatment of, incineration | Cut-off, U)"},{"$f":"'MI materialen'!AR24","v":"."}]
[{"$f":"'MI materialen'!A25","v":"Bindmiddelen"},{"$f":"'MI materialen'!B25","v":"Kitlijm (MS/STP/SPUR)"},{"$f":"'MI materialen'!C25","v":"kg"},{"$f":"'MI materialen'!D25","v":0},"_0033-fab&Kit, hybride (MS/STP/SPUR) [VLK]",0.23124033999999999,4.1695284000000002E-6,4.1066897E-3,0.11387095,1.8515801E-6,4.3299267999999998E-3,3.7329785999999997E-2,1.3692637000000001E-2,5.2644322E-2,6.0662783000000004E-4,4.4398505999999997E-3,2.1352550999999999E-4,0,0,0,0,0,0,0,0,0,0,0,0,0,0,0,0,0,0,{"$f":"'MI materialen'!AI25","v":2},{"$f":"'MI materialen'!AJ25","v":"afwerkingen"},{"$f":"'MI materialen'!AK25","v":"verkleefd aan puin"},{"$f":"'MI materialen'!AL25","v":1},{"$f":"'MI materialen'!AM25","v":0},{"$f":"'MI materialen'!AN25","v":0},{"$f":"'MI materialen'!AO25","v":0},{"$f":"'MI materialen'!AP25","v":"0300-sto&Stort PUR (o.b.v. Waste polyurethane {RoW}| treatment of, sanitary landfill | Cut-off, U)"},{"$f":"'MI materialen'!AQ25","v":"_0106-pro&Verbranden, overig (o.b.v. Municipal solid waste {NL}| treatment of, incineration | Cut-off, U)"},{"$f":"'MI materialen'!AR25","v":"."}]
[{"$f":"'MI materialen'!A26","v":"Bindmiddelen"},{"$f":"'MI materialen'!B26","v":"Acryllijm"},{"$f":"'MI materialen'!C26","v":"kg"},{"$f":"'MI materialen'!D26","v":0},{"$f":"'MI materialen'!E26","v":"_0016-fab&Kit / lijm, acryl [VLK]"},{"$f":"SUM(G27:Q27)","v":0.12002193137650001},{"$f":"'MI materialen'!F26*G$14","v":3.3391750399999998E-6},{"$f":"'MI materialen'!G26*H$14","v":2.4432579200000001E-3},{"$f":"'MI materialen'!H26*I$14","v":5.5891210000000004E-2},{"$f":"'MI materialen'!I26*J$14","v":1.69069446E-6},{"$f":"'MI materialen'!J26*K$14","v":1.7498304399999999E-3},{"$f":"'MI materialen'!K26*L$14","v":2.5234024000000001E-2},{"$f":"'MI materialen'!L26*M$14","v":5.6814178500000003E-3},{"$f":"'MI materialen'!M26*N$14","v":2.6666096400000002E-2},{"$f":"'MI materialen'!N26*O$14","v":2.2428656699999998E-4},{"$f":"'MI materialen'!O26*P$14","v":1.8053181E-3},{"$f":"'MI materialen'!P26*Q$14","v":3.2146022999999998E-4},{"$f":"'MI materialen'!Q26","v":0},{"$f":"'MI materialen'!R26","v":0},{"$f":"'MI materialen'!S26","v":0.82050067000000004},{"$f":"'MI materialen'!T26","v":0},{"$f":"'MI materialen'!U26","v":0},{"$f":"'MI materialen'!V26","v":33.678294999999999},{"$f":"'MI materialen'!W26","v":0},{"$f":"'MI materialen'!X26","v":0},{"$f":"'MI materialen'!Y26","v":0},{"$f":"'MI materialen'!Z26","v":2.4120460999999999E-2},{"$f":"'MI materialen'!AA26","v":3.400287E-4},{"$f":"'MI materialen'!AB26","v":6.5485084999999998E-2},{"$f":"'MI materialen'!AC26","v":2.1377985E-5},{"$f":"'MI materialen'!AD26","v":0},{"$f":"'MI materialen'!AE26","v":0},{"$f":"'MI materialen'!AF26","v":0},{"$f":"'MI materialen'!AG26","v":0},{"$f":"'MI materialen'!AH26","v":0},{"$f":"'MI materialen'!AI26","v":1},{"$f":"'MI materialen'!AJ26","v":"afwerkingen"},{"$f":"'MI materialen'!AK26","v":"verkleefd aan hout, kunststof, metaal"},{"$f":"'MI materialen'!AL26","v":0},{"$f":"'MI materialen'!AM26","v":1},{"$f":"'MI materialen'!AN26","v":0},{"$f":"'MI materialen'!AO26","v":0},{"$f":"'MI materialen'!AP26","v":"0299-sto&Stort verf (o.b.v. Waste paint {Europe without Switzerland}| treatment of waste paint, sanitary landfill | Cut-off, U)"},{"$f":"'MI materialen'!AQ26","v":"_0106-pro&Verbranden, overig (o.b.v. Municipal solid waste {NL}| treatment of, incineration | Cut-off, U)"},{"$f":"'MI materialen'!AR26","v":"."}]
[{"$f":"'MI materialen'!A27","v":"Coatings"},{"$f":"'MI materialen'!B27","v":"Alkydharsverf"},{"$f":"'MI materialen'!C27","v":"kg"},{"$f":"'MI materialen'!D27","v":0},"_0025-fab&Alkydharsverf, watergedragen, voor binnen (voldoet aan Arboregel) - onderhoud 1 maal per 8 jaar [VVVF]",0.34035521000000002,0,0,0.12247176,7.2950782000000004E-6,4.0155284999999997E-3,4.2059381999999999E-2,6.9310184999999996E-2,7.9821336000000007E-2,6.6719528000000004E-3,1.4041624000000001E-2,1.9561439999999999E-3,0,0,0,0,0,0,0,0,0,0,0,0,0,0,0,0,0,0,{"$f":"'MI materialen'!AI27","v":1},{"$f":"'MI materialen'!AJ27","v":"afwerkingen"},{"$f":"'MI materialen'!AK27","v":"verkleefd aan hout, kunststof, metaal"},{"$f":"'MI materialen'!AL27","v":0},{"$f":"'MI materialen'!AM27","v":1},{"$f":"'MI materialen'!AN27","v":0},{"$f":"'MI materialen'!AO27","v":0},{"$f":"'MI materialen'!AP27","v":"0299-sto&Stort verf (o.b.v. Waste paint {Europe without Switzerland}| treatment of waste paint, sanitary landfill | Cut-off, U)"},{"$f":"'MI materialen'!AQ27","v":"_0266-avC&Verbranden verf (10,14 MJ/kg) (o.b.v. Waste paint {Europe without Switzerland}| treatment of waste paint, municipal incineration | Cut-off, U)"},{"$f":"'MI materialen'!AR27","v":"."}]
[{"$f":"'MI materialen'!A28","v":"Coatings"},{"$f":"'MI materialen'!B28","v":"Poedercoating"},{"$f":"'MI materialen'!C28","v":"kg"},{"$f":"'MI materialen'!D28","v":0},"_0036-fab&Poedercoating, poederlak, moffellaag (o.b.v. Powder coat, steel {GLO}| market for | Cut-off, U; 1 m2 = 0,1 kg)",3.6754134000000001,0,0,1.714288,1.2622594999999999E-4,4.2042020999999999E-2,0.49059241999999997,0.12370963,1.1314994,3.3443345999999999E-2,0.13655088000000001,3.1615250000000001E-3,0,0,0,0,0,0,0,0,0,0,0,0,0,0,0,0,0,0,{"$f":"'MI materialen'!AI28","v":1},{"$f":"'MI materialen'!AJ28","v":"afwerkingen"},{"$f":"'MI materialen'!AK28","v":"verkleefd aan hout, kunststof, metaal"},{"$f":"'MI materialen'!AL28","v":0},{"$f":"'MI materialen'!AM28","v":1},{"$f":"'MI materialen'!AN28","v":0},{"$f":"'MI materialen'!AO28","v":0},{"$f":"'MI materialen'!AP28","v":"0299-sto&Stort verf (o.b.v. Waste paint {Europe without Switzerland}| treatment of waste paint, sanitary landfill | Cut-off, U)"},{"$f":"'MI materialen'!AQ28","v":"_0266-avC&Verbranden verf (10,14 MJ/kg) (o.b.v. Waste paint {Europe without Switzerland}| treatment of waste paint, municipal incineration | Cut-off, U)"},{"$f":"'MI materialen'!AR28","v":"."}]
[{"$f":"'MI materialen'!A29","v":"Coatings"},{"$f":"'MI materialen'!B29","v":"Latexverf"},{"$f":"'MI materialen'!C29","v":"kg"},{"$f":"'MI materialen'!D29","v":0},"_0050-fab&Latex, acryl (o.b.v. Latex {RER}| market for latex | Cut-off, U)",0.22353848000000001,0,0,0.13482743,1.4498754E-7,3.9720919000000004E-3,5.9889502999999997E-2,1.3244239E-2,9.6802910000000006E-3,1.6560115E-4,8.7680669999999996E-4,8.8237253999999998E-4,0,0,0,0,0,0,0,0,0,0,0,0,0,0,0,0,0,0,{"$f":"'MI materialen'!AI29","v":1},{"$f":"'MI materialen'!AJ29","v":"afwerkingen"},{"$f":"'MI materialen'!AK29","v":"verkleefd aan hout, kunststof, metaal"},{"$f":"'MI materialen'!AL29","v":0},{"$f":"'MI materialen'!AM29","v":1},{"$f":"'MI materialen'!AN29","v":0},{"$f":"'MI materialen'!AO29","v":0},{"$f":"'MI materialen'!AP29","v":"0299-sto&Stort verf (o.b.v. Waste paint {Europe without Switzerland}| treatment of waste paint, sanitary landfill | Cut-off, U)"},{"$f":"'MI materialen'!AQ29","v":"_0266-avC&Verbranden verf (10,14 MJ/kg) (o.b.v. Waste paint {Europe without Switzerland}| treatment of waste paint, municipal incineration | Cut-off, U)"},{"$f":"'MI materialen'!AR29","v":"."}]
[{"$f":"'MI materialen'!A30","v":"Coatings"},{"$f":"'MI materialen'!B30","v":"Natlak"},{"$f":"'MI materialen'!C30","v":"kg"},{"$f":"'MI materialen'!D30","v":0},"_0383-fab&Polyurethaan coating, natlak conserveringssysteem (verbruik 0,51 kg/m2, uitgaande van 25% overspray en laagdikte 320 µm; Incl. emissie na aanbrengen)",1.2409250000000001,0,0,0.21533277000000001,9.4269868999999992E-6,0.59115709000000005,6.6978280000000001E-2,2.5096186999999999E-2,0.31154082,2.2726548999999999E-2,7.7693004E-3,3.1463169000000001E-4,0,0,0,0,0,0,0,0,0,0,0,0,0,0,0,0,0,0,{"$f":"'MI materialen'!AI30","v":1},{"$f":"'MI materialen'!AJ30","v":"afwerkingen"},{"$f":"'MI materialen'!AK30","v":"verkleefd aan hout, kunststof, metaal"},{"$f":"'MI materialen'!AL30","v":0},{"$f":"'MI materialen'!AM30","v":1},{"$f":"'MI materialen'!AN30","v":0},{"$f":"'MI materialen'!AO30","v":0},{"$f":"'MI materialen'!AP30","v":"0299-sto&Stort verf (o.b.v. Waste paint {Europe without Switzerland}| treatment of waste paint, sanitary landfill | Cut-off, U)"},{"$f":"'MI materialen'!AQ30","v":"_0266-avC&Verbranden verf (10,14 MJ/kg) (o.b.v. Waste paint {Europe without Switzerland}| treatment of waste paint, municipal incineration | Cut-off, U)"},{"$f":"'MI materialen'!AR30","v":"."}]
[{"$f":"'MI materialen'!A31","v":"Coatings"},{"$f":"'MI materialen'!B31","v":"Impregneermiddel"},{"$f":"'MI materialen'!C31","v":"kg"},{"$f":"'MI materialen'!D31","v":0},"_0411-fab&Impregneermiddel, voor onbehandeld hard- en zachthout",0.15093163000000001,0,0,3.4476240999999998E-2,1.4446282E-5,3.0059169999999999E-3,2.7673191E-2,2.1821980000000001E-2,5.0339323999999998E-2,6.0622009000000001E-3,5.0820648999999997E-3,2.4562677000000001E-3,0,0,0,0,0,0,0,0,0,0,0,0,0,0,0,0,0,0,{"$f":"'MI materialen'!AI31","v":1},{"$f":"'MI materialen'!AJ31","v":"afwerkingen"},{"$f":"'MI materialen'!AK31","v":"verkleefd aan hout, kunststof, metaal"},{"$f":"'MI materialen'!AL31","v":0},{"$f":"'MI materialen'!AM31","v":1},{"$f":"'MI materialen'!AN31","v":0},{"$f":"'MI materialen'!AO31","v":0},{"$f":"'MI materialen'!AP31","v":"0299-sto&Stort verf (o.b.v. Waste paint {Europe without Switzerland}| treatment of waste paint, sanitary landfill | Cut-off, U)"},{"$f":"'MI materialen'!AQ31","v":"_0266-avC&Verbranden verf (10,14 MJ/kg) (o.b.v. Waste paint {Europe without Switzerland}| treatment of waste paint, municipal incineration | Cut-off, U)"},{"$f":"'MI materialen'!AR31","v":"."}]
[{"$f":"'MI materialen'!A32","v":"Coatings"},{"$f":"'MI materialen'!B32","v":"Metaalconserveringsmiddel"},{"$f":"'MI materialen'!C32","v":"kg"},{"$f":"'MI materialen'!D32","v":0},"_0213-fab&Metaalconserveringssysteem, 'menie', vlgns ISO 12944 - onderhoud 1 maal per 15 jaar [VVVF]",0.51706432000000002,0,0,0.12109884,1.5530154999999999E-5,9.0063013999999997E-2,5.5440428E-2,2.1725813E-2,0.20558486000000001,8.9774930999999992E-3,1.3655779E-2,5.0255964000000001E-4,0,0,0,0,0,0,0,0,0,0,0,0,0,0,0,0,0,0,{"$f":"'MI materialen'!AI32","v":1},{"$f":"'MI materialen'!AJ32","v":"afwerkingen"},{"$f":"'MI materialen'!AK32","v":"verkleefd aan hout, kunststof, metaal"},{"$f":"'MI materialen'!AL32","v":0},{"$f":"'MI materialen'!AM32","v":1},{"$f":"'MI materialen'!AN32","v":0},{"$f":"'MI materialen'!AO32","v":0},{"$f":"'MI materialen'!AP32","v":"0299-sto&Stort verf (o.b.v. Waste paint {Europe without Switzerland}| treatment of waste paint, sanitary landfill | Cut-off, U)"},{"$f":"'MI materialen'!AQ32","v":"_0266-avC&Verbranden verf (10,14 MJ/kg) (o.b.v. Waste paint {Europe without Switzerland}| treatment of waste paint, municipal incineration | Cut-off, U)"},{"$f":"'MI materialen'!AR32","v":"."}]
[{"$f":"'MI materialen'!A33","v":"Coatings"},{"$f":"'MI materialen'!B33","v":"Acrylaatdispersieverf"},{"$f":"'MI materialen'!C33","v":"kg"},{"$f":"'MI materialen'!D33","v":0},"_XXXX Acrylaatdispersieverf, watergedragen, voor binnen (Verfrichtlijn2004/42/EC+Arbo) - onderhoud 1 maal per 10 jaar [VVVF]",0.30922454999999999,0,0,9.4529926E-2,5.4703301000000003E-6,3.6387959000000001E-3,8.5131103999999999E-2,1.0485797E-2,8.8247162000000004E-2,6.3169575000000004E-3,2.0657178000000002E-2,2.1216143999999999E-4,0,0,0,0,0,0,0,0,0,0,0,0,0,0,0,0,0,0,{"$f":"'MI materialen'!AI33","v":1},{"$f":"'MI materialen'!AJ33","v":"afwerkingen"},{"$f":"'MI materialen'!AK33","v":"verkleefd aan hout, kunststof, metaal"},{"$f":"'MI materialen'!AL33","v":0},{"$f":"'MI materialen'!AM33","v":1},{"$f":"'MI materialen'!AN33","v":0},{"$f":"'MI materialen'!AO33","v":0},{"$f":"'MI materialen'!AP33","v":"0299-sto&Stort verf (o.b.v. Waste paint {Europe without Switzerland}| treatment of waste paint, sanitary landfill | Cut-off, U)"},{"$f":"'MI materialen'!AQ33","v":"_0266-avC&Verbranden verf (10,14 MJ/kg) (o.b.v. Waste paint {Europe without Switzerland}| treatment of waste paint, municipal incineration | Cut-off, U)"},{"$f":"'MI materialen'!AR33","v":"."}]
[{"$f":"'MI materialen'!A34","v":"Keramiek"},{"$f":"'MI materialen'!B34","v":"Baksteen"},{"$f":"'MI materialen'!C34","v":"kg"},{"$f":"'MI materialen'!D34","v":0},"_0008-fab&Baksteen, metselbaksteen, straatbaksteen, klinker (o.b.v. Clay brick {GLO}| market for | Cut-off, U)",3.2263607E-2,0,0,1.5719204000000001E-2,7.9200321E-7,3.1876258000000001E-4,3.6735180000000002E-3,1.2715173000000001E-3,9.7314267999999999E-3,8.0216184999999998E-5,1.4483495E-3,1.9820357999999999E-5,0,0,0,0,0,0,0,0,0,0,0,0,0,0,0,0,0,0,{"$f":"'MI materialen'!AI34","v":1},{"$f":"'MI materialen'!AJ34","v":"afwerkingen"},{"$f":"'MI materialen'!AK34","v":"verkleefd aan hout, kunststof, metaal"},{"$f":"'MI materialen'!AL34","v":0},{"$f":"'MI materialen'!AM34","v":1},{"$f":"'MI materialen'!AN34","v":0},{"$f":"'MI materialen'!AO34","v":0},{"$f":"'MI materialen'!AP34","v":"0241-sto&Stort bitumen (o.b.v. Waste bitumen {Europe without Switzerland}| treatment of waste bitumen, sanitary landfill | Cut-off, U)"},{"$f":"'MI materialen'!AQ34","v":"_0259-avC&Verbranden bitumen (30,1 MJ/kg) (o.b.v. Waste bitumen sheet {CH}| treatment of, municipal incineration | Cut-off, U)"},{"$f":"'MI materialen'!AR34","v":"."}]
[{"$f":"'MI materialen'!A35","v":"Keramiek"},{"$f":"'MI materialen'!B35","v":"Keramische tegel"},{"$f":"'MI materialen'!C35","v":"kg"},{"$f":"'MI materialen'!D35","v":0},"_0034-fab&Keramiek (o.b.v. Ceramic tile {GLO}| market for | Cut-off, U)",9.7159290999999995E-2,0,0,3.9809816999999997E-2,2.0605405E-6,7.5200085999999999E-4,1.5469343E-2,3.7589759000000002E-3,3.2299227999999999E-2,7.4348982000000004E-4,4.2378985000000001E-3,8.6476634000000004E-5,0,0,0,0,0,0,0,0,0,0,0,0,0,0,0,0,0,0,{"$f":"'MI materialen'!AI35","v":14},{"$f":"'MI materialen'!AJ35","v":"fijnkeramisch"},{"$f":"'MI materialen'!AK35","v":"o.a. sanitair"},{"$f":"'MI materialen'!AL35","v":0.15},{"$f":"'MI materialen'!AM35","v":0},{"$f":"'MI materialen'!AN35","v":0.8},{"$f":"'MI materialen'!AO35","v":0.05},{"$f":"'MI materialen'!AP35","v":"0241-sto&Stort bitumen (o.b.v. Waste bitumen {Europe without Switzerland}| treatment of waste bitumen, sanitary landfill | Cut-off, U)"},{"$f":"'MI materialen'!AQ35","v":"_0259-avC&Verbranden bitumen (30,1 MJ/kg) (o.b.v. Waste bitumen sheet {CH}| treatment of, municipal incineration | Cut-off, U)"},{"$f":"'MI materialen'!AR35","v":"0384-reD&Module D, Klei, per kg NETTO geleverd klei (o.b.v. Clay {CH}| clay pit operation | Cut-off, U)"}]
[{"$f":"'MI materialen'!A36","v":"Keramiek"},{"$f":"'MI materialen'!B36","v":"Betontegels"},{"$f":"'MI materialen'!C36","v":"kg"},{"$f":"'MI materialen'!D36","v":0},"_0149-fab&Betontegels, straattegels (o.b.v. Concrete roof tile {GLO}| market for | Cut-off, U)",2.5068374000000001E-2,0,0,1.2848574E-2,3.8978920000000001E-7,1.8307568000000001E-4,3.4519501000000001E-3,1.066813E-3,6.6719991999999997E-3,1.3709814999999999E-4,6.8143241999999999E-4,2.7042068999999998E-5,0,0,0,0,0,0,0,0,0,0,0,0,0,0,0,0,0,0,{"$f":"'MI materialen'!AI36","v":21},{"$f":"'MI materialen'!AJ36","v":"grofkeramisch"},{"$f":"'MI materialen'!AK36","v":"o.a. metselwerk, pannen"},{"$f":"'MI materialen'!AL36","v":0.01},{"$f":"'MI materialen'!AM36","v":0},{"$f":"'MI materialen'!AN36","v":0.99},{"$f":"'MI materialen'!AO36","v":0},{"$f":"'MI materialen'!AP36","v":"0241-sto&Stort bitumen (o.b.v. Waste bitumen {Europe without Switzerland}| treatment of waste bitumen, sanitary landfill | Cut-off, U)"},{"$f":"'MI materialen'!AQ36","v":"_0259-avC&Verbranden bitumen (30,1 MJ/kg) (o.b.v. Waste bitumen sheet {CH}| treatment of, municipal incineration | Cut-off, U)"},{"$f":"'MI materialen'!AR36","v":"0376-reD&Module D, Cement, CEM I, zonder 30% opslag (vermeden: 0172-fab&Cement, CEM I (o.b.v. CEM I 52.5 R))"}]
[{"$f":"'MI materialen'!A37","v":"Keramiek"},{"$f":"'MI materialen'!B37","v":"Klei"},{"$f":"'MI materialen'!C37","v":"kg"},{"$f":"'MI materialen'!D37","v":0},"_0225-fab&Klei, geëxpandeerd (o.b.v. Expanded clay {GLO}| market for | Cut-off, U)",4.8499058999999997E-2,0,0,2.1300882E-2,3.3816260000000001E-7,3.5473447999999997E-4,1.1601105E-2,1.8371284999999999E-3,1.226025E-2,4.8435586999999999E-5,1.0608690999999999E-3,3.5316364999999997E-5,0,0,0,0,0,0,0,0,0,0,0,0,0,0,0,0,0,0,{"$f":"'MI materialen'!AI37","v":14},{"$f":"'MI materialen'!AJ37","v":"fijnkeramisch"},{"$f":"'MI materialen'!AK37","v":"o.a. sanitair"},{"$f":"'MI materialen'!AL37","v":0.15},{"$f":"'MI materialen'!AM37","v":0},{"$f":"'MI materialen'!AN37","v":0.8},{"$f":"'MI materialen'!AO37","v":0.05},{"$f":"'MI materialen'!AP37","v":"0241-sto&Stort bitumen (o.b.v. Waste bitumen {Europe without Switzerland}| treatment of waste bitumen, sanitary landfill | Cut-off, U)"},{"$f":"'MI materialen'!AQ37","v":"_0259-avC&Verbranden bitumen (30,1 MJ/kg) (o.b.v. Waste bitumen sheet {CH}| treatment of, municipal incineration | Cut-off, U)"},{"$f":"'MI materialen'!AR37","v":"0384-reD&Module D, Klei, per kg NETTO geleverd klei (o.b.v. Clay {CH}| clay pit operation | Cut-off, U)"}]
[{"$f":"'MI materialen'!A38","v":"Keramiek"},{"$f":"'MI materialen'!B38","v":"Natuursteen"},{"$f":"'MI materialen'!C38","v":"kg"},{"$f":"'MI materialen'!D38","v":0},"_0232-fab&Natuursteen, graniet, hardsteen (= Natural stone plate, polished {GLO}| market for | Cut-off, U)",0.10213429,0,0,4.8639048999999997E-2,2.0574481999999999E-6,7.3824950999999998E-4,1.8752230000000002E-2,6.2481367999999999E-3,2.4587713000000001E-2,1.7221846E-4,2.9004540999999998E-3,9.4182728000000005E-5,0,0,0,0,0,0,0,0,0,0,0,0,0,0,0,0,0,0,{"$f":"'MI materialen'!AI38","v":52},{"$f":"'MI materialen'!AJ38","v":"steenachtig, overig"},{"$f":"'MI materialen'!AK38","v":"o.a. natuursteen, breuksteen"},{"$f":"'MI materialen'!AL38","v":0.01},{"$f":"'MI materialen'!AM38","v":0},{"$f":"'MI materialen'!AN38","v":0.99},{"$f":"'MI materialen'!AO38","v":0},{"$f":"'MI materialen'!AP38","v":"0241-sto&Stort bitumen (o.b.v. Waste bitumen {Europe without Switzerland}| treatment of waste bitumen, sanitary landfill | Cut-off, U)"},{"$f":"'MI materialen'!AQ38","v":"_0259-avC&Verbranden bitumen (30,1 MJ/kg) (o.b.v. Waste bitumen sheet {CH}| treatment of, municipal incineration | Cut-off, U)"},{"$f":"'MI materialen'!AR38","v":"0271-reD&Module D, grind, per kg NETTO geleverd granulaat/grind (vermeden: Gravel, round {RoW}| gravel and sand quarry operation | Cut-off, U)"}]
[{"$f":"'MI materialen'!A39","v":"Keramiek"},{"$f":"'MI materialen'!B39","v":"Vlakglas"},{"$f":"'MI materialen'!C39","v":"kg"},{"$f":"'MI materialen'!D39","v":0},"_0019-fab&Glas, vlakglas (o.b.v. Flat glass, coated {RoW}| market for flat glass, coated | Cut-off, U)",0.16099531,0,0,5.9863846999999998E-2,2.9130619E-6,1.1035000999999999E-3,4.0425084999999999E-2,7.7862069999999999E-3,4.5895146999999997E-2,3.6342847000000002E-4,5.4823403999999997E-3,7.2838439000000004E-5,0,0,0,0,0,0,0,0,0,0,0,0,0,0,0,0,0,0,{"$f":"'MI materialen'!AI39","v":17},{"$f":"'MI materialen'!AJ39","v":"glas"},{"$f":"'MI materialen'!AK39","v":"o.a. vlakglas"},{"$f":"'MI materialen'!AL39","v":0.3},{"$f":"'MI materialen'!AM39","v":0},{"$f":"'MI materialen'!AN39","v":0.7},{"$f":"'MI materialen'!AO39","v":0},{"$f":"'MI materialen'!AP39","v":"0244-sto&Stort glas (o.b.v. Waste glass {CH}| treatment of, inert material landfill | Cut-off, U)"},{"$f":"'MI materialen'!AQ39","v":"_0256-avC&Verbranden glas (o.b.v. Waste glass {Europe without Switzerland}| treatment of waste glass, municipal incineration | Cut-off, U)"},{"$f":"'MI materialen'!AR39","v":"0273-reD&Module D, vlakglas per kg NETTO geleverd kringloopglas (79% verpakkingsglas- en 21% glaswoltoepassing waar primaire grondstoffen worden vermeden - niet de energie )"}]
[{"$f":"'MI materialen'!A40","v":"Keramiek"},{"$f":"'MI materialen'!B40","v":"Anhydriet"},{"$f":"'MI materialen'!C40","v":"kg"},{"$f":"'MI materialen'!D40","v":0},{"$f":"'MI materialen'!E40","v":"_XXXX Anhydriet, ongehydrateerd gips, calciumsulfaat, voor o.a. gietvloeren (o.b.v. Anhydrite {GLO}| market for | Cut-off, U)"},6.6985077480812005E-3,{"$f":"'MI materialen'!F40*G$14","v":1.137383952E-7},{"$f":"'MI materialen'!G40*H$14","v":6.4050454399999993E-5},{"$f":"'MI materialen'!H40*I$14","v":2.8127626000000001E-3},{"$f":"'MI materialen'!I40*J$14","v":1.90761066E-7},{"$f":"'MI materialen'!J40*K$14","v":6.5539643999999999E-5},{"$f":"'MI materialen'!K40*L$14","v":1.3296516799999999E-3},{"$f":"'MI materialen'!L40*M$14","v":4.40223597E-4},{"$f":"'MI materialen'!M40*N$14","v":1.7704766699999999E-3},{"$f":"'MI materialen'!N40*O$14","v":1.41369393E-5},{"$f":"'MI materialen'!O40*P$14","v":1.9580589000000001E-4},{"$f":"'MI materialen'!P40*Q$14","v":5.5557739199999997E-6},{"$f":"'MI materialen'!Q40","v":0},{"$f":"'MI materialen'!R40","v":0},{"$f":"'MI materialen'!S40","v":3.9361537000000002E-2},{"$f":"'MI materialen'!T40","v":0},{"$f":"'MI materialen'!U40","v":0},{"$f":"'MI materialen'!V40","v":0.83040577000000004},{"$f":"'MI materialen'!W40","v":0},{"$f":"'MI materialen'!X40","v":0},{"$f":"'MI materialen'!Y40","v":0},{"$f":"'MI materialen'!Z40","v":2.2040802000000001E-4},{"$f":"'MI materialen'!AA40","v":2.9000063000000002E-6},{"$f":"'MI materialen'!AB40","v":2.06099E-2},{"$f":"'MI materialen'!AC40","v":3.7218578000000001E-6},{"$f":"'MI materialen'!AD40","v":0},{"$f":"'MI materialen'!AE40","v":0},{"$f":"'MI materialen'!AF40","v":0},{"$f":"'MI materialen'!AG40","v":0},{"$f":"'MI materialen'!AH40","v":0},{"$f":"'MI materialen'!AI40","v":16},{"$f":"'MI materialen'!AJ40","v":"gips"},{"$f":"'MI materialen'!AK40","v":"o.a. blokken, platen"},{"$f":"'MI materialen'!AL40","v":0.95},{"$f":"'MI materialen'!AM40","v":0},{"$f":"'MI materialen'!AN40","v":0.05},{"$f":"'MI materialen'!AO40","v":0},{"$f":"'MI materialen'!AP40","v":"0241-sto&Stort bitumen (o.b.v. Waste bitumen {Europe without Switzerland}| treatment of waste bitumen, sanitary landfill | Cut-off, U)"},{"$f":"'MI materialen'!AQ40","v":"_0259-avC&Verbranden bitumen (30,1 MJ/kg) (o.b.v. Waste bitumen sheet {CH}| treatment of, municipal incineration | Cut-off, U)"},{"$f":"'MI materialen'!AR40","v":"0271-reD&Module D, grind, per kg NETTO geleverd granulaat/grind (vermeden: Gravel, round {RoW}| gravel and sand quarry operation | Cut-off, U)"}]
[{"$f":"'MI materialen'!A41","v":"Keramiek"},{"$f":"'MI materialen'!B41","v":"Kalkzandsteen"},{"$f":"'MI materialen'!C41","v":"kg"},{"$f":"'MI materialen'!D41","v":0},"_XXXX Kalkzandsteen, stenen en blokken (o.b.v. Sand-lime brick {GLO}| market for | Cut-off, U)",1.9871606E-2,0,0,9.2919882999999998E-3,3.8012338000000002E-7,1.4765207000000001E-4,2.6765685E-3,7.4115404999999996E-4,6.5419804999999999E-3,3.2463343000000002E-5,4.2379689000000001E-4,1.5622429000000001E-5,0,0,0,0,0,0,0,0,0,0,0,0,0,0,0,0,0,0,{"$f":"'MI materialen'!AI41","v":28},{"$f":"'MI materialen'!AJ41","v":"kalkzandsteen"},{"$f":"'MI materialen'!AK41","v":"o.a. elementen, metselwerk"},{"$f":"'MI materialen'!AL41","v":0.01},{"$f":"'MI materialen'!AM41","v":0},{"$f":"'MI materialen'!AN41","v":0.99},{"$f":"'MI materialen'!AO41","v":0},{"$f":"'MI materialen'!AP41","v":"0241-sto&Stort bitumen (o.b.v. Waste bitumen {Europe without Switzerland}| treatment of waste bitumen, sanitary landfill | Cut-off, U)"},{"$f":"'MI materialen'!AQ41","v":"_0259-avC&Verbranden bitumen (30,1 MJ/kg) (o.b.v. Waste bitumen sheet {CH}| treatment of, municipal incineration | Cut-off, U)"},{"$f":"'MI materialen'!AR41","v":"0280-reD&Module D, zand (o.b.v. Sand {RoW}| gravel and quarry operation | Cut-off, U)"}]
[{"$f":"'MI materialen'!A42","v":"Metalen"},{"$f":"'MI materialen'!B42","v":"Messing"},{"$f":"'MI materialen'!C42","v":"kg"},{"$f":"'MI materialen'!D42","v":0},"_0056-fab&Messing (o.b.v. Brass {RoW}| production | Cut-off, U)",7.6246203000000001,0,0,0.21355652,7.5761313999999997E-6,3.3677795000000003E-2,1.4024810000000001,0.17160033999999999,5.1698845000000002,3.9952952E-2,0.58401791999999997,9.4416824E-3,0,0,0,0,0,0,0,0,0,0,0,0,0,0,0,0,0,0,{"$f":"'MI materialen'!AI42","v":36},{"$f":"'MI materialen'!AJ42","v":"metalen, overig"},{"$f":"'MI materialen'!AK42","v":"o.a. bevestiging, hulpstukken"},{"$f":"'MI materialen'!AL42","v":0.05},{"$f":"'MI materialen'!AM42","v":0.05},{"$f":"'MI materialen'!AN42","v":0.9},{"$f":"'MI materialen'!AO42","v":0},{"$f":"'MI materialen'!AP42","v":"0248-sto&Stort koper, lood, verzinkt staal, zink (o.b.v. Scrap tin sheet {CH}| treatment of, sanitary landfill | Cut-off, U, bij gebrek aan passender proces)"},{"$f":"'MI materialen'!AQ42","v":"_0307-avC&Verbranden koperschroot (o.b.v. Scrap copper {RoW}| treatment of, municipal incineration | Cut-off, U)"},{"$f":"'MI materialen'!AR42","v":"0277-reD&Module D, koper, per kg NETTO geleverd schroot (vermeden: Copper {RER}| production, primary | Cut-off, U)"}]
[{"$f":"'MI materialen'!A43","v":"Metalen"},{"$f":"'MI materialen'!B43","v":"Aluminium"},{"$f":"'MI materialen'!C43","v":"kg"},{"$f":"'MI materialen'!D43","v":0.74},"_0151-fab&Aluminium (o.b.v. Aluminium, cast alloy {GLO}| market for | Cut-off, U; 26% primair, 74% secundair)",0.86791952000000006,0,0,0.26513589999999998,6.4623132000000004E-6,4.4586443E-3,0.11808046,2.3177196000000001E-2,0.42891323999999997,1.3728466E-3,2.6177276999999999E-2,5.9749528000000004E-4,0,0,0,0,0,0,0,0,0,0,0,0,0,0,0,0,0,0,{"$f":"'MI materialen'!AI43","v":36},{"$f":"'MI materialen'!AJ43","v":"metalen, overig"},{"$f":"'MI materialen'!AK43","v":"o.a. bevestiging, hulpstukken"},{"$f":"'MI materialen'!AL43","v":0.05},{"$f":"'MI materialen'!AM43","v":0.05},{"$f":"'MI materialen'!AN43","v":0.9},{"$f":"'MI materialen'!AO43","v":0},{"$f":"'MI materialen'!AP43","v":"0239-sto&Stort aluminium (o.b.v. Waste aluminium {RoW}| treatment of, sanitary landfill | Cut-off, U)"},{"$f":"'MI materialen'!AQ43","v":"_0255-avC&Verbranden aluminium (o.b.v. Scrap aluminium {Europe without Switzerland}| treatment of scrap aluminium, municipal incineration | Cut-off, U)"},{"$f":"'MI materialen'!AR43","v":"0269-reD&Module D aluminium, per kg NETTO geleverd schroot (vermeden: Aluminium, cast alloy {GLO}| aluminium ingot, primary, to market | Cut-off, U; Aluminium, cast alloy {RER}|"}]
[{"$f":"'MI materialen'!A44","v":"Metalen"},{"$f":"'MI materialen'!B44","v":"Ongelegeerd staal"},{"$f":"'MI materialen'!C44","v":"kg"},{"$f":"'MI materialen'!D44","v":0.21299999999999999},"_0214-fab&Staal, ongelegeerd (o.b.v. Steel, unalloyed {GLO}| market for | Cut-off, U; 78,7% primair, 21,3% secundair)",0.24010608999999999,0,0,9.1004110999999999E-2,2.9123175E-6,5.8365986999999999E-3,2.7478966000000001E-2,8.2986854000000002E-3,0.10393972999999999,2.8173728999999998E-4,3.0749818999999999E-3,1.8836459999999999E-4,0,0,0,0,0,0,0,0,0,0,0,0,0,0,0,0,0,0,{"$f":"'MI materialen'!AI44","v":3},{"$f":"'MI materialen'!AJ44","v":"aluminium, uit B&U"},{"$f":"'MI materialen'!AK44","v":"o.a. profielen, platen, leidingen"},{"$f":"'MI materialen'!AL44","v":0.03},{"$f":"'MI materialen'!AM44","v":0.03},{"$f":"'MI materialen'!AN44","v":0.94},{"$f":"'MI materialen'!AO44","v":0},{"$f":"'MI materialen'!AP44","v":"0253-sto&Stort staal (o.b.v. Scrap steel {Europe without Switzerland}| treatment of scrap steel, inert material landfill | Cut-off, U)"},{"$f":"'MI materialen'!AQ44","v":"_0257-avC&Verbranden staalschroot (o.b.v. Scrap steel {Europe without Switzerland}| treatment of scrap steel, municipal incineration | Cut-off, U)"},{"$f":"'MI materialen'!AR44","v":"0282-reD&Module D, staal, per kg NETTO geleverd ongelegeerd schroot (World Steel methode obv Steel, low-alloyed {RER&RoW}| steel production, electric, low-alloyed | Cut-off, U  -"}]
[{"$f":"'MI materialen'!A45","v":"Metalen"},{"$f":"'MI materialen'!B45","v":"Gietijzer"},{"$f":"'MI materialen'!C45","v":"kg"},{"$f":"'MI materialen'!D45","v":0.38700000000000001},"_0220-fab&Gietijzer (o.b.v. Cast iron {GLO}| market for | Cut-off, U; 61,3% primair, 38,7% secundair)",0.24380307000000001,0,0,8.5483495000000007E-2,2.9962084000000002E-6,4.8333127E-3,2.7653245999999999E-2,8.3124036000000005E-3,0.10784998,6.6576993000000005E-4,4.9969298999999997E-3,4.0049315000000004E-3,0,0,0,0,0,0,0,0,0,0,0,0,0,0,0,0,0,0,{"$f":"'MI materialen'!AI45","v":36},{"$f":"'MI materialen'!AJ45","v":"metalen, overig"},{"$f":"'MI materialen'!AK45","v":"o.a. bevestiging, hulpstukken"},{"$f":"'MI materialen'!AL45","v":0.05},{"$f":"'MI materialen'!AM45","v":0.05},{"$f":"'MI materialen'!AN45","v":0.9},{"$f":"'MI materialen'!AO45","v":0},{"$f":"'MI materialen'!AP45","v":"0253-sto&Stort staal (o.b.v. Scrap steel {Europe without Switzerland}| treatment of scrap steel, inert material landfill | Cut-off, U)"},{"$f":"'MI materialen'!AQ45","v":"_0257-avC&Verbranden staalschroot (o.b.v. Scrap steel {Europe without Switzerland}| treatment of scrap steel, municipal incineration | Cut-off, U)"},{"$f":"'MI materialen'!AR45","v":"0282-reD&Module D, staal, per kg NETTO geleverd ongelegeerd schroot (World Steel methode obv Steel, low-alloyed {RER&RoW}| steel production, electric, low-alloyed | Cut-off, U  -"}]
[{"$f":"'MI materialen'!A46","v":"Metalen"},{"$f":"'MI materialen'!B46","v":"Koper"},{"$f":"'MI materialen'!C46","v":"kg"},{"$f":"'MI materialen'!D46","v":0.74},"_0287-fab&Koper, semis, voor plaat en buis (o.b.v. 33% 0059-fab&koper, kathode, 67% Copper {RER}| treatment of scrap by electrolytic refining; 26% primair, 74% secundair)",2.0839588,0,0,0.10017518,4.0047502999999999E-6,9.5278736000000003E-3,0.37231230999999998,6.5674772000000006E-2,1.3464016999999999,1.3278358000000001E-2,0.17408272999999999,2.5018109E-3,0,0,0,0,0,0,0,0,0,0,0,0,0,0,0,0,0,0,{"$f":"'MI materialen'!AI46","v":36},{"$f":"'MI materialen'!AJ46","v":"metalen, overig"},{"$f":"'MI materialen'!AK46","v":"o.a. bevestiging, hulpstukken"},{"$f":"'MI materialen'!AL46","v":0.05},{"$f":"'MI materialen'!AM46","v":0.05},{"$f":"'MI materialen'!AN46","v":0.9},{"$f":"'MI materialen'!AO46","v":0},{"$f":"'MI materialen'!AP46","v":"0248-sto&Stort koper, lood, verzinkt staal, zink (o.b.v. Scrap tin sheet {CH}| treatment of, sanitary landfill | Cut-off, U, bij gebrek aan passender proces)"},{"$f":"'MI materialen'!AQ46","v":"_0307-avC&Verbranden koperschroot (o.b.v. Scrap copper {RoW}| treatment of, municipal incineration | Cut-off, U)"},{"$f":"'MI materialen'!AR46","v":"0277-reD&Module D, koper, per kg NETTO geleverd schroot (vermeden: Copper {RER}| production, primary | Cut-off, U)"}]
[{"$f":"'MI materialen'!A47","v":"Metalen"},{"$f":"'MI materialen'!B47","v":"Verzinkt staal"},{"$f":"'MI materialen'!C47","v":"kg"},{"$f":"'MI materialen'!D47","v":0},"_0417-fab&Staal, ongelegeerd, verzinkt (o.b.v. 98,6% Steel, unalloyed {GLO}| market for | Cut-off, U + Hot rolling, steel; 1,4% Zinc {GLO}| market for | Cut-off, U + Zinc coat, coils)",0.36703882999999998,0,0,0.11606798,4.2882539000000002E-6,6.7382151000000001E-3,7.9285902000000005E-2,3.1887364000000001E-2,0.12596597000000001,7.5767130000000001E-4,6.0661977000000004E-3,2.6524083999999998E-4,0,0,0,0,0,0,0,0,0,0,0,0,0,0,0,0,0,0,{"$f":"'MI materialen'!AI47","v":36},{"$f":"'MI materialen'!AJ47","v":"metalen, overig"},{"$f":"'MI materialen'!AK47","v":"o.a. bevestiging, hulpstukken"},{"$f":"'MI materialen'!AL47","v":0.05},{"$f":"'MI materialen'!AM47","v":0.05},{"$f":"'MI materialen'!AN47","v":0.9},{"$f":"'MI materialen'!AO47","v":0},{"$f":"'MI materialen'!AP47","v":"0248-sto&Stort koper, lood, verzinkt staal, zink (o.b.v. Scrap tin sheet {CH}| treatment of, sanitary landfill | Cut-off, U, bij gebrek aan passender proces)"},{"$f":"'MI materialen'!AQ47","v":"_0257-avC&Verbranden staalschroot (o.b.v. Scrap steel {Europe without Switzerland}| treatment of scrap steel, municipal incineration | Cut-off, U)"},{"$f":"'MI materialen'!AR47","v":"0282-reD&Module D, staal, per kg NETTO geleverd ongelegeerd schroot (World Steel methode obv Steel, low-alloyed {RER&RoW}| steel production, electric, low-alloyed | Cut-off, U  -"}]
[{"$f":"'MI materialen'!A48","v":"Metalen"},{"$f":"'MI materialen'!B48","v":"Laaggelegeerd staal"},{"$f":"'MI materialen'!C48","v":"kg"},{"$f":"'MI materialen'!D48","v":0.125},"_0238-fab&Staal, laaggelegeerd (o.b.v. Steel, low-alloyed {GLO}| market for | Cut-off, U; 57% primair, 43% secundair)",0.65088108,0,0,7.9105714999999993E-2,2.7883391E-6,4.0820400000000003E-3,2.8342755000000001E-2,9.367106E-3,0.52140346999999998,6.4109848000000003E-4,5.8545398E-3,2.0815649E-3,0,0,0,0,0,0,0,0,0,0,0,0,0,0,0,0,0,0,{"$f":"'MI materialen'!AI48","v":36},{"$f":"'MI materialen'!AJ48","v":"metalen, overig"},{"$f":"'MI materialen'!AK48","v":"o.a. bevestiging, hulpstukken"},{"$f":"'MI materialen'!AL48","v":0.05},{"$f":"'MI materialen'!AM48","v":0.05},{"$f":"'MI materialen'!AN48","v":0.9},{"$f":"'MI materialen'!AO48","v":0},{"$f":"'MI materialen'!AP48","v":"0248-sto&Stort koper, lood, verzinkt staal, zink (o.b.v. Scrap tin sheet {CH}| treatment of, sanitary landfill | Cut-off, U, bij gebrek aan passender proces)"},{"$f":"'MI materialen'!AQ48","v":"_0257-avC&Verbranden staalschroot (o.b.v. Scrap steel {Europe without Switzerland}| treatment of scrap steel, municipal incineration | Cut-off, U)"}]
[{"$f":"'MI materialen'!A49","v":"Metalen"},{"$f":"'MI materialen'!B49","v":"Hooggelegeerd staal"},{"$f":"'MI materialen'!C49","v":"kg"},{"$f":"'MI materialen'!D49","v":0.28000000000000003},"_0202-fab&Staal, hooggelegeerd, RVS (o.b.v. Steel, chromium steel 18/8 {GLO}| market for | Cut-off, U; 72% primair, 28% secundair)",7.0755153999999996,0,0,0.21979646999999999,6.3072077999999999E-6,5.7324091000000004E-3,9.6529280999999995E-2,2.1484856E-2,6.6973352999999998,2.0935141999999999E-3,2.7093151999999999E-2,5.4441319000000004E-3,0,0,0,0,0,0,0,0,0,0,0,0,0,0,0,0,0,0,{"$f":"'MI materialen'!AI49","v":36},{"$f":"'MI materialen'!AJ49","v":"metalen, overig"},{"$f":"'MI materialen'!AK49","v":"o.a. bevestiging, hulpstukken"},{"$f":"'MI materialen'!AL49","v":0.05},{"$f":"'MI materialen'!AM49","v":0.05},{"$f":"'MI materialen'!AN49","v":0.9},{"$f":"'MI materialen'!AO49","v":0},{"$f":"'MI materialen'!AP49","v":"0248-sto&Stort koper, lood, verzinkt staal, zink (o.b.v. Scrap tin sheet {CH}| treatment of, sanitary landfill | Cut-off, U, bij gebrek aan passender proces)"},{"$f":"'MI materialen'!AQ49","v":"_0257-avC&Verbranden staalschroot (o.b.v. Scrap steel {Europe without Switzerland}| treatment of scrap steel, municipal incineration | Cut-off, U)"}]
[{"$f":"'MI materialen'!A50","v":"Metalen"},{"$f":"'MI materialen'!B50","v":"Ferronickel staal (25% nickel)"},{"$f":"'MI materialen'!C50","v":"kg"},{"$f":"'MI materialen'!D50","v":0},"_0352-fab&Ferronikkel (o.b.v. Ferronickel, 25% Ni {GLO}| production | Cut-off, U)",1.2122747,0,0,0.44273972,1.2097362E-5,6.4577801999999998E-3,0.19531017000000001,3.7287129000000002E-2,0.45206347000000002,5.3056120999999999E-3,7.1773026000000004E-2,1.3256788999999999E-3,0,0,0,0,0,0,0,0,0,0,0,0,0,0,0,0,0,0,{"$f":"'MI materialen'!AI50","v":36},{"$f":"'MI materialen'!AJ50","v":"metalen, overig"},{"$f":"'MI materialen'!AK50","v":"o.a. bevestiging, hulpstukken"},{"$f":"'MI materialen'!AL50","v":0.05},{"$f":"'MI materialen'!AM50","v":0.05},{"$f":"'MI materialen'!AN50","v":0.9},{"$f":"'MI materialen'!AO50","v":0},{"$f":"'MI materialen'!AP50","v":"0248-sto&Stort koper, lood, verzinkt staal, zink (o.b.v. Scrap tin sheet {CH}| treatment of, sanitary landfill | Cut-off, U, bij gebrek aan passender proces)"},{"$f":"'MI materialen'!AQ50","v":"_0257-avC&Verbranden staalschroot (o.b.v. Scrap steel {Europe without Switzerland}| treatment of scrap steel, municipal incineration | Cut-off, U)"}]
[{"$f":"'MI materialen'!A51","v":"Metalen"},{"$f":"'MI materialen'!B51","v":"Hoog carbon ferrochroom staal (68% chroom)"},{"$f":"'MI materialen'!C51","v":"kg"},{"$f":"'MI materialen'!D51","v":0},"_0351-fab&Ferrochroom (o.b.v. Ferrochromium, high-carbon, 68% Cr {GLO}| production | Cut-off, U)",24.768073999999999,0,0,0.10302095,2.6036153E-6,3.4481952999999999E-3,7.0607886999999994E-2,1.8375163E-2,24.550889000000002,4.5127614E-4,6.6824073000000001E-3,1.4596883E-2,0,0,0,0,0,0,0,0,0,0,0,0,0,0,0,0,0,0,{"$f":"'MI materialen'!AI51","v":36},{"$f":"'MI materialen'!AJ51","v":"metalen, overig"},{"$f":"'MI materialen'!AK51","v":"o.a. bevestiging, hulpstukken"},{"$f":"'MI materialen'!AL51","v":0.05},{"$f":"'MI materialen'!AM51","v":0.05},{"$f":"'MI materialen'!AN51","v":0.9},{"$f":"'MI materialen'!AO51","v":0},{"$f":"'MI materialen'!AP51","v":"0248-sto&Stort koper, lood, verzinkt staal, zink (o.b.v. Scrap tin sheet {CH}| treatment of, sanitary landfill | Cut-off, U, bij gebrek aan passender proces)"},{"$f":"'MI materialen'!AQ51","v":"_0257-avC&Verbranden staalschroot (o.b.v. Scrap steel {Europe without Switzerland}| treatment of scrap steel, municipal incineration | Cut-off, U)"}]
[{"$f":"'MI materialen'!A52","v":"Natuurlijke materialen"},{"$f":"'MI materialen'!B52","v":"Europees hardhout"},{"$f":"'MI materialen'!C52","v":"kg"},{"$f":"'MI materialen'!D52","v":0},"_0027-fab&Hout, Europees hardhout, eiken, kastanje, robinia, western red cedar, gezaagd (o.b.v. Sawnwood, hardwood, raw, dried (u=10%) {RER}| market for | Cut-off, U en 650 kg/m3 + 1500 kg per as)",4.8569420000000002E-2,0,0,1.8627293E-2,1.6951012999999999E-6,9.6256035999999997E-4,7.5829571999999996E-3,3.8525865E-3,1.5817286999999999E-2,1.6935571E-4,1.4823881999999999E-3,7.3296688999999996E-5,0,0,0,0,0,0,0,0,0,0,0,0,0,0,0,0,0,0,0,{"$f":"'MI materialen'!AJ52","v":"hout, verontreinigd"},{"$f":"'MI materialen'!AK52","v":"o.a. geschilderd, verduurzaamd"},{"$f":"'MI materialen'!AL52","v":0.05},{"$f":"'MI materialen'!AM52","v":0.95},{"$f":"'MI materialen'!AN52","v":0},{"$f":"'MI materialen'!AO52","v":0},{"$f":"'MI materialen'!AP52","v":"0246-sto&Stort hout, geschilderd (o.b.v. 99% Waste wood, untreated en 1% Waste paint {EU}| treatment of, sanitary landfill | Cut-off, U)"},{"$f":"'MI materialen'!AQ52","v":"_0263-avC&Verbranden hout, verontreinigd (13,99 MJ/kg) (o.b.v. Waste building wood, chrome preserved {CH}| treatment of, municipal incineration | Cut-off, U)"},{"$f":"'MI materialen'!AR52","v":"0275-reD&Module D, houten balk, per kg NETTO geleverd (o.b.v. Sawnwood, beam, softwood, dried (u=10%), planed {RoW}| planing, beam, softwood, u=10% | Cut-off, U)"}]
[{"$f":"'MI materialen'!A53","v":"Natuurlijke materialen"},{"$f":"'MI materialen'!B53","v":"Cellulose"},{"$f":"'MI materialen'!C53","v":"kg"},{"$f":"'MI materialen'!D53","v":0},"_0049-fab&Cellulose, inclusief inblazen (o.b.v. Cellulose fibre, inclusive blowing in {GLO}| market for | Cut-off, U)",0.1041219,0,0,2.7751310000000001E-2,1.41401E-6,7.1797571999999998E-4,1.5575385000000001E-2,4.1073144999999997E-3,5.2807023000000002E-2,2.8136688999999998E-4,2.7437414999999998E-3,1.3636616E-4,0,0,0,0,0,0,0,0,0,0,0,0,0,0,0,0,0,0,0,{"$f":"'MI materialen'!AJ53","v":"organisch, overig"},{"$f":"'MI materialen'!AK53","v":"o.a. isolatie"},{"$f":"'MI materialen'!AL53","v":0.05},{"$f":"'MI materialen'!AM53","v":0.95},{"$f":"'MI materialen'!AN53","v":0},{"$f":"'MI materialen'!AO53","v":0},{"$f":"'MI materialen'!AP53","v":"0245-sto&Stort hout, 'schoon' (o.b.v. Waste wood, untreated {Europe without Switzerland}| treatment of waste wood, untreated, sanitary landfill | Cut-off, U)"},{"$f":"'MI materialen'!AQ53","v":"_0297-avC&Verbranden organisch afval (4,29 MJ/kg) (o.b.v. Biowaste {GLO}| treatment of biowaste, municipal incineration | Cut-off, U)"},{"$f":"'MI materialen'!AR53","v":"0276-reD&Module D, houtspaanders, per kg NETTO geleverd (o.b.v. Wood chips, dry, measured as dry mass {RER}| three layered laminated board production | Cut-off, U)"}]
[{"$f":"'MI materialen'!A54","v":"Natuurlijke materialen"},{"$f":"'MI materialen'!B54","v":"Zachthout"},{"$f":"'MI materialen'!C54","v":"kg"},{"$f":"'MI materialen'!D54","v":0},"_0067-fab&Hout, zachthout, vuren, grenen, lariks, douglas (o.b.v. Sawnwood, softwood, dried (u=10%), planed {RER}| production | Cut-off, U en 1 m3 = 460 kg)",2.9388358999999999E-2,0,0,1.1330566E-2,7.2048692000000001E-7,4.4252779E-4,4.9294454999999999E-3,2.1969404999999998E-3,9.6504594999999999E-3,7.5801160999999995E-5,7.1560600000000003E-4,4.6292494999999997E-5,0,0,0,0,0,0,0,0,0,0,0,0,0,0,0,0,0,0,0,{"$f":"'MI materialen'!AJ54","v":"hout, verontreinigd"},{"$f":"'MI materialen'!AK54","v":"o.a. geschilderd, verduurzaamd"},{"$f":"'MI materialen'!AL54","v":0.05},{"$f":"'MI materialen'!AM54","v":0.95},{"$f":"'MI materialen'!AN54","v":0},{"$f":"'MI materialen'!AO54","v":0},{"$f":"'MI materialen'!AP54","v":"0246-sto&Stort hout, geschilderd (o.b.v. 99% Waste wood, untreated en 1% Waste paint {EU}| treatment of, sanitary landfill | Cut-off, U)"},{"$f":"'MI materialen'!AQ54","v":"_0263-avC&Verbranden hout, verontreinigd (13,99 MJ/kg) (o.b.v. Waste building wood, chrome preserved {CH}| treatment of, municipal incineration | Cut-off, U)"},{"$f":"'MI materialen'!AR54","v":"0275-reD&Module D, houten balk, per kg NETTO geleverd (o.b.v. Sawnwood, beam, softwood, dried (u=10%), planed {RoW}| planing, beam, softwood, u=10% | Cut-off, U)"}]
[{"$f":"'MI materialen'!A55","v":"Natuurlijke materialen"},{"$f":"'MI materialen'!B55","v":"Resthout"},{"$f":"'MI materialen'!C55","v":"kg"},{"$f":"'MI materialen'!D55","v":1},"_0071-fab&Hout, resthout, houtafval, houtsnippers, secundair (= 0-waarden want 'vrij van milieulast'; 0% primair, 100% secundair)",0,0,0,0,0,0,0,0,0,0,0,0,0,0,0,0,0,0,0,0,0,0,0,0,0,0,0,0,0,0,0,{"$f":"'MI materialen'!AJ55","v":"hout, verontreinigd"},{"$f":"'MI materialen'!AK55","v":"o.a. geschilderd, verduurzaamd"},{"$f":"'MI materialen'!AL55","v":0.05},{"$f":"'MI materialen'!AM55","v":0.95},{"$f":"'MI materialen'!AN55","v":0},{"$f":"'MI materialen'!AO55","v":0},{"$f":"'MI materialen'!AP55","v":"0246-sto&Stort hout, geschilderd (o.b.v. 99% Waste wood, untreated en 1% Waste paint {EU}| treatment of, sanitary landfill | Cut-off, U)"},{"$f":"'MI materialen'!AQ55","v":"_0263-avC&Verbranden hout, verontreinigd (13,99 MJ/kg) (o.b.v. Waste building wood, chrome preserved {CH}| treatment of, municipal incineration | Cut-off, U)"},{"$f":"'MI materialen'!AR55","v":"0275-reD&Module D, houten balk, per kg NETTO geleverd (o.b.v. Sawnwood, beam, softwood, dried (u=10%), planed {RoW}| planing, beam, softwood, u=10% | Cut-off, U)"}]
[{"$f":"'MI materialen'!A56","v":"Natuurlijke materialen"},{"$f":"'MI materialen'!B56","v":"Gecreosoteerd zachthout"},{"$f":"'MI materialen'!C56","v":"kg"},{"$f":"'MI materialen'!D56","v":0},"_0177-fab&Hout, zachthout, gecreosoteerd (o.b.v. Sawnwood, softwood, dried (u=10%) en Wood preservation, pressure vessel, creosote)",0.25618999999999997,0,0,2.4422527999999999E-2,1.8547467999999999E-6,1.3221861999999999E-2,9.2284159000000001E-3,3.6038034000000002E-3,5.6740800000000001E-2,0.14754897,1.3675810999999999E-3,5.4180359999999998E-5,0,0,0,0,0,0,0,0,0,0,0,0,0,0,0,0,0,0,0,{"$f":"'MI materialen'!AJ56","v":"hout, verontreinigd"},{"$f":"'MI materialen'!AK56","v":"o.a. geschilderd, verduurzaamd"},{"$f":"'MI materialen'!AL56","v":0.05},{"$f":"'MI materialen'!AM56","v":0.95},{"$f":"'MI materialen'!AN56","v":0},{"$f":"'MI materialen'!AO56","v":0},{"$f":"'MI materialen'!AP56","v":"0246-sto&Stort hout, geschilderd (o.b.v. 99% Waste wood, untreated en 1% Waste paint {EU}| treatment of, sanitary landfill | Cut-off, U)"},{"$f":"'MI materialen'!AQ56","v":"_0263-avC&Verbranden hout, verontreinigd (13,99 MJ/kg) (o.b.v. Waste building wood, chrome preserved {CH}| treatment of, municipal incineration | Cut-off, U)"},{"$f":"'MI materialen'!AR56","v":"0275-reD&Module D, houten balk, per kg NETTO geleverd (o.b.v. Sawnwood, beam, softwood, dried (u=10%), planed {RoW}| planing, beam, softwood, u=10% | Cut-off, U)"}]
[{"$f":"'MI materialen'!A57","v":"Natuurlijke materialen"},{"$f":"'MI materialen'!B57","v":"Gewolmaniseerd zachthout"},{"$f":"'MI materialen'!C57","v":"kg"},{"$f":"'MI materialen'!D57","v":0},"_0180-fab&Hout, zachthout, gewolmaniseerd (o.b.v. Sawnwood, softwood, dried (u=10%) en Wood preservation, oscillating pressure method, inorganic salt, containing Cr)",7.5216889999999995E-2,0,0,1.7888066000000001E-2,9.0922622999999998E-7,6.6469258E-4,1.3515942E-2,3.4355445000000002E-3,3.5570991000000003E-2,3.4648728E-4,3.6994102999999999E-3,9.484707E-5,0,0,0,0,0,0,0,0,0,0,0,0,0,0,0,0,0,0,0,{"$f":"'MI materialen'!AJ57","v":"hout, verontreinigd"},{"$f":"'MI materialen'!AK57","v":"o.a. geschilderd, verduurzaamd"},{"$f":"'MI materialen'!AL57","v":0.05},{"$f":"'MI materialen'!AM57","v":0.95},{"$f":"'MI materialen'!AN57","v":0},{"$f":"'MI materialen'!AO57","v":0},{"$f":"'MI materialen'!AP57","v":"0246-sto&Stort hout, geschilderd (o.b.v. 99% Waste wood, untreated en 1% Waste paint {EU}| treatment of, sanitary landfill | Cut-off, U)"},{"$f":"'MI materialen'!AQ57","v":"_0263-avC&Verbranden hout, verontreinigd (13,99 MJ/kg) (o.b.v. Waste building wood, chrome preserved {CH}| treatment of, municipal incineration | Cut-off, U)"},{"$f":"'MI materialen'!AR57","v":"0275-reD&Module D, houten balk, per kg NETTO geleverd (o.b.v. Sawnwood, beam, softwood, dried (u=10%), planed {RoW}| planing, beam, softwood, u=10% | Cut-off, U)"}]
[{"$f":"'MI materialen'!A58","v":"Natuurlijke materialen"},{"$f":"'MI materialen'!B58","v":"Hardhoutsnippers"},{"$f":"'MI materialen'!C58","v":"kg"},{"$f":"'MI materialen'!D58","v":0},"_0291-fab&Hout, Europees hardhout, wilg (o.b.v. Wood chips and particles, willow {GLO}| market for | Cut-off, U)",1.5671371999999999E-2,0,0,3.3880313999999998E-3,2.0412858E-7,8.8026111000000004E-5,1.6268864000000001E-3,6.3278001000000002E-3,4.0643878000000003E-3,-5.0401393000000001E-6,1.8681625E-4,-5.7405578999999999E-6,0,0,0,0,0,0,0,0,0,0,0,0,0,0,0,0,0,0,0,{"$f":"'MI materialen'!AJ58","v":"hout, verontreinigd"},{"$f":"'MI materialen'!AK58","v":"o.a. geschilderd, verduurzaamd"},{"$f":"'MI materialen'!AL58","v":0.05},{"$f":"'MI materialen'!AM58","v":0.95},{"$f":"'MI materialen'!AN58","v":0},{"$f":"'MI materialen'!AO58","v":0},{"$f":"'MI materialen'!AP58","v":"0246-sto&Stort hout, geschilderd (o.b.v. 99% Waste wood, untreated en 1% Waste paint {EU}| treatment of, sanitary landfill | Cut-off, U)"},{"$f":"'MI materialen'!AQ58","v":"_0263-avC&Verbranden hout, verontreinigd (13,99 MJ/kg) (o.b.v. Waste building wood, chrome preserved {CH}| treatment of, municipal incineration | Cut-off, U)"},{"$f":"'MI materialen'!AR58","v":"0276-reD&Module D, houtspaanders, per kg NETTO geleverd (o.b.v. Wood chips, dry, measured as dry mass {RER}| three layered laminated board production | Cut-off, U)"}]
[{"$f":"'MI materialen'!A59","v":"Natuurlijke materialen"},{"$f":"'MI materialen'!B59","v":"Tropisch hardhout"},{"$f":"'MI materialen'!C59","v":"kg"},{"$f":"'MI materialen'!D59","v":0},"_0381-fab&Hout, tropisch hardhout, Zuid-Amerikaans, gezaagd (o.b.v. Sawnwood, hardwood, dried (u=10%), planed {RoW}| market for | Cut-off, U en 1000 kg/m3 + 10100 km zeetransport + 350 km per as)",4.4133508000000002E-2,0,0,1.2648866E-2,1.1109251E-6,7.7664887E-4,1.3356922E-2,4.2949826000000003E-3,1.1897499000000001E-2,1.0519468E-4,1.0027967E-3,4.9486885000000001E-5,0,0,0,0,0,0,0,0,0,0,0,0,0,0,0,0,0,0,0,{"$f":"'MI materialen'!AJ59","v":"hout, verontreinigd"},{"$f":"'MI materialen'!AK59","v":"o.a. geschilderd, verduurzaamd"},{"$f":"'MI materialen'!AL59","v":0.05},{"$f":"'MI materialen'!AM59","v":0.95},{"$f":"'MI materialen'!AN59","v":0},{"$f":"'MI materialen'!AO59","v":0},{"$f":"'MI materialen'!AP59","v":"0246-sto&Stort hout, geschilderd (o.b.v. 99% Waste wood, untreated en 1% Waste paint {EU}| treatment of, sanitary landfill | Cut-off, U)"},{"$f":"'MI materialen'!AQ59","v":"_0263-avC&Verbranden hout, verontreinigd (13,99 MJ/kg) (o.b.v. Waste building wood, chrome preserved {CH}| treatment of, municipal incineration | Cut-off, U)"},{"$f":"'MI materialen'!AR59","v":"0275-reD&Module D, houten balk, per kg NETTO geleverd (o.b.v. Sawnwood, beam, softwood, dried (u=10%), planed {RoW}| planing, beam, softwood, u=10% | Cut-off, U)"}]
[{"$f":"'MI materialen'!A60","v":"Natuurlijke materialen"},{"$f":"'MI materialen'!B60","v":"Bamboe"},{"$f":"'MI materialen'!C60","v":"kg"},{"$f":"'MI materialen'!D60","v":0},"_0414-fab&Bamboe, balk, geperste bundels strips (Strand woven bamboo beams [VanderLugt&Vogtlander 2015])",0.1760987,0,0,6.8422561000000007E-2,2.4182862000000001E-6,1.179696E-3,4.0216200000000001E-2,1.0316334999999999E-2,5.0286549E-2,3.2493601000000002E-4,5.2168298000000004E-3,1.3317137E-4,0,0,0,0,0,0,0,0,0,0,0,0,0,0,0,0,0,0,0,{"$f":"'MI materialen'!AJ60","v":"hout, verontreinigd"},{"$f":"'MI materialen'!AK60","v":"o.a. geschilderd, verduurzaamd"},{"$f":"'MI materialen'!AL60","v":0.05},{"$f":"'MI materialen'!AM60","v":0.95},{"$f":"'MI materialen'!AN60","v":0},{"$f":"'MI materialen'!AO60","v":0},{"$f":"'MI materialen'!AP60","v":"0246-sto&Stort hout, geschilderd (o.b.v. 99% Waste wood, untreated en 1% Waste paint {EU}| treatment of, sanitary landfill | Cut-off, U)"},{"$f":"'MI materialen'!AQ60","v":"_0263-avC&Verbranden hout, verontreinigd (13,99 MJ/kg) (o.b.v. Waste building wood, chrome preserved {CH}| treatment of, municipal incineration | Cut-off, U)"},{"$f":"'MI materialen'!AR60","v":"0275-reD&Module D, houten balk, per kg NETTO geleverd (o.b.v. Sawnwood, beam, softwood, dried (u=10%), planed {RoW}| planing, beam, softwood, u=10% | Cut-off, U)"}]
[{"$f":"'MI materialen'!A61","v":"Natuurlijke materialen"},{"$f":"'MI materialen'!B61","v":"Kurk"},{"$f":"'MI materialen'!C61","v":"kg"},{"$f":"'MI materialen'!D61","v":0},"_0435-fab&Kurk, geexpandeerd (o.b.v. Cork slab {GLO}| market for | Cut-off, U + 2300 km zeetransport)",0.22391605000000001,0,0,8.8288081000000004E-2,3.5694455999999999E-6,2.2086545000000002E-3,4.0172829E-2,1.0148750999999999E-2,7.5449414000000006E-2,9.5418879999999997E-4,6.4821973999999996E-3,2.0836592E-4,0,0,0,0,0,0,0,0,0,0,0,0,0,0,0,0,0,0,0,{"$f":"'MI materialen'!AJ61","v":"hout, verontreinigd"},{"$f":"'MI materialen'!AK61","v":"o.a. geschilderd, verduurzaamd"},{"$f":"'MI materialen'!AL61","v":0.05},{"$f":"'MI materialen'!AM61","v":0.95},{"$f":"'MI materialen'!AN61","v":0},{"$f":"'MI materialen'!AO61","v":0},{"$f":"'MI materialen'!AP61","v":"0246-sto&Stort hout, geschilderd (o.b.v. 99% Waste wood, untreated en 1% Waste paint {EU}| treatment of, sanitary landfill | Cut-off, U)"},{"$f":"'MI materialen'!AQ61","v":"_0263-avC&Verbranden hout, verontreinigd (13,99 MJ/kg) (o.b.v. Waste building wood, chrome preserved {CH}| treatment of, municipal incineration | Cut-off, U)"},{"$f":"'MI materialen'!AR61","v":"0276-reD&Module D, houtspaanders, per kg NETTO geleverd (o.b.v. Wood chips, dry, measured as dry mass {RER}| three layered laminated board production | Cut-off, U)"}]
[{"$f":"'MI materialen'!A62","v":"Plaatmateriaal"},{"$f":"'MI materialen'!B62","v":"Multiplex"},{"$f":"'MI materialen'!C62","v":"kg"},{"$f":"'MI materialen'!D62","v":0},"_0010-fab&Hout, multiplex, binnentoepassing (o.b.v. Plywood, for indoor use {RER}| market for | Cut-off, U en 500 kg/m3; 100% primair, 0% secundair)",0.11246575,0,0,3.8965706000000003E-2,3.304352E-6,2.8222696999999999E-3,1.8689364999999999E-2,9.7101396000000006E-3,3.7809813999999997E-2,5.3265313999999999E-4,3.7219092999999999E-3,2.1059099999999999E-4,0,0,0,0,0,0,0,0,0,0,0,0,0,0,0,0,0,0,{"$f":"'MI materialen'!AI62","v":25},{"$f":"'MI materialen'!AJ62","v":"hout, verontreinigd"},{"$f":"'MI materialen'!AK62","v":"o.a. geschilderd, verduurzaamd"},{"$f":"'MI materialen'!AL62","v":0.05},{"$f":"'MI materialen'!AM62","v":0.95},{"$f":"'MI materialen'!AN62","v":0},{"$f":"'MI materialen'!AO62","v":0},{"$f":"'MI materialen'!AP62","v":"0246-sto&Stort hout, geschilderd (o.b.v. 99% Waste wood, untreated en 1% Waste paint {EU}| treatment of, sanitary landfill | Cut-off, U)"},{"$f":"'MI materialen'!AQ62","v":"_0263-avC&Verbranden hout, verontreinigd (13,99 MJ/kg) (o.b.v. Waste building wood, chrome preserved {CH}| treatment of, municipal incineration | Cut-off, U)"},{"$f":"'MI materialen'!AR62","v":"0276-reD&Module D, houtspaanders, per kg NETTO geleverd (o.b.v. Wood chips, dry, measured as dry mass {RER}| three layered laminated board production | Cut-off, U)"}]
[{"$f":"'MI materialen'!A63","v":"Plaatmateriaal"},{"$f":"'MI materialen'!B63","v":"Spaanplaat"},{"$f":"'MI materialen'!C63","v":"kg"},{"$f":"'MI materialen'!D63","v":0.64900000000000002},"_0021-fab&Hout, spaanplaat, binnengebruik (o.b.v. Particle board, for indoor use {GLO}| market for | Cut-off, U en 680 kg/m3; 35,1% primair, 64,9% secundair)",9.8704608999999999E-2,0,0,2.6832160000000001E-2,1.9306983000000002E-6,1.8708039E-3,1.4156237E-2,3.9322118E-3,4.9012993999999997E-2,2.8754212000000001E-4,2.5287703000000002E-3,8.1959334999999995E-5,0,0,0,0,0,0,0,0,0,0,0,0,0,0,0,0,0,0,{"$f":"'MI materialen'!AI63","v":25},{"$f":"'MI materialen'!AJ63","v":"hout, verontreinigd"},{"$f":"'MI materialen'!AK63","v":"o.a. geschilderd, verduurzaamd"},{"$f":"'MI materialen'!AL63","v":0.05},{"$f":"'MI materialen'!AM63","v":0.95},{"$f":"'MI materialen'!AN63","v":0},{"$f":"'MI materialen'!AO63","v":0},{"$f":"'MI materialen'!AP63","v":"0246-sto&Stort hout, geschilderd (o.b.v. 99% Waste wood, untreated en 1% Waste paint {EU}| treatment of, sanitary landfill | Cut-off, U)"},{"$f":"'MI materialen'!AQ63","v":"_0263-avC&Verbranden hout, verontreinigd (13,99 MJ/kg) (o.b.v. Waste building wood, chrome preserved {CH}| treatment of, municipal incineration | Cut-off, U)"},{"$f":"'MI materialen'!AR63","v":"0276-reD&Module D, houtspaanders, per kg NETTO geleverd (o.b.v. Wood chips, dry, measured as dry mass {RER}| three layered laminated board production | Cut-off, U)"}]
[{"$f":"'MI materialen'!A64","v":"Plaatmateriaal"},{"$f":"'MI materialen'!B64","v":"OSB"},{"$f":"'MI materialen'!C64","v":"kg"},{"$f":"'MI materialen'!D64","v":0},"_0023-fab&Hout, OSB (o.b.v. Oriented strand board {GLO}| market for | Cut-off, U en 600 kg/m3; 100% primair, 0% secundair)",9.0402547999999999E-2,0,0,3.1013401999999999E-2,2.4413200999999999E-6,1.8624746E-3,1.3720312E-2,6.3823313999999999E-3,3.4951535999999998E-2,2.5432333000000002E-4,2.0895906999999999E-3,1.2613756999999999E-4,0,0,0,0,0,0,0,0,0,0,0,0,0,0,0,0,0,0,{"$f":"'MI materialen'!AI64","v":25},{"$f":"'MI materialen'!AJ64","v":"hout, verontreinigd"},{"$f":"'MI materialen'!AK64","v":"o.a. geschilderd, verduurzaamd"},{"$f":"'MI materialen'!AL64","v":0.05},{"$f":"'MI materialen'!AM64","v":0.95},{"$f":"'MI materialen'!AN64","v":0},{"$f":"'MI materialen'!AO64","v":0},{"$f":"'MI materialen'!AP64","v":"0246-sto&Stort hout, geschilderd (o.b.v. 99% Waste wood, untreated en 1% Waste paint {EU}| treatment of, sanitary landfill | Cut-off, U)"},{"$f":"'MI materialen'!AQ64","v":"_0263-avC&Verbranden hout, verontreinigd (13,99 MJ/kg) (o.b.v. Waste building wood, chrome preserved {CH}| treatment of, municipal incineration | Cut-off, U)"},{"$f":"'MI materialen'!AR64","v":"0276-reD&Module D, houtspaanders, per kg NETTO geleverd (o.b.v. Wood chips, dry, measured as dry mass {RER}| three layered laminated board production | Cut-off, U)"}]
[{"$f":"'MI materialen'!A65","v":"Plaatmateriaal"},{"$f":"'MI materialen'!B65","v":"Zachthout"},{"$f":"'MI materialen'!C65","v":"kg"},{"$f":"'MI materialen'!D65","v":0},"_0024-fab&Hout, zachthout, vuren, grenen, lariks, douglas, gelamineerd (o.b.v. Glued laminated timber, for indoor use {GLO}| market for | Cut-off, U en 1 m3 = 460 kg; 100% primair, 0% secundair)",6.7530682999999994E-2,0,0,2.5404117E-2,1.8507312E-6,1.1990404000000001E-3,1.1766476999999999E-2,5.4391263000000004E-3,2.1535525999999999E-2,2.0838498999999999E-4,1.8733712E-3,1.0279026E-4,0,0,0,0,0,0,0,0,0,0,0,0,0,0,0,0,0,0,{"$f":"'MI materialen'!AI65","v":25},{"$f":"'MI materialen'!AJ65","v":"hout, verontreinigd"},{"$f":"'MI materialen'!AK65","v":"o.a. geschilderd, verduurzaamd"},{"$f":"'MI materialen'!AL65","v":0.05},{"$f":"'MI materialen'!AM65","v":0.95},{"$f":"'MI materialen'!AN65","v":0},{"$f":"'MI materialen'!AO65","v":0},{"$f":"'MI materialen'!AP65","v":"0246-sto&Stort hout, geschilderd (o.b.v. 99% Waste wood, untreated en 1% Waste paint {EU}| treatment of, sanitary landfill | Cut-off, U)"},{"$f":"'MI materialen'!AQ65","v":"_0263-avC&Verbranden hout, verontreinigd (13,99 MJ/kg) (o.b.v. Waste building wood, chrome preserved {CH}| treatment of, municipal incineration | Cut-off, U)"},{"$f":"'MI materialen'!AR65","v":"0276-reD&Module D, houtspaanders, per kg NETTO geleverd (o.b.v. Wood chips, dry, measured as dry mass {RER}| three layered laminated board production | Cut-off, U)"}]
[{"$f":"'MI materialen'!A66","v":"Plaatmateriaal"},{"$f":"'MI materialen'!B66","v":"HDF"},{"$f":"'MI materialen'!C66","v":"kg"},{"$f":"'MI materialen'!D66","v":0},"_0038-fab&HDF, high density fibreboard, hardboard (o.b.v. Fibreboard, hard {GLO}| market for | Cut-off, U en 900 kg/m3; 100% primair, 0% secundair)",0.18262102,0,0,6.3294157000000004E-2,2.0602444999999998E-6,3.3372419000000002E-3,3.0049624E-2,1.1778457000000001E-2,6.9657555999999995E-2,7.1891002000000004E-4,3.3951176999999998E-3,3.8789967999999997E-4,0,0,0,0,0,0,0,0,0,0,0,0,0,0,0,0,0,0,{"$f":"'MI materialen'!AI66","v":25},{"$f":"'MI materialen'!AJ66","v":"hout, verontreinigd"},{"$f":"'MI materialen'!AK66","v":"o.a. geschilderd, verduurzaamd"},{"$f":"'MI materialen'!AL66","v":0.05},{"$f":"'MI materialen'!AM66","v":0.95},{"$f":"'MI materialen'!AN66","v":0},{"$f":"'MI materialen'!AO66","v":0},{"$f":"'MI materialen'!AP66","v":"0246-sto&Stort hout, geschilderd (o.b.v. 99% Waste wood, untreated en 1% Waste paint {EU}| treatment of, sanitary landfill | Cut-off, U)"},{"$f":"'MI materialen'!AQ66","v":"_0263-avC&Verbranden hout, verontreinigd (13,99 MJ/kg) (o.b.v. Waste building wood, chrome preserved {CH}| treatment of, municipal incineration | Cut-off, U)"},{"$f":"'MI materialen'!AR66","v":"0276-reD&Module D, houtspaanders, per kg NETTO geleverd (o.b.v. Wood chips, dry, measured as dry mass {RER}| three layered laminated board production | Cut-off, U)"}]
[{"$f":"'MI materialen'!A67","v":"Plaatmateriaal"},{"$f":"'MI materialen'!B67","v":"MDF"},{"$f":"'MI materialen'!C67","v":"kg"},{"$f":"'MI materialen'!D67","v":0.14000000000000001},"_0044-fab&MDF (o.b.v. Medium density fibreboard {GLO}| market for | Cut-off, U en 780 kg/m3; 86% primair, 14% secundair)",0.12363397,0,0,4.6899740000000002E-2,2.8724816000000002E-6,1.9589462000000001E-3,1.9552657000000001E-2,6.8736986000000003E-3,4.2890233999999999E-2,5.0704764999999995E-4,4.8024036000000004E-3,1.4636905E-4,0,0,0,0,0,0,0,0,0,0,0,0,0,0,0,0,0,0,{"$f":"'MI materialen'!AI67","v":25},{"$f":"'MI materialen'!AJ67","v":"hout, verontreinigd"},{"$f":"'MI materialen'!AK67","v":"o.a. geschilderd, verduurzaamd"},{"$f":"'MI materialen'!AL67","v":0.05},{"$f":"'MI materialen'!AM67","v":0.95},{"$f":"'MI materialen'!AN67","v":0},{"$f":"'MI materialen'!AO67","v":0},{"$f":"'MI materialen'!AP67","v":"0246-sto&Stort hout, geschilderd (o.b.v. 99% Waste wood, untreated en 1% Waste paint {EU}| treatment of, sanitary landfill | Cut-off, U)"},{"$f":"'MI materialen'!AQ67","v":"_0263-avC&Verbranden hout, verontreinigd (13,99 MJ/kg) (o.b.v. Waste building wood, chrome preserved {CH}| treatment of, municipal incineration | Cut-off, U)"},{"$f":"'MI materialen'!AR67","v":"0276-reD&Module D, houtspaanders, per kg NETTO geleverd (o.b.v. Wood chips, dry, measured as dry mass {RER}| three layered laminated board production | Cut-off, U)"}]
[{"$f":"'MI materialen'!A68","v":"Plaatmateriaal"},{"$f":"'MI materialen'!B68","v":"Karton"},{"$f":"'MI materialen'!C68","v":"kg"},{"$f":"'MI materialen'!D68","v":0.76},"_0058-fab&Papier/karton (o.b.v. Core board {GLO}| market for | Cut-off, U; 24% primair, 76% secundair)",0.19839808,0,0,7.4116095000000007E-2,2.364564E-6,1.3077385000000001E-3,3.9153615000000003E-2,1.9895018E-2,5.2547377999999999E-2,5.0532863999999999E-3,4.2631179000000002E-3,2.0594691E-3,0,0,0,0,0,0,0,0,0,0,0,0,0,0,0,0,0,0,{"$f":"'MI materialen'!AI68","v":37},{"$f":"'MI materialen'!AJ68","v":"organisch"},{"$f":"'MI materialen'!AK68","v":"via restmateriaal"},{"$f":"'MI materialen'!AL68","v":0.15},{"$f":"'MI materialen'!AM68","v":0.85},{"$f":"'MI materialen'!AN68","v":0},{"$f":"'MI materialen'!AO68","v":0},{"$f":"'MI materialen'!AP68","v":"0246-sto&Stort hout, geschilderd (o.b.v. 99% Waste wood, untreated en 1% Waste paint {EU}| treatment of, sanitary landfill | Cut-off, U)"},{"$f":"'MI materialen'!AQ68","v":"_0263-avC&Verbranden hout, verontreinigd (13,99 MJ/kg) (o.b.v. Waste building wood, chrome preserved {CH}| treatment of, municipal incineration | Cut-off, U)"},{"$f":"'MI materialen'!AR68","v":"0276-reD&Module D, houtspaanders, per kg NETTO geleverd (o.b.v. Wood chips, dry, measured as dry mass {RER}| three layered laminated board production | Cut-off, U)"}]
[{"$f":"'MI materialen'!A69","v":"Polymeren"},{"$f":"'MI materialen'!B69","v":"EPS"},{"$f":"'MI materialen'!C69","v":"kg"},{"$f":"'MI materialen'!D69","v":0.13},"_0007-fab&Polystyreen, EPS (o.b.v. Polystyrene foam slab {GLO}| market for | Cut-off, U; 87% primair, 13% secundair)",0.35494057000000001,0,0,0.20262195,3.5077462000000002E-6,1.6502808000000001E-2,5.6617974000000001E-2,1.1792156999999999E-2,6.1410992999999997E-2,4.7837433999999999E-4,5.3556504999999997E-3,1.5714799999999999E-4,0,0,0,0,0,0,0,0,0,0,0,0,0,0,0,0,{"$f":"'MI materialen'!AG69","v":0},{"$f":"'MI materialen'!AH69","v":0},{"$f":"'MI materialen'!AI69","v":13},{"$f":"'MI materialen'!AJ69","v":"eps, overig"},{"$f":"'MI materialen'!AK69","v":"o.a. isolatie"},{"$f":"'MI materialen'!AL69","v":0.05},{"$f":"'MI materialen'!AM69","v":0.9},{"$f":"'MI materialen'!AN69","v":0.05},{"$f":"'MI materialen'!AO69","v":0},{"$f":"'MI materialen'!AP69","v":"0242-sto&Stort EPS, XPS (o.b.v. Waste polystyrene {Europe without Switzerland}| treatment of waste polystyrene, sanitary landfill | Cut-off, U)"},{"$f":"'MI materialen'!AQ69","v":"_0261-avC&Verbranden EPS (32,2 MJ/kg) (o.b.v. Waste expanded polystyrene {CH}| treatment of, municipal incineration | Cut-off, U)"},{"$f":"'MI materialen'!AR69","v":"0309-reD&Module D, EPS, per kg NETTO geleverd EPS (o.b.v. vermeden Polystyrene, expandable {RER}| production | Cut-off, U en kwaliteitsfactor 0,9)"}]
[{"$f":"'MI materialen'!A70","v":"Polymeren"},{"$f":"'MI materialen'!B70","v":"Rubber"},{"$f":"'MI materialen'!C70","v":"kg"},{"$f":"'MI materialen'!D70","v":0},"_0014-fab&EPDM, rubber, chloropreen, neoprene, styrene butadiene rubber - SBR (o.b.v. Synthetic rubber {GLO}| market for | Cut-off, U)",0.33552863999999999,0,0,0.13796283000000001,1.639052E-5,6.4872417999999998E-3,5.3579694999999997E-2,1.4185804E-2,0.11220548,8.2925678999999999E-4,1.0018999000000001E-2,2.4294052000000001E-4,0,0,0,0,0,0,0,0,0,0,0,0,0,0,0,0,{"$f":"'MI materialen'!AG70","v":0},{"$f":"'MI materialen'!AH70","v":0},{"$f":"'MI materialen'!AI70","v":11},{"$f":"'MI materialen'!AJ70","v":"elastomeren (o.a. epdm)"},{"$f":"'MI materialen'!AK70","v":"o.a. dakbedekkingen, folies"},{"$f":"'MI materialen'!AL70","v":0.1},{"$f":"'MI materialen'!AM70","v":0.85},{"$f":"'MI materialen'!AN70","v":0.05},{"$f":"'MI materialen'!AO70","v":0},{"$f":"'MI materialen'!AP70","v":"0249-sto&Stort kunststoffen (o.b.v. mix 21% PE, 21% PP, 17% PVC, 21% PS en 20% mixture)"},{"$f":"'MI materialen'!AQ70","v":"_0260-avC&Verbranden rubber/EPDM (27,2 MJ/kg) (o.b.v. Waste rubber, unspecified {Europe without Switzerland}| treatment of waste rubber, unspecified, municipal incineration | Cut-off, U)"},{"$f":"'MI materialen'!AR70","v":"0278-reD&Module D, PE, per kg NETTO geleverd (o.b.v. vermeden Polyethylene, high density, granulate {RER}| production | Cut-off, U en kwaliteitsfactor 0,67)"}]
[{"$f":"'MI materialen'!A71","v":"Polymeren"},{"$f":"'MI materialen'!B71","v":"Polycarbonaat"},{"$f":"'MI materialen'!C71","v":"kg"},{"$f":"'MI materialen'!D71","v":0},"_0030-fab&Polycarbonaat (o.b.v. Polycarbonate {GLO}| market for | Cut-off, U)",0.57203965000000001,0,0,0.41007084999999999,4.8614815999999999E-7,7.2736896000000001E-3,0.10155357,1.8226138999999999E-2,2.966237E-2,9.4880704000000003E-4,2.6662018999999999E-3,1.6375373E-3,0,0,0,0,0,0,0,0,0,0,0,0,0,0,0,0,{"$f":"'MI materialen'!AG71","v":0},{"$f":"'MI materialen'!AH71","v":0},{"$f":"'MI materialen'!AI71","v":32},{"$f":"'MI materialen'!AJ71","v":"kunststoffen, overig"},{"$f":"'MI materialen'!AK71","v":"o.a. profielen, platen, leidingen"},{"$f":"'MI materialen'!AL71","v":0},{"$f":"'MI materialen'!AM71","v":0.9},{"$f":"'MI materialen'!AN71","v":0.1},{"$f":"'MI materialen'!AO71","v":0},{"$f":"'MI materialen'!AP71","v":"0249-sto&Stort kunststoffen (o.b.v. mix 21% PE, 21% PP, 17% PVC, 21% PS en 20% mixture)"},{"$f":"'MI materialen'!AQ71","v":"_0264-avC&Verbranden kunststoffen (28,67 MJ/kg) (o.b.v. o.b.v. mix 21% PE, 21% PP, 20% PVC, 17% PS en 21% mixture)"},{"$f":"'MI materialen'!AR71","v":"0278-reD&Module D, PE, per kg NETTO geleverd (o.b.v. vermeden Polyethylene, high density, granulate {RER}| production | Cut-off, U en kwaliteitsfactor 0,67)"}]
[{"$f":"'MI materialen'!A72","v":"Polymeren"},{"$f":"'MI materialen'!B72","v":"PUR"},{"$f":"'MI materialen'!C72","v":"kg"},{"$f":"'MI materialen'!D72","v":0},"_0032-fab&PUR, hardschuim (o.b.v. Polyurethane, rigid foam {RER}| market for polyurethane, rigid foam | Cut-off, U)",0.74440474000000001,0,0,0.28593536000000003,2.6659670999999999E-5,1.5718316E-2,0.11850664,5.9398095999999997E-2,0.24703127,2.2720310999999999E-3,1.4635502999999999E-2,8.8086304999999998E-4,0,0,0,0,0,0,0,0,0,0,0,0,0,0,0,0,{"$f":"'MI materialen'!AG72","v":0},{"$f":"'MI materialen'!AH72","v":0},{"$f":"'MI materialen'!AI72","v":13},{"$f":"'MI materialen'!AJ72","v":"eps, overig"},{"$f":"'MI materialen'!AK72","v":"o.a. isolatie"},{"$f":"'MI materialen'!AL72","v":0.05},{"$f":"'MI materialen'!AM72","v":0.9},{"$f":"'MI materialen'!AN72","v":0.05},{"$f":"'MI materialen'!AO72","v":0},{"$f":"'MI materialen'!AP72","v":"0300-sto&Stort PUR (o.b.v. Waste polyurethane {RoW}| treatment of, sanitary landfill | Cut-off, U)"},{"$f":"'MI materialen'!AQ72","v":"_0264-avC&Verbranden kunststoffen (28,67 MJ/kg) (o.b.v. o.b.v. mix 21% PE, 21% PP, 20% PVC, 17% PS en 21% mixture)"},{"$f":"'MI materialen'!AR72","v":"0278-reD&Module D, PE, per kg NETTO geleverd (o.b.v. vermeden Polyethylene, high density, granulate {RER}| production | Cut-off, U en kwaliteitsfactor 0,67)"}]
[{"$f":"'MI materialen'!A73","v":"Polymeren"},{"$f":"'MI materialen'!B73","v":"Polystyreen"},{"$f":"'MI materialen'!C73","v":"kg"},{"$f":"'MI materialen'!D73","v":0.13},"_0048-fab&Polystyreen (o.b.v. Polystyrene, general purpose {GLO}| market for | Cut-off, U)",0.29205851999999999,0,0,0.18735152999999999,4.6423589E-7,4.4854009000000004E-3,4.7955442000000001E-2,7.4112183999999999E-3,4.1626771E-2,4.7726497E-4,2.6792048E-3,7.1227356000000001E-5,0,0,0,0,0,0,0,0,0,0,0,0,0,0,0,0,{"$f":"'MI materialen'!AG73","v":0},{"$f":"'MI materialen'!AH73","v":0},{"$f":"'MI materialen'!AI73","v":13},{"$f":"'MI materialen'!AJ73","v":"eps, overig"},{"$f":"'MI materialen'!AK73","v":"o.a. isolatie"},{"$f":"'MI materialen'!AL73","v":0.05},{"$f":"'MI materialen'!AM73","v":0.9},{"$f":"'MI materialen'!AN73","v":0.05},{"$f":"'MI materialen'!AO73","v":0},{"$f":"'MI materialen'!AP73","v":"0242-sto&Stort EPS, XPS (o.b.v. Waste polystyrene {Europe without Switzerland}| treatment of waste polystyrene, sanitary landfill | Cut-off, U)"},{"$f":"'MI materialen'!AQ73","v":"_0261-avC&Verbranden EPS (32,2 MJ/kg) (o.b.v. Waste expanded polystyrene {CH}| treatment of, municipal incineration | Cut-off, U)"},{"$f":"'MI materialen'!AR73","v":"0309-reD&Module D, EPS, per kg NETTO geleverd EPS (o.b.v. vermeden Polystyrene, expandable {RER}| production | Cut-off, U en kwaliteitsfactor 0,9)"}]
[{"$f":"'MI materialen'!A74","v":"Polymeren"},{"$f":"'MI materialen'!B74","v":"ABS"},{"$f":"'MI materialen'!C74","v":"kg"},{"$f":"'MI materialen'!D74","v":0},"_0055-fab&ABS (o.b.v. Acrylonitrile-butadiene-styrene copolymer {GLO}| market for | Cut-off, U)",0.36463467999999999,0,0,0.23369759000000001,1.7984147E-6,7.1815411999999997E-3,5.6552868999999999E-2,1.1688855999999999E-2,4.0794249999999997E-2,2.7672920999999998E-3,1.1871171999999999E-2,7.9313611999999999E-5,0,0,0,0,0,0,0,0,0,0,0,0,0,0,0,0,{"$f":"'MI materialen'!AG74","v":0},{"$f":"'MI materialen'!AH74","v":0},{"$f":"'MI materialen'!AI74","v":32},{"$f":"'MI materialen'!AJ74","v":"kunststoffen, overig"},{"$f":"'MI materialen'!AK74","v":"o.a. profielen, platen, leidingen"},{"$f":"'MI materialen'!AL74","v":0},{"$f":"'MI materialen'!AM74","v":0.9},{"$f":"'MI materialen'!AN74","v":0.1},{"$f":"'MI materialen'!AO74","v":0},{"$f":"'MI materialen'!AP74","v":"0249-sto&Stort kunststoffen (o.b.v. mix 21% PE, 21% PP, 17% PVC, 21% PS en 20% mixture)"},{"$f":"'MI materialen'!AQ74","v":"_0264-avC&Verbranden kunststoffen (28,67 MJ/kg) (o.b.v. o.b.v. mix 21% PE, 21% PP, 20% PVC, 17% PS en 21% mixture)"},{"$f":"'MI materialen'!AR74","v":"0278-reD&Module D, PE, per kg NETTO geleverd (o.b.v. vermeden Polyethylene, high density, granulate {RER}| production | Cut-off, U en kwaliteitsfactor 0,67)"}]
[{"$f":"'MI materialen'!A75","v":"Polymeren"},{"$f":"'MI materialen'!B75","v":"Polyester"},{"$f":"'MI materialen'!C75","v":"kg"},{"$f":"'MI materialen'!D75","v":0},"_0075-fab&Polyester, glasvezelversterkt (o.b.v. Glass fibre reinforced plastic, polyester resin, hand lay-up {GLO}| market for | Cut-off, U)",0.68214096999999996,0,0,0.19223145,1.1035514E-5,1.6874120999999999E-2,7.4052993999999997E-2,3.0194271000000002E-2,0.35331805999999999,2.0182360000000001E-3,1.247056E-2,9.7024560999999995E-4,0,0,0,0,0,0,0,0,0,0,0,0,0,0,0,0,{"$f":"'MI materialen'!AG75","v":0},{"$f":"'MI materialen'!AH75","v":0},{"$f":"'MI materialen'!AI75","v":32},{"$f":"'MI materialen'!AJ75","v":"kunststoffen, overig"},{"$f":"'MI materialen'!AK75","v":"o.a. profielen, platen, leidingen"},{"$f":"'MI materialen'!AL75","v":0},{"$f":"'MI materialen'!AM75","v":0.9},{"$f":"'MI materialen'!AN75","v":0.1},{"$f":"'MI materialen'!AO75","v":0},{"$f":"'MI materialen'!AP75","v":"0249-sto&Stort kunststoffen (o.b.v. mix 21% PE, 21% PP, 17% PVC, 21% PS en 20% mixture)"},{"$f":"'MI materialen'!AQ75","v":"_0264-avC&Verbranden kunststoffen (28,67 MJ/kg) (o.b.v. o.b.v. mix 21% PE, 21% PP, 20% PVC, 17% PS en 21% mixture)"},{"$f":"'MI materialen'!AR75","v":"0278-reD&Module D, PE, per kg NETTO geleverd (o.b.v. vermeden Polyethylene, high density, granulate {RER}| production | Cut-off, U en kwaliteitsfactor 0,67)"}]
[{"$f":"'MI materialen'!A76","v":"Polymeren"},{"$f":"'MI materialen'!B76","v":"Polyetheen (PE)"},{"$f":"'MI materialen'!C76","v":"kg"},{"$f":"'MI materialen'!D76","v":0},"_0353-fab&Polyetheen, HDPE, granulaat (o.b.v. Polyethylene, high density, granulate {GLO}| market for | Cut-off, U)",0.20504410000000001,0,0,0.11585437,1.7565534E-6,3.9884556999999999E-3,3.2495443999999998E-2,7.3978179E-3,4.1137416000000003E-2,3.1655358999999999E-4,3.7530089999999999E-3,9.9275997999999997E-5,0,0,0,0,0,0,0,0,0,0,0,0,0,0,0,0,{"$f":"'MI materialen'!AG76","v":0},{"$f":"'MI materialen'!AH76","v":0},{"$f":"'MI materialen'!AI76","v":32},{"$f":"'MI materialen'!AJ76","v":"kunststoffen, overig"},{"$f":"'MI materialen'!AK76","v":"o.a. profielen, platen, leidingen"},{"$f":"'MI materialen'!AL76","v":0},{"$f":"'MI materialen'!AM76","v":0.9},{"$f":"'MI materialen'!AN76","v":0.1},{"$f":"'MI materialen'!AO76","v":0},{"$f":"'MI materialen'!AP76","v":"0251-sto&Stort PE (o.b.v. Waste polyethylene {Europe without Switzerland}| treatment of waste polyethylene, sanitary landfill | Cut-off, U), ook elastomeren als epdm"},{"$f":"'MI materialen'!AQ76","v":"_0311-avC&Verbranden PE (42,47 MJ/kg) (o.b.v. Waste polyethylene {RoW}| treatment of waste polyethylene, municipal incineration | Cut-off, U)"},{"$f":"'MI materialen'!AR76","v":"0278-reD&Module D, PE, per kg NETTO geleverd (o.b.v. vermeden Polyethylene, high density, granulate {RER}| production | Cut-off, U en kwaliteitsfactor 0,67)"}]
[{"$f":"'MI materialen'!A77","v":"Polymeren"},{"$f":"'MI materialen'!B77","v":"Polypropeen (PP)"},{"$f":"'MI materialen'!C77","v":"kg"},{"$f":"'MI materialen'!D77","v":0},"_0355-fab&Polypropeen, PP, granulaat (o.b.v. Polypropylene, granulate {GLO}| market for | Cut-off, U)",0.19633369000000001,0,0,0.11420576,1.3083954000000001E-6,3.5338135E-3,3.1756734000000002E-2,6.9666268999999999E-3,3.6110741000000002E-2,2.9843159999999998E-4,3.3728999999999999E-3,8.7374985000000002E-5,0,0,0,0,0,0,0,0,0,0,0,0,0,0,0,0,{"$f":"'MI materialen'!AG77","v":0},{"$f":"'MI materialen'!AH77","v":0},{"$f":"'MI materialen'!AI77","v":32},{"$f":"'MI materialen'!AJ77","v":"kunststoffen, overig"},{"$f":"'MI materialen'!AK77","v":"o.a. profielen, platen, leidingen"},{"$f":"'MI materialen'!AL77","v":0},{"$f":"'MI materialen'!AM77","v":0.9},{"$f":"'MI materialen'!AN77","v":0.1},{"$f":"'MI materialen'!AO77","v":0},{"$f":"'MI materialen'!AP77","v":"0249-sto&Stort kunststoffen (o.b.v. mix 21% PE, 21% PP, 17% PVC, 21% PS en 20% mixture)"},{"$f":"'MI materialen'!AQ77","v":"_0310-avC&Verbranden PP (32,78 MJ/kg) (o.b.v. Waste polypropylene {RoW}| treatment of waste polypropylene, municipal incineration | Cut-off, U)"},{"$f":"'MI materialen'!AR77","v":"0278-reD&Module D, PE, per kg NETTO geleverd (o.b.v. vermeden Polyethylene, high density, granulate {RER}| production | Cut-off, U en kwaliteitsfactor 0,67)"}]
[{"$f":"'MI materialen'!A78","v":"Polymeren"},{"$f":"'MI materialen'!B78","v":"PVC"},{"$f":"'MI materialen'!C78","v":"kg"},{"$f":"'MI materialen'!D78","v":0},"_0356-fab&PVC, granulaat (o.b.v. Polyvinylchloride, suspension polymerised {GLO}| market for | Cut-off, U)",0.26867903999999998,0,0,0.12209111,3.4812147E-5,2.6256553999999999E-3,3.8924654000000003E-2,1.0120881999999999E-2,8.5036898999999999E-2,7.7228965999999997E-4,8.8224170000000008E-3,2.5032393000000002E-4,0,0,0,0,0,0,0,0,0,0,0,0,0,0,0,0,{"$f":"'MI materialen'!AG78","v":0},{"$f":"'MI materialen'!AH78","v":0},{"$f":"'MI materialen'!AI78","v":32},{"$f":"'MI materialen'!AJ78","v":"kunststoffen, overig"},{"$f":"'MI materialen'!AK78","v":"o.a. profielen, platen, leidingen"},{"$f":"'MI materialen'!AL78","v":0},{"$f":"'MI materialen'!AM78","v":0.9},{"$f":"'MI materialen'!AN78","v":0.1},{"$f":"'MI materialen'!AO78","v":0},{"$f":"'MI materialen'!AP78","v":"0252-sto&Stort PVC (o.b.v. Waste polyvinylchloride {Europe without Switzerland}| treatment of waste polyvinylchloride, sanitary landfill | Cut-off, U)"},{"$f":"'MI materialen'!AQ78","v":"_0265-avC&Verbranden PVC (21,51 MJ/kg) (o.b.v. Waste polyvinylchloride {CH}| treatment of, municipal incineration | Cut-off, U)"},{"$f":"'MI materialen'!AR78","v":"0278-reD&Module D, PE, per kg NETTO geleverd (o.b.v. vermeden Polyethylene, high density, granulate {RER}| production | Cut-off, U en kwaliteitsfactor 0,67)"}]
[{"$f":"'MI materialen'!A79","v":"Polymeren"},{"$f":"'MI materialen'!B79","v":"Gerecycled kunststof"},{"$f":"'MI materialen'!C79","v":"kg"},{"$f":"'MI materialen'!D79","v":1},"_0403-fab&Kunststof, gemengd, gerecycled (= 0-waarden want 'vrij van milieulast')",0,0,0,0,0,0,0,0,0,0,0,0,0,0,0,0,0,0,0,0,0,0,0,0,0,0,0,0,{"$f":"'MI materialen'!AG79","v":0},{"$f":"'MI materialen'!AH79","v":0},{"$f":"'MI materialen'!AI79","v":32},{"$f":"'MI materialen'!AJ79","v":"kunststoffen, overig"},{"$f":"'MI materialen'!AK79","v":"o.a. profielen, platen, leidingen"},{"$f":"'MI materialen'!AL79","v":0},{"$f":"'MI materialen'!AM79","v":0.9},{"$f":"'MI materialen'!AN79","v":0.1},{"$f":"'MI materialen'!AO79","v":0},{"$f":"'MI materialen'!AP79","v":"0249-sto&Stort kunststoffen (o.b.v. mix 21% PE, 21% PP, 17% PVC, 21% PS en 20% mixture)"},{"$f":"'MI materialen'!AQ79","v":"_0264-avC&Verbranden kunststoffen (28,67 MJ/kg) (o.b.v. o.b.v. mix 21% PE, 21% PP, 20% PVC, 17% PS en 21% mixture)"},{"$f":"'MI materialen'!AR79","v":"0278-reD&Module D, PE, per kg NETTO geleverd (o.b.v. vermeden Polyethylene, high density, granulate {RER}| production | Cut-off, U en kwaliteitsfactor 0,67)"}]
[{"$f":"'MI materialen'!A80","v":"Polymeren"},{"$f":"'MI materialen'!B80","v":"High Impact Polystyreen (HIPS)"},{"$f":"'MI materialen'!C80","v":"kg"},{"$f":"'MI materialen'!D80","v":0},{"$f":"'MI materialen'!E80","v":"obv 80% PS en 20% ABS; afvalscenario zelfde als ABS (TNO, Tom Ligthart)"},{"$f":"SUM(G81:Q81)","v":0.31315570268577042},{"$f":"'MI materialen'!F80*G$14","v":5.0541330239999991E-7},{"$f":"'MI materialen'!G80*H$14","v":6.5814436480000002E-3},{"$f":"'MI materialen'!H80*I$14","v":0.19662074200000002},{"$f":"'MI materialen'!I80*J$14","v":7.3107166800000012E-7},{"$f":"'MI materialen'!J80*K$14","v":5.0246288799999997E-3},{"$f":"'MI materialen'!K80*L$14","v":4.9674925600000003E-2},{"$f":"'MI materialen'!L80*M$14","v":8.2667457719999993E-3},{"$f":"'MI materialen'!M80*N$14","v":4.146026706E-2},{"$f":"'MI materialen'!N80*O$14","v":9.3527039400000003E-4},{"$f":"'MI materialen'!O80*P$14","v":4.517598240000001E-3},{"$f":"'MI materialen'!P80*Q$14","v":7.28446068E-5},{"$f":"'MI materialen'!Q80","v":0},{"$f":"'MI materialen'!R80","v":0},{"$f":"'MI materialen'!S80","v":0.39133450400000003},{"$f":"'MI materialen'!T80","v":0},{"$f":"'MI materialen'!U80","v":0},{"$f":"'MI materialen'!V80","v":90.920192400000019},{"$f":"'MI materialen'!W80","v":0},{"$f":"'MI materialen'!X80","v":0},{"$f":"'MI materialen'!Y80","v":0},{"$f":"'MI materialen'!Z80","v":5.3694740400000003E-2},{"$f":"'MI materialen'!AA80","v":4.3340208000000004E-6},{"$f":"'MI materialen'!AB80","v":0.11811140680000001},{"$f":"'MI materialen'!AC80","v":9.074150920000001E-6},{"$f":"'MI materialen'!AD80","v":0},{"$f":"'MI materialen'!AE80","v":0},{"$f":"'MI materialen'!AF80","v":0},{"$f":"'MI materialen'!AG80","v":0},{"$f":"'MI materialen'!AH80","v":0},{"$f":"'MI materialen'!AI80","v":32},{"$f":"'MI materialen'!AJ80","v":"kunststoffen, overig"},{"$f":"'MI materialen'!AK80","v":"o.a. verpakking"},{"$f":"'MI materialen'!AL80","v":0.05},{"$f":"'MI materialen'!AM80","v":0.9},{"$f":"'MI materialen'!AN80","v":0.05},{"$f":"'MI materialen'!AO80","v":0},{"$f":"'MI materialen'!AP80","v":"0249-sto&Stort kunststoffen (o.b.v. mix 21% PE, 21% PP, 17% PVC, 21% PS en 20% mixture)"},{"$f":"'MI materialen'!AQ80","v":"_0264-avC&Verbranden kunststoffen (28,67 MJ/kg) (o.b.v. o.b.v. mix 21% PE, 21% PP, 20% PVC, 17% PS en 21% mixture)"},{"$f":"'MI materialen'!AR80","v":"0278-reD&Module D, PE, per kg NETTO geleverd (o.b.v. vermeden Polyethylene, high density, granulate {RER}| production | Cut-off, U en kwaliteitsfactor 0,67)"}]
[{"$f":"'MI materialen'!A81","v":"Polymeren"},{"$f":"'MI materialen'!B81","v":"Vezelversterkte polymeren (PA6.6)"},{"$f":"'MI materialen'!C81","v":"kg"},{"$f":"'MI materialen'!D81","v":0.12},{"$f":"'MI materialen'!E81","v":"Nylon 6-6, glass-filled {RER}| market for nylon 6-6, glass-filled | Cut-off, U; afvalscenario: secundaire content ca 40% voor glasvezels, 0% voor PA, aandeel glas ca 30%, geen recycling (TNO, Tom Ligthart)"},{"$f":"SUM(G82:Q82)","v":0.54336894154956572},{"$f":"'MI materialen'!F81*G$14","v":5.8077265111131687E-7},{"$f":"'MI materialen'!G81*H$14","v":7.9568859008166716E-3},{"$f":"'MI materialen'!H81*I$14","v":0.35955169663823},{"$f":"'MI materialen'!I81*J$14","v":2.4011656795856786E-7},{"$f":"'MI materialen'!J81*K$14","v":5.7632643592169198E-3},{"$f":"'MI materialen'!K81*L$14","v":0.1019290465146588},{"$f":"'MI materialen'!L81*M$14","v":4.0046922410274993E-2},{"$f":"'MI materialen'!M81*N$14","v":2.026136808565011E-2},{"$f":"'MI materialen'!N81*O$14","v":2.0006468978400896E-3},{"$f":"'MI materialen'!O81*P$14","v":5.8299812105159403E-3},{"$f":"'MI materialen'!P81*Q$14","v":2.8308643143080639E-5},{"$f":"'MI materialen'!Q81","v":0},{"$f":"'MI materialen'!R81","v":0},{"$f":"'MI materialen'!S81","v":1.26817064219792},{"$f":"'MI materialen'!T81","v":0},{"$f":"'MI materialen'!U81","v":0},{"$f":"'MI materialen'!V81","v":110.524105604377},{"$f":"'MI materialen'!W81","v":0},{"$f":"'MI materialen'!X81","v":0},{"$f":"'MI materialen'!Y81","v":0},{"$f":"'MI materialen'!Z81","v":0.18427850384797201},{"$f":"'MI materialen'!AA81","v":1.4385186507716499E-6},{"$f":"'MI materialen'!AB81","v":0.109126574593787},{"$f":"'MI materialen'!AC81","v":3.4243646765127399E-6},{"$f":"'MI materialen'!AD81","v":0},{"$f":"'MI materialen'!AE81","v":0},{"$f":"'MI materialen'!AF81","v":0},{"$f":"'MI materialen'!AG81","v":0},{"$f":"'MI materialen'!AH81","v":0},{"$f":"'MI materialen'!AI81","v":32},{"$f":"'MI materialen'!AJ81","v":"kunststoffen, overig"},{"$f":"'MI materialen'!AK81","v":"o.a. scheepsbouw, automotive, lucht- en ruimtevaart, civiele techniek, sportartikelen"},{"$f":"'MI materialen'!AL81","v":0},{"$f":"'MI materialen'!AM81","v":1},{"$f":"'MI materialen'!AN81","v":0},{"$f":"'MI materialen'!AO81","v":0},{"$f":"'MI materialen'!AP81","v":"0249-sto&Stort kunststoffen (o.b.v. mix 21% PE, 21% PP, 17% PVC, 21% PS en 20% mixture)"},{"$f":"'MI materialen'!AQ81","v":"_0264-avC&Verbranden kunststoffen (28,67 MJ/kg) (o.b.v. o.b.v. mix 21% PE, 21% PP, 20% PVC, 17% PS en 21% mixture)"},{"$f":"'MI materialen'!AR81","v":"0278-reD&Module D, PE, per kg NETTO geleverd (o.b.v. vermeden Polyethylene, high density, granulate {RER}| production | Cut-off, U en kwaliteitsfactor 0,67)"}]
[{"$f":"'MI materialen'!A82","v":"Polymeren"},{"$f":"'MI materialen'!B82","v":"LDPE"},{"$f":"'MI materialen'!C82","v":"kg"},{"$f":"'MI materialen'!D82","v":0.05},{"$f":"'MI materialen'!E82","v":"0012-fab&Polyetheen, LDPE, folie (o.b.v. Packaging film, low density polyethylene {GLO}| market for | Cut-off, U); inzet gerecyclede content, afvalscenario: TNO, Tom Ligthart"},{"$f":"SUM(G83:Q83)","v":0.30644060621644875},{"$f":"'MI materialen'!F82*G$14","v":4.8874264198339203E-6},{"$f":"'MI materialen'!G82*H$14","v":6.8487351877281446E-3},{"$f":"'MI materialen'!H82*I$14","v":0.15656806798657502},{"$f":"'MI materialen'!I82*J$14","v":3.1885521494190003E-6},{"$f":"'MI materialen'!J82*K$14","v":6.7088444432915201E-3},{"$f":"'MI materialen'!K82*L$14","v":4.73206244503784E-2},{"$f":"'MI materialen'!L82*M$14","v":1.195535525604003E-2},{"$f":"'MI materialen'!M82*N$14","v":6.9989003554423862E-2},{"$f":"'MI materialen'!N82*O$14","v":5.5176024664216794E-4},{"$f":"'MI materialen'!O82*P$14","v":6.2687269597312004E-3},{"$f":"'MI materialen'!P82*Q$14","v":2.2141215306916437E-4},{"$f":"'MI materialen'!Q82","v":0},{"$f":"'MI materialen'!R82","v":0},{"$f":"'MI materialen'!S82","v":3.60571069223352},{"$f":"'MI materialen'!T82","v":0},{"$f":"'MI materialen'!U82","v":0},{"$f":"'MI materialen'!V82","v":92.469423590982899},{"$f":"'MI materialen'!W82","v":0},{"$f":"'MI materialen'!X82","v":0},{"$f":"'MI materialen'!Y82","v":0},{"$f":"'MI materialen'!Z82","v":5.4930085111203598E-2},{"$f":"'MI materialen'!AA82","v":2.3357575813461701E-5},{"$f":"'MI materialen'!AB82","v":0.29686313035325501},{"$f":"'MI materialen'!AC82","v":8.3182560922866997E-5},{"$f":"'MI materialen'!AD82","v":0},{"$f":"'MI materialen'!AE82","v":0},{"$f":"'MI materialen'!AF82","v":0},{"$f":"'MI materialen'!AG82","v":0},{"$f":"'MI materialen'!AH82","v":0},{"$f":"'MI materialen'!AI82","v":32},{"$f":"'MI materialen'!AJ82","v":"kunststoffen, overig"},{"$f":"'MI materialen'!AK82","v":"o.a. folie, flessen, kabelbeschermmateriaal, coating, kliko's"},{"$f":"'MI materialen'!AL82","v":0},{"$f":"'MI materialen'!AM82","v":0.7},{"$f":"'MI materialen'!AN82","v":0.3},{"$f":"'MI materialen'!AO82","v":0},{"$f":"'MI materialen'!AP82","v":"0249-sto&Stort kunststoffen (o.b.v. mix 21% PE, 21% PP, 17% PVC, 21% PS en 20% mixture)"},{"$f":"'MI materialen'!AQ82","v":"_0264-avC&Verbranden kunststoffen (28,67 MJ/kg) (o.b.v. o.b.v. mix 21% PE, 21% PP, 20% PVC, 17% PS en 21% mixture)"},{"$f":"'MI materialen'!AR82","v":"0278-reD&Module D, PE, per kg NETTO geleverd (o.b.v. vermeden Polyethylene, high density, granulate {RER}| production | Cut-off, U en kwaliteitsfactor 0,67)"}]
[{"$f":"'MI materialen'!A83","v":"Textiel"},{"$f":"'MI materialen'!B83","v":"Nylon"},{"$f":"'MI materialen'!C83","v":"kg"},{"$f":"'MI materialen'!D83","v":0},"_0015-fab&Polyamide, PA 6, PA 66 (o.b.v. Nylon 6 {GLO}| market for | Cut-off, U)",0.69005053999999999,0,0,0.46540570999999997,5.5678378999999997E-7,9.8591119999999997E-3,0.12066512,5.2062099000000001E-2,3.6280094999999998E-2,9.9685555000000002E-4,4.7118701000000004E-3,6.9129127999999998E-5,0,0,0,0,0,0,0,0,0,0,0,0,0,0,0,0,0,0,{"$f":"'MI materialen'!AI83","v":32},{"$f":"'MI materialen'!AJ83","v":"kunststoffen, overig"},{"$f":"'MI materialen'!AK83","v":"o.a. profielen, platen, leidingen"},{"$f":"'MI materialen'!AL83","v":0},{"$f":"'MI materialen'!AM83","v":0.9},{"$f":"'MI materialen'!AN83","v":0.1},{"$f":"'MI materialen'!AO83","v":0},{"$f":"'MI materialen'!AP83","v":"0249-sto&Stort kunststoffen (o.b.v. mix 21% PE, 21% PP, 17% PVC, 21% PS en 20% mixture)"},{"$f":"'MI materialen'!AQ83","v":"_0264-avC&Verbranden kunststoffen (28,67 MJ/kg) (o.b.v. o.b.v. mix 21% PE, 21% PP, 20% PVC, 17% PS en 21% mixture)"},{"$f":"'MI materialen'!AR83","v":"0278-reD&Module D, PE, per kg NETTO geleverd (o.b.v. vermeden Polyethylene, high density, granulate {RER}| production | Cut-off, U en kwaliteitsfactor 0,67)"}]
[{"$f":"'MI materialen'!A84","v":"Textiel"},{"$f":"'MI materialen'!B84","v":"Schapenwol"},{"$f":"'MI materialen'!C84","v":"kg"},{"$f":"'MI materialen'!D84","v":0.22},"_0073-fab&Schapenwol, 80% import Australië, 20% NL (o.b.v. Sheep fleece in the grease {GLO}| market for | Cut-off, U + transport; 78% primair, 22% secundair)",7.8584756999999996,0,0,2.1768863999999999,1.2994593999999999E-5,2.5351531E-2,2.5611107,2.2724012999999998,0.76961095999999996,3.2073329999999997E-2,1.8869370999999999E-2,2.1590896000000001E-3,0,0,0,0,0,0,0,0,0,0,0,0,0,0,0,0,0,0,{"$f":"'MI materialen'!AI84","v":38},{"$f":"'MI materialen'!AJ84","v":"organisch, overig"},{"$f":"'MI materialen'!AK84","v":"o.a. isolatie"},{"$f":"'MI materialen'!AL84","v":0.05},{"$f":"'MI materialen'!AM84","v":0.95},{"$f":"'MI materialen'!AN84","v":0},{"$f":"'MI materialen'!AO84","v":0},{"$f":"'MI materialen'!AP84","v":"0250-sto&Stort minerale wol (o.b.v. Waste mineral wool, for final disposal {Europe without Switzerland}| treatment of waste mineral wool, inert material landfill | Cut-off, U)"},{"$f":"'MI materialen'!AQ84","v":"_0297-avC&Verbranden organisch afval (4,29 MJ/kg) (o.b.v. Biowaste {GLO}| treatment of biowaste, municipal incineration | Cut-off, U)"},{"$f":"'MI materialen'!AR84","v":"0276-reD&Module D, houtspaanders, per kg NETTO geleverd (o.b.v. Wood chips, dry, measured as dry mass {RER}| three layered laminated board production | Cut-off, U)"}]
[{"$f":"'MI materialen'!A85","v":"Textiel"},{"$f":"'MI materialen'!B85","v":"Jute"},{"$f":"'MI materialen'!C85","v":"kg"},{"$f":"'MI materialen'!D85","v":0},"_0187-fab&Jute, geweven (o.b.v. Textile, jute {GLO}| market for | Cut-off, U)",2.7491344999999998,0,0,0.11323287999999999,4.6048312E-6,4.2815863000000001E-3,8.5772886000000007E-2,0.23045613000000001,2.2893279999999998,1.5290148999999999E-2,1.0705991999999999E-2,6.2333841999999998E-5,0,0,0,0,0,0,0,0,0,0,0,0,0,0,0,0,0,0,{"$f":"'MI materialen'!AI85","v":38},{"$f":"'MI materialen'!AJ85","v":"organisch, overig"},{"$f":"'MI materialen'!AK85","v":"o.a. isolatie"},{"$f":"'MI materialen'!AL85","v":0.05},{"$f":"'MI materialen'!AM85","v":0.95},{"$f":"'MI materialen'!AN85","v":0},{"$f":"'MI materialen'!AO85","v":0},{"$f":"'MI materialen'!AP85","v":"0245-sto&Stort hout, 'schoon' (o.b.v. Waste wood, untreated {Europe without Switzerland}| treatment of waste wood, untreated, sanitary landfill | Cut-off, U)"},{"$f":"'MI materialen'!AQ85","v":"_0297-avC&Verbranden organisch afval (4,29 MJ/kg) (o.b.v. Biowaste {GLO}| treatment of biowaste, municipal incineration | Cut-off, U)"},{"$f":"'MI materialen'!AR85","v":"0276-reD&Module D, houtspaanders, per kg NETTO geleverd (o.b.v. Wood chips, dry, measured as dry mass {RER}| three layered laminated board production | Cut-off, U)"}]
[{"$f":"'MI materialen'!A86","v":"Textiel"},{"$f":"'MI materialen'!B86","v":"Kokos"},{"$f":"'MI materialen'!C86","v":"kg"},{"$f":"'MI materialen'!D86","v":0},"_0189-fab&Kokos, matten en vliezen (o.b.v. Coconut husk {GLO}| market for coconut husk | Cut-off, U (= 0-waarden want 'vrij van milieulast') + Weaving + 12500 km oceanic transport)",3.1788373999999999,0,0,0.11851515999999999,5.2804445000000004E-6,4.9650092000000003E-3,0.10468627,0.26811090999999998,2.6530197000000002,1.7705083999999999E-2,1.1771169E-2,5.8758107999999998E-5,0,0,0,0,0,0,0,0,0,0,0,0,0,0,0,0,0,0,{"$f":"'MI materialen'!AI86","v":38},{"$f":"'MI materialen'!AJ86","v":"organisch, overig"},{"$f":"'MI materialen'!AK86","v":"o.a. isolatie"},{"$f":"'MI materialen'!AL86","v":0.05},{"$f":"'MI materialen'!AM86","v":0.95},{"$f":"'MI materialen'!AN86","v":0},{"$f":"'MI materialen'!AO86","v":0},{"$f":"'MI materialen'!AP86","v":"0245-sto&Stort hout, 'schoon' (o.b.v. Waste wood, untreated {Europe without Switzerland}| treatment of waste wood, untreated, sanitary landfill | Cut-off, U)"},{"$f":"'MI materialen'!AQ86","v":"_0297-avC&Verbranden organisch afval (4,29 MJ/kg) (o.b.v. Biowaste {GLO}| treatment of biowaste, municipal incineration | Cut-off, U)"},{"$f":"'MI materialen'!AR86","v":"0276-reD&Module D, houtspaanders, per kg NETTO geleverd (o.b.v. Wood chips, dry, measured as dry mass {RER}| three layered laminated board production | Cut-off, U)"}]
[{"$f":"'MI materialen'!A87","v":"Textiel"},{"$f":"'MI materialen'!B87","v":"Fleece (PET)"},{"$f":"'MI materialen'!C87","v":"kg"},{"$f":"'MI materialen'!D87","v":0},"_Fleece, polyethylene {GLO}| market for | Cut-off, U",0.34751904,0,0,0.16045617000000001,3.4250379000000001E-6,5.2931232000000003E-3,4.6735270000000002E-2,1.1429404000000001E-2,0.11570445,7.3727571E-4,6.9240691000000002E-3,2.3586049999999999E-4,0,0,0,0,0,0,0,0,0,0,0,0,0,0,0,0,0,0,{"$f":"'MI materialen'!AI87","v":32},{"$f":"'MI materialen'!AJ87","v":"kunststoffen, overig"},{"$f":"'MI materialen'!AK87","v":"o.a. profielen, platen, leidingen"},{"$f":"'MI materialen'!AL87","v":0},{"$f":"'MI materialen'!AM87","v":0.9},{"$f":"'MI materialen'!AN87","v":0.1},{"$f":"'MI materialen'!AO87","v":0},{"$f":"'MI materialen'!AP87","v":"0313-sto&Stort PE, ongecontroleerd ('laten zitten') (o.b.v. Waste polyethylene {GLO}| treatment of waste polyethylene, unsanitary landfill, moist infiltration class (300mm) | Cut-off, U)"},{"$f":"'MI materialen'!AQ87","v":"_0264-avC&Verbranden kunststoffen (28,67 MJ/kg) (o.b.v. o.b.v. mix 21% PE, 21% PP, 20% PVC, 17% PS en 21% mixture)"},{"$f":"'MI materialen'!AR87","v":"0278-reD&Module D, PE, per kg NETTO geleverd (o.b.v. vermeden Polyethylene, high density, granulate {RER}| production | Cut-off, U en kwaliteitsfactor 0,67)"}]
[{"$f":"'MI materialen'!A88","v":"Textiel"},{"$f":"'MI materialen'!B88","v":"Katoen"},{"$f":"'MI materialen'!C88","v":"kg"},{"$f":"'MI materialen'!D88","v":0},"_XXXX Katoen (o.b.v. Textile, woven cotton {GLO}| market for | Cut-off, U)",2.4711631999999999,0,0,0.51523836000000001,1.7510118E-5,7.8930261000000005E-3,0.28258928,0.94829715000000003,0.28840422999999998,0.22877949,3.7976322999999999E-2,0.16196789,0,0,0,0,0,0,0,0,0,0,0,0,0,0,0,0,0,0,{"$f":"'MI materialen'!AI88","v":38},{"$f":"'MI materialen'!AJ88","v":"organisch, overig"},{"$f":"'MI materialen'!AK88","v":"o.a. isolatie"},{"$f":"'MI materialen'!AL88","v":0.05},{"$f":"'MI materialen'!AM88","v":0.95},{"$f":"'MI materialen'!AN88","v":0},{"$f":"'MI materialen'!AO88","v":0},{"$f":"'MI materialen'!AP88","v":"0245-sto&Stort hout, 'schoon' (o.b.v. Waste wood, untreated {Europe without Switzerland}| treatment of waste wood, untreated, sanitary landfill | Cut-off, U)"},{"$f":"'MI materialen'!AQ88","v":"_0297-avC&Verbranden organisch afval (4,29 MJ/kg) (o.b.v. Biowaste {GLO}| treatment of biowaste, municipal incineration | Cut-off, U)"},{"$f":"'MI materialen'!AR88","v":"0276-reD&Module D, houtspaanders, per kg NETTO geleverd (o.b.v. Wood chips, dry, measured as dry mass {RER}| three layered laminated board production | Cut-off, U)"}]
[{"$f":"'MI materialen'!A89","v":"Textiel"},{"$f":"'MI materialen'!B89","v":"Polyester"},{"$f":"'MI materialen'!C89","v":"kg"},{"$f":"'MI materialen'!D89","v":0},"_0075-fab&Polyester, glasvezelversterkt (o.b.v. Glass fibre reinforced plastic, polyester resin, hand lay-up {GLO}| market for | Cut-off, U)",0.68214096999999996,0,0,0.19223145,1.1035514E-5,1.6874120999999999E-2,7.4052993999999997E-2,3.0194271000000002E-2,0.35331805999999999,2.0182360000000001E-3,1.247056E-2,9.7024560999999995E-4,0,0,0,0,0,0,0,0,0,0,0,0,0,0,0,0,0,0,{"$f":"'MI materialen'!AI89","v":32},{"$f":"'MI materialen'!AJ89","v":"kunststoffen, overig"},{"$f":"'MI materialen'!AK89","v":"o.a. profielen, platen, leidingen"},{"$f":"'MI materialen'!AL89","v":0},{"$f":"'MI materialen'!AM89","v":0.9},{"$f":"'MI materialen'!AN89","v":0.1},{"$f":"'MI materialen'!AO89","v":0},{"$f":"'MI materialen'!AP89","v":"0313-sto&Stort PE, ongecontroleerd ('laten zitten') (o.b.v. Waste polyethylene {GLO}| treatment of waste polyethylene, unsanitary landfill, moist infiltration class (300mm) | Cut-off, U)"},{"$f":"'MI materialen'!AQ89","v":"_0264-avC&Verbranden kunststoffen (28,67 MJ/kg) (o.b.v. o.b.v. mix 21% PE, 21% PP, 20% PVC, 17% PS en 21% mixture)"},{"$f":"'MI materialen'!AR89","v":"0278-reD&Module D, PE, per kg NETTO geleverd (o.b.v. vermeden Polyethylene, high density, granulate {RER}| production | Cut-off, U en kwaliteitsfactor 0,67)"}]
[{"$f":"'MI materialen'!A90","v":"Elektronica"},{"$f":"'MI materialen'!B90","v":"LCD display"},{"$f":"'MI materialen'!C90","v":"kg"},{"$f":"'MI materialen'!D90","v":0},"_Liquid crystal display, unmounted {GLO}| market for | Cut-off, U",16.163999,0,0,3.3693515999999999,1.2998940000000001E-4,8.7509865000000006E-2,1.6149798,1.427575,8.3344295000000006,6.2882770000000004E-2,1.2482221,1.8918084000000002E-2,0,0,0,0,0,0,0,0,0,0,0,0,0,0,0,0,0,0,{"$f":"'MI materialen'!AI90","v":30},{"$f":"'MI materialen'!AJ90","v":"koper, gemengd"},{"$f":"'MI materialen'!AK90","v":"elektriciteitsleidingen"},{"$f":"'MI materialen'!AL90","v":0.1},{"$f":"'MI materialen'!AM90","v":0.05},{"$f":"'MI materialen'!AN90","v":0.85},{"$f":"'MI materialen'!AO90","v":0},{"$f":"'MI materialen'!AP90","v":"0248-sto&Stort koper, lood, verzinkt staal, zink (o.b.v. Scrap tin sheet {CH}| treatment of, sanitary landfill | Cut-off, U, bij gebrek aan passender proces)"},{"$f":"'MI materialen'!AQ90","v":"_0307-avC&Verbranden koperschroot (o.b.v. Scrap copper {RoW}| treatment of, municipal incineration | Cut-off, U)"},{"$f":"'MI materialen'!AR90","v":"0277-reD&Module D, koper, per kg NETTO geleverd schroot (vermeden: Copper {RER}| production, primary | Cut-off, U)"}]
[{"$f":"'MI materialen'!A91","v":"Elektronica"},{"$f":"'MI materialen'!B91","v":"Printplaat (PCB)"},{"$f":"'MI materialen'!C91","v":"kg"},{"$f":"'MI materialen'!D91","v":0},"_0405-fab&Elektronica, printplaat, inclusief elektronische componenten (o.b.v. Printed wiring board, surface mounted, unspecified, Pb free {GLO}| market for | Cut-off, U)",56.143704,0,0,18.753042000000001,1.1204721E-3,0.33942761999999999,9.5456803000000008,4.1457435,17.483504,0.60310697000000002,5.1404468000000003,0.13163227999999999,0,0,0,0,0,0,0,0,0,0,0,0,0,0,0,0,0,0,{"$f":"'MI materialen'!AI91","v":30},{"$f":"'MI materialen'!AJ91","v":"koper, gemengd"},{"$f":"'MI materialen'!AK91","v":"elektriciteitsleidingen"},{"$f":"'MI materialen'!AL91","v":0.1},{"$f":"'MI materialen'!AM91","v":0.05},{"$f":"'MI materialen'!AN91","v":0.85},{"$f":"'MI materialen'!AO91","v":0},{"$f":"'MI materialen'!AP91","v":"0248-sto&Stort koper, lood, verzinkt staal, zink (o.b.v. Scrap tin sheet {CH}| treatment of, sanitary landfill | Cut-off, U, bij gebrek aan passender proces)"},{"$f":"'MI materialen'!AQ91","v":"_0307-avC&Verbranden koperschroot (o.b.v. Scrap copper {RoW}| treatment of, municipal incineration | Cut-off, U)"},{"$f":"'MI materialen'!AR91","v":"0277-reD&Module D, koper, per kg NETTO geleverd schroot (vermeden: Copper {RER}| production, primary | Cut-off, U)"}]
[{"$f":"'MI materialen'!A92","v":"Elektronica"},{"$f":"'MI materialen'!B92","v":"LED"},{"$f":"'MI materialen'!C92","v":"kg"},{"$f":"'MI materialen'!D92","v":6.8000000000000005E-2},"_0305-fab&LED (o.b.v. Light emitting diode {GLO}| market for | Cut-off, U; 93,2% primair, 6,8% secundair)",37.240149000000002,0,0,13.429615999999999,3.7016396000000003E-4,0.19062456999999999,5.9132153000000001,1.9552086,13.672416,7.9817750000000007E-2,1.9651704999999999,3.3710812999999999E-2,0,0,0,0,0,0,0,0,0,0,0,0,0,0,0,0,0,0,{"$f":"'MI materialen'!AI92","v":30},{"$f":"'MI materialen'!AJ92","v":"koper, gemengd"},{"$f":"'MI materialen'!AK92","v":"elektriciteitsleidingen"},{"$f":"'MI materialen'!AL92","v":0.1},{"$f":"'MI materialen'!AM92","v":0.05},{"$f":"'MI materialen'!AN92","v":0.85},{"$f":"'MI materialen'!AO92","v":0},{"$f":"'MI materialen'!AP92","v":"0248-sto&Stort koper, lood, verzinkt staal, zink (o.b.v. Scrap tin sheet {CH}| treatment of, sanitary landfill | Cut-off, U, bij gebrek aan passender proces)"},{"$f":"'MI materialen'!AQ92","v":"_0307-avC&Verbranden koperschroot (o.b.v. Scrap copper {RoW}| treatment of, municipal incineration | Cut-off, U)"},{"$f":"'MI materialen'!AR92","v":"0277-reD&Module D, koper, per kg NETTO geleverd schroot (vermeden: Copper {RER}| production, primary | Cut-off, U)"}]
[{"$f":"'MI materialen'!A93","v":"Elektronica"},{"$f":"'MI materialen'!B93","v":"Accu Li-ion oplaadbaar"},{"$f":"'MI materialen'!C93","v":"kg"},{"$f":"'MI materialen'!D93","v":2.3E-2},"_0301-fab&Accu, Lithium-ion (o.b.v. Battery, Li-ion, rechargeable, prismatic {GLO}| market for | Cut-off, U; 97,7% primair, 2,3% secundair)",3.2948935000000001,0,0,0.38835784000000001,2.0460910999999999E-5,1.8223034999999999E-2,0.52981619999999996,8.5413741000000001E-2,2.0524995000000001,1.4174033000000001E-2,0.20262788000000001,3.7608022999999998E-3,0,0,0,0,0,0,0,0,0,0,0,0,0,0,0,0,0,0,{"$f":"'MI materialen'!AI93","v":32},{"$f":"'MI materialen'!AJ93","v":"kunststoffen, overig"},{"$f":"'MI materialen'!AK93","v":"o.a. profielen, platen, leidingen"},{"$f":"'MI materialen'!AL93","v":0},{"$f":"'MI materialen'!AM93","v":0.9},{"$f":"'MI materialen'!AN93","v":0.1},{"$f":"'MI materialen'!AO93","v":0},{"$f":"'MI materialen'!AP93","v":0},{"$f":"'MI materialen'!AQ93","v":0},{"$f":"'MI materialen'!AR93","v":0}]
[{"$f":"'MI materialen'!A94","v":"Overig"},{"$f":"'MI materialen'!B94","v":"Leeg"},{"$f":"'MI materialen'!C94","v":"kg"},{"$f":"'MI materialen'!D94","v":0},{"$f":"'MI materialen'!E94","v":"-"},{"$f":"SUM(G95:Q95)","v":0},{"$f":"'MI materialen'!F94*G$14","v":0},{"$f":"'MI materialen'!G94*H$14","v":0},{"$f":"'MI materialen'!H94*I$14","v":0},{"$f":"'MI materialen'!I94*J$14","v":0},{"$f":"'MI materialen'!J94*K$14","v":0},{"$f":"'MI materialen'!K94*L$14","v":0},{"$f":"'MI materialen'!L94*M$14","v":0},{"$f":"'MI materialen'!M94*N$14","v":0},{"$f":"'MI materialen'!N94*O$14","v":0},{"$f":"'MI materialen'!O94*P$14","v":0},{"$f":"'MI materialen'!P94*Q$14","v":0},{"$f":"'MI materialen'!Q94","v":0},{"$f":"'MI materialen'!R94","v":0},{"$f":"'MI materialen'!S94","v":0},{"$f":"'MI materialen'!T94","v":0},{"$f":"'MI materialen'!U94","v":0},{"$f":"'MI materialen'!V94","v":0},{"$f":"'MI materialen'!W94","v":0},{"$f":"'MI materialen'!X94","v":0},{"$f":"'MI materialen'!Y94","v":0},{"$f":"'MI materialen'!Z94","v":0},{"$f":"'MI materialen'!AA94","v":0},{"$f":"'MI materialen'!AB94","v":0},{"$f":"'MI materialen'!AC94","v":0},{"$f":"'MI materialen'!AD94","v":0},{"$f":"'MI materialen'!AE94","v":0},{"$f":"'MI materialen'!AF94","v":0},{"$f":"'MI materialen'!AG94","v":0},{"$f":"'MI materialen'!AH94","v":0},{"$f":"'MI materialen'!AI94","v":"-"},{"$f":"'MI materialen'!AJ94","v":"-"},{"$f":"'MI materialen'!AK94","v":"-"},{"$f":"'MI materialen'!AL94","v":0},{"$f":"'MI materialen'!AM94","v":0},{"$f":"'MI materialen'!AN94","v":0},{"$f":"'MI materialen'!AO94","v":0},{"$f":"'MI materialen'!AP94","v":0},{"$f":"'MI materialen'!AQ94","v":0},{"$f":"'MI materialen'!AR94","v":0}]
[{"$f":"'MI materialen'!A95","v":"Circulaire materialen"},{"$f":"'MI materialen'!B95","v":"Pfleiderer DecoBoard"},{"$f":"'MI materialen'!C95","v":"kg"},{"$f":"'MI materialen'!D95","v":0.66},{"$f":"'MI materialen'!E95","v":"EPD"},0.1672529293330246,{"$f":"'MI materialen'!F95*G$14","v":2.6553505185185184E-8},{"$f":"'MI materialen'!G95*H$14","v":0},{"$f":"'MI materialen'!H95*I$14","v":7.239143518518518E-3},{"$f":"'MI materialen'!I95*J$14","v":2.7500017416666664E-6},{"$f":"'MI materialen'!J95*K$14","v":2.7248888888888887E-3},{"$f":"'MI materialen'!K95*L$14","v":8.0530370370370363E-2},{"$f":"'MI materialen'!L95*M$14","v":7.6755749999999998E-2},{"$f":"'MI materialen'!M95*N$14","v":0},{"$f":"'MI materialen'!N95*O$14","v":0},{"$f":"'MI materialen'!O95*P$14","v":0},{"$f":"'MI materialen'!P95*Q$14","v":0},{"$f":"'MI materialen'!Q95","v":0},{"$f":"'MI materialen'!R95","v":0},{"$f":"'MI materialen'!S95","v":0},{"$f":"'MI materialen'!T95","v":0},{"$f":"'MI materialen'!U95","v":0},{"$f":"'MI materialen'!V95","v":0},{"$f":"'MI materialen'!W95","v":0},{"$f":"'MI materialen'!X95","v":0},{"$f":"'MI materialen'!Y95","v":0},{"$f":"'MI materialen'!Z95","v":0},{"$f":"'MI materialen'!AA95","v":0},{"$f":"'MI materialen'!AB95","v":0},{"$f":"'MI materialen'!AC95","v":0},{"$f":"'MI materialen'!AD95","v":0},{"$f":"'MI materialen'!AE95","v":0},{"$f":"'MI materialen'!AF95","v":0},{"$f":"'MI materialen'!AG95","v":0},{"$f":"'MI materialen'!AH95","v":0},{"$f":"'MI materialen'!AI95","v":27},{"$f":"'MI materialen'!AJ95","v":"hout, verontreinigd"},{"$f":"'MI materialen'!AK95","v":"via restmateriaal"},{"$f":"'MI materialen'!AL95","v":0.1},{"$f":"'MI materialen'!AM95","v":0.9},{"$f":"'MI materialen'!AN95","v":0},{"$f":"'MI materialen'!AO95","v":0},{"$f":"'MI materialen'!AP95","v":"0246-sto&Stort hout, geschilderd (o.b.v. 99% Waste wood, untreated en 1% Waste paint {EU}| treatment of, sanitary landfill | Cut-off, U)"},{"$f":"'MI materialen'!AQ95","v":"_0263-avC&Verbranden hout, verontreinigd (13,99 MJ/kg) (o.b.v. Waste building wood, chrome preserved {CH}| treatment of, municipal incineration | Cut-off, U)"},{"$f":"'MI materialen'!AR95","v":"0276-reD&Module D, houtspaanders, per kg NETTO geleverd (o.b.v. Wood chips, dry, measured as dry mass {RER}| three layered laminated board production | Cut-off, U)"}]
[{"$f":"'MI materialen'!A96","v":"Circulaire materialen"},{"$f":"'MI materialen'!B96","v":"Pfleiderer LivingBoard"},{"$f":"'MI materialen'!C96","v":"kg"},{"$f":"'MI materialen'!D96","v":0.66},{"$f":"'MI materialen'!E96","v":"EPD"},0.1672529293330246,{"$f":"'MI materialen'!F96*G$14","v":2.6553505185185184E-8},{"$f":"'MI materialen'!G96*H$14","v":0},{"$f":"'MI materialen'!H96*I$14","v":7.239143518518518E-3},{"$f":"'MI materialen'!I96*J$14","v":2.7500017416666664E-6},{"$f":"'MI materialen'!J96*K$14","v":2.7248888888888887E-3},{"$f":"'MI materialen'!K96*L$14","v":8.0530370370370363E-2},{"$f":"'MI materialen'!L96*M$14","v":7.6755749999999998E-2},{"$f":"'MI materialen'!M96*N$14","v":0},{"$f":"'MI materialen'!N96*O$14","v":0},{"$f":"'MI materialen'!O96*P$14","v":0},{"$f":"'MI materialen'!P96*Q$14","v":0},{"$f":"'MI materialen'!Q96","v":0},{"$f":"'MI materialen'!R96","v":0},{"$f":"'MI materialen'!S96","v":0},{"$f":"'MI materialen'!T96","v":0},{"$f":"'MI materialen'!U96","v":0},{"$f":"'MI materialen'!V96","v":0},{"$f":"'MI materialen'!W96","v":0},{"$f":"'MI materialen'!X96","v":0},{"$f":"'MI materialen'!Y96","v":0},{"$f":"'MI materialen'!Z96","v":0},{"$f":"'MI materialen'!AA96","v":0},{"$f":"'MI materialen'!AB96","v":0},{"$f":"'MI materialen'!AC96","v":0},{"$f":"'MI materialen'!AD96","v":0},{"$f":"'MI materialen'!AE96","v":0},{"$f":"'MI materialen'!AF96","v":0},{"$f":"'MI materialen'!AG96","v":0},{"$f":"'MI materialen'!AH96","v":0},{"$f":"'MI materialen'!AI96","v":27},{"$f":"'MI materialen'!AJ96","v":"hout, verontreinigd"},{"$f":"'MI materialen'!AK96","v":"via restmateriaal"},{"$f":"'MI materialen'!AL96","v":0.1},{"$f":"'MI materialen'!AM96","v":0.9},{"$f":"'MI materialen'!AN96","v":0},{"$f":"'MI materialen'!AO96","v":0},{"$f":"'MI materialen'!AP96","v":"0246-sto&Stort hout, geschilderd (o.b.v. 99% Waste wood, untreated en 1% Waste paint {EU}| treatment of, sanitary landfill | Cut-off, U)"},{"$f":"'MI materialen'!AQ96","v":"_0263-avC&Verbranden hout, verontreinigd (13,99 MJ/kg) (o.b.v. Waste building wood, chrome preserved {CH}| treatment of, municipal incineration | Cut-off, U)"},{"$f":"'MI materialen'!AR96","v":"0276-reD&Module D, houtspaanders, per kg NETTO geleverd (o.b.v. Wood chips, dry, measured as dry mass {RER}| three layered laminated board production | Cut-off, U)"}]
[{"$f":"'MI materialen'!A97","v":"Circulaire materialen"},{"$f":"'MI materialen'!B97","v":"Accoya"},{"$f":"'MI materialen'!C97","v":"kg"},{"$f":"'MI materialen'!D97","v":0},{"$f":"'MI materialen'!E97","v":"EPD"},6.6838031369195403E-2,{"$f":"'MI materialen'!F97*G$14","v":7.8035862068965529E-8},{"$f":"'MI materialen'!G97*H$14","v":1.2134988505747127E-4},{"$f":"'MI materialen'!H97*I$14","v":1.8250000000000002E-3},{"$f":"'MI materialen'!I97*J$14","v":8.1258620689655191E-5},{"$f":"'MI materialen'!J97*K$14","v":2.3025287356321844E-3},{"$f":"'MI materialen'!K97*L$14","v":3.291954022988506E-2},{"$f":"'MI materialen'!L97*M$14","v":2.9588275862068966E-2},{"$f":"'MI materialen'!M97*N$14","v":0},{"$f":"'MI materialen'!N97*O$14","v":0},{"$f":"'MI materialen'!O97*P$14","v":0},{"$f":"'MI materialen'!P97*Q$14","v":0},{"$f":"'MI materialen'!Q97","v":0},{"$f":"'MI materialen'!R97","v":0},{"$f":"'MI materialen'!S97","v":0},{"$f":"'MI materialen'!T97","v":0},{"$f":"'MI materialen'!U97","v":0},{"$f":"'MI materialen'!V97","v":0},{"$f":"'MI materialen'!W97","v":0},{"$f":"'MI materialen'!X97","v":0},{"$f":"'MI materialen'!Y97","v":0},{"$f":"'MI materialen'!Z97","v":0},{"$f":"'MI materialen'!AA97","v":0},{"$f":"'MI materialen'!AB97","v":0},{"$f":"'MI materialen'!AC97","v":0},{"$f":"'MI materialen'!AD97","v":0},{"$f":"'MI materialen'!AE97","v":0},{"$f":"'MI materialen'!AF97","v":0},{"$f":"'MI materialen'!AG97","v":0},{"$f":"'MI materialen'!AH97","v":0},{"$f":"'MI materialen'!AI97","v":27},{"$f":"'MI materialen'!AJ97","v":"hout, verontreinigd"},{"$f":"'MI materialen'!AK97","v":"via restmateriaal"},{"$f":"'MI materialen'!AL97","v":0.1},{"$f":"'MI materialen'!AM97","v":0.9},{"$f":"'MI materialen'!AN97","v":0},{"$f":"'MI materialen'!AO97","v":0},{"$f":"'MI materialen'!AP97","v":"0246-sto&Stort hout, geschilderd (o.b.v. 99% Waste wood, untreated en 1% Waste paint {EU}| treatment of, sanitary landfill | Cut-off, U)"},{"$f":"'MI materialen'!AQ97","v":"_0263-avC&Verbranden hout, verontreinigd (13,99 MJ/kg) (o.b.v. Waste building wood, chrome preserved {CH}| treatment of, municipal incineration | Cut-off, U)"},{"$f":"'MI materialen'!AR97","v":"0276-reD&Module D, houtspaanders, per kg NETTO geleverd (o.b.v. Wood chips, dry, measured as dry mass {RER}| three layered laminated board production | Cut-off, U)"}]
[{"$f":"'MI materialen'!A98","v":"Circulaire materialen"},{"$f":"'MI materialen'!B98","v":"Really solid boards"},{"$f":"'MI materialen'!C98","v":"kg"},{"$f":"'MI materialen'!D98","v":0.99},{"$f":"'MI materialen'!E98","v":"EPD"},4.3396596799999999E-2,{"$f":"'MI materialen'!F98*G$14","v":5.1987692307692301E-7},{"$f":"'MI materialen'!G98*H$14","v":0},{"$f":"'MI materialen'!H98*I$14","v":2.9615384615384621E-3},{"$f":"'MI materialen'!I98*J$14","v":9.7615384615384619E-5},{"$f":"'MI materialen'!J98*K$14","v":1.8030769230769232E-2},{"$f":"'MI materialen'!K98*L$14","v":0},{"$f":"'MI materialen'!L98*M$14","v":2.2306153846153844E-2},{"$f":"'MI materialen'!M98*N$14","v":0},{"$f":"'MI materialen'!N98*O$14","v":0},{"$f":"'MI materialen'!O98*P$14","v":0},{"$f":"'MI materialen'!P98*Q$14","v":0},{"$f":"'MI materialen'!Q98","v":0},{"$f":"'MI materialen'!R98","v":0},{"$f":"'MI materialen'!S98","v":0},{"$f":"'MI materialen'!T98","v":0},{"$f":"'MI materialen'!U98","v":0},{"$f":"'MI materialen'!V98","v":0},{"$f":"'MI materialen'!W98","v":0},{"$f":"'MI materialen'!X98","v":0},{"$f":"'MI materialen'!Y98","v":0},{"$f":"'MI materialen'!Z98","v":0},{"$f":"'MI materialen'!AA98","v":0},{"$f":"'MI materialen'!AB98","v":0},{"$f":"'MI materialen'!AC98","v":0},{"$f":"'MI materialen'!AD98","v":0},{"$f":"'MI materialen'!AE98","v":0},{"$f":"'MI materialen'!AF98","v":0},{"$f":"'MI materialen'!AG98","v":0},{"$f":"'MI materialen'!AH98","v":0},{"$f":"'MI materialen'!AI98","v":40},{"$f":"'MI materialen'!AJ98","v":"plaatmateriaal, verontreinigd"},{"$f":"'MI materialen'!AK98","v":"grote delen, o.a. bekleding"},{"$f":"'MI materialen'!AL98","v":0.05},{"$f":"'MI materialen'!AM98","v":0.95},{"$f":"'MI materialen'!AN98","v":0},{"$f":"'MI materialen'!AO98","v":0},{"$f":"'MI materialen'!AP98","v":"0245-sto&Stort hout, 'schoon' (o.b.v. Waste wood, untreated {Europe without Switzerland}| treatment of waste wood, untreated, sanitary landfill | Cut-off, U)"},{"$f":"'MI materialen'!AQ98","v":"_0262-avC&Verbranden hout, 'schoon' (13,99 MJ/kg) (o.b.v. Waste wood, untreated {CH}| treatment of, municipal incineration | Cut-off, U)"},{"$f":"'MI materialen'!AR98","v":"0276-reD&Module D, houtspaanders, per kg NETTO geleverd (o.b.v. Wood chips, dry, measured as dry mass {RER}| three layered laminated board production | Cut-off, U)"}]
[{"$f":"'MI materialen'!A99","v":"Circulaire materialen"},{"$f":"'MI materialen'!B99","v":"Resysta"},{"$f":"'MI materialen'!C99","v":"kg"},{"$f":"'MI materialen'!D99","v":0.6},{"$f":"'MI materialen'!E99","v":"EPD"},0.19696234679191199,{"$f":"'MI materialen'!F99*G$14","v":1.3790131200000001E-7},{"$f":"'MI materialen'!G99*H$14","v":0},{"$f":"'MI materialen'!H99*I$14","v":4.7930000000000013E-3},{"$f":"'MI materialen'!I99*J$14","v":3.2889059999999998E-7},{"$f":"'MI materialen'!J99*K$14","v":2.9390799999999997E-3},{"$f":"'MI materialen'!K99*L$14","v":0.11683200000000001},{"$f":"'MI materialen'!L99*M$14","v":7.2397799999999998E-2},{"$f":"'MI materialen'!M99*N$14","v":0},{"$f":"'MI materialen'!N99*O$14","v":0},{"$f":"'MI materialen'!O99*P$14","v":0},{"$f":"'MI materialen'!P99*Q$14","v":0},{"$f":"'MI materialen'!Q99","v":0},{"$f":"'MI materialen'!R99","v":0},{"$f":"'MI materialen'!S99","v":0},{"$f":"'MI materialen'!T99","v":0},{"$f":"'MI materialen'!U99","v":0},{"$f":"'MI materialen'!V99","v":0},{"$f":"'MI materialen'!W99","v":0},{"$f":"'MI materialen'!X99","v":0},{"$f":"'MI materialen'!Y99","v":0},{"$f":"'MI materialen'!Z99","v":0},{"$f":"'MI materialen'!AA99","v":0},{"$f":"'MI materialen'!AB99","v":0},{"$f":"'MI materialen'!AC99","v":0},{"$f":"'MI materialen'!AD99","v":0},{"$f":"'MI materialen'!AE99","v":0},{"$f":"'MI materialen'!AF99","v":0},{"$f":"'MI materialen'!AG99","v":0},{"$f":"'MI materialen'!AH99","v":0},{"$f":"'MI materialen'!AI99","v":40},{"$f":"'MI materialen'!AJ99","v":"plaatmateriaal, verontreinigd"},{"$f":"'MI materialen'!AK99","v":"grote delen, o.a. bekleding"},{"$f":"'MI materialen'!AL99","v":0.05},{"$f":"'MI materialen'!AM99","v":0.95},{"$f":"'MI materialen'!AN99","v":0},{"$f":"'MI materialen'!AO99","v":0},{"$f":"'MI materialen'!AP99","v":"0246-sto&Stort hout, geschilderd (o.b.v. 99% Waste wood, untreated en 1% Waste paint {EU}| treatment of, sanitary landfill | Cut-off, U)"},{"$f":"'MI materialen'!AQ99","v":"_0262-avC&Verbranden hout, 'schoon' (13,99 MJ/kg) (o.b.v. Waste wood, untreated {CH}| treatment of, municipal incineration | Cut-off, U)"},{"$f":"'MI materialen'!AR99","v":"0276-reD&Module D, houtspaanders, per kg NETTO geleverd (o.b.v. Wood chips, dry, measured as dry mass {RER}| three layered laminated board production | Cut-off, U)"}]
[{"$f":"'MI materialen'!A100","v":"Circulaire materialen"},{"$f":"'MI materialen'!B100","v":"Graphenstone"},{"$f":"'MI materialen'!C100","v":"kg"},{"$f":"'MI materialen'!D100","v":0},{"$f":"'MI materialen'!E100","v":"EPD"},5.5953861307840004E-2,{"$f":"'MI materialen'!F100*G$14","v":3.9078400000000004E-9},{"$f":"'MI materialen'!G100*H$14","v":4.0432639999999999E-2},{"$f":"'MI materialen'!H100*I$14","v":2.646425E-4},{"$f":"'MI materialen'!I100*J$14","v":1.0359900000000001E-5},{"$f":"'MI materialen'!J100*K$14","v":1.3488400000000002E-4},{"$f":"'MI materialen'!K100*L$14","v":8.4198399999999996E-3},{"$f":"'MI materialen'!L100*M$14","v":6.6914909999999999E-3},{"$f":"'MI materialen'!M100*N$14","v":0},{"$f":"'MI materialen'!N100*O$14","v":0},{"$f":"'MI materialen'!O100*P$14","v":0},{"$f":"'MI materialen'!P100*Q$14","v":0},{"$f":"'MI materialen'!Q100","v":0},{"$f":"'MI materialen'!R100","v":0},{"$f":"'MI materialen'!S100","v":0},{"$f":"'MI materialen'!T100","v":0},{"$f":"'MI materialen'!U100","v":0},{"$f":"'MI materialen'!V100","v":0},{"$f":"'MI materialen'!W100","v":0},{"$f":"'MI materialen'!X100","v":0},{"$f":"'MI materialen'!Y100","v":0},{"$f":"'MI materialen'!Z100","v":0},{"$f":"'MI materialen'!AA100","v":0},{"$f":"'MI materialen'!AB100","v":0},{"$f":"'MI materialen'!AC100","v":0},{"$f":"'MI materialen'!AD100","v":0},{"$f":"'MI materialen'!AE100","v":0},{"$f":"'MI materialen'!AF100","v":0},{"$f":"'MI materialen'!AG100","v":0},{"$f":"'MI materialen'!AH100","v":0},{"$f":"'MI materialen'!AI100","v":1},{"$f":"'MI materialen'!AJ100","v":"afwerkingen"},{"$f":"'MI materialen'!AK100","v":"verkleefd aan hout, kunststof, metaal"},{"$f":"'MI materialen'!AL100","v":0},{"$f":"'MI materialen'!AM100","v":1},{"$f":"'MI materialen'!AN100","v":0},{"$f":"'MI materialen'!AO100","v":0},{"$f":"'MI materialen'!AP100","v":"0299-sto&Stort verf (o.b.v. Waste paint {Europe without Switzerland}| treatment of waste paint, sanitary landfill | Cut-off, U)"},{"$f":"'MI materialen'!AQ100","v":"_0266-avC&Verbranden verf (10,14 MJ/kg) (o.b.v. Waste paint {Europe without Switzerland}| treatment of waste paint, municipal incineration | Cut-off, U)"},{"$f":"'MI materialen'!AR100","v":"leeg"}]
[{"$f":"'MI materialen'!A101","v":"Circulaire materialen"},{"$f":"'MI materialen'!B101","v":"RAW Paints"},{"$f":"'MI materialen'!C101","v":"kg"},{"$f":"'MI materialen'!D101","v":0},{"$f":"'MI materialen'!E101","v":"EPD"},0.123214731534546,{"$f":"'MI materialen'!F101*G$14","v":1.010872176E-6},{"$f":"'MI materialen'!G101*H$14","v":8.6535681599999995E-4},{"$f":"'MI materialen'!H101*I$14","v":4.5840094500000005E-2},{"$f":"'MI materialen'!I101*J$14","v":1.5884663699999999E-6},{"$f":"'MI materialen'!J101*K$14","v":1.24031246E-3},{"$f":"'MI materialen'!K101*L$14","v":1.24108164E-2},{"$f":"'MI materialen'!L101*M$14","v":9.7796250000000001E-3},{"$f":"'MI materialen'!M101*N$14","v":4.4585496000000002E-2},{"$f":"'MI materialen'!N101*O$14","v":3.703614E-3},{"$f":"'MI materialen'!O101*P$14","v":1.9335328000000002E-3},{"$f":"'MI materialen'!P101*Q$14","v":2.8532842199999998E-3},{"$f":"'MI materialen'!Q101","v":0},{"$f":"'MI materialen'!R101","v":0},{"$f":"'MI materialen'!S101","v":5.0880555999999997},{"$f":"'MI materialen'!T101","v":0},{"$f":"'MI materialen'!U101","v":0},{"$f":"'MI materialen'!V101","v":13.635014},{"$f":"'MI materialen'!W101","v":0},{"$f":"'MI materialen'!X101","v":0},{"$f":"'MI materialen'!Y101","v":0},{"$f":"'MI materialen'!Z101","v":1.1147433E-2},{"$f":"'MI materialen'!AA101","v":1.1498467E-5},{"$f":"'MI materialen'!AB101","v":8.7177800999999999E-2},{"$f":"'MI materialen'!AC101","v":3.7020641000000001E-5},{"$f":"'MI materialen'!AD101","v":0},{"$f":"'MI materialen'!AE101","v":0},{"$f":"'MI materialen'!AF101","v":0},{"$f":"'MI materialen'!AG101","v":0},{"$f":"'MI materialen'!AH101","v":0},{"$f":"'MI materialen'!AI101","v":1},{"$f":"'MI materialen'!AJ101","v":"afwerkingen"},{"$f":"'MI materialen'!AK101","v":"verkleefd aan hout, kunststof, metaal"},{"$f":"'MI materialen'!AL101","v":0},{"$f":"'MI materialen'!AM101","v":1},{"$f":"'MI materialen'!AN101","v":0},{"$f":"'MI materialen'!AO101","v":0},{"$f":"'MI materialen'!AP101","v":"0299-sto&Stort verf (o.b.v. Waste paint {Europe without Switzerland}| treatment of waste paint, sanitary landfill | Cut-off, U)"},{"$f":"'MI materialen'!AQ101","v":"_0266-avC&Verbranden verf (10,14 MJ/kg) (o.b.v. Waste paint {Europe without Switzerland}| treatment of waste paint, municipal incineration | Cut-off, U)"},{"$f":"'MI materialen'!AR101","v":"leeg"}]
[{"$f":"'MI materialen'!A102","v":"Circulaire materialen"},{"$f":"'MI materialen'!B102","v":"Cosentino"},{"$f":"'MI materialen'!C102","v":"kg"},{"$f":"'MI materialen'!D102","v":0},{"$f":"'MI materialen'!E102","v":"EPD"},0.15363682026132799,{"$f":"'MI materialen'!F102*G$14","v":1.6931328000000003E-8},{"$f":"'MI materialen'!G102*H$14","v":0},{"$f":"'MI materialen'!H102*I$14","v":2.7784750000000003E-3},{"$f":"'MI materialen'!I102*J$14","v":1.2699333E-4},{"$f":"'MI materialen'!J102*K$14","v":1.425476E-3},{"$f":"'MI materialen'!K102*L$14","v":8.6526079999999991E-2},{"$f":"'MI materialen'!L102*M$14","v":6.2779779000000008E-2},{"$f":"'MI materialen'!M102*N$14","v":0},{"$f":"'MI materialen'!N102*O$14","v":0},{"$f":"'MI materialen'!O102*P$14","v":0},{"$f":"'MI materialen'!P102*Q$14","v":0},{"$f":"'MI materialen'!Q102","v":0},{"$f":"'MI materialen'!R102","v":0},{"$f":"'MI materialen'!S102","v":0},{"$f":"'MI materialen'!T102","v":0},{"$f":"'MI materialen'!U102","v":0},{"$f":"'MI materialen'!V102","v":0},{"$f":"'MI materialen'!W102","v":0},{"$f":"'MI materialen'!X102","v":0},{"$f":"'MI materialen'!Y102","v":0},{"$f":"'MI materialen'!Z102","v":0},{"$f":"'MI materialen'!AA102","v":0},{"$f":"'MI materialen'!AB102","v":0},{"$f":"'MI materialen'!AC102","v":0},{"$f":"'MI materialen'!AD102","v":0},{"$f":"'MI materialen'!AE102","v":0},{"$f":"'MI materialen'!AF102","v":0},{"$f":"'MI materialen'!AG102","v":0},{"$f":"'MI materialen'!AH102","v":0},{"$f":"'MI materialen'!AI102","v":52},{"$f":"'MI materialen'!AJ102","v":"steenachtig, overig"},{"$f":"'MI materialen'!AK102","v":"o.a. natuursteen, breuksteen"},{"$f":"'MI materialen'!AL102","v":0.01},{"$f":"'MI materialen'!AM102","v":0},{"$f":"'MI materialen'!AN102","v":0.99},{"$f":"'MI materialen'!AO102","v":0},{"$f":"'MI materialen'!AP102","v":"0247-sto&Stort inert afval (o.b.v. Inert waste, for final disposal {RoW}| treatment of inert waste, inert material landfill | Cut-off, U) fijn-/grofkeramisch, grind, kalkzandsteen, schelpen, zand"},{"$f":"'MI materialen'!AQ102","v":"_0256-avC&Verbranden glas (o.b.v. Waste glass {Europe without Switzerland}| treatment of waste glass, municipal incineration | Cut-off, U)"},{"$f":"'MI materialen'!AR102","v":"0271-reD&Module D, grind, per kg NETTO geleverd granulaat/grind (vermeden: Gravel, round {RoW}| gravel and sand quarry operation | Cut-off, U)"}]
[{"$f":"'MI materialen'!A103","v":"Circulaire materialen"},{"$f":"'MI materialen'!B103","v":0},{"$f":"'MI materialen'!C103","v":"kg"},{"$f":"'MI materialen'!D103","v":0},{"$f":"'MI materialen'!E103","v":"PM"},0,{"$f":"'MI materialen'!F103*G$14","v":0},{"$f":"'MI materialen'!G103*H$14","v":0},{"$f":"'MI materialen'!H103*I$14","v":0},{"$f":"'MI materialen'!I103*J$14","v":0},{"$f":"'MI materialen'!J103*K$14","v":0},{"$f":"'MI materialen'!K103*L$14","v":0},{"$f":"'MI materialen'!L103*M$14","v":0},{"$f":"'MI materialen'!M103*N$14","v":0},{"$f":"'MI materialen'!N103*O$14","v":0},{"$f":"'MI materialen'!O103*P$14","v":0},{"$f":"'MI materialen'!P103*Q$14","v":0},{"$f":"'MI materialen'!Q103","v":0},{"$f":"'MI materialen'!R103","v":0},{"$f":"'MI materialen'!S103","v":0},{"$f":"'MI materialen'!T103","v":0},{"$f":"'MI materialen'!U103","v":0},{"$f":"'MI materialen'!V103","v":0},{"$f":"'MI materialen'!W103","v":0},{"$f":"'MI materialen'!X103","v":0},{"$f":"'MI materialen'!Y103","v":0},{"$f":"'MI materialen'!Z103","v":0},{"$f":"'MI materialen'!AA103","v":0},{"$f":"'MI materialen'!AB103","v":0},{"$f":"'MI materialen'!AC103","v":0},{"$f":"'MI materialen'!AD103","v":0},{"$f":"'MI materialen'!AE103","v":0},{"$f":"'MI materialen'!AF103","v":0},{"$f":"'MI materialen'!AG103","v":0},{"$f":"'MI materialen'!AH103","v":0},{"$f":"'MI materialen'!AI103","v":0},{"$f":"'MI materialen'!AJ103","v":{"$error":"#N/A"}},{"$f":"'MI materialen'!AK103","v":{"$error":"#N/A"}},{"$f":"'MI materialen'!AL103","v":{"$error":"#N/A"}},{"$f":"'MI materialen'!AM103","v":{"$error":"#N/A"}},{"$f":"'MI materialen'!AN103","v":{"$error":"#N/A"}},{"$f":"'MI materialen'!AO103","v":{"$error":"#N/A"}},{"$f":"'MI materialen'!AP103","v":0},{"$f":"'MI materialen'!AQ103","v":0},{"$f":"'MI materialen'!AR103","v":0}]
[{"$f":"'MI materialen'!A104","v":"Circulaire materialen"},{"$f":"'MI materialen'!B104","v":0},{"$f":"'MI materialen'!C104","v":"kg"},{"$f":"'MI materialen'!D104","v":0},{"$f":"'MI materialen'!E104","v":"PM"},0,{"$f":"'MI materialen'!F104*G$14","v":0},{"$f":"'MI materialen'!G104*H$14","v":0},{"$f":"'MI materialen'!H104*I$14","v":0},{"$f":"'MI materialen'!I104*J$14","v":0},{"$f":"'MI materialen'!J104*K$14","v":0},{"$f":"'MI materialen'!K104*L$14","v":0},{"$f":"'MI materialen'!L104*M$14","v":0},{"$f":"'MI materialen'!M104*N$14","v":0},{"$f":"'MI materialen'!N104*O$14","v":0},{"$f":"'MI materialen'!O104*P$14","v":0},{"$f":"'MI materialen'!P104*Q$14","v":0},{"$f":"'MI materialen'!Q104","v":0},{"$f":"'MI materialen'!R104","v":0},{"$f":"'MI materialen'!S104","v":0},{"$f":"'MI materialen'!T104","v":0},{"$f":"'MI materialen'!U104","v":0},{"$f":"'MI materialen'!V104","v":0},{"$f":"'MI materialen'!W104","v":0},{"$f":"'MI materialen'!X104","v":0},{"$f":"'MI materialen'!Y104","v":0},{"$f":"'MI materialen'!Z104","v":0},{"$f":"'MI materialen'!AA104","v":0},{"$f":"'MI materialen'!AB104","v":0},{"$f":"'MI materialen'!AC104","v":0},{"$f":"'MI materialen'!AD104","v":0},{"$f":"'MI materialen'!AE104","v":0},{"$f":"'MI materialen'!AF104","v":0},{"$f":"'MI materialen'!AG104","v":0},{"$f":"'MI materialen'!AH104","v":0},{"$f":"'MI materialen'!AI104","v":0},{"$f":"'MI materialen'!AJ104","v":{"$error":"#N/A"}},{"$f":"'MI materialen'!AK104","v":{"$error":"#N/A"}},{"$f":"'MI materialen'!AL104","v":{"$error":"#N/A"}},{"$f":"'MI materialen'!AM104","v":{"$error":"#N/A"}},{"$f":"'MI materialen'!AN104","v":{"$error":"#N/A"}},{"$f":"'MI materialen'!AO104","v":{"$error":"#N/A"}},{"$f":"'MI materialen'!AP104","v":0},{"$f":"'MI materialen'!AQ104","v":0},{"$f":"'MI materialen'!AR104","v":0}]
[{"$f":"'MI materialen'!A105","v":"Circulaire materialen"},{"$f":"'MI materialen'!B105","v":0},{"$f":"'MI materialen'!C105","v":"kg"},{"$f":"'MI materialen'!D105","v":0},{"$f":"'MI materialen'!E105","v":"PM"},0,{"$f":"'MI materialen'!F105*G$14","v":0},{"$f":"'MI materialen'!G105*H$14","v":0},{"$f":"'MI materialen'!H105*I$14","v":0},{"$f":"'MI materialen'!I105*J$14","v":0},{"$f":"'MI materialen'!J105*K$14","v":0},{"$f":"'MI materialen'!K105*L$14","v":0},{"$f":"'MI materialen'!L105*M$14","v":0},{"$f":"'MI materialen'!M105*N$14","v":0},{"$f":"'MI materialen'!N105*O$14","v":0},{"$f":"'MI materialen'!O105*P$14","v":0},{"$f":"'MI materialen'!P105*Q$14","v":0},{"$f":"'MI materialen'!Q105","v":0},{"$f":"'MI materialen'!R105","v":0},{"$f":"'MI materialen'!S105","v":0},{"$f":"'MI materialen'!T105","v":0},{"$f":"'MI materialen'!U105","v":0},{"$f":"'MI materialen'!V105","v":0},{"$f":"'MI materialen'!W105","v":0},{"$f":"'MI materialen'!X105","v":0},{"$f":"'MI materialen'!Y105","v":0},{"$f":"'MI materialen'!Z105","v":0},{"$f":"'MI materialen'!AA105","v":0},{"$f":"'MI materialen'!AB105","v":0},{"$f":"'MI materialen'!AC105","v":0},{"$f":"'MI materialen'!AD105","v":0},{"$f":"'MI materialen'!AE105","v":0},{"$f":"'MI materialen'!AF105","v":0},{"$f":"'MI materialen'!AG105","v":0},{"$f":"'MI materialen'!AH105","v":0},{"$f":"'MI materialen'!AI105","v":0},{"$f":"'MI materialen'!AJ105","v":{"$error":"#N/A"}},{"$f":"'MI materialen'!AK105","v":{"$error":"#N/A"}},{"$f":"'MI materialen'!AL105","v":{"$error":"#N/A"}},{"$f":"'MI materialen'!AM105","v":{"$error":"#N/A"}},{"$f":"'MI materialen'!AN105","v":{"$error":"#N/A"}},{"$f":"'MI materialen'!AO105","v":{"$error":"#N/A"}},{"$f":"'MI materialen'!AP105","v":0},{"$f":"'MI materialen'!AQ105","v":0},{"$f":"'MI materialen'!AR105","v":0}]
[{"$f":"'MI materialen'!A106","v":"Circulaire materialen"},{"$f":"'MI materialen'!B106","v":0},{"$f":"'MI materialen'!C106","v":"kg"},{"$f":"'MI materialen'!D106","v":0},{"$f":"'MI materialen'!E106","v":"PM"},0,{"$f":"'MI materialen'!F106*G$14","v":0},{"$f":"'MI materialen'!G106*H$14","v":0},{"$f":"'MI materialen'!H106*I$14","v":0},{"$f":"'MI materialen'!I106*J$14","v":0},{"$f":"'MI materialen'!J106*K$14","v":0},{"$f":"'MI materialen'!K106*L$14","v":0},{"$f":"'MI materialen'!L106*M$14","v":0},{"$f":"'MI materialen'!M106*N$14","v":0},{"$f":"'MI materialen'!N106*O$14","v":0},{"$f":"'MI materialen'!O106*P$14","v":0},{"$f":"'MI materialen'!P106*Q$14","v":0},{"$f":"'MI materialen'!Q106","v":0},{"$f":"'MI materialen'!R106","v":0},{"$f":"'MI materialen'!S106","v":0},{"$f":"'MI materialen'!T106","v":0},{"$f":"'MI materialen'!U106","v":0},{"$f":"'MI materialen'!V106","v":0},{"$f":"'MI materialen'!W106","v":0},{"$f":"'MI materialen'!X106","v":0},{"$f":"'MI materialen'!Y106","v":0},{"$f":"'MI materialen'!Z106","v":0},{"$f":"'MI materialen'!AA106","v":0},{"$f":"'MI materialen'!AB106","v":0},{"$f":"'MI materialen'!AC106","v":0},{"$f":"'MI materialen'!AD106","v":0},{"$f":"'MI materialen'!AE106","v":0},{"$f":"'MI materialen'!AF106","v":0},{"$f":"'MI materialen'!AG106","v":0},{"$f":"'MI materialen'!AH106","v":0},{"$f":"'MI materialen'!AI106","v":0},{"$f":"'MI materialen'!AJ106","v":{"$error":"#N/A"}},{"$f":"'MI materialen'!AK106","v":{"$error":"#N/A"}},{"$f":"'MI materialen'!AL106","v":{"$error":"#N/A"}},{"$f":"'MI materialen'!AM106","v":{"$error":"#N/A"}},{"$f":"'MI materialen'!AN106","v":{"$error":"#N/A"}},{"$f":"'MI materialen'!AO106","v":{"$error":"#N/A"}},{"$f":"'MI materialen'!AP106","v":0},{"$f":"'MI materialen'!AQ106","v":0},{"$f":"'MI materialen'!AR106","v":0}]
[{"$f":"'MI materialen'!A107","v":"Circulaire materialen"},{"$f":"'MI materialen'!B107","v":0},{"$f":"'MI materialen'!C107","v":"kg"},{"$f":"'MI materialen'!D107","v":0},{"$f":"'MI materialen'!E107","v":"PM"},0,{"$f":"'MI materialen'!F107*G$14","v":0},{"$f":"'MI materialen'!G107*H$14","v":0},{"$f":"'MI materialen'!H107*I$14","v":0},{"$f":"'MI materialen'!I107*J$14","v":0},{"$f":"'MI materialen'!J107*K$14","v":0},{"$f":"'MI materialen'!K107*L$14","v":0},{"$f":"'MI materialen'!L107*M$14","v":0},{"$f":"'MI materialen'!M107*N$14","v":0},{"$f":"'MI materialen'!N107*O$14","v":0},{"$f":"'MI materialen'!O107*P$14","v":0},{"$f":"'MI materialen'!P107*Q$14","v":0},{"$f":"'MI materialen'!Q107","v":0},{"$f":"'MI materialen'!R107","v":0},{"$f":"'MI materialen'!S107","v":0},{"$f":"'MI materialen'!T107","v":0},{"$f":"'MI materialen'!U107","v":0},{"$f":"'MI materialen'!V107","v":0},{"$f":"'MI materialen'!W107","v":0},{"$f":"'MI materialen'!X107","v":0},{"$f":"'MI materialen'!Y107","v":0},{"$f":"'MI materialen'!Z107","v":0},{"$f":"'MI materialen'!AA107","v":0},{"$f":"'MI materialen'!AB107","v":0},{"$f":"'MI materialen'!AC107","v":0},{"$f":"'MI materialen'!AD107","v":0},{"$f":"'MI materialen'!AE107","v":0},{"$f":"'MI materialen'!AF107","v":0},{"$f":"'MI materialen'!AG107","v":0},{"$f":"'MI materialen'!AH107","v":0},{"$f":"'MI materialen'!AI107","v":0},{"$f":"'MI materialen'!AJ107","v":{"$error":"#N/A"}},{"$f":"'MI materialen'!AK107","v":{"$error":"#N/A"}},{"$f":"'MI materialen'!AL107","v":{"$error":"#N/A"}},{"$f":"'MI materialen'!AM107","v":{"$error":"#N/A"}},{"$f":"'MI materialen'!AN107","v":{"$error":"#N/A"}},{"$f":"'MI materialen'!AO107","v":{"$error":"#N/A"}},{"$f":"'MI materialen'!AP107","v":0},{"$f":"'MI materialen'!AQ107","v":0},{"$f":"'MI materialen'!AR107","v":0}]
[{"$f":"'MI materialen'!A108","v":"Circulaire materialen"},{"$f":"'MI materialen'!B108","v":0},{"$f":"'MI materialen'!C108","v":"kg"},{"$f":"'MI materialen'!D108","v":0},{"$f":"'MI materialen'!E108","v":"PM"},0,{"$f":"'MI materialen'!F108*G$14","v":0},{"$f":"'MI materialen'!G108*H$14","v":0},{"$f":"'MI materialen'!H108*I$14","v":0},{"$f":"'MI materialen'!I108*J$14","v":0},{"$f":"'MI materialen'!J108*K$14","v":0},{"$f":"'MI materialen'!K108*L$14","v":0},{"$f":"'MI materialen'!L108*M$14","v":0},{"$f":"'MI materialen'!M108*N$14","v":0},{"$f":"'MI materialen'!N108*O$14","v":0},{"$f":"'MI materialen'!O108*P$14","v":0},{"$f":"'MI materialen'!P108*Q$14","v":0},{"$f":"'MI materialen'!Q108","v":0},{"$f":"'MI materialen'!R108","v":0},{"$f":"'MI materialen'!S108","v":0},{"$f":"'MI materialen'!T108","v":0},{"$f":"'MI materialen'!U108","v":0},{"$f":"'MI materialen'!V108","v":0},{"$f":"'MI materialen'!W108","v":0},{"$f":"'MI materialen'!X108","v":0},{"$f":"'MI materialen'!Y108","v":0},{"$f":"'MI materialen'!Z108","v":0},{"$f":"'MI materialen'!AA108","v":0},{"$f":"'MI materialen'!AB108","v":0},{"$f":"'MI materialen'!AC108","v":0},{"$f":"'MI materialen'!AD108","v":0},{"$f":"'MI materialen'!AE108","v":0},{"$f":"'MI materialen'!AF108","v":0},{"$f":"'MI materialen'!AG108","v":0},{"$f":"'MI materialen'!AH108","v":0},{"$f":"'MI materialen'!AI108","v":0},{"$f":"'MI materialen'!AJ108","v":{"$error":"#N/A"}},{"$f":"'MI materialen'!AK108","v":{"$error":"#N/A"}},{"$f":"'MI materialen'!AL108","v":{"$error":"#N/A"}},{"$f":"'MI materialen'!AM108","v":{"$error":"#N/A"}},{"$f":"'MI materialen'!AN108","v":{"$error":"#N/A"}},{"$f":"'MI materialen'!AO108","v":{"$error":"#N/A"}},{"$f":"'MI materialen'!AP108","v":0},{"$f":"'MI materialen'!AQ108","v":0},{"$f":"'MI materialen'!AR108","v":0}]
[{"$f":"'MI materialen'!A109","v":"Circulaire materialen"},{"$f":"'MI materialen'!B109","v":0},{"$f":"'MI materialen'!C109","v":"kg"},{"$f":"'MI materialen'!D109","v":0},{"$f":"'MI materialen'!E109","v":"PM"},0,{"$f":"'MI materialen'!F109*G$14","v":0},{"$f":"'MI materialen'!G109*H$14","v":0},{"$f":"'MI materialen'!H109*I$14","v":0},{"$f":"'MI materialen'!I109*J$14","v":0},{"$f":"'MI materialen'!J109*K$14","v":0},{"$f":"'MI materialen'!K109*L$14","v":0},{"$f":"'MI materialen'!L109*M$14","v":0},{"$f":"'MI materialen'!M109*N$14","v":0},{"$f":"'MI materialen'!N109*O$14","v":0},{"$f":"'MI materialen'!O109*P$14","v":0},{"$f":"'MI materialen'!P109*Q$14","v":0},{"$f":"'MI materialen'!Q109","v":0},{"$f":"'MI materialen'!R109","v":0},{"$f":"'MI materialen'!S109","v":0},{"$f":"'MI materialen'!T109","v":0},{"$f":"'MI materialen'!U109","v":0},{"$f":"'MI materialen'!V109","v":0},{"$f":"'MI materialen'!W109","v":0},{"$f":"'MI materialen'!X109","v":0},{"$f":"'MI materialen'!Y109","v":0},{"$f":"'MI materialen'!Z109","v":0},{"$f":"'MI materialen'!AA109","v":0},{"$f":"'MI materialen'!AB109","v":0},{"$f":"'MI materialen'!AC109","v":0},{"$f":"'MI materialen'!AD109","v":0},{"$f":"'MI materialen'!AE109","v":0},{"$f":"'MI materialen'!AF109","v":0},{"$f":"'MI materialen'!AG109","v":0},{"$f":"'MI materialen'!AH109","v":0},{"$f":"'MI materialen'!AI109","v":0},{"$f":"'MI materialen'!AJ109","v":{"$error":"#N/A"}},{"$f":"'MI materialen'!AK109","v":{"$error":"#N/A"}},{"$f":"'MI materialen'!AL109","v":{"$error":"#N/A"}},{"$f":"'MI materialen'!AM109","v":{"$error":"#N/A"}},{"$f":"'MI materialen'!AN109","v":{"$error":"#N/A"}},{"$f":"'MI materialen'!AO109","v":{"$error":"#N/A"}},{"$f":"'MI materialen'!AP109","v":0},{"$f":"'MI materialen'!AQ109","v":0},{"$f":"'MI materialen'!AR109","v":0}]
[{"$f":"'MI materialen'!A110","v":"Circulaire materialen"},{"$f":"'MI materialen'!B110","v":0},{"$f":"'MI materialen'!C110","v":"kg"},{"$f":"'MI materialen'!D110","v":0},{"$f":"'MI materialen'!E110","v":"PM"},0,{"$f":"'MI materialen'!F110*G$14","v":0},{"$f":"'MI materialen'!G110*H$14","v":0},{"$f":"'MI materialen'!H110*I$14","v":0},{"$f":"'MI materialen'!I110*J$14","v":0},{"$f":"'MI materialen'!J110*K$14","v":0},{"$f":"'MI materialen'!K110*L$14","v":0},{"$f":"'MI materialen'!L110*M$14","v":0},{"$f":"'MI materialen'!M110*N$14","v":0},{"$f":"'MI materialen'!N110*O$14","v":0},{"$f":"'MI materialen'!O110*P$14","v":0},{"$f":"'MI materialen'!P110*Q$14","v":0},{"$f":"'MI materialen'!Q110","v":0},{"$f":"'MI materialen'!R110","v":0},{"$f":"'MI materialen'!S110","v":0},{"$f":"'MI materialen'!T110","v":0},{"$f":"'MI materialen'!U110","v":0},{"$f":"'MI materialen'!V110","v":0},{"$f":"'MI materialen'!W110","v":0},{"$f":"'MI materialen'!X110","v":0},{"$f":"'MI materialen'!Y110","v":0},{"$f":"'MI materialen'!Z110","v":0},{"$f":"'MI materialen'!AA110","v":0},{"$f":"'MI materialen'!AB110","v":0},{"$f":"'MI materialen'!AC110","v":0},{"$f":"'MI materialen'!AD110","v":0},{"$f":"'MI materialen'!AE110","v":0},{"$f":"'MI materialen'!AF110","v":0},{"$f":"'MI materialen'!AG110","v":0},{"$f":"'MI materialen'!AH110","v":0},{"$f":"'MI materialen'!AI110","v":0},{"$f":"'MI materialen'!AJ110","v":{"$error":"#N/A"}},{"$f":"'MI materialen'!AK110","v":{"$error":"#N/A"}},{"$f":"'MI materialen'!AL110","v":{"$error":"#N/A"}},{"$f":"'MI materialen'!AM110","v":{"$error":"#N/A"}},{"$f":"'MI materialen'!AN110","v":{"$error":"#N/A"}},{"$f":"'MI materialen'!AO110","v":{"$error":"#N/A"}},{"$f":"'MI materialen'!AP110","v":0},{"$f":"'MI materialen'!AQ110","v":0},{"$f":"'MI materialen'!AR110","v":0}]
[{"$f":"'MI materialen'!A111","v":"Circulaire materialen"},{"$f":"'MI materialen'!B111","v":0},{"$f":"'MI materialen'!C111","v":"kg"},{"$f":"'MI materialen'!D111","v":0},{"$f":"'MI materialen'!E111","v":"PM"},0,{"$f":"'MI materialen'!F111*G$14","v":0},{"$f":"'MI materialen'!G111*H$14","v":0},{"$f":"'MI materialen'!H111*I$14","v":0},{"$f":"'MI materialen'!I111*J$14","v":0},{"$f":"'MI materialen'!J111*K$14","v":0},{"$f":"'MI materialen'!K111*L$14","v":0},{"$f":"'MI materialen'!L111*M$14","v":0},{"$f":"'MI materialen'!M111*N$14","v":0},{"$f":"'MI materialen'!N111*O$14","v":0},{"$f":"'MI materialen'!O111*P$14","v":0},{"$f":"'MI materialen'!P111*Q$14","v":0},{"$f":"'MI materialen'!Q111","v":0},{"$f":"'MI materialen'!R111","v":0},{"$f":"'MI materialen'!S111","v":0},{"$f":"'MI materialen'!T111","v":0},{"$f":"'MI materialen'!U111","v":0},{"$f":"'MI materialen'!V111","v":0},{"$f":"'MI materialen'!W111","v":0},{"$f":"'MI materialen'!X111","v":0},{"$f":"'MI materialen'!Y111","v":0},{"$f":"'MI materialen'!Z111","v":0},{"$f":"'MI materialen'!AA111","v":0},{"$f":"'MI materialen'!AB111","v":0},{"$f":"'MI materialen'!AC111","v":0},{"$f":"'MI materialen'!AD111","v":0},{"$f":"'MI materialen'!AE111","v":0},{"$f":"'MI materialen'!AF111","v":0},{"$f":"'MI materialen'!AG111","v":0},{"$f":"'MI materialen'!AH111","v":0},{"$f":"'MI materialen'!AI111","v":0},{"$f":"'MI materialen'!AJ111","v":{"$error":"#N/A"}},{"$f":"'MI materialen'!AK111","v":{"$error":"#N/A"}},{"$f":"'MI materialen'!AL111","v":{"$error":"#N/A"}},{"$f":"'MI materialen'!AM111","v":{"$error":"#N/A"}},{"$f":"'MI materialen'!AN111","v":{"$error":"#N/A"}},{"$f":"'MI materialen'!AO111","v":{"$error":"#N/A"}},{"$f":"'MI materialen'!AP111","v":0},{"$f":"'MI materialen'!AQ111","v":0},{"$f":"'MI materialen'!AR111","v":0}]
[{"$f":"'MI materialen'!A112","v":"Circulaire materialen"},{"$f":"'MI materialen'!B112","v":0},{"$f":"'MI materialen'!C112","v":"kg"},{"$f":"'MI materialen'!D112","v":0},{"$f":"'MI materialen'!E112","v":"PM"},0,{"$f":"'MI materialen'!F112*G$14","v":0},{"$f":"'MI materialen'!G112*H$14","v":0},{"$f":"'MI materialen'!H112*I$14","v":0},{"$f":"'MI materialen'!I112*J$14","v":0},{"$f":"'MI materialen'!J112*K$14","v":0},{"$f":"'MI materialen'!K112*L$14","v":0},{"$f":"'MI materialen'!L112*M$14","v":0},{"$f":"'MI materialen'!M112*N$14","v":0},{"$f":"'MI materialen'!N112*O$14","v":0},{"$f":"'MI materialen'!O112*P$14","v":0},{"$f":"'MI materialen'!P112*Q$14","v":0},{"$f":"'MI materialen'!Q112","v":0},{"$f":"'MI materialen'!R112","v":0},{"$f":"'MI materialen'!S112","v":0},{"$f":"'MI materialen'!T112","v":0},{"$f":"'MI materialen'!U112","v":0},{"$f":"'MI materialen'!V112","v":0},{"$f":"'MI materialen'!W112","v":0},{"$f":"'MI materialen'!X112","v":0},{"$f":"'MI materialen'!Y112","v":0},{"$f":"'MI materialen'!Z112","v":0},{"$f":"'MI materialen'!AA112","v":0},{"$f":"'MI materialen'!AB112","v":0},{"$f":"'MI materialen'!AC112","v":0},{"$f":"'MI materialen'!AD112","v":0},{"$f":"'MI materialen'!AE112","v":0},{"$f":"'MI materialen'!AF112","v":0},{"$f":"'MI materialen'!AG112","v":0},{"$f":"'MI materialen'!AH112","v":0},{"$f":"'MI materialen'!AI112","v":0},{"$f":"'MI materialen'!AJ112","v":{"$error":"#N/A"}},{"$f":"'MI materialen'!AK112","v":{"$error":"#N/A"}},{"$f":"'MI materialen'!AL112","v":{"$error":"#N/A"}},{"$f":"'MI materialen'!AM112","v":{"$error":"#N/A"}},{"$f":"'MI materialen'!AN112","v":{"$error":"#N/A"}},{"$f":"'MI materialen'!AO112","v":{"$error":"#N/A"}},{"$f":"'MI materialen'!AP112","v":0},{"$f":"'MI materialen'!AQ112","v":0},{"$f":"'MI materialen'!AR112","v":0}]
[{"$f":"'MI materialen'!A113","v":"Circulaire materialen"},{"$f":"'MI materialen'!B113","v":0},{"$f":"'MI materialen'!C113","v":"kg"},{"$f":"'MI materialen'!D113","v":0},{"$f":"'MI materialen'!E113","v":"PM"},0,{"$f":"'MI materialen'!F113*G$14","v":0},{"$f":"'MI materialen'!G113*H$14","v":0},{"$f":"'MI materialen'!H113*I$14","v":0},{"$f":"'MI materialen'!I113*J$14","v":0},{"$f":"'MI materialen'!J113*K$14","v":0},{"$f":"'MI materialen'!K113*L$14","v":0},{"$f":"'MI materialen'!L113*M$14","v":0},{"$f":"'MI materialen'!M113*N$14","v":0},{"$f":"'MI materialen'!N113*O$14","v":0},{"$f":"'MI materialen'!O113*P$14","v":0},{"$f":"'MI materialen'!P113*Q$14","v":0},{"$f":"'MI materialen'!Q113","v":0},{"$f":"'MI materialen'!R113","v":0},{"$f":"'MI materialen'!S113","v":0},{"$f":"'MI materialen'!T113","v":0},{"$f":"'MI materialen'!U113","v":0},{"$f":"'MI materialen'!V113","v":0},{"$f":"'MI materialen'!W113","v":0},{"$f":"'MI materialen'!X113","v":0},{"$f":"'MI materialen'!Y113","v":0},{"$f":"'MI materialen'!Z113","v":0},{"$f":"'MI materialen'!AA113","v":0},{"$f":"'MI materialen'!AB113","v":0},{"$f":"'MI materialen'!AC113","v":0},{"$f":"'MI materialen'!AD113","v":0},{"$f":"'MI materialen'!AE113","v":0},{"$f":"'MI materialen'!AF113","v":0},{"$f":"'MI materialen'!AG113","v":0},{"$f":"'MI materialen'!AH113","v":0},{"$f":"'MI materialen'!AI113","v":0},{"$f":"'MI materialen'!AJ113","v":{"$error":"#N/A"}},{"$f":"'MI materialen'!AK113","v":{"$error":"#N/A"}},{"$f":"'MI materialen'!AL113","v":{"$error":"#N/A"}},{"$f":"'MI materialen'!AM113","v":{"$error":"#N/A"}},{"$f":"'MI materialen'!AN113","v":{"$error":"#N/A"}},{"$f":"'MI materialen'!AO113","v":{"$error":"#N/A"}},{"$f":"'MI materialen'!AP113","v":0},{"$f":"'MI materialen'!AQ113","v":0},{"$f":"'MI materialen'!AR113","v":0}]
[{"$f":"'MI materialen'!A114","v":"Circulaire materialen"},{"$f":"'MI materialen'!B114","v":0},{"$f":"'MI materialen'!C114","v":"kg"},{"$f":"'MI materialen'!D114","v":0},{"$f":"'MI materialen'!E114","v":"PM"},0,{"$f":"'MI materialen'!F114*G$14","v":0},{"$f":"'MI materialen'!G114*H$14","v":0},{"$f":"'MI materialen'!H114*I$14","v":0},{"$f":"'MI materialen'!I114*J$14","v":0},{"$f":"'MI materialen'!J114*K$14","v":0},{"$f":"'MI materialen'!K114*L$14","v":0},{"$f":"'MI materialen'!L114*M$14","v":0},{"$f":"'MI materialen'!M114*N$14","v":0},{"$f":"'MI materialen'!N114*O$14","v":0},{"$f":"'MI materialen'!O114*P$14","v":0},{"$f":"'MI materialen'!P114*Q$14","v":0},{"$f":"'MI materialen'!Q114","v":0},{"$f":"'MI materialen'!R114","v":0},{"$f":"'MI materialen'!S114","v":0},{"$f":"'MI materialen'!T114","v":0},{"$f":"'MI materialen'!U114","v":0},{"$f":"'MI materialen'!V114","v":0},{"$f":"'MI materialen'!W114","v":0},{"$f":"'MI materialen'!X114","v":0},{"$f":"'MI materialen'!Y114","v":0},{"$f":"'MI materialen'!Z114","v":0},{"$f":"'MI materialen'!AA114","v":0},{"$f":"'MI materialen'!AB114","v":0},{"$f":"'MI materialen'!AC114","v":0},{"$f":"'MI materialen'!AD114","v":0},{"$f":"'MI materialen'!AE114","v":0},{"$f":"'MI materialen'!AF114","v":0},{"$f":"'MI materialen'!AG114","v":0},{"$f":"'MI materialen'!AH114","v":0},{"$f":"'MI materialen'!AI114","v":0},{"$f":"'MI materialen'!AJ114","v":{"$error":"#N/A"}},{"$f":"'MI materialen'!AK114","v":{"$error":"#N/A"}},{"$f":"'MI materialen'!AL114","v":{"$error":"#N/A"}},{"$f":"'MI materialen'!AM114","v":{"$error":"#N/A"}},{"$f":"'MI materialen'!AN114","v":{"$error":"#N/A"}},{"$f":"'MI materialen'!AO114","v":{"$error":"#N/A"}},{"$f":"'MI materialen'!AP114","v":0},{"$f":"'MI materialen'!AQ114","v":0},{"$f":"'MI materialen'!AR114","v":0}]
[{"$f":"'MI materialen'!A115","v":"Circulaire materialen"},{"$f":"'MI materialen'!B115","v":0},{"$f":"'MI materialen'!C115","v":"kg"},{"$f":"'MI materialen'!D115","v":0},{"$f":"'MI materialen'!E115","v":"PM"},0,{"$f":"'MI materialen'!F115*G$14","v":0},{"$f":"'MI materialen'!G115*H$14","v":0},{"$f":"'MI materialen'!H115*I$14","v":0},{"$f":"'MI materialen'!I115*J$14","v":0},{"$f":"'MI materialen'!J115*K$14","v":0},{"$f":"'MI materialen'!K115*L$14","v":0},{"$f":"'MI materialen'!L115*M$14","v":0},{"$f":"'MI materialen'!M115*N$14","v":0},{"$f":"'MI materialen'!N115*O$14","v":0},{"$f":"'MI materialen'!O115*P$14","v":0},{"$f":"'MI materialen'!P115*Q$14","v":0},{"$f":"'MI materialen'!Q115","v":0},{"$f":"'MI materialen'!R115","v":0},{"$f":"'MI materialen'!S115","v":0},{"$f":"'MI materialen'!T115","v":0},{"$f":"'MI materialen'!U115","v":0},{"$f":"'MI materialen'!V115","v":0},{"$f":"'MI materialen'!W115","v":0},{"$f":"'MI materialen'!X115","v":0},{"$f":"'MI materialen'!Y115","v":0},{"$f":"'MI materialen'!Z115","v":0},{"$f":"'MI materialen'!AA115","v":0},{"$f":"'MI materialen'!AB115","v":0},{"$f":"'MI materialen'!AC115","v":0},{"$f":"'MI materialen'!AD115","v":0},{"$f":"'MI materialen'!AE115","v":0},{"$f":"'MI materialen'!AF115","v":0},{"$f":"'MI materialen'!AG115","v":0},{"$f":"'MI materialen'!AH115","v":0},{"$f":"'MI materialen'!AI115","v":0},{"$f":"'MI materialen'!AJ115","v":{"$error":"#N/A"}},{"$f":"'MI materialen'!AK115","v":{"$error":"#N/A"}},{"$f":"'MI materialen'!AL115","v":{"$error":"#N/A"}},{"$f":"'MI materialen'!AM115","v":{"$error":"#N/A"}},{"$f":"'MI materialen'!AN115","v":{"$error":"#N/A"}},{"$f":"'MI materialen'!AO115","v":{"$error":"#N/A"}},{"$f":"'MI materialen'!AP115","v":0},{"$f":"'MI materialen'!AQ115","v":0},{"$f":"'MI materialen'!AR115","v":0}]
[{"$f":"'MI materialen'!A116","v":"Circulaire materialen"},{"$f":"'MI materialen'!B116","v":0},{"$f":"'MI materialen'!C116","v":"kg"},{"$f":"'MI materialen'!D116","v":0},{"$f":"'MI materialen'!E116","v":"PM"},0,{"$f":"'MI materialen'!F116*G$14","v":0},{"$f":"'MI materialen'!G116*H$14","v":0},{"$f":"'MI materialen'!H116*I$14","v":0},{"$f":"'MI materialen'!I116*J$14","v":0},{"$f":"'MI materialen'!J116*K$14","v":0},{"$f":"'MI materialen'!K116*L$14","v":0},{"$f":"'MI materialen'!L116*M$14","v":0},{"$f":"'MI materialen'!M116*N$14","v":0},{"$f":"'MI materialen'!N116*O$14","v":0},{"$f":"'MI materialen'!O116*P$14","v":0},{"$f":"'MI materialen'!P116*Q$14","v":0},{"$f":"'MI materialen'!Q116","v":0},{"$f":"'MI materialen'!R116","v":0},{"$f":"'MI materialen'!S116","v":0},{"$f":"'MI materialen'!T116","v":0},{"$f":"'MI materialen'!U116","v":0},{"$f":"'MI materialen'!V116","v":0},{"$f":"'MI materialen'!W116","v":0},{"$f":"'MI materialen'!X116","v":0},{"$f":"'MI materialen'!Y116","v":0},{"$f":"'MI materialen'!Z116","v":0},{"$f":"'MI materialen'!AA116","v":0},{"$f":"'MI materialen'!AB116","v":0},{"$f":"'MI materialen'!AC116","v":0},{"$f":"'MI materialen'!AD116","v":0},{"$f":"'MI materialen'!AE116","v":0},{"$f":"'MI materialen'!AF116","v":0},{"$f":"'MI materialen'!AG116","v":0},{"$f":"'MI materialen'!AH116","v":0},{"$f":"'MI materialen'!AI116","v":0},{"$f":"'MI materialen'!AJ116","v":{"$error":"#N/A"}},{"$f":"'MI materialen'!AK116","v":{"$error":"#N/A"}},{"$f":"'MI materialen'!AL116","v":{"$error":"#N/A"}},{"$f":"'MI materialen'!AM116","v":{"$error":"#N/A"}},{"$f":"'MI materialen'!AN116","v":{"$error":"#N/A"}},{"$f":"'MI materialen'!AO116","v":{"$error":"#N/A"}},{"$f":"'MI materialen'!AP116","v":0},{"$f":"'MI materialen'!AQ116","v":0},{"$f":"'MI materialen'!AR116","v":0}]
[{"$f":"'MI materialen'!A117","v":"Circulaire materialen"},{"$f":"'MI materialen'!B117","v":0},{"$f":"'MI materialen'!C117","v":"kg"},{"$f":"'MI materialen'!D117","v":0},{"$f":"'MI materialen'!E117","v":"PM"},0,{"$f":"'MI materialen'!F117*G$14","v":0},{"$f":"'MI materialen'!G117*H$14","v":0},{"$f":"'MI materialen'!H117*I$14","v":0},{"$f":"'MI materialen'!I117*J$14","v":0},{"$f":"'MI materialen'!J117*K$14","v":0},{"$f":"'MI materialen'!K117*L$14","v":0},{"$f":"'MI materialen'!L117*M$14","v":0},{"$f":"'MI materialen'!M117*N$14","v":0},{"$f":"'MI materialen'!N117*O$14","v":0},{"$f":"'MI materialen'!O117*P$14","v":0},{"$f":"'MI materialen'!P117*Q$14","v":0},{"$f":"'MI materialen'!Q117","v":0},{"$f":"'MI materialen'!R117","v":0},{"$f":"'MI materialen'!S117","v":0},{"$f":"'MI materialen'!T117","v":0},{"$f":"'MI materialen'!U117","v":0},{"$f":"'MI materialen'!V117","v":0},{"$f":"'MI materialen'!W117","v":0},{"$f":"'MI materialen'!X117","v":0},{"$f":"'MI materialen'!Y117","v":0},{"$f":"'MI materialen'!Z117","v":0},{"$f":"'MI materialen'!AA117","v":0},{"$f":"'MI materialen'!AB117","v":0},{"$f":"'MI materialen'!AC117","v":0},{"$f":"'MI materialen'!AD117","v":0},{"$f":"'MI materialen'!AE117","v":0},{"$f":"'MI materialen'!AF117","v":0},{"$f":"'MI materialen'!AG117","v":0},{"$f":"'MI materialen'!AH117","v":0},{"$f":"'MI materialen'!AI117","v":0},{"$f":"'MI materialen'!AJ117","v":{"$error":"#N/A"}},{"$f":"'MI materialen'!AK117","v":{"$error":"#N/A"}},{"$f":"'MI materialen'!AL117","v":{"$error":"#N/A"}},{"$f":"'MI materialen'!AM117","v":{"$error":"#N/A"}},{"$f":"'MI materialen'!AN117","v":{"$error":"#N/A"}},{"$f":"'MI materialen'!AO117","v":{"$error":"#N/A"}},{"$f":"'MI materialen'!AP117","v":0},{"$f":"'MI materialen'!AQ117","v":0},{"$f":"'MI materialen'!AR117","v":0}]
[{"$f":"'MI materialen'!A118","v":"Bewerkingen"},{"$f":"'MI materialen'!B118","v":0},{"$f":"'MI materialen'!C118","v":0},{"$f":"'MI materialen'!D118","v":0},{"$f":"'MI materialen'!E118","v":0},null,{"$f":"'MI materialen'!F118","v":"001. abiotic depletion, non fuel (AD)"},{"$f":"'MI materialen'!G118","v":"002. abiotic depletion, fuel (AD)"},{"$f":"'MI materialen'!H118","v":"004. global warming (GWP)"},{"$f":"'MI materialen'!I118","v":"005. ozone layer depletion (ODP)"},{"$f":"'MI materialen'!J118","v":"006. photochemical oxidation (POCP)"},{"$f":"'MI materialen'!K118","v":"007. acidification (AP)"},{"$f":"'MI materialen'!L118","v":"008. eutrophication (EP)"},{"$f":"'MI materialen'!M118","v":"009. human toxicity (HT)"},{"$f":"'MI materialen'!N118","v":"010. Ecotoxicity, fresh water (FAETP)"},{"$f":"'MI materialen'!O118","v":"012. Ecotoxcity, marine water (MAETP)"},{"$f":"'MI materialen'!P118","v":"014. Ecotoxicity, terrestric (TETP)"},{"$f":"'MI materialen'!Q118","v":"111. Energy, primary, renewable, excludi"},{"$f":"'MI materialen'!R118","v":"113. Energy, primary, renewable, materia"},{"$f":"'MI materialen'!S118","v":"101. Energy, primary, renewable (MJ)"},{"$f":"'MI materialen'!T118","v":"112. Energy, primary, non-renewable, exc"},{"$f":"'MI materialen'!U118","v":"114. Energy, primary, non-renewable, mat"},{"$f":"'MI materialen'!V118","v":"102. Energy, primary, non-renewable (MJ)"},{"$f":"'MI materialen'!W118","v":"108. Secondary material (kg)"},{"$f":"'MI materialen'!X118","v":"109. Secondary fuel, renewable (kg)"},{"$f":"'MI materialen'!Y118","v":"110. Secondary fuel, non-renewable (kg)"},{"$f":"'MI materialen'!Z118","v":"104. Water, fresh water use (m3)"},{"$f":"'MI materialen'!AA118","v":"106. Waste, hazardous (kg)"},{"$f":"'MI materialen'!AB118","v":"105. Waste, non hazardous (kg)"},{"$f":"'MI materialen'!AC118","v":"107. Waste, radioactive (kg)"},{"$f":"'MI materialen'!AD118","v":"120. Components for re-use (kg)"},{"$f":"'MI materialen'!AE118","v":"121. Materials for recycling (kg)"},{"$f":"'MI materialen'!AF118","v":"122. Materials for energy recovery (kg)"},{"$f":"'MI materialen'!AG118","v":"123. Exported energy, electric (MJ)"},{"$f":"'MI materialen'!AH118","v":"124. Exported energy, thermal (MJ)"},{"$f":"'MI materialen'!AI118","v":0},{"$f":"'MI materialen'!AJ118","v":0},{"$f":"'MI materialen'!AK118","v":0},{"$f":"'MI materialen'!AL118","v":0},{"$f":"'MI materialen'!AM118","v":0},{"$f":"'MI materialen'!AN118","v":0},{"$f":"'MI materialen'!AO118","v":0},{"$f":"'MI materialen'!AP118","v":0},{"$f":"'MI materialen'!AQ118","v":0},{"$f":"'MI materialen'!AR118","v":0}]
[{"$f":"'MI materialen'!A119","v":"Categorie"},{"$f":"'MI materialen'!B119","v":"Triviale naam"},{"$f":"'MI materialen'!C119","v":"Eenheid"},{"$f":"'MI materialen'!D119","v":0},{"$f":"'MI materialen'!E119","v":"Technische naam"},"Som MKI €",{"$f":"'MI materialen'!F119","v":"kg Sb eq"},{"$f":"'MI materialen'!G119","v":"kg Sb eq"},{"$f":"'MI materialen'!H119","v":"kg CO2 eq"},{"$f":"'MI materialen'!I119","v":"kg CFC-11 eq"},{"$f":"'MI materialen'!J119","v":"kg C2H4"},{"$f":"'MI materialen'!K119","v":"kg SO2 eq"},{"$f":"'MI materialen'!L119","v":"kg PO4--- eq"},{"$f":"'MI materialen'!M119","v":"kg 1,4-DB eq"},{"$f":"'MI materialen'!N119","v":"kg 1,4-DB eq"},{"$f":"'MI materialen'!O119","v":"kg 1,4-DB eq"},{"$f":"'MI materialen'!P119","v":"kg 1,4-DB eq"},{"$f":"'MI materialen'!Q119","v":"MJ"},{"$f":"'MI materialen'!R119","v":"MJ"},{"$f":"'MI materialen'!S119","v":"MJ"},{"$f":"'MI materialen'!T119","v":"MJ"},{"$f":"'MI materialen'!U119","v":"MJ"},{"$f":"'MI materialen'!V119","v":"MJ"},{"$f":"'MI materialen'!W119","v":"kg"},{"$f":"'MI materialen'!X119","v":"MJ"},{"$f":"'MI materialen'!Y119","v":"MJ"},{"$f":"'MI materialen'!Z119","v":"m3"},{"$f":"'MI materialen'!AA119","v":"kg"},{"$f":"'MI materialen'!AB119","v":"kg"},{"$f":"'MI materialen'!AC119","v":"kg"},{"$f":"'MI materialen'!AD119","v":"kg"},{"$f":"'MI materialen'!AE119","v":"kg"},{"$f":"'MI materialen'!AF119","v":"kg"},{"$f":"'MI materialen'!AG119","v":"MJ"},{"$f":"'MI materialen'!AH119","v":"MJ"},{"$f":"'MI materialen'!AI119","v":0},{"$f":"'MI materialen'!AJ119","v":0},{"$f":"'MI materialen'!AK119","v":0},{"$f":"'MI materialen'!AL119","v":0},{"$f":"'MI materialen'!AM119","v":0},{"$f":"'MI materialen'!AN119","v":0},{"$f":"'MI materialen'!AO119","v":0},{"$f":"'MI materialen'!AP119","v":0},{"$f":"'MI materialen'!AQ119","v":0},{"$f":"'MI materialen'!AR119","v":0}]
[{"$f":"'MI materialen'!A120","v":"Energie"},{"$f":"'MI materialen'!B120","v":"Diesel"},{"$f":"'MI materialen'!C120","v":"l"},{"$f":"'MI materialen'!D120","v":0},"_0095-pro&Diesel, gasolie, gebruik, liter (o.b.v. 35,8 MJ Diesel, burned in building machine {GLO}| processing | Cut-off, U)",{"$f":"431.1881/1000","v":0.43118810000000002},0,0,{"$f":"162.2198/1000","v":0.1622198},{"$f":"0.016852032/1000","v":1.6852031999999998E-5},{"$f":"6.6062663/1000","v":6.6062663000000001E-3},{"$f":"97.798999/1000","v":9.7798998999999998E-2},{"$f":"50.021041/1000","v":5.0021040999999995E-2},{"$f":"108.09184/1000","v":0.10809184000000001},{"$f":"0.5015347/1000","v":5.0153470000000001E-4},{"$f":"5.8131376/1000","v":5.8131376000000005E-3},{"$f":"0.11862388/1000","v":1.1862388E-4},0,0,0,0,0,0,0,0,0,0,0,0,0,0,0,0,0,0,{"$f":"'MI materialen'!AI120","v":0},{"$f":"'MI materialen'!AJ120","v":0},{"$f":"'MI materialen'!AK120","v":0},{"$f":"'MI materialen'!AL120","v":0},{"$f":"'MI materialen'!AM120","v":0},{"$f":"'MI materialen'!AN120","v":0},{"$f":"'MI materialen'!AO120","v":0},{"$f":"'MI materialen'!AP120","v":0},{"$f":"'MI materialen'!AQ120","v":0},{"$f":"'MI materialen'!AR120","v":0}]
[{"$f":"'MI materialen'!A121","v":"Energie"},{"$f":"'MI materialen'!B121","v":"Aardgas"},{"$f":"'MI materialen'!C121","v":"m3"},{"$f":"'MI materialen'!D121","v":0},"_0111-pro&Aardgas, algemeen gebruik, per m3 (o.b.v. 31,7 MJ Heat, district or industrial, natural gas {RER}| market group for | Cut-off, U)",9.6386176000000004E-2,0,0,8.1284329000000002E-2,6.4223519000000001E-6,5.1534308000000003E-4,4.7180034999999999E-3,1.4595681000000001E-3,7.9595306000000005E-3,2.8358538E-5,3.9696641E-4,1.7654206000000001E-5,0,0,0,0,0,0,0,0,0,0,0,0,0,0,0,0,0,0,{"$f":"'MI materialen'!AI121","v":0},{"$f":"'MI materialen'!AJ121","v":0},{"$f":"'MI materialen'!AK121","v":0},{"$f":"'MI materialen'!AL121","v":0},{"$f":"'MI materialen'!AM121","v":0},{"$f":"'MI materialen'!AN121","v":0},{"$f":"'MI materialen'!AO121","v":0},{"$f":"'MI materialen'!AP121","v":0},{"$f":"'MI materialen'!AQ121","v":0},{"$f":"'MI materialen'!AR121","v":0}]
[{"$f":"'MI materialen'!A122","v":"Energie"},{"$f":"'MI materialen'!B122","v":"Elektriciteit (grijs)"},{"$f":"'MI materialen'!C122","v":"kWh"},{"$f":"'MI materialen'!D122","v":0},"_0124-pro&1 kWh, uit stopcontact (o.b.v. Electricity, low voltage {NL}| market for | Cut-off, U)",1.3023610999999999E-2,0,0,8.9090062999999994E-3,2.6392304000000001E-7,5.3077471999999998E-5,1.3347166999999999E-3,6.1784128000000002E-4,1.8043652999999999E-3,1.6583436E-5,2.3326929000000001E-4,5.4486890999999997E-5,0,0,0,0,0,0,0,0,0,0,0,0,0,0,0,0,0,0,{"$f":"'MI materialen'!AI122","v":0},{"$f":"'MI materialen'!AJ122","v":0},{"$f":"'MI materialen'!AK122","v":0},{"$f":"'MI materialen'!AL122","v":0},{"$f":"'MI materialen'!AM122","v":0},{"$f":"'MI materialen'!AN122","v":0},{"$f":"'MI materialen'!AO122","v":0},{"$f":"'MI materialen'!AP122","v":0},{"$f":"'MI materialen'!AQ122","v":0},{"$f":"'MI materialen'!AR122","v":0}]
[{"$f":"'MI materialen'!A123","v":"Energie"},{"$f":"'MI materialen'!B123","v":"Elektriciteit (gebruiker)"},{"$f":"'MI materialen'!C123","v":"kWh"},{"$f":"'MI materialen'!D123","v":0},"_0124-pro&1 kWh, uit stopcontact (o.b.v. Electricity, low voltage {NL}| market for | Cut-off, U)",1.3023610999999999E-2,0,0,8.9090062999999994E-3,2.6392304000000001E-7,5.3077471999999998E-5,1.3347166999999999E-3,6.1784128000000002E-4,1.8043652999999999E-3,1.6583436E-5,2.3326929000000001E-4,5.4486890999999997E-5,0,0,0,0,0,0,0,0,0,0,0,0,0,0,0,0,0,0,{"$f":"'MI materialen'!AI123","v":0},{"$f":"'MI materialen'!AJ123","v":0},{"$f":"'MI materialen'!AK123","v":0},{"$f":"'MI materialen'!AL123","v":0},{"$f":"'MI materialen'!AM123","v":0},{"$f":"'MI materialen'!AN123","v":0},{"$f":"'MI materialen'!AO123","v":0},{"$f":"'MI materialen'!AP123","v":0},{"$f":"'MI materialen'!AQ123","v":0},{"$f":"'MI materialen'!AR123","v":0}]
[{"$f":"'MI materialen'!A124","v":"Energie"},{"$f":"'MI materialen'!B124","v":"Benzine"},{"$f":"'MI materialen'!C124","v":"l"},{"$f":"'MI materialen'!D124","v":0},"_0109-pro&benzine, gebruik, per liter (o.b.v. 15,3 km Bezine, gebruik, per km (o.b.v. Transport, passenger car, medium size, petrol, EURO 4 | Alloc Rec, U; AANGEPAST)",{"$f":"352.68313/1000","v":0.35268313000000001},0,0,{"$f":"192.64522/1000","v":0.19264522000000001},{"$f":"0.019647373/1000","v":1.9647373E-5},{"$f":"3.9801157/1000","v":3.9801157E-3},{"$f":"27.59367/1000","v":2.7593670000000001E-2},{"$f":"8.2915229/1000","v":8.2915229000000007E-3},{"$f":"110.39219/1000","v":0.11039219},{"$f":"0.72568592/1000","v":7.2568592000000001E-4},{"$f":"8.9288993/1000","v":8.9288992999999994E-3},{"$f":"0.10617952/1000","v":1.0617952E-4},0,0,0,0,0,0,0,0,0,0,0,0,0,0,0,0,0,0,{"$f":"'MI materialen'!AI124","v":0},{"$f":"'MI materialen'!AJ124","v":0},{"$f":"'MI materialen'!AK124","v":0},{"$f":"'MI materialen'!AL124","v":0},{"$f":"'MI materialen'!AM124","v":0},{"$f":"'MI materialen'!AN124","v":0},{"$f":"'MI materialen'!AO124","v":0},{"$f":"'MI materialen'!AP124","v":0},{"$f":"'MI materialen'!AQ124","v":0},{"$f":"'MI materialen'!AR124","v":0}]
[{"$f":"'MI materialen'!A125","v":"Energie"},{"$f":"'MI materialen'!B125","v":"Lassen"},{"$f":"'MI materialen'!C125","v":"m"},{"$f":"'MI materialen'!D125","v":0},"_0140-pro&Lassen, staal, arc, per meter (o.b.v. Welding, arc, steel {GLO}| market for | Cut-off, U)",9.4548577999999994E-2,0,0,8.6498861999999999E-3,3.0556092999999998E-7,2.9678147E-4,2.9836713999999999E-3,9.0238663000000001E-4,7.5982205999999997E-2,2.7546180000000001E-4,5.2499056999999998E-3,2.0797392000000001E-4,0,0,0,0,0,0,0,0,0,0,0,0,0,0,0,0,0,0,{"$f":"'MI materialen'!AI125","v":0},{"$f":"'MI materialen'!AJ125","v":0},{"$f":"'MI materialen'!AK125","v":0},{"$f":"'MI materialen'!AL125","v":0},{"$f":"'MI materialen'!AM125","v":0},{"$f":"'MI materialen'!AN125","v":0},{"$f":"'MI materialen'!AO125","v":0},{"$f":"'MI materialen'!AP125","v":0},{"$f":"'MI materialen'!AQ125","v":0},{"$f":"'MI materialen'!AR125","v":0}]
[{"$f":"'MI materialen'!A126","v":"Energie"},{"$f":"'MI materialen'!B126","v":"Verspanen"},{"$f":"'MI materialen'!C126","v":"kg"},{"$f":"'MI materialen'!D126","v":0},"_0296-pro&Verspanen, hout, elektrisch, per kg (o.b.v. Wood chipping, industrial residual wood, stationary electric chipper {RER}| processing | Cut-off, U)",8.3992533999999999E-4,0,0,4.3441877999999997E-4,2.8739643E-8,5.0990729000000004E-6,1.6183195999999999E-4,4.8506169000000002E-5,1.6706507000000001E-4,1.3501752E-6,2.0080558000000001E-5,1.5448021E-6,0,0,0,0,0,0,0,0,0,0,0,0,0,0,0,0,0,0,{"$f":"'MI materialen'!AI126","v":0},{"$f":"'MI materialen'!AJ126","v":0},{"$f":"'MI materialen'!AK126","v":0},{"$f":"'MI materialen'!AL126","v":0},{"$f":"'MI materialen'!AM126","v":0},{"$f":"'MI materialen'!AN126","v":0},{"$f":"'MI materialen'!AO126","v":0},{"$f":"'MI materialen'!AP126","v":0},{"$f":"'MI materialen'!AQ126","v":0},{"$f":"'MI materialen'!AR126","v":0}]
[{"$f":"'MI materialen'!A127","v":"Energie"},{"$f":"'MI materialen'!B127","v":"Elektriciteit (groen)"},{"$f":"'MI materialen'!C127","v":"kWh"},{"$f":"'MI materialen'!D127","v":0},{"$f":"'MI materialen'!E127","v":"_Elektriciteit, groene stroom (26,5% hout, 26,5% biogas uit mest, bio-afval en RWZI-slib, 45% wind, 1,4% hydro, 0,5% PV; mix, at power plant; zonder distributie- en transformatieverliezen)"},{"$f":"SUM(G128:Q128)","v":1.9400697769372997E-2},{"$f":"'MI materialen'!F127*G$14","v":2.4453364799999998E-7},{"$f":"'MI materialen'!G127*H$14","v":4.6381390400000002E-5},{"$f":"'MI materialen'!H127*I$14","v":4.9151718500000004E-3},{"$f":"'MI materialen'!I127*J$14","v":1.90615725E-7},{"$f":"'MI materialen'!J127*K$14","v":2.3375484E-4},{"$f":"'MI materialen'!K127*L$14","v":5.4172915999999996E-3},{"$f":"'MI materialen'!L127*M$14","v":2.78218944E-3},{"$f":"'MI materialen'!M127*N$14","v":5.6420449199999995E-3},{"$f":"'MI materialen'!N127*O$14","v":3.7502313000000004E-5},{"$f":"'MI materialen'!O127*P$14","v":3.0479432000000002E-4},{"$f":"'MI materialen'!P127*Q$14","v":2.1131946599999999E-5},{"$f":"'MI materialen'!Q127","v":0},{"$f":"'MI materialen'!R127","v":0},{"$f":"'MI materialen'!S127","v":6.3088946000000004},{"$f":"'MI materialen'!T127","v":0},{"$f":"'MI materialen'!U127","v":0},{"$f":"'MI materialen'!V127","v":0.55851342000000004},{"$f":"'MI materialen'!W127","v":0},{"$f":"'MI materialen'!X127","v":0},{"$f":"'MI materialen'!Y127","v":0},{"$f":"'MI materialen'!Z127","v":2.3955294000000001E-4},{"$f":"'MI materialen'!AA127","v":3.9503422999999998E-6},{"$f":"'MI materialen'!AB127","v":2.4026742E-2},{"$f":"'MI materialen'!AC127","v":2.1289335E-6},{"$f":"'MI materialen'!AD127","v":0},{"$f":"'MI materialen'!AE127","v":0},{"$f":"'MI materialen'!AF127","v":0},{"$f":"'MI materialen'!AG127","v":0},{"$f":"'MI materialen'!AH127","v":0},{"$f":"'MI materialen'!AI127","v":0},{"$f":"'MI materialen'!AJ127","v":0},{"$f":"'MI materialen'!AK127","v":0},{"$f":"'MI materialen'!AL127","v":0},{"$f":"'MI materialen'!AM127","v":0},{"$f":"'MI materialen'!AN127","v":0},{"$f":"'MI materialen'!AO127","v":0},{"$f":"'MI materialen'!AP127","v":0},{"$f":"'MI materialen'!AQ127","v":0},{"$f":"'MI materialen'!AR127","v":0}]
[{"$f":"'MI materialen'!A128","v":"Energie"},{"$f":"'MI materialen'!B128","v":"Metaalbewerking"},{"$f":"'MI materialen'!C128","v":"kg"},{"$f":"'MI materialen'!D128","v":0},"_Metal working, average for metal product manufacturing {GLO}| market for | Cut-off, U",0.70851273999999997,0,0,0.10596588,4.3933543999999999E-6,3.8120010000000002E-3,8.3879269000000006E-2,1.6550252000000001E-2,0.46343986999999998,2.6553468000000001E-3,3.094307E-2,1.2626598E-3,0,0,0,0,0,0,0,0,0,0,0,0,0,0,0,0,0,0,{"$f":"'MI materialen'!AI128","v":0},{"$f":"'MI materialen'!AJ128","v":0},{"$f":"'MI materialen'!AK128","v":0},{"$f":"'MI materialen'!AL128","v":0},{"$f":"'MI materialen'!AM128","v":0},{"$f":"'MI materialen'!AN128","v":0},{"$f":"'MI materialen'!AO128","v":0},{"$f":"'MI materialen'!AP128","v":0},{"$f":"'MI materialen'!AQ128","v":0},{"$f":"'MI materialen'!AR128","v":0}]
[{"$f":"'MI materialen'!A129","v":"Transport"},{"$f":"'MI materialen'!B129","v":0},{"$f":"'MI materialen'!C129","v":0},{"$f":"'MI materialen'!D129","v":0},{"$f":"'MI materialen'!E129","v":0},null,{"$f":"'MI materialen'!F129","v":"001. abiotic depletion, non fuel (AD)"},{"$f":"'MI materialen'!G129","v":"002. abiotic depletion, fuel (AD)"},{"$f":"'MI materialen'!H129","v":"004. global warming (GWP)"},{"$f":"'MI materialen'!I129","v":"005. ozone layer depletion (ODP)"},{"$f":"'MI materialen'!J129","v":"006. photochemical oxidation (POCP)"},{"$f":"'MI materialen'!K129","v":"007. acidification (AP)"},{"$f":"'MI materialen'!L129","v":"008. eutrophication (EP)"},{"$f":"'MI materialen'!M129","v":"009. human toxicity (HT)"},{"$f":"'MI materialen'!N129","v":"010. Ecotoxicity, fresh water (FAETP)"},{"$f":"'MI materialen'!O129","v":"012. Ecotoxcity, marine water (MAETP)"},{"$f":"'MI materialen'!P129","v":"014. Ecotoxicity, terrestric (TETP)"},{"$f":"'MI materialen'!Q129","v":"111. Energy, primary, renewable, excludi"},{"$f":"'MI materialen'!R129","v":"113. Energy, primary, renewable, materia"},{"$f":"'MI materialen'!S129","v":"101. Energy, primary, renewable (MJ)"},{"$f":"'MI materialen'!T129","v":"112. Energy, primary, non-renewable, exc"},{"$f":"'MI materialen'!U129","v":"114. Energy, primary, non-renewable, mat"},{"$f":"'MI materialen'!V129","v":"102. Energy, primary, non-renewable (MJ)"},{"$f":"'MI materialen'!W129","v":"108. Secondary material (kg)"},{"$f":"'MI materialen'!X129","v":"109. Secondary fuel, renewable (kg)"},{"$f":"'MI materialen'!Y129","v":"110. Secondary fuel, non-renewable (kg)"},{"$f":"'MI materialen'!Z129","v":"104. Water, fresh water use (m3)"},{"$f":"'MI materialen'!AA129","v":"106. Waste, hazardous (kg)"},{"$f":"'MI materialen'!AB129","v":"105. Waste, non hazardous (kg)"},{"$f":"'MI materialen'!AC129","v":"107. Waste, radioactive (kg)"},{"$f":"'MI materialen'!AD129","v":"120. Components for re-use (kg)"},{"$f":"'MI materialen'!AE129","v":"121. Materials for recycling (kg)"},{"$f":"'MI materialen'!AF129","v":"122. Materials for energy recovery (kg)"},{"$f":"'MI materialen'!AG129","v":"123. Exported energy, electric (MJ)"},{"$f":"'MI materialen'!AH129","v":"124. Exported energy, thermal (MJ)"},{"$f":"'MI materialen'!AI129","v":0},{"$f":"'MI materialen'!AJ129","v":0},{"$f":"'MI materialen'!AK129","v":0},{"$f":"'MI materialen'!AL129","v":0},{"$f":"'MI materialen'!AM129","v":0},{"$f":"'MI materialen'!AN129","v":0},{"$f":"'MI materialen'!AO129","v":0},{"$f":"'MI materialen'!AP129","v":0},{"$f":"'MI materialen'!AQ129","v":0},{"$f":"'MI materialen'!AR129","v":0}]
[{"$f":"'MI materialen'!A130","v":"Categorie"},{"$f":"'MI materialen'!B130","v":"Triviale naam"},{"$f":"'MI materialen'!C130","v":"Eenheid"},{"$f":"'MI materialen'!D130","v":0},{"$f":"'MI materialen'!E130","v":"Technische naam"},"Som MKI €",{"$f":"'MI materialen'!F130","v":"kg Sb eq"},{"$f":"'MI materialen'!G130","v":"kg Sb eq"},{"$f":"'MI materialen'!H130","v":"kg CO2 eq"},{"$f":"'MI materialen'!I130","v":"kg CFC-11 eq"},{"$f":"'MI materialen'!J130","v":"kg C2H4"},{"$f":"'MI materialen'!K130","v":"kg SO2 eq"},{"$f":"'MI materialen'!L130","v":"kg PO4--- eq"},{"$f":"'MI materialen'!M130","v":"kg 1,4-DB eq"},{"$f":"'MI materialen'!N130","v":"kg 1,4-DB eq"},{"$f":"'MI materialen'!O130","v":"kg 1,4-DB eq"},{"$f":"'MI materialen'!P130","v":"kg 1,4-DB eq"},{"$f":"'MI materialen'!Q130","v":"MJ"},{"$f":"'MI materialen'!R130","v":"MJ"},{"$f":"'MI materialen'!S130","v":"MJ"},{"$f":"'MI materialen'!T130","v":"MJ"},{"$f":"'MI materialen'!U130","v":"MJ"},{"$f":"'MI materialen'!V130","v":"MJ"},{"$f":"'MI materialen'!W130","v":"kg"},{"$f":"'MI materialen'!X130","v":"MJ"},{"$f":"'MI materialen'!Y130","v":"MJ"},{"$f":"'MI materialen'!Z130","v":"m3"},{"$f":"'MI materialen'!AA130","v":"kg"},{"$f":"'MI materialen'!AB130","v":"kg"},{"$f":"'MI materialen'!AC130","v":"kg"},{"$f":"'MI materialen'!AD130","v":"kg"},{"$f":"'MI materialen'!AE130","v":"kg"},{"$f":"'MI materialen'!AF130","v":"kg"},{"$f":"'MI materialen'!AG130","v":"MJ"},{"$f":"'MI materialen'!AH130","v":"MJ"},{"$f":"'MI materialen'!AI130","v":0},{"$f":"'MI materialen'!AJ130","v":0},{"$f":"'MI materialen'!AK130","v":0},{"$f":"'MI materialen'!AL130","v":0},{"$f":"'MI materialen'!AM130","v":0},{"$f":"'MI materialen'!AN130","v":0},{"$f":"'MI materialen'!AO130","v":0},{"$f":"'MI materialen'!AP130","v":0},{"$f":"'MI materialen'!AQ130","v":0},{"$f":"'MI materialen'!AR130","v":0}]
[{"$f":"'MI materialen'!A131","v":"Transport"},{"$f":"'MI materialen'!B131","v":"Vrachtwagen (onbekend)"},{"$f":"'MI materialen'!C131","v":"tonkm"},{"$f":"'MI materialen'!D131","v":0},"_0001-tra&Transport, vrachtwagen (o.b.v. Transport, freight, lorry, unspecified {GLO}| market group for transport, freight, lorry, unspecified | Cut-off, U)",1.5971249999999999E-2,0,0,6.6911860999999996E-3,7.1226457999999999E-7,1.6149550000000001E-4,2.3536365999999999E-3,1.0403862E-3,5.0708697000000002E-3,4.9346357000000001E-5,5.9166864999999995E-4,1.1948287E-5,0,0,0,0,0,0,0,0,0,0,0,0,0,0,0,0,0,0,{"$f":"'MI materialen'!AI131","v":0},{"$f":"'MI materialen'!AJ131","v":0},{"$f":"'MI materialen'!AK131","v":0},{"$f":"'MI materialen'!AL131","v":0},{"$f":"'MI materialen'!AM131","v":0},{"$f":"'MI materialen'!AN131","v":0},{"$f":"'MI materialen'!AO131","v":0},{"$f":"'MI materialen'!AP131","v":0},{"$f":"'MI materialen'!AQ131","v":0},{"$f":"'MI materialen'!AR131","v":0}]
[{"$f":"'MI materialen'!A132","v":"Transport"},{"$f":"'MI materialen'!B132","v":"Binnenvaart"},{"$f":"'MI materialen'!C132","v":"tonkm"},{"$f":"'MI materialen'!D132","v":0},"_0103-tra&Transport, vrachtschip, binnenvaart (o.b.v. Transport, freight, inland waterways, barge {GLO}| market group for transport, freight, inland waterways, barge | Cut-off, U)",5.6085192999999998E-3,0,0,2.3707730000000001E-3,2.0373428E-7,5.5747018000000003E-5,1.3579455999999999E-3,6.8439312E-4,1.0364249000000001E-3,8.6300381999999992E-6,9.1017779000000004E-5,3.3842446000000001E-6,0,0,0,0,0,0,0,0,0,0,0,0,0,0,0,0,0,0,{"$f":"'MI materialen'!AI132","v":0},{"$f":"'MI materialen'!AJ132","v":0},{"$f":"'MI materialen'!AK132","v":0},{"$f":"'MI materialen'!AL132","v":0},{"$f":"'MI materialen'!AM132","v":0},{"$f":"'MI materialen'!AN132","v":0},{"$f":"'MI materialen'!AO132","v":0},{"$f":"'MI materialen'!AP132","v":0},{"$f":"'MI materialen'!AQ132","v":0},{"$f":"'MI materialen'!AR132","v":0}]
[{"$f":"'MI materialen'!A133","v":"Transport"},{"$f":"'MI materialen'!B133","v":"Vrachttrein"},{"$f":"'MI materialen'!C133","v":"tonkm"},{"$f":"'MI materialen'!D133","v":0},"_0133-tra&Transport, vrachttrein (o.b.v. Transport, freight train {Europe without Switzerland}| market for | Cut-off, U)",6.0412560000000001E-3,0,0,2.3168820000000001E-3,1.7189259000000001E-7,6.5652498999999999E-5,1.2033110999999999E-3,5.1630888E-4,1.8071761E-3,9.0059332999999997E-6,1.1635048E-4,6.3969630000000004E-6,0,0,0,0,0,0,0,0,0,0,0,0,0,0,0,0,0,0,{"$f":"'MI materialen'!AI133","v":0},{"$f":"'MI materialen'!AJ133","v":0},{"$f":"'MI materialen'!AK133","v":0},{"$f":"'MI materialen'!AL133","v":0},{"$f":"'MI materialen'!AM133","v":0},{"$f":"'MI materialen'!AN133","v":0},{"$f":"'MI materialen'!AO133","v":0},{"$f":"'MI materialen'!AP133","v":0},{"$f":"'MI materialen'!AQ133","v":0},{"$f":"'MI materialen'!AR133","v":0}]
[{"$f":"'MI materialen'!A134","v":"Transport"},{"$f":"'MI materialen'!B134","v":"Vrachtwagen (EURO4)"},{"$f":"'MI materialen'!C134","v":"tonkm"},{"$f":"'MI materialen'!D134","v":0},"_0319-tra&Transport, vrachtwagen (>32 ton), euro 4, diesel (o.b.v. Transport, freight, lorry >32 metric ton, EURO4 {RER}| transport, freight, lorry >32 metric ton, EURO4 | Cut-off, U)",1.0950639E-2,0,0,4.4709648000000003E-3,5.1055339000000004E-7,1.1289679E-4,1.3958341999999999E-3,6.1068804000000002E-4,3.8606577999999998E-3,3.4896106999999999E-5,4.5593296E-4,8.2576566999999998E-6,0,0,0,0,0,0,0,0,0,0,0,0,0,0,0,0,0,0,{"$f":"'MI materialen'!AI134","v":0},{"$f":"'MI materialen'!AJ134","v":0},{"$f":"'MI materialen'!AK134","v":0},{"$f":"'MI materialen'!AL134","v":0},{"$f":"'MI materialen'!AM134","v":0},{"$f":"'MI materialen'!AN134","v":0},{"$f":"'MI materialen'!AO134","v":0},{"$f":"'MI materialen'!AP134","v":0},{"$f":"'MI materialen'!AQ134","v":0},{"$f":"'MI materialen'!AR134","v":0}]
[{"$f":"'MI materialen'!A135","v":"Transport"},{"$f":"'MI materialen'!B135","v":"Vrachtwagen (EURO5)"},{"$f":"'MI materialen'!C135","v":"tonkm"},{"$f":"'MI materialen'!D135","v":0},"_0320-tra&Transport, vrachtwagen (>32 ton), euro 5, diesel, per tkm (o.b.v. Vrachtwagen (>32 ton), euro 5, diesel, per liter, c2)",9.4672155000000008E-3,0,0,4.2650086E-3,5.0875544000000004E-7,1.0767079000000001E-4,1.2443914E-3,5.7024897999999997E-4,2.7035880999999999E-3,5.8117203000000001E-5,5.0699977999999998E-4,1.0681903E-5,0,0,0,0,0,0,0,0,0,0,0,0,0,0,0,0,0,0,{"$f":"'MI materialen'!AI135","v":0},{"$f":"'MI materialen'!AJ135","v":0},{"$f":"'MI materialen'!AK135","v":0},{"$f":"'MI materialen'!AL135","v":0},{"$f":"'MI materialen'!AM135","v":0},{"$f":"'MI materialen'!AN135","v":0},{"$f":"'MI materialen'!AO135","v":0},{"$f":"'MI materialen'!AP135","v":0},{"$f":"'MI materialen'!AQ135","v":0},{"$f":"'MI materialen'!AR135","v":0}]
[{"$f":"'MI materialen'!A136","v":"Transport"},{"$f":"'MI materialen'!B136","v":"Vrachtwagen (EURO6)"},{"$f":"'MI materialen'!C136","v":"tonkm"},{"$f":"'MI materialen'!D136","v":0},"_0324-tra&Transport, vrachtwagen (>32 ton), euro 6, diesel, per tkm (o.b.v. Vrachtwagen (>32 ton), euro 6, diesel, per liter, c2)",8.8899041999999998E-3,0,0,4.2981308000000001E-3,5.1251899999999996E-7,1.0568768E-4,8.5924009000000001E-4,3.4075392000000002E-4,2.7074887999999999E-3,5.8144811999999999E-5,5.0921386000000004E-4,1.0731679E-5,0,0,0,0,0,0,0,0,0,0,0,0,0,0,0,0,0,0,{"$f":"'MI materialen'!AI136","v":0},{"$f":"'MI materialen'!AJ136","v":0},{"$f":"'MI materialen'!AK136","v":0},{"$f":"'MI materialen'!AL136","v":0},{"$f":"'MI materialen'!AM136","v":0},{"$f":"'MI materialen'!AN136","v":0},{"$f":"'MI materialen'!AO136","v":0},{"$f":"'MI materialen'!AP136","v":0},{"$f":"'MI materialen'!AQ136","v":0},{"$f":"'MI materialen'!AR136","v":0}]
[{"$f":"'MI materialen'!A137","v":"Transport"},{"$f":"'MI materialen'!B137","v":"Vrachtwagen (biodiesel)"},{"$f":"'MI materialen'!C137","v":"tonkm"},{"$f":"'MI materialen'!D137","v":0},"_0325-tra&Transport, vrachtwagen (>32 ton), euro 6, 100% biodiesel, per tkm (o.b.v. Vrachtwagen (>32 ton), euro 6, ongemixte biodiesel, per liter, c2)",7.9900447000000006E-3,0,0,1.9528773999999999E-3,1.8510073999999999E-7,1.0442804E-4,1.0663306000000001E-3,1.0564248000000001E-3,2.553895E-3,4.4263685000000001E-4,4.6436379999999997E-4,3.4890307000000001E-4,0,0,0,0,0,0,0,0,0,0,0,0,0,0,0,0,0,0,{"$f":"'MI materialen'!AI137","v":0},{"$f":"'MI materialen'!AJ137","v":0},{"$f":"'MI materialen'!AK137","v":0},{"$f":"'MI materialen'!AL137","v":0},{"$f":"'MI materialen'!AM137","v":0},{"$f":"'MI materialen'!AN137","v":0},{"$f":"'MI materialen'!AO137","v":0},{"$f":"'MI materialen'!AP137","v":0},{"$f":"'MI materialen'!AQ137","v":0},{"$f":"'MI materialen'!AR137","v":0}]
[{"$f":"'MI materialen'!A138","v":"Transport"},{"$f":"'MI materialen'!B138","v":"Vrachtwagen (waterstof)"},{"$f":"'MI materialen'!C138","v":"tonkm"},{"$f":"'MI materialen'!D138","v":0},"_0363-tra&Transport, vrachtwagen, waterstof (o.b.v. Transport, freight, lorry >32 metric ton, EURO5 {RER}| transport, freight, lorry >32 metric ton, EURO5 | Cut-off, U)",7.5898985999999996E-3,0,0,2.7063354E-3,3.1113578999999999E-7,1.2410669E-4,8.0417365000000005E-4,2.4128489E-4,3.3174178999999999E-3,2.6200112999999999E-5,3.5966592000000002E-4,1.0402911999999999E-5,0,0,0,0,0,0,0,0,0,0,0,0,0,0,0,0,0,0,{"$f":"'MI materialen'!AI138","v":0},{"$f":"'MI materialen'!AJ138","v":0},{"$f":"'MI materialen'!AK138","v":0},{"$f":"'MI materialen'!AL138","v":0},{"$f":"'MI materialen'!AM138","v":0},{"$f":"'MI materialen'!AN138","v":0},{"$f":"'MI materialen'!AO138","v":0},{"$f":"'MI materialen'!AP138","v":0},{"$f":"'MI materialen'!AQ138","v":0},{"$f":"'MI materialen'!AR138","v":0}]
[{"$f":"'MI materialen'!A139","v":"Transport"},{"$f":"'MI materialen'!B139","v":"Zeevaart"},{"$f":"'MI materialen'!C139","v":"tonkm"},{"$f":"'MI materialen'!D139","v":0},"_0290-tra&Transport, vrachtschip, container, zee (o.b.v. Transport, freight, sea, container ship {GLO}| market for transport, freight, sea, container ship | Cut-off, U)",2.2322193999999998E-3,0,0,4.6763535E-4,4.4977690000000001E-8,2.4942507999999999E-5,9.8010125000000002E-4,2.4168740000000001E-4,4.7381746000000003E-4,2.5697963000000001E-6,4.0498740999999998E-5,9.2195216999999995E-7,0,0,0,0,0,0,0,0,0,0,0,0,0,0,0,0,0,0,{"$f":"'MI materialen'!AI139","v":0},{"$f":"'MI materialen'!AJ139","v":0},{"$f":"'MI materialen'!AK139","v":0},{"$f":"'MI materialen'!AL139","v":0},{"$f":"'MI materialen'!AM139","v":0},{"$f":"'MI materialen'!AN139","v":0},{"$f":"'MI materialen'!AO139","v":0},{"$f":"'MI materialen'!AP139","v":0},{"$f":"'MI materialen'!AQ139","v":0},{"$f":"'MI materialen'!AR139","v":0}]
[{"$f":"'MI materialen'!A146","v":"Verbranden (inc. Baten)"},{"$f":"'MI materialen'!B146","v":0},{"$f":"'MI materialen'!C146","v":0},{"$f":"'MI materialen'!D146","v":0},{"$f":"'MI materialen'!E146","v":0},null,{"$f":"'MI materialen'!F146","v":"001. abiotic depletion, non fuel (AD)"},{"$f":"'MI materialen'!G146","v":"002. abiotic depletion, fuel (AD)"},{"$f":"'MI materialen'!H146","v":"004. global warming (GWP)"},{"$f":"'MI materialen'!I146","v":"005. ozone layer depletion (ODP)"},{"$f":"'MI materialen'!J146","v":"006. photochemical oxidation (POCP)"},{"$f":"'MI materialen'!K146","v":"007. acidification (AP)"},{"$f":"'MI materialen'!L146","v":"008. eutrophication (EP)"},{"$f":"'MI materialen'!M146","v":"009. human toxicity (HT)"},{"$f":"'MI materialen'!N146","v":"010. Ecotoxicity, fresh water (FAETP)"},{"$f":"'MI materialen'!O146","v":"012. Ecotoxcity, marine water (MAETP)"},{"$f":"'MI materialen'!P146","v":"014. Ecotoxicity, terrestric (TETP)"},{"$f":"'MI materialen'!Q146","v":"111. Energy, primary, renewable, excludi"},{"$f":"'MI materialen'!R146","v":"113. Energy, primary, renewable, materia"},{"$f":"'MI materialen'!S146","v":"101. Energy, primary, renewable (MJ)"},{"$f":"'MI materialen'!T146","v":"112. Energy, primary, non-renewable, exc"},{"$f":"'MI materialen'!U146","v":"114. Energy, primary, non-renewable, mat"},{"$f":"'MI materialen'!V146","v":"102. Energy, primary, non-renewable (MJ)"},{"$f":"'MI materialen'!W146","v":"108. Secondary material (kg)"},{"$f":"'MI materialen'!X146","v":"109. Secondary fuel, renewable (kg)"},{"$f":"'MI materialen'!Y146","v":"110. Secondary fuel, non-renewable (kg)"},{"$f":"'MI materialen'!Z146","v":"104. Water, fresh water use (m3)"},{"$f":"'MI materialen'!AA146","v":"106. Waste, hazardous (kg)"},{"$f":"'MI materialen'!AB146","v":"105. Waste, non hazardous (kg)"},{"$f":"'MI materialen'!AC146","v":"107. Waste, radioactive (kg)"},{"$f":"'MI materialen'!AD146","v":"120. Components for re-use (kg)"},{"$f":"'MI materialen'!AE146","v":"121. Materials for recycling (kg)"},{"$f":"'MI materialen'!AF146","v":"122. Materials for energy recovery (kg)"},{"$f":"'MI materialen'!AG146","v":"123. Exported energy, electric (MJ)"},{"$f":"'MI materialen'!AH146","v":"124. Exported energy, thermal (MJ)"},{"$f":"'MI materialen'!AI146","v":0},{"$f":"'MI materialen'!AJ146","v":0},{"$f":"'MI materialen'!AK146","v":0},{"$f":"'MI materialen'!AL146","v":0},{"$f":"'MI materialen'!AM146","v":0},{"$f":"'MI materialen'!AN146","v":0},{"$f":"'MI materialen'!AO146","v":0},{"$f":"'MI materialen'!AP146","v":0},{"$f":"'MI materialen'!AQ146","v":0},{"$f":"'MI materialen'!AR146","v":0}]
[{"$f":"'MI materialen'!A147","v":"Categorie"},{"$f":"'MI materialen'!B147","v":"Triviale naam"},{"$f":"'MI materialen'!C147","v":"Eenheid"},{"$f":"'MI materialen'!D147","v":0},{"$f":"'MI materialen'!E147","v":"Technische naam"},"Som MKI €",{"$f":"'MI materialen'!F147","v":"kg Sb eq"},{"$f":"'MI materialen'!G147","v":"kg Sb eq"},{"$f":"'MI materialen'!H147","v":"kg CO2 eq"},{"$f":"'MI materialen'!I147","v":"kg CFC-11 eq"},{"$f":"'MI materialen'!J147","v":"kg C2H4"},{"$f":"'MI materialen'!K147","v":"kg SO2 eq"},{"$f":"'MI materialen'!L147","v":"kg PO4--- eq"},{"$f":"'MI materialen'!M147","v":"kg 1,4-DB eq"},{"$f":"'MI materialen'!N147","v":"kg 1,4-DB eq"},{"$f":"'MI materialen'!O147","v":"kg 1,4-DB eq"},{"$f":"'MI materialen'!P147","v":"kg 1,4-DB eq"},{"$f":"'MI materialen'!Q147","v":"MJ"},{"$f":"'MI materialen'!R147","v":"MJ"},{"$f":"'MI materialen'!S147","v":"MJ"},{"$f":"'MI materialen'!T147","v":"MJ"},{"$f":"'MI materialen'!U147","v":"MJ"},{"$f":"'MI materialen'!V147","v":"MJ"},{"$f":"'MI materialen'!W147","v":"kg"},{"$f":"'MI materialen'!X147","v":"MJ"},{"$f":"'MI materialen'!Y147","v":"MJ"},{"$f":"'MI materialen'!Z147","v":"m3"},{"$f":"'MI materialen'!AA147","v":"kg"},{"$f":"'MI materialen'!AB147","v":"kg"},{"$f":"'MI materialen'!AC147","v":"kg"},{"$f":"'MI materialen'!AD147","v":"kg"},{"$f":"'MI materialen'!AE147","v":"kg"},{"$f":"'MI materialen'!AF147","v":"kg"},{"$f":"'MI materialen'!AG147","v":"MJ"},{"$f":"'MI materialen'!AH147","v":"MJ"},{"$f":"'MI materialen'!AI147","v":0},{"$f":"'MI materialen'!AJ147","v":0},{"$f":"'MI materialen'!AK147","v":0},{"$f":"'MI materialen'!AL147","v":0},{"$f":"'MI materialen'!AM147","v":0},{"$f":"'MI materialen'!AN147","v":0},{"$f":"'MI materialen'!AO147","v":0},{"$f":"'MI materialen'!AP147","v":0},{"$f":"'MI materialen'!AQ147","v":0},{"$f":"'MI materialen'!AR147","v":0}]
[{"$f":"'MI materialen'!A148","v":"Verbranden"},{"$f":"'MI materialen'!B148","v":0},{"$f":"'MI materialen'!C148","v":"kg"},{"$f":"'MI materialen'!D148","v":0},"_0106-pro&Verbranden, overig (o.b.v. Municipal solid waste {NL}| treatment of, incineration | Cut-off, U)",5.3160499999999999E-2,0,0,2.5924394E-2,1.1090639E-7,2.711213E-5,8.9274904000000003E-4,7.3681197E-4,8.1623517000000007E-3,8.5085369E-4,1.6531475E-2,3.4641845000000001E-5,0,0,0,0,0,0,0,0,0,0,0,0,0,0,0,0,0,0,{"$f":"'MI materialen'!AI148","v":0},{"$f":"'MI materialen'!AJ148","v":0},{"$f":"'MI materialen'!AK148","v":0},{"$f":"'MI materialen'!AL148","v":0},{"$f":"'MI materialen'!AM148","v":0},{"$f":"'MI materialen'!AN148","v":0},{"$f":"'MI materialen'!AO148","v":0},{"$f":"'MI materialen'!AP148","v":0},{"$f":"'MI materialen'!AQ148","v":0},{"$f":"'MI materialen'!AR148","v":0}]
[{"$f":"'MI materialen'!A149","v":"Verbranden"},{"$f":"'MI materialen'!B149","v":0},{"$f":"'MI materialen'!C149","v":"kg"},{"$f":"'MI materialen'!D149","v":0},"_0255-avC&Verbranden aluminium (o.b.v. Scrap aluminium {Europe without Switzerland}| treatment of scrap aluminium, municipal incineration | Cut-off, U)",2.0225970000000001E-3,0,0,6.8486815999999995E-4,8.0311991999999996E-8,2.9909580000000001E-5,2.7494314999999998E-4,1.1290248E-4,8.6595675000000001E-4,4.256706E-6,4.7766743000000002E-5,1.9131654E-6,0,0,0,0,0,0,0,0,0,0,0,0,0,0,0,0,0,0,{"$f":"'MI materialen'!AI149","v":0},{"$f":"'MI materialen'!AJ149","v":0},{"$f":"'MI materialen'!AK149","v":0},{"$f":"'MI materialen'!AL149","v":0},{"$f":"'MI materialen'!AM149","v":0},{"$f":"'MI materialen'!AN149","v":0},{"$f":"'MI materialen'!AO149","v":0},{"$f":"'MI materialen'!AP149","v":0},{"$f":"'MI materialen'!AQ149","v":0},{"$f":"'MI materialen'!AR149","v":0}]
[{"$f":"'MI materialen'!A150","v":"Verbranden"},{"$f":"'MI materialen'!B150","v":0},{"$f":"'MI materialen'!C150","v":"kg"},{"$f":"'MI materialen'!D150","v":0},"_0256-avC&Verbranden glas (o.b.v. Waste glass {Europe without Switzerland}| treatment of waste glass, municipal incineration | Cut-off, U)",2.5382013E-3,0,0,8.8534053999999999E-4,1.0640691E-7,3.6454917000000002E-5,3.6707063000000002E-4,1.5197917999999999E-4,1.0236166E-3,5.5806997999999999E-6,6.5807537999999994E-5,2.2447082E-6,0,0,0,0,0,0,0,0,0,0,0,0,0,0,0,0,0,0,{"$f":"'MI materialen'!AI150","v":0},{"$f":"'MI materialen'!AJ150","v":0},{"$f":"'MI materialen'!AK150","v":0},{"$f":"'MI materialen'!AL150","v":0},{"$f":"'MI materialen'!AM150","v":0},{"$f":"'MI materialen'!AN150","v":0},{"$f":"'MI materialen'!AO150","v":0},{"$f":"'MI materialen'!AP150","v":0},{"$f":"'MI materialen'!AQ150","v":0},{"$f":"'MI materialen'!AR150","v":0}]
[{"$f":"'MI materialen'!A151","v":"Verbranden"},{"$f":"'MI materialen'!B151","v":0},{"$f":"'MI materialen'!C151","v":"kg"},{"$f":"'MI materialen'!D151","v":0},"_0257-avC&Verbranden staalschroot (o.b.v. Scrap steel {Europe without Switzerland}| treatment of scrap steel, municipal incineration | Cut-off, U)",2.0807942E-3,0,0,5.1865348999999999E-4,5.6332915000000002E-8,2.4482869000000001E-5,1.9940409E-4,8.0957049999999994E-5,8.5194212999999998E-4,1.1377345E-4,2.8988077999999998E-4,1.6440081E-6,0,0,0,0,0,0,0,0,0,0,0,0,0,0,0,0,0,0,{"$f":"'MI materialen'!AI151","v":0},{"$f":"'MI materialen'!AJ151","v":0},{"$f":"'MI materialen'!AK151","v":0},{"$f":"'MI materialen'!AL151","v":0},{"$f":"'MI materialen'!AM151","v":0},{"$f":"'MI materialen'!AN151","v":0},{"$f":"'MI materialen'!AO151","v":0},{"$f":"'MI materialen'!AP151","v":0},{"$f":"'MI materialen'!AQ151","v":0},{"$f":"'MI materialen'!AR151","v":0}]
[{"$f":"'MI materialen'!A152","v":"Verbranden"},{"$f":"'MI materialen'!B152","v":0},{"$f":"'MI materialen'!C152","v":"kg"},{"$f":"'MI materialen'!D152","v":0},"_0258-avC&Verbranden volkern (o.b.v. Waste cement-fibre slab, dismantled {CH}| treatment of waste cement-fibre slab, municipal incineration | Cut-off, U)",4.1301538000000004E-3,0,0,4.3492249999999997E-4,3.9264573000000001E-8,8.4054734E-5,8.3082944999999999E-4,4.6525781999999998E-4,2.2681146000000001E-3,6.4198817000000003E-6,3.9083891999999998E-5,1.4316376E-6,0,0,0,0,0,0,0,0,0,0,0,0,0,0,0,0,0,0,{"$f":"'MI materialen'!AI152","v":0},{"$f":"'MI materialen'!AJ152","v":0},{"$f":"'MI materialen'!AK152","v":0},{"$f":"'MI materialen'!AL152","v":0},{"$f":"'MI materialen'!AM152","v":0},{"$f":"'MI materialen'!AN152","v":0},{"$f":"'MI materialen'!AO152","v":0},{"$f":"'MI materialen'!AP152","v":0},{"$f":"'MI materialen'!AQ152","v":0},{"$f":"'MI materialen'!AR152","v":0}]
[{"$f":"'MI materialen'!A153","v":"Verbranden"},{"$f":"'MI materialen'!B153","v":0},{"$f":"'MI materialen'!C153","v":"kg"},{"$f":"'MI materialen'!D153","v":0},"_0259-avC&Verbranden bitumen (30,1 MJ/kg) (o.b.v. Waste bitumen sheet {CH}| treatment of, municipal incineration | Cut-off, U)",5.1464329000000003E-2,0,0,5.4620391999999997E-2,-4.0375039000000001E-6,-2.4474065000000002E-4,-1.3379885E-3,-2.9388059000000003E-4,-1.6545794999999999E-3,6.3158287999999995E-5,3.2399939000000001E-4,-7.9943130999999995E-6,0,0,0,0,0,0,0,0,0,0,0,0,0,0,0,0,0,0,{"$f":"'MI materialen'!AI153","v":0},{"$f":"'MI materialen'!AJ153","v":0},{"$f":"'MI materialen'!AK153","v":0},{"$f":"'MI materialen'!AL153","v":0},{"$f":"'MI materialen'!AM153","v":0},{"$f":"'MI materialen'!AN153","v":0},{"$f":"'MI materialen'!AO153","v":0},{"$f":"'MI materialen'!AP153","v":0},{"$f":"'MI materialen'!AQ153","v":0},{"$f":"'MI materialen'!AR153","v":0}]
[{"$f":"'MI materialen'!A154","v":"Verbranden"},{"$f":"'MI materialen'!B154","v":0},{"$f":"'MI materialen'!C154","v":"kg"},{"$f":"'MI materialen'!D154","v":0},"_0260-avC&Verbranden rubber/EPDM (27,2 MJ/kg) (o.b.v. Waste rubber, unspecified {Europe without Switzerland}| treatment of waste rubber, unspecified, municipal incineration | Cut-off, U)",9.5839346000000006E-2,0,0,0.10177310000000001,-3.7095278999999998E-6,-2.8508408000000002E-4,-1.5193050999999999E-3,2.2664281000000001E-5,-4.0346527000000004E-3,1.2318049E-6,-1.1525170999999999E-4,3.4879895999999999E-7,0,0,0,0,0,0,0,0,0,0,0,0,0,0,0,0,0,0,{"$f":"'MI materialen'!AI154","v":0},{"$f":"'MI materialen'!AJ154","v":0},{"$f":"'MI materialen'!AK154","v":0},{"$f":"'MI materialen'!AL154","v":0},{"$f":"'MI materialen'!AM154","v":0},{"$f":"'MI materialen'!AN154","v":0},{"$f":"'MI materialen'!AO154","v":0},{"$f":"'MI materialen'!AP154","v":0},{"$f":"'MI materialen'!AQ154","v":0},{"$f":"'MI materialen'!AR154","v":0}]
[{"$f":"'MI materialen'!A155","v":"Verbranden"},{"$f":"'MI materialen'!B155","v":0},{"$f":"'MI materialen'!C155","v":"kg"},{"$f":"'MI materialen'!D155","v":0},"_0261-avC&Verbranden EPS (32,2 MJ/kg) (o.b.v. Waste expanded polystyrene {CH}| treatment of, municipal incineration | Cut-off, U)",9.5703505999999994E-2,0,0,9.0917332000000003E-2,-4.5523368000000001E-6,-2.8968549000000002E-4,-2.4373802999999999E-3,-5.3455535000000005E-4,6.2962393999999996E-3,1.1026918E-4,1.6563482E-3,-1.0509667E-5,0,0,0,0,0,0,0,0,0,0,0,0,0,0,0,0,0,0,{"$f":"'MI materialen'!AI155","v":0},{"$f":"'MI materialen'!AJ155","v":0},{"$f":"'MI materialen'!AK155","v":0},{"$f":"'MI materialen'!AL155","v":0},{"$f":"'MI materialen'!AM155","v":0},{"$f":"'MI materialen'!AN155","v":0},{"$f":"'MI materialen'!AO155","v":0},{"$f":"'MI materialen'!AP155","v":0},{"$f":"'MI materialen'!AQ155","v":0},{"$f":"'MI materialen'!AR155","v":0}]
[{"$f":"'MI materialen'!A156","v":"Verbranden"},{"$f":"'MI materialen'!B156","v":0},{"$f":"'MI materialen'!C156","v":"kg"},{"$f":"'MI materialen'!D156","v":0},"_0262-avC&Verbranden hout, 'schoon' (13,99 MJ/kg) (o.b.v. Waste wood, untreated {CH}| treatment of, municipal incineration | Cut-off, U)",-1.7345493999999999E-2,0,0,-2.4426175E-3,-4.7360083E-7,-2.9570056999999998E-4,-3.9938528000000003E-3,-3.1136845E-3,-7.1547991000000003E-3,-6.0018627999999998E-5,-2.4561356999999999E-4,-3.8733619999999999E-5,0,0,0,0,0,0,0,0,0,0,0,0,0,0,0,0,0,0,{"$f":"'MI materialen'!AI156","v":0},{"$f":"'MI materialen'!AJ156","v":0},{"$f":"'MI materialen'!AK156","v":0},{"$f":"'MI materialen'!AL156","v":0},{"$f":"'MI materialen'!AM156","v":0},{"$f":"'MI materialen'!AN156","v":0},{"$f":"'MI materialen'!AO156","v":0},{"$f":"'MI materialen'!AP156","v":0},{"$f":"'MI materialen'!AQ156","v":0},{"$f":"'MI materialen'!AR156","v":0}]
[{"$f":"'MI materialen'!A157","v":"Verbranden"},{"$f":"'MI materialen'!B157","v":0},{"$f":"'MI materialen'!C157","v":"kg"},{"$f":"'MI materialen'!D157","v":0},"_0263-avC&Verbranden hout, verontreinigd (13,99 MJ/kg) (o.b.v. Waste building wood, chrome preserved {CH}| treatment of, municipal incineration | Cut-off, U)",-1.7261036E-2,0,0,-2.4237929E-3,-4.7205953999999998E-7,-2.9548809999999998E-4,-3.9883540000000004E-3,-3.1123666999999999E-3,-7.1367764000000002E-3,-3.2024218E-5,-2.3305615000000001E-4,-3.8705307000000003E-5,0,0,0,0,0,0,0,0,0,0,0,0,0,0,0,0,0,0,{"$f":"'MI materialen'!AI157","v":0},{"$f":"'MI materialen'!AJ157","v":0},{"$f":"'MI materialen'!AK157","v":0},{"$f":"'MI materialen'!AL157","v":0},{"$f":"'MI materialen'!AM157","v":0},{"$f":"'MI materialen'!AN157","v":0},{"$f":"'MI materialen'!AO157","v":0},{"$f":"'MI materialen'!AP157","v":0},{"$f":"'MI materialen'!AQ157","v":0},{"$f":"'MI materialen'!AR157","v":0}]
[{"$f":"'MI materialen'!A158","v":"Verbranden"},{"$f":"'MI materialen'!B158","v":0},{"$f":"'MI materialen'!C158","v":"kg"},{"$f":"'MI materialen'!D158","v":0},"_0264-avC&Verbranden kunststoffen (28,67 MJ/kg) (o.b.v. o.b.v. mix 21% PE, 21% PP, 20% PVC, 17% PS en 21% mixture)",8.6982499000000005E-2,0,0,7.3594439999999997E-2,-1.6902339000000001E-6,-1.650756E-4,4.9392863000000001E-4,3.0069968999999998E-4,9.8980258999999994E-3,2.7403007000000002E-4,2.5743857E-3,1.375447E-5,0,0,0,0,0,0,0,0,0,0,0,0,0,0,0,0,0,0,{"$f":"'MI materialen'!AI158","v":0},{"$f":"'MI materialen'!AJ158","v":0},{"$f":"'MI materialen'!AK158","v":0},{"$f":"'MI materialen'!AL158","v":0},{"$f":"'MI materialen'!AM158","v":0},{"$f":"'MI materialen'!AN158","v":0},{"$f":"'MI materialen'!AO158","v":0},{"$f":"'MI materialen'!AP158","v":0},{"$f":"'MI materialen'!AQ158","v":0},{"$f":"'MI materialen'!AR158","v":0}]
[{"$f":"'MI materialen'!A159","v":"Verbranden"},{"$f":"'MI materialen'!B159","v":0},{"$f":"'MI materialen'!C159","v":"kg"},{"$f":"'MI materialen'!D159","v":0},"_0265-avC&Verbranden PVC (21,51 MJ/kg) (o.b.v. Waste polyvinylchloride {CH}| treatment of, municipal incineration | Cut-off, U)",0.12336809999999999,0,0,7.1374019999999996E-2,8.3251402000000003E-6,2.3758239E-4,1.0848927E-2,3.1226839000000001E-3,3.3023642999999998E-2,2.8167641000000001E-4,4.3662144999999999E-3,1.0502468E-4,0,0,0,0,0,0,0,0,0,0,0,0,0,0,0,0,0,0,{"$f":"'MI materialen'!AI159","v":0},{"$f":"'MI materialen'!AJ159","v":0},{"$f":"'MI materialen'!AK159","v":0},{"$f":"'MI materialen'!AL159","v":0},{"$f":"'MI materialen'!AM159","v":0},{"$f":"'MI materialen'!AN159","v":0},{"$f":"'MI materialen'!AO159","v":0},{"$f":"'MI materialen'!AP159","v":0},{"$f":"'MI materialen'!AQ159","v":0},{"$f":"'MI materialen'!AR159","v":0}]
[{"$f":"'MI materialen'!A160","v":"Verbranden"},{"$f":"'MI materialen'!B160","v":0},{"$f":"'MI materialen'!C160","v":"kg"},{"$f":"'MI materialen'!D160","v":0},"_0266-avC&Verbranden verf (10,14 MJ/kg) (o.b.v. Waste paint {Europe without Switzerland}| treatment of waste paint, municipal incineration | Cut-off, U)",0.10669844000000001,0,0,9.8739407000000001E-2,-1.3943677000000001E-6,-1.0073354E-4,-4.7788890000000002E-4,2.496248E-4,5.4260588000000004E-3,2.0826055000000001E-4,2.6207971999999999E-3,3.4304428E-5,0,0,0,0,0,0,0,0,0,0,0,0,0,0,0,0,0,0,{"$f":"'MI materialen'!AI160","v":0},{"$f":"'MI materialen'!AJ160","v":0},{"$f":"'MI materialen'!AK160","v":0},{"$f":"'MI materialen'!AL160","v":0},{"$f":"'MI materialen'!AM160","v":0},{"$f":"'MI materialen'!AN160","v":0},{"$f":"'MI materialen'!AO160","v":0},{"$f":"'MI materialen'!AP160","v":0},{"$f":"'MI materialen'!AQ160","v":0},{"$f":"'MI materialen'!AR160","v":0}]
[{"$f":"'MI materialen'!A161","v":"Verbranden"},{"$f":"'MI materialen'!B161","v":0},{"$f":"'MI materialen'!C161","v":"kg"},{"$f":"'MI materialen'!D161","v":0},"_0297-avC&Verbranden organisch afval (4,29 MJ/kg) (o.b.v. Biowaste {GLO}| treatment of biowaste, municipal incineration | Cut-off, U)",-7.6656678999999998E-4,0,0,9.5586523000000003E-4,-7.7454945E-8,-8.9945253999999995E-5,-7.5695628999999996E-4,-5.2131371999999997E-4,-8.1526386999999998E-4,1.0131421E-5,4.5793063999999999E-4,-6.9374913000000003E-6,0,0,0,0,0,0,0,0,0,0,0,0,0,0,0,0,0,0,{"$f":"'MI materialen'!AI161","v":0},{"$f":"'MI materialen'!AJ161","v":0},{"$f":"'MI materialen'!AK161","v":0},{"$f":"'MI materialen'!AL161","v":0},{"$f":"'MI materialen'!AM161","v":0},{"$f":"'MI materialen'!AN161","v":0},{"$f":"'MI materialen'!AO161","v":0},{"$f":"'MI materialen'!AP161","v":0},{"$f":"'MI materialen'!AQ161","v":0},{"$f":"'MI materialen'!AR161","v":0}]
[{"$f":"'MI materialen'!A162","v":"Verbranden"},{"$f":"'MI materialen'!B162","v":0},{"$f":"'MI materialen'!C162","v":"kg"},{"$f":"'MI materialen'!D162","v":0},"_0307-avC&Verbranden koperschroot (o.b.v. Scrap copper {RoW}| treatment of, municipal incineration | Cut-off, U)",3.5093771000000002E-3,0,0,7.0744422999999995E-4,8.0175417999999996E-8,3.0413862999999999E-5,2.866322E-4,1.2039907E-4,9.0474453000000002E-4,8.3842971999999996E-4,6.1920610999999996E-4,2.0271883000000002E-6,0,0,0,0,0,0,0,0,0,0,0,0,0,0,0,0,0,0,{"$f":"'MI materialen'!AI162","v":0},{"$f":"'MI materialen'!AJ162","v":0},{"$f":"'MI materialen'!AK162","v":0},{"$f":"'MI materialen'!AL162","v":0},{"$f":"'MI materialen'!AM162","v":0},{"$f":"'MI materialen'!AN162","v":0},{"$f":"'MI materialen'!AO162","v":0},{"$f":"'MI materialen'!AP162","v":0},{"$f":"'MI materialen'!AQ162","v":0},{"$f":"'MI materialen'!AR162","v":0}]
[{"$f":"'MI materialen'!A163","v":"Verbranden"},{"$f":"'MI materialen'!B163","v":0},{"$f":"'MI materialen'!C163","v":"kg"},{"$f":"'MI materialen'!D163","v":0},"_0310-avC&Verbranden PP (32,78 MJ/kg) (o.b.v. Waste polypropylene {RoW}| treatment of waste polypropylene, municipal incineration | Cut-off, U)",6.1684665999999999E-2,0,0,6.0119767999999997E-2,-4.6360637000000004E-6,-3.6309823999999997E-4,-2.5373114000000001E-3,-2.7702438000000001E-4,1.0193141E-5,8.4726935999999997E-4,3.8983567000000002E-3,-8.8515779999999999E-6,0,0,0,0,0,0,0,0,0,0,0,0,0,0,0,0,0,0,{"$f":"'MI materialen'!AI163","v":0},{"$f":"'MI materialen'!AJ163","v":0},{"$f":"'MI materialen'!AK163","v":0},{"$f":"'MI materialen'!AL163","v":0},{"$f":"'MI materialen'!AM163","v":0},{"$f":"'MI materialen'!AN163","v":0},{"$f":"'MI materialen'!AO163","v":0},{"$f":"'MI materialen'!AP163","v":0},{"$f":"'MI materialen'!AQ163","v":0},{"$f":"'MI materialen'!AR163","v":0}]
[{"$f":"'MI materialen'!A164","v":"Verbranden"},{"$f":"'MI materialen'!B164","v":0},{"$f":"'MI materialen'!C164","v":"kg"},{"$f":"'MI materialen'!D164","v":0},"_0311-avC&Verbranden PE (42,47 MJ/kg) (o.b.v. Waste polyethylene {RoW}| treatment of waste polyethylene, municipal incineration | Cut-off, U)",6.4100749999999998E-2,0,0,6.3646796000000005E-2,-6.0150874000000003E-6,-4.7491187E-4,-3.4018024999999999E-3,-4.5742389000000001E-4,-7.7486940999999996E-4,1.0009336000000001E-3,4.5801927000000001E-3,-1.2149926999999999E-5,0,0,0,0,0,0,0,0,0,0,0,0,0,0,0,0,0,0,{"$f":"'MI materialen'!AI164","v":0},{"$f":"'MI materialen'!AJ164","v":0},{"$f":"'MI materialen'!AK164","v":0},{"$f":"'MI materialen'!AL164","v":0},{"$f":"'MI materialen'!AM164","v":0},{"$f":"'MI materialen'!AN164","v":0},{"$f":"'MI materialen'!AO164","v":0},{"$f":"'MI materialen'!AP164","v":0},{"$f":"'MI materialen'!AQ164","v":0},{"$f":"'MI materialen'!AR164","v":0}]
[{"$f":"'MI materialen'!A165","v":"Stort"},{"$f":"'MI materialen'!B165","v":0},{"$f":"'MI materialen'!C165","v":0},{"$f":"'MI materialen'!D165","v":0},{"$f":"'MI materialen'!E165","v":0},null,{"$f":"'MI materialen'!F165","v":"001. abiotic depletion, non fuel (AD)"},{"$f":"'MI materialen'!G165","v":"002. abiotic depletion, fuel (AD)"},{"$f":"'MI materialen'!H165","v":"004. global warming (GWP)"},{"$f":"'MI materialen'!I165","v":"005. ozone layer depletion (ODP)"},{"$f":"'MI materialen'!J165","v":"006. photochemical oxidation (POCP)"},{"$f":"'MI materialen'!K165","v":"007. acidification (AP)"},{"$f":"'MI materialen'!L165","v":"008. eutrophication (EP)"},{"$f":"'MI materialen'!M165","v":"009. human toxicity (HT)"},{"$f":"'MI materialen'!N165","v":"010. Ecotoxicity, fresh water (FAETP)"},{"$f":"'MI materialen'!O165","v":"012. Ecotoxcity, marine water (MAETP)"},{"$f":"'MI materialen'!P165","v":"014. Ecotoxicity, terrestric (TETP)"},{"$f":"'MI materialen'!Q165","v":"111. Energy, primary, renewable, excludi"},{"$f":"'MI materialen'!R165","v":"113. Energy, primary, renewable, materia"},{"$f":"'MI materialen'!S165","v":"101. Energy, primary, renewable (MJ)"},{"$f":"'MI materialen'!T165","v":"112. Energy, primary, non-renewable, exc"},{"$f":"'MI materialen'!U165","v":"114. Energy, primary, non-renewable, mat"},{"$f":"'MI materialen'!V165","v":"102. Energy, primary, non-renewable (MJ)"},{"$f":"'MI materialen'!W165","v":"108. Secondary material (kg)"},{"$f":"'MI materialen'!X165","v":"109. Secondary fuel, renewable (kg)"},{"$f":"'MI materialen'!Y165","v":"110. Secondary fuel, non-renewable (kg)"},{"$f":"'MI materialen'!Z165","v":"104. Water, fresh water use (m3)"},{"$f":"'MI materialen'!AA165","v":"106. Waste, hazardous (kg)"},{"$f":"'MI materialen'!AB165","v":"105. Waste, non hazardous (kg)"},{"$f":"'MI materialen'!AC165","v":"107. Waste, radioactive (kg)"},{"$f":"'MI materialen'!AD165","v":"120. Components for re-use (kg)"},{"$f":"'MI materialen'!AE165","v":"121. Materials for recycling (kg)"},{"$f":"'MI materialen'!AF165","v":"122. Materials for energy recovery (kg)"},{"$f":"'MI materialen'!AG165","v":"123. Exported energy, electric (MJ)"},{"$f":"'MI materialen'!AH165","v":"124. Exported energy, thermal (MJ)"},{"$f":"'MI materialen'!AI165","v":0},{"$f":"'MI materialen'!AJ165","v":0},{"$f":"'MI materialen'!AK165","v":0},{"$f":"'MI materialen'!AL165","v":0},{"$f":"'MI materialen'!AM165","v":0},{"$f":"'MI materialen'!AN165","v":0},{"$f":"'MI materialen'!AO165","v":0},{"$f":"'MI materialen'!AP165","v":0},{"$f":"'MI materialen'!AQ165","v":0},{"$f":"'MI materialen'!AR165","v":0}]
[{"$f":"'MI materialen'!A166","v":"Categorie"},{"$f":"'MI materialen'!B166","v":"Triviale naam"},{"$f":"'MI materialen'!C166","v":"Eenheid"},{"$f":"'MI materialen'!D166","v":0},{"$f":"'MI materialen'!E166","v":"Technische naam"},"Som MKI €",{"$f":"'MI materialen'!F166","v":"kg Sb eq"},{"$f":"'MI materialen'!G166","v":"kg Sb eq"},{"$f":"'MI materialen'!H166","v":"kg CO2 eq"},{"$f":"'MI materialen'!I166","v":"kg CFC-11 eq"},{"$f":"'MI materialen'!J166","v":"kg C2H4"},{"$f":"'MI materialen'!K166","v":"kg SO2 eq"},{"$f":"'MI materialen'!L166","v":"kg PO4--- eq"},{"$f":"'MI materialen'!M166","v":"kg 1,4-DB eq"},{"$f":"'MI materialen'!N166","v":"kg 1,4-DB eq"},{"$f":"'MI materialen'!O166","v":"kg 1,4-DB eq"},{"$f":"'MI materialen'!P166","v":"kg 1,4-DB eq"},{"$f":"'MI materialen'!Q166","v":"MJ"},{"$f":"'MI materialen'!R166","v":"MJ"},{"$f":"'MI materialen'!S166","v":"MJ"},{"$f":"'MI materialen'!T166","v":"MJ"},{"$f":"'MI materialen'!U166","v":"MJ"},{"$f":"'MI materialen'!V166","v":"MJ"},{"$f":"'MI materialen'!W166","v":"kg"},{"$f":"'MI materialen'!X166","v":"MJ"},{"$f":"'MI materialen'!Y166","v":"MJ"},{"$f":"'MI materialen'!Z166","v":"m3"},{"$f":"'MI materialen'!AA166","v":"kg"},{"$f":"'MI materialen'!AB166","v":"kg"},{"$f":"'MI materialen'!AC166","v":"kg"},{"$f":"'MI materialen'!AD166","v":"kg"},{"$f":"'MI materialen'!AE166","v":"kg"},{"$f":"'MI materialen'!AF166","v":"kg"},{"$f":"'MI materialen'!AG166","v":"MJ"},{"$f":"'MI materialen'!AH166","v":"MJ"},{"$f":"'MI materialen'!AI166","v":0},{"$f":"'MI materialen'!AJ166","v":0},{"$f":"'MI materialen'!AK166","v":0},{"$f":"'MI materialen'!AL166","v":0},{"$f":"'MI materialen'!AM166","v":0},{"$f":"'MI materialen'!AN166","v":0},{"$f":"'MI materialen'!AO166","v":0},{"$f":"'MI materialen'!AP166","v":0},{"$f":"'MI materialen'!AQ166","v":0},{"$f":"'MI materialen'!AR166","v":0}]
[{"$f":"'MI materialen'!A167","v":"Storten"},{"$f":"'MI materialen'!B167","v":0},{"$f":"'MI materialen'!C167","v":"kg"},{"$f":"'MI materialen'!D167","v":0},"0239-sto&Stort aluminium (o.b.v. Waste aluminium {RoW}| treatment of, sanitary landfill | Cut-off, U)",4.5681910999999997E-3,0,0,1.9508226E-3,1.1234737E-7,5.1792115999999999E-5,8.5765907000000003E-4,2.5382265000000002E-4,1.3167297E-3,1.4345881000000001E-5,1.1841401E-4,4.4927019999999998E-6,0,0,0,0,0,0,0,0,0,0,0,0,0,0,0,0,0,0,{"$f":"'MI materialen'!AI167","v":0},{"$f":"'MI materialen'!AJ167","v":0},{"$f":"'MI materialen'!AK167","v":0},{"$f":"'MI materialen'!AL167","v":0},{"$f":"'MI materialen'!AM167","v":0},{"$f":"'MI materialen'!AN167","v":0},{"$f":"'MI materialen'!AO167","v":0},{"$f":"'MI materialen'!AP167","v":0},{"$f":"'MI materialen'!AQ167","v":0},{"$f":"'MI materialen'!AR167","v":0}]
[{"$f":"'MI materialen'!A168","v":"Storten"},{"$f":"'MI materialen'!B168","v":0},{"$f":"'MI materialen'!C168","v":"kg"},{"$f":"'MI materialen'!D168","v":0},"0240-sto&Stort beton, cellenbeton (o.b.v. Waste concrete {Europe without Switzerland}| treatment of waste concrete, inert material landfill | Cut-off, U)",7.1834367000000001E-4,0,0,2.5841074000000001E-4,5.1640141999999997E-8,1.1010334E-5,1.5118044999999999E-4,6.5615600999999998E-5,2.1023911E-4,1.6631534E-6,1.9820625999999999E-5,3.5202585999999997E-7,0,0,0,0,0,0,0,0,0,0,0,0,0,0,0,0,0,0,{"$f":"'MI materialen'!AI168","v":0},{"$f":"'MI materialen'!AJ168","v":0},{"$f":"'MI materialen'!AK168","v":0},{"$f":"'MI materialen'!AL168","v":0},{"$f":"'MI materialen'!AM168","v":0},{"$f":"'MI materialen'!AN168","v":0},{"$f":"'MI materialen'!AO168","v":0},{"$f":"'MI materialen'!AP168","v":0},{"$f":"'MI materialen'!AQ168","v":0},{"$f":"'MI materialen'!AR168","v":0}]
[{"$f":"'MI materialen'!A169","v":"Storten"},{"$f":"'MI materialen'!B169","v":0},{"$f":"'MI materialen'!C169","v":"kg"},{"$f":"'MI materialen'!D169","v":0},"0241-sto&Stort bitumen (o.b.v. Waste bitumen {Europe without Switzerland}| treatment of waste bitumen, sanitary landfill | Cut-off, U)",8.3023517000000002E-3,0,0,6.4014179999999999E-3,7.9478945999999996E-8,6.2805662000000004E-5,5.3278788000000001E-4,5.3819011999999998E-4,5.6331317000000004E-4,4.2599019999999998E-5,1.6004461999999999E-4,1.113721E-6,0,0,0,0,0,0,0,0,0,0,0,0,0,0,0,0,0,0,{"$f":"'MI materialen'!AI169","v":0},{"$f":"'MI materialen'!AJ169","v":0},{"$f":"'MI materialen'!AK169","v":0},{"$f":"'MI materialen'!AL169","v":0},{"$f":"'MI materialen'!AM169","v":0},{"$f":"'MI materialen'!AN169","v":0},{"$f":"'MI materialen'!AO169","v":0},{"$f":"'MI materialen'!AP169","v":0},{"$f":"'MI materialen'!AQ169","v":0},{"$f":"'MI materialen'!AR169","v":0}]
[{"$f":"'MI materialen'!A170","v":"Storten"},{"$f":"'MI materialen'!B170","v":0},{"$f":"'MI materialen'!C170","v":"kg"},{"$f":"'MI materialen'!D170","v":0},"0242-sto&Stort EPS, XPS (o.b.v. Waste polystyrene {Europe without Switzerland}| treatment of waste polystyrene, sanitary landfill | Cut-off, U)",8.2256392000000008E-3,0,0,6.6563372000000001E-3,7.8754393000000001E-8,5.9593935000000001E-5,2.8415161000000001E-4,3.0658173000000001E-4,6.5028030000000004E-4,5.2038213999999998E-5,2.1511353000000001E-4,1.4639094000000001E-6,0,0,0,0,0,0,0,0,0,0,0,0,0,0,0,0,0,0,{"$f":"'MI materialen'!AI170","v":0},{"$f":"'MI materialen'!AJ170","v":0},{"$f":"'MI materialen'!AK170","v":0},{"$f":"'MI materialen'!AL170","v":0},{"$f":"'MI materialen'!AM170","v":0},{"$f":"'MI materialen'!AN170","v":0},{"$f":"'MI materialen'!AO170","v":0},{"$f":"'MI materialen'!AP170","v":0},{"$f":"'MI materialen'!AQ170","v":0},{"$f":"'MI materialen'!AR170","v":0}]
[{"$f":"'MI materialen'!A171","v":"Storten"},{"$f":"'MI materialen'!B171","v":0},{"$f":"'MI materialen'!C171","v":"kg"},{"$f":"'MI materialen'!D171","v":0},"0243-sto&Stort gips (o.b.v. Waste gypsum {Europe without Switzerland}| treatment of waste gypsum, inert material landfill | Cut-off, U)",7.1834367000000001E-4,0,0,2.5841074000000001E-4,5.1640143E-8,1.1010334E-5,1.5118044999999999E-4,6.5615600999999998E-5,2.1023911E-4,1.6631534E-6,1.9820625999999999E-5,3.5202585999999997E-7,0,0,0,0,0,0,0,0,0,0,0,0,0,0,0,0,0,0,{"$f":"'MI materialen'!AI171","v":0},{"$f":"'MI materialen'!AJ171","v":0},{"$f":"'MI materialen'!AK171","v":0},{"$f":"'MI materialen'!AL171","v":0},{"$f":"'MI materialen'!AM171","v":0},{"$f":"'MI materialen'!AN171","v":0},{"$f":"'MI materialen'!AO171","v":0},{"$f":"'MI materialen'!AP171","v":0},{"$f":"'MI materialen'!AQ171","v":0},{"$f":"'MI materialen'!AR171","v":0}]
[{"$f":"'MI materialen'!A172","v":"Storten"},{"$f":"'MI materialen'!B172","v":0},{"$f":"'MI materialen'!C172","v":"kg"},{"$f":"'MI materialen'!D172","v":0},"0244-sto&Stort glas (o.b.v. Waste glass {CH}| treatment of, inert material landfill | Cut-off, U)",5.9985785000000005E-4,0,0,2.1114810000000001E-4,4.9739628999999998E-8,9.1294829999999997E-6,1.2399684999999999E-4,5.9707496E-5,1.7817082000000001E-4,1.4227357000000001E-6,1.5960948E-5,2.7168782E-7,0,0,0,0,0,0,0,0,0,0,0,0,0,0,0,0,0,0,{"$f":"'MI materialen'!AI172","v":0},{"$f":"'MI materialen'!AJ172","v":0},{"$f":"'MI materialen'!AK172","v":0},{"$f":"'MI materialen'!AL172","v":0},{"$f":"'MI materialen'!AM172","v":0},{"$f":"'MI materialen'!AN172","v":0},{"$f":"'MI materialen'!AO172","v":0},{"$f":"'MI materialen'!AP172","v":0},{"$f":"'MI materialen'!AQ172","v":0},{"$f":"'MI materialen'!AR172","v":0}]
[{"$f":"'MI materialen'!A173","v":"Storten"},{"$f":"'MI materialen'!B173","v":0},{"$f":"'MI materialen'!C173","v":"kg"},{"$f":"'MI materialen'!D173","v":0},"0245-sto&Stort hout, 'schoon' (o.b.v. Waste wood, untreated {Europe without Switzerland}| treatment of waste wood, untreated, sanitary landfill | Cut-off, U)",4.990647E-3,0,0,3.7685551999999999E-3,7.8648229000000001E-8,4.7203273999999998E-5,2.7921590000000001E-4,2.5908989000000002E-4,5.8844911E-4,3.1876762000000001E-6,4.3593885999999998E-5,1.2734043000000001E-6,0,0,0,0,0,0,0,0,0,0,0,0,0,0,0,0,0,0,{"$f":"'MI materialen'!AI173","v":0},{"$f":"'MI materialen'!AJ173","v":0},{"$f":"'MI materialen'!AK173","v":0},{"$f":"'MI materialen'!AL173","v":0},{"$f":"'MI materialen'!AM173","v":0},{"$f":"'MI materialen'!AN173","v":0},{"$f":"'MI materialen'!AO173","v":0},{"$f":"'MI materialen'!AP173","v":0},{"$f":"'MI materialen'!AQ173","v":0},{"$f":"'MI materialen'!AR173","v":0}]
[{"$f":"'MI materialen'!A174","v":"Storten"},{"$f":"'MI materialen'!B174","v":0},{"$f":"'MI materialen'!C174","v":"kg"},{"$f":"'MI materialen'!D174","v":0},"0246-sto&Stort hout, geschilderd (o.b.v. 99% Waste wood, untreated en 1% Waste paint {EU}| treatment of, sanitary landfill | Cut-off, U)",5.0058932E-3,0,0,3.7820298E-3,7.8647584000000004E-8,4.7224617999999998E-5,2.7916330999999998E-4,2.5796728000000002E-4,5.8793805E-4,3.8581826000000002E-6,4.6359970000000001E-5,1.2733376E-6,0,0,0,0,0,0,0,0,0,0,0,0,0,0,0,0,0,0,{"$f":"'MI materialen'!AI174","v":0},{"$f":"'MI materialen'!AJ174","v":0},{"$f":"'MI materialen'!AK174","v":0},{"$f":"'MI materialen'!AL174","v":0},{"$f":"'MI materialen'!AM174","v":0},{"$f":"'MI materialen'!AN174","v":0},{"$f":"'MI materialen'!AO174","v":0},{"$f":"'MI materialen'!AP174","v":0},{"$f":"'MI materialen'!AQ174","v":0},{"$f":"'MI materialen'!AR174","v":0}]
[{"$f":"'MI materialen'!A175","v":"Storten"},{"$f":"'MI materialen'!B175","v":0},{"$f":"'MI materialen'!C175","v":"kg"},{"$f":"'MI materialen'!D175","v":0},"0247-sto&Stort inert afval (o.b.v. Inert waste, for final disposal {RoW}| treatment of inert waste, inert material landfill | Cut-off, U) fijn-/grofkeramisch, grind, kalkzandsteen, schelpen, zand",7.1834367999999997E-4,0,0,2.5841074000000001E-4,5.1640143E-8,1.1010334E-5,1.5118044999999999E-4,6.5615601999999994E-5,2.1023911E-4,1.6631534E-6,1.9820625999999999E-5,3.5202585999999997E-7,0,0,0,0,0,0,0,0,0,0,0,0,0,0,0,0,0,0,{"$f":"'MI materialen'!AI175","v":0},{"$f":"'MI materialen'!AJ175","v":0},{"$f":"'MI materialen'!AK175","v":0},{"$f":"'MI materialen'!AL175","v":0},{"$f":"'MI materialen'!AM175","v":0},{"$f":"'MI materialen'!AN175","v":0},{"$f":"'MI materialen'!AO175","v":0},{"$f":"'MI materialen'!AP175","v":0},{"$f":"'MI materialen'!AQ175","v":0},{"$f":"'MI materialen'!AR175","v":0}]
[{"$f":"'MI materialen'!A176","v":"Storten"},{"$f":"'MI materialen'!B176","v":0},{"$f":"'MI materialen'!C176","v":"kg"},{"$f":"'MI materialen'!D176","v":0},"0248-sto&Stort koper, lood, verzinkt staal, zink (o.b.v. Scrap tin sheet {CH}| treatment of, sanitary landfill | Cut-off, U, bij gebrek aan passender proces)",1.6378874999999999E-3,0,0,4.4188773999999999E-4,7.8760772999999997E-8,1.7431843999999998E-5,2.321697E-4,1.0869915999999999E-4,6.9739653000000003E-4,7.3752120999999999E-5,6.5316035000000005E-5,1.1556373E-6,0,0,0,0,0,0,0,0,0,0,0,0,0,0,0,0,0,0,{"$f":"'MI materialen'!AI176","v":0},{"$f":"'MI materialen'!AJ176","v":0},{"$f":"'MI materialen'!AK176","v":0},{"$f":"'MI materialen'!AL176","v":0},{"$f":"'MI materialen'!AM176","v":0},{"$f":"'MI materialen'!AN176","v":0},{"$f":"'MI materialen'!AO176","v":0},{"$f":"'MI materialen'!AP176","v":0},{"$f":"'MI materialen'!AQ176","v":0},{"$f":"'MI materialen'!AR176","v":0}]
[{"$f":"'MI materialen'!A177","v":"Storten"},{"$f":"'MI materialen'!B177","v":0},{"$f":"'MI materialen'!C177","v":"kg"},{"$f":"'MI materialen'!D177","v":0},"0249-sto&Stort kunststoffen (o.b.v. mix 21% PE, 21% PP, 17% PVC, 21% PS en 20% mixture)",7.6116687999999997E-3,0,0,5.4912316000000003E-3,7.8765636999999999E-8,5.1947426999999997E-5,2.8498803000000001E-4,3.2665812000000002E-4,7.5330109000000002E-4,1.5641335999999999E-4,5.4574338999999997E-4,1.3070144000000001E-6,0,0,0,0,0,0,0,0,0,0,0,0,0,0,0,0,0,0,{"$f":"'MI materialen'!AI177","v":0},{"$f":"'MI materialen'!AJ177","v":0},{"$f":"'MI materialen'!AK177","v":0},{"$f":"'MI materialen'!AL177","v":0},{"$f":"'MI materialen'!AM177","v":0},{"$f":"'MI materialen'!AN177","v":0},{"$f":"'MI materialen'!AO177","v":0},{"$f":"'MI materialen'!AP177","v":0},{"$f":"'MI materialen'!AQ177","v":0},{"$f":"'MI materialen'!AR177","v":0}]
[{"$f":"'MI materialen'!A178","v":"Storten"},{"$f":"'MI materialen'!B178","v":0},{"$f":"'MI materialen'!C178","v":"kg"},{"$f":"'MI materialen'!D178","v":0},"0250-sto&Stort minerale wol (o.b.v. Waste mineral wool, for final disposal {Europe without Switzerland}| treatment of waste mineral wool, inert material landfill | Cut-off, U)",7.1834367000000001E-4,0,0,2.5841074000000001E-4,5.1640143E-8,1.1010334E-5,1.5118044999999999E-4,6.5615600999999998E-5,2.1023911E-4,1.6631534E-6,1.9820625999999999E-5,3.5202585999999997E-7,0,0,0,0,0,0,0,0,0,0,0,0,0,0,0,0,0,0,{"$f":"'MI materialen'!AI178","v":0},{"$f":"'MI materialen'!AJ178","v":0},{"$f":"'MI materialen'!AK178","v":0},{"$f":"'MI materialen'!AL178","v":0},{"$f":"'MI materialen'!AM178","v":0},{"$f":"'MI materialen'!AN178","v":0},{"$f":"'MI materialen'!AO178","v":0},{"$f":"'MI materialen'!AP178","v":0},{"$f":"'MI materialen'!AQ178","v":0},{"$f":"'MI materialen'!AR178","v":0}]
[{"$f":"'MI materialen'!A179","v":"Storten"},{"$f":"'MI materialen'!B179","v":0},{"$f":"'MI materialen'!C179","v":"kg"},{"$f":"'MI materialen'!D179","v":0},"0251-sto&Stort PE (o.b.v. Waste polyethylene {Europe without Switzerland}| treatment of waste polyethylene, sanitary landfill | Cut-off, U), ook elastomeren als epdm",9.2737199999999992E-3,0,0,6.3406067000000002E-3,7.8670569000000002E-8,5.7485302999999998E-5,2.8108712000000002E-4,2.5480098E-4,9.3456237000000004E-4,3.2417128000000002E-4,1.0798520000000001E-3,1.0755717999999999E-6,0,0,0,0,0,0,0,0,0,0,0,0,0,0,0,0,0,0,{"$f":"'MI materialen'!AI179","v":0},{"$f":"'MI materialen'!AJ179","v":0},{"$f":"'MI materialen'!AK179","v":0},{"$f":"'MI materialen'!AL179","v":0},{"$f":"'MI materialen'!AM179","v":0},{"$f":"'MI materialen'!AN179","v":0},{"$f":"'MI materialen'!AO179","v":0},{"$f":"'MI materialen'!AP179","v":0},{"$f":"'MI materialen'!AQ179","v":0},{"$f":"'MI materialen'!AR179","v":0}]
[{"$f":"'MI materialen'!A180","v":"Storten"},{"$f":"'MI materialen'!B180","v":0},{"$f":"'MI materialen'!C180","v":"kg"},{"$f":"'MI materialen'!D180","v":0},"0252-sto&Stort PVC (o.b.v. Waste polyvinylchloride {Europe without Switzerland}| treatment of waste polyvinylchloride, sanitary landfill | Cut-off, U)",5.1202393000000001E-3,0,0,3.6342359999999999E-3,7.8562101999999998E-8,3.9816252999999998E-5,2.8329647000000001E-4,2.1784068000000001E-4,6.5905168999999997E-4,5.4966556000000003E-5,2.2949683E-4,1.4562521E-6,0,0,0,0,0,0,0,0,0,0,0,0,0,0,0,0,0,0,{"$f":"'MI materialen'!AI180","v":0},{"$f":"'MI materialen'!AJ180","v":0},{"$f":"'MI materialen'!AK180","v":0},{"$f":"'MI materialen'!AL180","v":0},{"$f":"'MI materialen'!AM180","v":0},{"$f":"'MI materialen'!AN180","v":0},{"$f":"'MI materialen'!AO180","v":0},{"$f":"'MI materialen'!AP180","v":0},{"$f":"'MI materialen'!AQ180","v":0},{"$f":"'MI materialen'!AR180","v":0}]
[{"$f":"'MI materialen'!A181","v":"Storten"},{"$f":"'MI materialen'!B181","v":0},{"$f":"'MI materialen'!C181","v":"kg"},{"$f":"'MI materialen'!D181","v":0},"0253-sto&Stort staal (o.b.v. Scrap steel {Europe without Switzerland}| treatment of scrap steel, inert material landfill | Cut-off, U)",7.1834367999999997E-4,0,0,2.5841074000000001E-4,5.1640141999999997E-8,1.1010334E-5,1.5118044999999999E-4,6.5615600999999998E-5,2.1023911E-4,1.6631534E-6,1.9820625999999999E-5,3.5202585999999997E-7,0,0,0,0,0,0,0,0,0,0,0,0,0,0,0,0,0,0,{"$f":"'MI materialen'!AI181","v":0},{"$f":"'MI materialen'!AJ181","v":0},{"$f":"'MI materialen'!AK181","v":0},{"$f":"'MI materialen'!AL181","v":0},{"$f":"'MI materialen'!AM181","v":0},{"$f":"'MI materialen'!AN181","v":0},{"$f":"'MI materialen'!AO181","v":0},{"$f":"'MI materialen'!AP181","v":0},{"$f":"'MI materialen'!AQ181","v":0},{"$f":"'MI materialen'!AR181","v":0}]
[{"$f":"'MI materialen'!A182","v":"Storten"},{"$f":"'MI materialen'!B182","v":0},{"$f":"'MI materialen'!C182","v":"kg"},{"$f":"'MI materialen'!D182","v":0},"0254-sto&Stort huishoudelijk afval (o.b.v. Municipal solid waste {RoW}| treatment of, sanitary landfill | Cut-off, U)",4.0777842000000002E-2,0,0,3.1518075999999999E-2,8.8740439000000003E-8,2.8520018999999999E-4,5.7137962000000002E-4,5.3607369000000004E-3,2.3661128999999999E-3,7.2412064999999995E-5,5.9883983000000003E-4,4.9959136000000001E-6,0,0,0,0,0,0,0,0,0,0,0,0,0,0,0,0,0,0,{"$f":"'MI materialen'!AI182","v":0},{"$f":"'MI materialen'!AJ182","v":0},{"$f":"'MI materialen'!AK182","v":0},{"$f":"'MI materialen'!AL182","v":0},{"$f":"'MI materialen'!AM182","v":0},{"$f":"'MI materialen'!AN182","v":0},{"$f":"'MI materialen'!AO182","v":0},{"$f":"'MI materialen'!AP182","v":0},{"$f":"'MI materialen'!AQ182","v":0},{"$f":"'MI materialen'!AR182","v":0}]
[{"$f":"'MI materialen'!A183","v":"Storten"},{"$f":"'MI materialen'!B183","v":0},{"$f":"'MI materialen'!C183","v":"kg"},{"$f":"'MI materialen'!D183","v":0},"0299-sto&Stort verf (o.b.v. Waste paint {Europe without Switzerland}| treatment of waste paint, sanitary landfill | Cut-off, U)",6.5152656999999999E-3,0,0,5.1160127999999999E-3,7.8583813999999998E-8,4.9337657999999999E-5,2.7395722000000001E-4,1.4682875000000001E-4,5.3734332000000004E-4,7.0238312000000001E-5,3.2020234E-4,1.2667284E-6,0,0,0,0,0,0,0,0,0,0,0,0,0,0,0,0,0,0,{"$f":"'MI materialen'!AI183","v":0},{"$f":"'MI materialen'!AJ183","v":0},{"$f":"'MI materialen'!AK183","v":0},{"$f":"'MI materialen'!AL183","v":0},{"$f":"'MI materialen'!AM183","v":0},{"$f":"'MI materialen'!AN183","v":0},{"$f":"'MI materialen'!AO183","v":0},{"$f":"'MI materialen'!AP183","v":0},{"$f":"'MI materialen'!AQ183","v":0},{"$f":"'MI materialen'!AR183","v":0}]
[{"$f":"'MI materialen'!A184","v":"Storten"},{"$f":"'MI materialen'!B184","v":0},{"$f":"'MI materialen'!C184","v":"kg"},{"$f":"'MI materialen'!D184","v":0},"0300-sto&Stort PUR (o.b.v. Waste polyurethane {RoW}| treatment of, sanitary landfill | Cut-off, U)",1.1730857000000001E-2,0,0,5.3636834999999999E-3,8.5684665999999995E-8,5.1597744000000003E-5,4.0630176000000002E-4,4.8236307000000004E-3,7.8386567000000005E-4,5.7386980000000003E-5,2.4132449999999999E-4,2.9806950000000002E-6,0,0,0,0,0,0,0,0,0,0,0,0,0,0,0,0,0,0,{"$f":"'MI materialen'!AI184","v":0},{"$f":"'MI materialen'!AJ184","v":0},{"$f":"'MI materialen'!AK184","v":0},{"$f":"'MI materialen'!AL184","v":0},{"$f":"'MI materialen'!AM184","v":0},{"$f":"'MI materialen'!AN184","v":0},{"$f":"'MI materialen'!AO184","v":0},{"$f":"'MI materialen'!AP184","v":0},{"$f":"'MI materialen'!AQ184","v":0},{"$f":"'MI materialen'!AR184","v":0}]
[{"$f":"'MI materialen'!A185","v":"Storten"},{"$f":"'MI materialen'!B185","v":0},{"$f":"'MI materialen'!C185","v":"kg"},{"$f":"'MI materialen'!D185","v":0},"0308-sto&Stort PS, EPS, XPS, ongecontroleerd ('laten zitten') (o.b.v. Waste polystyrene {GLO}| treatment of waste polystyrene, unsanitary landfill, moist infiltration class (300mm) | Cut-off, U)",1.1756617E-2,0,0,1.0324384000000001E-2,2.2833866000000001E-8,8.4434810999999997E-5,1.368397E-4,1.9304985999999999E-4,4.0362527000000002E-4,1.0942787E-4,5.0425619000000002E-4,5.7710233000000003E-7,0,0,0,0,0,0,0,0,0,0,0,0,0,0,0,0,0,0,{"$f":"'MI materialen'!AI185","v":0},{"$f":"'MI materialen'!AJ185","v":0},{"$f":"'MI materialen'!AK185","v":0},{"$f":"'MI materialen'!AL185","v":0},{"$f":"'MI materialen'!AM185","v":0},{"$f":"'MI materialen'!AN185","v":0},{"$f":"'MI materialen'!AO185","v":0},{"$f":"'MI materialen'!AP185","v":0},{"$f":"'MI materialen'!AQ185","v":0},{"$f":"'MI materialen'!AR185","v":0}]
[{"$f":"'MI materialen'!A186","v":"Storten"},{"$f":"'MI materialen'!B186","v":0},{"$f":"'MI materialen'!C186","v":"kg"},{"$f":"'MI materialen'!D186","v":0},"0312-sto&Stort PP, ongecontroleerd ('laten zitten') (o.b.v. Waste polypropylene {GLO}| treatment of waste polypropylene, unsanitary landfill, moist infiltration class (300mm) | Cut-off, U)",1.1980726000000001E-2,0,0,8.2955836999999994E-3,2.2833866000000001E-8,6.9256983000000005E-5,1.3482511000000001E-4,1.5434247000000001E-4,8.7036940999999995E-4,5.4851122E-4,1.9076301E-3,1.8363248000000001E-7,0,0,0,0,0,0,0,0,0,0,0,0,0,0,0,0,0,0,{"$f":"'MI materialen'!AI186","v":0},{"$f":"'MI materialen'!AJ186","v":0},{"$f":"'MI materialen'!AK186","v":0},{"$f":"'MI materialen'!AL186","v":0},{"$f":"'MI materialen'!AM186","v":0},{"$f":"'MI materialen'!AN186","v":0},{"$f":"'MI materialen'!AO186","v":0},{"$f":"'MI materialen'!AP186","v":0},{"$f":"'MI materialen'!AQ186","v":0},{"$f":"'MI materialen'!AR186","v":0}]
[{"$f":"'MI materialen'!A187","v":"Storten"},{"$f":"'MI materialen'!B187","v":0},{"$f":"'MI materialen'!C187","v":"kg"},{"$f":"'MI materialen'!D187","v":0},"0313-sto&Stort PE, ongecontroleerd ('laten zitten') (o.b.v. Waste polyethylene {GLO}| treatment of waste polyethylene, unsanitary landfill, moist infiltration class (300mm) | Cut-off, U)",1.4081061000000001E-2,0,0,9.7839837000000002E-3,2.2833866000000001E-8,8.0371296999999999E-5,1.3524631999999999E-4,1.7029548E-4,1.0037468999999999E-3,6.4947056000000001E-4,2.2577360000000002E-3,1.8772620000000001E-7,0,0,0,0,0,0,0,0,0,0,0,0,0,0,0,0,0,0,{"$f":"'MI materialen'!AI187","v":0},{"$f":"'MI materialen'!AJ187","v":0},{"$f":"'MI materialen'!AK187","v":0},{"$f":"'MI materialen'!AL187","v":0},{"$f":"'MI materialen'!AM187","v":0},{"$f":"'MI materialen'!AN187","v":0},{"$f":"'MI materialen'!AO187","v":0},{"$f":"'MI materialen'!AP187","v":0},{"$f":"'MI materialen'!AQ187","v":0},{"$f":"'MI materialen'!AR187","v":0}]
[{"$f":"'MI materialen'!A188","v":"Recycling (incl C)"},{"$f":"'MI materialen'!B188","v":0},{"$f":"'MI materialen'!C188","v":0},{"$f":"'MI materialen'!D188","v":0},{"$f":"'MI materialen'!E188","v":0},null,{"$f":"'MI materialen'!F188","v":"001. abiotic depletion, non fuel (AD)"},{"$f":"'MI materialen'!G188","v":"002. abiotic depletion, fuel (AD)"},{"$f":"'MI materialen'!H188","v":"004. global warming (GWP)"},{"$f":"'MI materialen'!I188","v":"005. ozone layer depletion (ODP)"},{"$f":"'MI materialen'!J188","v":"006. photochemical oxidation (POCP)"},{"$f":"'MI materialen'!K188","v":"007. acidification (AP)"},{"$f":"'MI materialen'!L188","v":"008. eutrophication (EP)"},{"$f":"'MI materialen'!M188","v":"009. human toxicity (HT)"},{"$f":"'MI materialen'!N188","v":"010. Ecotoxicity, fresh water (FAETP)"},{"$f":"'MI materialen'!O188","v":"012. Ecotoxcity, marine water (MAETP)"},{"$f":"'MI materialen'!P188","v":"014. Ecotoxicity, terrestric (TETP)"},{"$f":"'MI materialen'!Q188","v":"111. Energy, primary, renewable, excludi"},{"$f":"'MI materialen'!R188","v":"113. Energy, primary, renewable, materia"},{"$f":"'MI materialen'!S188","v":"101. Energy, primary, renewable (MJ)"},{"$f":"'MI materialen'!T188","v":"112. Energy, primary, non-renewable, exc"},{"$f":"'MI materialen'!U188","v":"114. Energy, primary, non-renewable, mat"},{"$f":"'MI materialen'!V188","v":"102. Energy, primary, non-renewable (MJ)"},{"$f":"'MI materialen'!W188","v":"108. Secondary material (kg)"},{"$f":"'MI materialen'!X188","v":"109. Secondary fuel, renewable (kg)"},{"$f":"'MI materialen'!Y188","v":"110. Secondary fuel, non-renewable (kg)"},{"$f":"'MI materialen'!Z188","v":"104. Water, fresh water use (m3)"},{"$f":"'MI materialen'!AA188","v":"106. Waste, hazardous (kg)"},{"$f":"'MI materialen'!AB188","v":"105. Waste, non hazardous (kg)"},{"$f":"'MI materialen'!AC188","v":"107. Waste, radioactive (kg)"},{"$f":"'MI materialen'!AD188","v":"120. Components for re-use (kg)"},{"$f":"'MI materialen'!AE188","v":"121. Materials for recycling (kg)"},{"$f":"'MI materialen'!AF188","v":"122. Materials for energy recovery (kg)"},{"$f":"'MI materialen'!AG188","v":"123. Exported energy, electric (MJ)"},{"$f":"'MI materialen'!AH188","v":"124. Exported energy, thermal (MJ)"},{"$f":"'MI materialen'!AI188","v":0},{"$f":"'MI materialen'!AJ188","v":0},{"$f":"'MI materialen'!AK188","v":0},{"$f":"'MI materialen'!AL188","v":0},{"$f":"'MI materialen'!AM188","v":0},{"$f":"'MI materialen'!AN188","v":0},{"$f":"'MI materialen'!AO188","v":0},{"$f":"'MI materialen'!AP188","v":0},{"$f":"'MI materialen'!AQ188","v":0},{"$f":"'MI materialen'!AR188","v":0}]
[{"$f":"'MI materialen'!A189","v":"Categorie"},{"$f":"'MI materialen'!B189","v":"Triviale naam"},{"$f":"'MI materialen'!C189","v":"Eenheid"},{"$f":"'MI materialen'!D189","v":0},{"$f":"'MI materialen'!E189","v":"Technische naam"},"Som MKI €",{"$f":"'MI materialen'!F189","v":"kg Sb eq"},{"$f":"'MI materialen'!G189","v":"kg Sb eq"},{"$f":"'MI materialen'!H189","v":"kg CO2 eq"},{"$f":"'MI materialen'!I189","v":"kg CFC-11 eq"},{"$f":"'MI materialen'!J189","v":"kg C2H4"},{"$f":"'MI materialen'!K189","v":"kg SO2 eq"},{"$f":"'MI materialen'!L189","v":"kg PO4--- eq"},{"$f":"'MI materialen'!M189","v":"kg 1,4-DB eq"},{"$f":"'MI materialen'!N189","v":"kg 1,4-DB eq"},{"$f":"'MI materialen'!O189","v":"kg 1,4-DB eq"},{"$f":"'MI materialen'!P189","v":"kg 1,4-DB eq"},{"$f":"'MI materialen'!Q189","v":"MJ"},{"$f":"'MI materialen'!R189","v":"MJ"},{"$f":"'MI materialen'!S189","v":"MJ"},{"$f":"'MI materialen'!T189","v":"MJ"},{"$f":"'MI materialen'!U189","v":"MJ"},{"$f":"'MI materialen'!V189","v":"MJ"},{"$f":"'MI materialen'!W189","v":"kg"},{"$f":"'MI materialen'!X189","v":"MJ"},{"$f":"'MI materialen'!Y189","v":"MJ"},{"$f":"'MI materialen'!Z189","v":"m3"},{"$f":"'MI materialen'!AA189","v":"kg"},{"$f":"'MI materialen'!AB189","v":"kg"},{"$f":"'MI materialen'!AC189","v":"kg"},{"$f":"'MI materialen'!AD189","v":"kg"},{"$f":"'MI materialen'!AE189","v":"kg"},{"$f":"'MI materialen'!AF189","v":"kg"},{"$f":"'MI materialen'!AG189","v":"MJ"},{"$f":"'MI materialen'!AH189","v":"MJ"},{"$f":"'MI materialen'!AI189","v":0},{"$f":"'MI materialen'!AJ189","v":0},{"$f":"'MI materialen'!AK189","v":0},{"$f":"'MI materialen'!AL189","v":0},{"$f":"'MI materialen'!AM189","v":0},{"$f":"'MI materialen'!AN189","v":0},{"$f":"'MI materialen'!AO189","v":0},{"$f":"'MI materialen'!AP189","v":0},{"$f":"'MI materialen'!AQ189","v":0},{"$f":"'MI materialen'!AR189","v":0}]
[{"$f":"'MI materialen'!A190","v":"Recycling"},{"$f":"'MI materialen'!B190","v":0},{"$f":"'MI materialen'!C190","v":"kg"},{"$f":"'MI materialen'!D190","v":0},"0269-reD&Module D aluminium, per kg NETTO geleverd schroot (vermeden: Aluminium, cast alloy {GLO}| aluminium ingot, primary, to market | Cut-off, U; Aluminium, cast alloy {RER}|",-2.9269086,0,0,-0.85505432999999997,-1.6903877E-5,-1.4316967999999999E-2,-0.39202998999999999,-7.1794499999999997E-2,-1.5057491999999999,-3.1145095999999999E-3,-8.2915288000000004E-2,-1.9168844999999999E-3,0,0,0,0,0,0,0,0,0,0,0,0,0,0,0,0,0,0,{"$f":"'MI materialen'!AI190","v":0},{"$f":"'MI materialen'!AJ190","v":0},{"$f":"'MI materialen'!AK190","v":0},{"$f":"'MI materialen'!AL190","v":0},{"$f":"'MI materialen'!AM190","v":0},{"$f":"'MI materialen'!AN190","v":0},{"$f":"'MI materialen'!AO190","v":0},{"$f":"'MI materialen'!AP190","v":0},{"$f":"'MI materialen'!AQ190","v":0},{"$f":"'MI materialen'!AR190","v":0}]
[{"$f":"'MI materialen'!A191","v":"Recycling"},{"$f":"'MI materialen'!B191","v":0},{"$f":"'MI materialen'!C191","v":"kg"},{"$f":"'MI materialen'!D191","v":0},"0271-reD&Module D, grind, per kg NETTO geleverd granulaat/grind (vermeden: Gravel, round {RoW}| gravel and sand quarry operation | Cut-off, U)",-5.2276887000000005E-4,0,0,-2.0490630999999999E-4,-1.0721971000000001E-8,-6.0593544999999997E-6,-9.3136459000000006E-5,-3.4148525000000002E-5,-1.7080793E-4,-8.829689E-7,-1.2224314000000001E-5,-5.9228733000000002E-7,0,0,0,0,0,0,0,0,0,0,0,0,0,0,0,0,0,0,{"$f":"'MI materialen'!AI191","v":0},{"$f":"'MI materialen'!AJ191","v":0},{"$f":"'MI materialen'!AK191","v":0},{"$f":"'MI materialen'!AL191","v":0},{"$f":"'MI materialen'!AM191","v":0},{"$f":"'MI materialen'!AN191","v":0},{"$f":"'MI materialen'!AO191","v":0},{"$f":"'MI materialen'!AP191","v":0},{"$f":"'MI materialen'!AQ191","v":0},{"$f":"'MI materialen'!AR191","v":0}]
[{"$f":"'MI materialen'!A192","v":"Recycling"},{"$f":"'MI materialen'!B192","v":0},{"$f":"'MI materialen'!C192","v":"kg"},{"$f":"'MI materialen'!D192","v":0},"0273-reD&Module D, vlakglas per kg NETTO geleverd kringloopglas (79% verpakkingsglas- en 21% glaswoltoepassing waar primaire grondstoffen worden vermeden - niet de energie )",-4.0067932000000001E-2,0,0,-2.204938E-2,-5.1038649000000003E-7,-2.1170238999999999E-4,-7.1766996000000001E-3,-1.9703136999999998E-3,-7.3359165000000002E-3,-9.2060781000000006E-5,-1.2003904000000001E-3,-3.0957941000000003E-5,0,0,0,0,0,0,0,0,0,0,0,0,0,0,0,0,0,0,{"$f":"'MI materialen'!AI192","v":0},{"$f":"'MI materialen'!AJ192","v":0},{"$f":"'MI materialen'!AK192","v":0},{"$f":"'MI materialen'!AL192","v":0},{"$f":"'MI materialen'!AM192","v":0},{"$f":"'MI materialen'!AN192","v":0},{"$f":"'MI materialen'!AO192","v":0},{"$f":"'MI materialen'!AP192","v":0},{"$f":"'MI materialen'!AQ192","v":0},{"$f":"'MI materialen'!AR192","v":0}]
[{"$f":"'MI materialen'!A193","v":"Recycling"},{"$f":"'MI materialen'!B193","v":0},{"$f":"'MI materialen'!C193","v":"kg"},{"$f":"'MI materialen'!D193","v":0},"0274-reD&Module D, glaswol/glasschuim, per kg NETTO geleverd (glaswol/-schuimtoepassing waar primaire grondstoffen worden vermeden - niet de energie)",-6.1338508999999999E-2,0,0,-2.6507534999999999E-2,-7.2310086999999999E-7,-3.1111611E-4,-1.1431327E-2,-3.1163468000000001E-3,-1.7917485E-2,-1.2391647999999999E-4,-1.8682579E-3,-6.1802332000000004E-5,0,0,0,0,0,0,0,0,0,0,0,0,0,0,0,0,0,0,{"$f":"'MI materialen'!AI193","v":0},{"$f":"'MI materialen'!AJ193","v":0},{"$f":"'MI materialen'!AK193","v":0},{"$f":"'MI materialen'!AL193","v":0},{"$f":"'MI materialen'!AM193","v":0},{"$f":"'MI materialen'!AN193","v":0},{"$f":"'MI materialen'!AO193","v":0},{"$f":"'MI materialen'!AP193","v":0},{"$f":"'MI materialen'!AQ193","v":0},{"$f":"'MI materialen'!AR193","v":0}]
[{"$f":"'MI materialen'!A194","v":"Recycling"},{"$f":"'MI materialen'!B194","v":0},{"$f":"'MI materialen'!C194","v":"kg"},{"$f":"'MI materialen'!D194","v":0},"0275-reD&Module D, houten balk, per kg NETTO geleverd (o.b.v. Sawnwood, beam, softwood, dried (u=10%), planed {RoW}| planing, beam, softwood, u=10% | Cut-off, U)",-2.2680022000000001E-2,0,0,-8.6180858999999992E-3,-4.6400414000000001E-7,-3.6499541E-4,-3.7219624999999998E-3,-1.7053659E-3,-7.6516071E-3,-5.9513852000000002E-5,-5.1706530999999999E-4,-4.0961619000000003E-5,0,0,0,0,0,0,0,0,0,0,0,0,0,0,0,0,0,0,{"$f":"'MI materialen'!AI194","v":0},{"$f":"'MI materialen'!AJ194","v":0},{"$f":"'MI materialen'!AK194","v":0},{"$f":"'MI materialen'!AL194","v":0},{"$f":"'MI materialen'!AM194","v":0},{"$f":"'MI materialen'!AN194","v":0},{"$f":"'MI materialen'!AO194","v":0},{"$f":"'MI materialen'!AP194","v":0},{"$f":"'MI materialen'!AQ194","v":0},{"$f":"'MI materialen'!AR194","v":0}]
[{"$f":"'MI materialen'!A195","v":"Recycling"},{"$f":"'MI materialen'!B195","v":0},{"$f":"'MI materialen'!C195","v":"kg"},{"$f":"'MI materialen'!D195","v":0},"0276-reD&Module D, houtspaanders, per kg NETTO geleverd (o.b.v. Wood chips, dry, measured as dry mass {RER}| three layered laminated board production | Cut-off, U)",-8.3544822000000008E-3,0,0,-3.4892794999999998E-3,-2.3738557999999999E-7,-1.3160635E-4,-1.4536026E-3,-6.2235153999999995E-4,-2.4082163E-3,-2.2027560999999999E-5,-2.1348124E-4,-1.3679839000000001E-5,0,0,0,0,0,0,0,0,0,0,0,0,0,0,0,0,0,0,{"$f":"'MI materialen'!AI195","v":0},{"$f":"'MI materialen'!AJ195","v":0},{"$f":"'MI materialen'!AK195","v":0},{"$f":"'MI materialen'!AL195","v":0},{"$f":"'MI materialen'!AM195","v":0},{"$f":"'MI materialen'!AN195","v":0},{"$f":"'MI materialen'!AO195","v":0},{"$f":"'MI materialen'!AP195","v":0},{"$f":"'MI materialen'!AQ195","v":0},{"$f":"'MI materialen'!AR195","v":0}]
[{"$f":"'MI materialen'!A196","v":"Recycling"},{"$f":"'MI materialen'!B196","v":0},{"$f":"'MI materialen'!C196","v":"kg"},{"$f":"'MI materialen'!D196","v":0},"0277-reD&Module D, koper, per kg NETTO geleverd schroot (vermeden: Copper {RER}| production, primary | Cut-off, U)",-1.4021523,0,0,-8.0937428000000006E-2,-3.8438941999999999E-6,-7.0333933999999999E-3,-0.24382091,-4.5093529E-2,-0.86776251999999998,-1.1441221E-2,-0.14472272999999999,-1.3367034E-3,0,0,0,0,0,0,0,0,0,0,0,0,0,0,0,0,0,0,{"$f":"'MI materialen'!AI196","v":0},{"$f":"'MI materialen'!AJ196","v":0},{"$f":"'MI materialen'!AK196","v":0},{"$f":"'MI materialen'!AL196","v":0},{"$f":"'MI materialen'!AM196","v":0},{"$f":"'MI materialen'!AN196","v":0},{"$f":"'MI materialen'!AO196","v":0},{"$f":"'MI materialen'!AP196","v":0},{"$f":"'MI materialen'!AQ196","v":0},{"$f":"'MI materialen'!AR196","v":0}]
[{"$f":"'MI materialen'!A197","v":"Recycling"},{"$f":"'MI materialen'!B197","v":0},{"$f":"'MI materialen'!C197","v":"kg"},{"$f":"'MI materialen'!D197","v":0},"0278-reD&Module D, PE, per kg NETTO geleverd (o.b.v. vermeden Polyethylene, high density, granulate {RER}| production | Cut-off, U en kwaliteitsfactor 0,67)",-5.1778820000000003E-2,0,0,-4.6274308E-2,-3.9236801999999998E-7,-2.1298341000000002E-3,-1.2743717E-2,-2.1071362E-3,1.1719326E-2,2.4340609000000002E-6,-2.6184001999999997E-4,1.6647811E-5,0,0,0,0,0,0,0,0,0,0,0,0,0,0,0,0,0,0,{"$f":"'MI materialen'!AI197","v":0},{"$f":"'MI materialen'!AJ197","v":0},{"$f":"'MI materialen'!AK197","v":0},{"$f":"'MI materialen'!AL197","v":0},{"$f":"'MI materialen'!AM197","v":0},{"$f":"'MI materialen'!AN197","v":0},{"$f":"'MI materialen'!AO197","v":0},{"$f":"'MI materialen'!AP197","v":0},{"$f":"'MI materialen'!AQ197","v":0},{"$f":"'MI materialen'!AR197","v":0}]
[{"$f":"'MI materialen'!A198","v":"Recycling"},{"$f":"'MI materialen'!B198","v":0},{"$f":"'MI materialen'!C198","v":"kg"},{"$f":"'MI materialen'!D198","v":0},"0280-reD&Module D, zand (o.b.v. Sand {RoW}| gravel and quarry operation | Cut-off, U)",-5.2276887000000005E-4,0,0,-2.0490630999999999E-4,-1.0721971000000001E-8,-6.0593545999999996E-6,-9.3136460000000002E-5,-3.4148525000000002E-5,-1.7080793E-4,-8.829689E-7,-1.2224314000000001E-5,-5.9228733000000002E-7,0,0,0,0,0,0,0,0,0,0,0,0,0,0,0,0,0,0,{"$f":"'MI materialen'!AI198","v":0},{"$f":"'MI materialen'!AJ198","v":0},{"$f":"'MI materialen'!AK198","v":0},{"$f":"'MI materialen'!AL198","v":0},{"$f":"'MI materialen'!AM198","v":0},{"$f":"'MI materialen'!AN198","v":0},{"$f":"'MI materialen'!AO198","v":0},{"$f":"'MI materialen'!AP198","v":0},{"$f":"'MI materialen'!AQ198","v":0},{"$f":"'MI materialen'!AR198","v":0}]
[{"$f":"'MI materialen'!A199","v":"Recycling"},{"$f":"'MI materialen'!B199","v":0},{"$f":"'MI materialen'!C199","v":"kg"},{"$f":"'MI materialen'!D199","v":0},"0282-reD&Module D, staal, per kg NETTO geleverd ongelegeerd schroot (World Steel methode obv Steel, low-alloyed {RER&RoW}| steel production, electric, low-alloyed | Cut-off, U  -",-0.15896515,0,0,-6.5225175999999996E-2,-1.2970001E-6,-5.7319483999999999E-3,-1.7018433999999999E-2,-4.5274703999999997E-3,-7.2056179999999997E-2,3.2558176999999998E-4,1.1003337E-3,4.1694358999999999E-3,0,0,0,0,0,0,0,0,0,0,0,0,0,0,0,0,0,0,{"$f":"'MI materialen'!AI199","v":0},{"$f":"'MI materialen'!AJ199","v":0},{"$f":"'MI materialen'!AK199","v":0},{"$f":"'MI materialen'!AL199","v":0},{"$f":"'MI materialen'!AM199","v":0},{"$f":"'MI materialen'!AN199","v":0},{"$f":"'MI materialen'!AO199","v":0},{"$f":"'MI materialen'!AP199","v":0},{"$f":"'MI materialen'!AQ199","v":0},{"$f":"'MI materialen'!AR199","v":0}]
[{"$f":"'MI materialen'!A200","v":"Recycling"},{"$f":"'MI materialen'!B200","v":0},{"$f":"'MI materialen'!C200","v":"kg"},{"$f":"'MI materialen'!D200","v":0},"0283-reD&Module D, zink, per kg NETTO geleverd schroot (vermeden: Zinc {RoW}| primary production from concentrate | Cut-off, U)",-0.53657659999999996,0,0,-0.15074167999999999,-6.9546545000000002E-6,-2.4601659000000001E-3,-9.6536009000000006E-2,-3.1708192000000003E-2,-0.21774753999999999,-5.4215347999999998E-3,-3.1133056999999999E-2,-8.2147209999999999E-4,0,0,0,0,0,0,0,0,0,0,0,0,0,0,0,0,0,0,{"$f":"'MI materialen'!AI200","v":0},{"$f":"'MI materialen'!AJ200","v":0},{"$f":"'MI materialen'!AK200","v":0},{"$f":"'MI materialen'!AL200","v":0},{"$f":"'MI materialen'!AM200","v":0},{"$f":"'MI materialen'!AN200","v":0},{"$f":"'MI materialen'!AO200","v":0},{"$f":"'MI materialen'!AP200","v":0},{"$f":"'MI materialen'!AQ200","v":0},{"$f":"'MI materialen'!AR200","v":0}]
[{"$f":"'MI materialen'!A201","v":"Recycling"},{"$f":"'MI materialen'!B201","v":0},{"$f":"'MI materialen'!C201","v":"kg"},{"$f":"'MI materialen'!D201","v":0},"0309-reD&Module D, EPS, per kg NETTO geleverd EPS (o.b.v. vermeden Polystyrene, expandable {RER}| production | Cut-off, U en kwaliteitsfactor 0,9)",-0.29451031,0,0,-0.17734609000000001,-2.2691551E-6,-5.9283890000000001E-3,-4.2560352000000003E-2,-8.5716830000000001E-3,-5.5763872999999999E-2,-3.828285E-4,-3.8477149999999998E-3,-1.0710768E-4,0,0,0,0,0,0,0,0,0,0,0,0,0,0,0,0,0,0,{"$f":"'MI materialen'!AI201","v":0},{"$f":"'MI materialen'!AJ201","v":0},{"$f":"'MI materialen'!AK201","v":0},{"$f":"'MI materialen'!AL201","v":0},{"$f":"'MI materialen'!AM201","v":0},{"$f":"'MI materialen'!AN201","v":0},{"$f":"'MI materialen'!AO201","v":0},{"$f":"'MI materialen'!AP201","v":0},{"$f":"'MI materialen'!AQ201","v":0},{"$f":"'MI materialen'!AR201","v":0}]
[{"$f":"'MI materialen'!A202","v":"Recycling"},{"$f":"'MI materialen'!B202","v":0},{"$f":"'MI materialen'!C202","v":"kg"},{"$f":"'MI materialen'!D202","v":0},"0376-reD&Module D, Cement, CEM I, zonder 30% opslag (vermeden: 0172-fab&Cement, CEM I (o.b.v. CEM I 52.5 R))",-5.322209E-2,0,0,-4.3034334E-2,-2.1845888E-7,-2.5589150000000001E-4,-4.2553786E-3,-2.5832806000000001E-3,-2.7263714000000001E-3,-2.6533800999999999E-5,-2.9434619000000002E-4,-4.5735395999999998E-5,0,0,0,0,0,0,0,0,0,0,0,0,0,0,0,0,0,0,{"$f":"'MI materialen'!AI202","v":0},{"$f":"'MI materialen'!AJ202","v":0},{"$f":"'MI materialen'!AK202","v":0},{"$f":"'MI materialen'!AL202","v":0},{"$f":"'MI materialen'!AM202","v":0},{"$f":"'MI materialen'!AN202","v":0},{"$f":"'MI materialen'!AO202","v":0},{"$f":"'MI materialen'!AP202","v":0},{"$f":"'MI materialen'!AQ202","v":0},{"$f":"'MI materialen'!AR202","v":0}]
[{"$f":"'MI materialen'!A203","v":"Recycling"},{"$f":"'MI materialen'!B203","v":0},{"$f":"'MI materialen'!C203","v":"kg"},{"$f":"'MI materialen'!D203","v":0},"0384-reD&Module D, Klei, per kg NETTO geleverd klei (o.b.v. Clay {CH}| clay pit operation | Cut-off, U)",-1.6254969E-3,0,0,-3.5586637999999998E-4,-2.2985404E-8,-1.5096644000000001E-5,-2.2479016999999999E-4,-8.1269641999999993E-5,-9.0125934999999997E-4,-3.7787382999999999E-6,-4.0114429000000003E-5,-3.2985463000000001E-6,0,0,0,0,0,0,0,0,0,0,0,0,0,0,0,0,0,0,{"$f":"'MI materialen'!AI203","v":0},{"$f":"'MI materialen'!AJ203","v":0},{"$f":"'MI materialen'!AK203","v":0},{"$f":"'MI materialen'!AL203","v":0},{"$f":"'MI materialen'!AM203","v":0},{"$f":"'MI materialen'!AN203","v":0},{"$f":"'MI materialen'!AO203","v":0},{"$f":"'MI materialen'!AP203","v":0},{"$f":"'MI materialen'!AQ203","v":0},{"$f":"'MI materialen'!AR203","v":0}]
[{"$f":"'MI materialen'!A204","v":0},{"$f":"'MI materialen'!B204","v":0},{"$f":"'MI materialen'!C204","v":0},{"$f":"'MI materialen'!D204","v":0},{"$f":"'MI materialen'!E204","v":0},{"$f":"SUM(G199:Q199)","v":0},{"$f":"'MI materialen'!F204","v":0},{"$f":"'MI materialen'!G204","v":0},{"$f":"'MI materialen'!H204","v":0},{"$f":"'MI materialen'!I204","v":0},{"$f":"'MI materialen'!J204","v":0},{"$f":"'MI materialen'!K204","v":0},{"$f":"'MI materialen'!L204","v":0},{"$f":"'MI materialen'!M204","v":0},{"$f":"'MI materialen'!N204","v":0},{"$f":"'MI materialen'!O204","v":0},{"$f":"'MI materialen'!P204","v":0},{"$f":"'MI materialen'!Q204","v":0},{"$f":"'MI materialen'!R204","v":0},{"$f":"'MI materialen'!S204","v":0},{"$f":"'MI materialen'!T204","v":0},{"$f":"'MI materialen'!U204","v":0},{"$f":"'MI materialen'!V204","v":0},{"$f":"'MI materialen'!W204","v":0},{"$f":"'MI materialen'!X204","v":0},{"$f":"'MI materialen'!Y204","v":0},{"$f":"'MI materialen'!Z204","v":0},{"$f":"'MI materialen'!AA204","v":0},{"$f":"'MI materialen'!AB204","v":0},{"$f":"'MI materialen'!AC204","v":0},{"$f":"'MI materialen'!AD204","v":0},{"$f":"'MI materialen'!AE204","v":0},{"$f":"'MI materialen'!AF204","v":0},{"$f":"'MI materialen'!AG204","v":0},{"$f":"'MI materialen'!AH204","v":0},{"$f":"'MI materialen'!AI204","v":0},{"$f":"'MI materialen'!AJ204","v":0},{"$f":"'MI materialen'!AK204","v":0},{"$f":"'MI materialen'!AL204","v":0},{"$f":"'MI materialen'!AM204","v":0},{"$f":"'MI materialen'!AN204","v":0},{"$f":"'MI materialen'!AO204","v":0},{"$f":"'MI materialen'!AP204","v":0},{"$f":"'MI materialen'!AQ204","v":0},{"$f":"'MI materialen'!AR204","v":0}]
[{"$f":"'MI materialen'!A205","v":0},{"$f":"'MI materialen'!B205","v":0},{"$f":"'MI materialen'!C205","v":0},{"$f":"'MI materialen'!D205","v":0},{"$f":"'MI materialen'!E205","v":0},0,{"$f":"'MI materialen'!F205","v":0},{"$f":"'MI materialen'!G205","v":0},{"$f":"'MI materialen'!H205","v":0},{"$f":"'MI materialen'!I205","v":0},{"$f":"'MI materialen'!J205","v":0},{"$f":"'MI materialen'!K205","v":0},{"$f":"'MI materialen'!L205","v":0},{"$f":"'MI materialen'!M205","v":0},{"$f":"'MI materialen'!N205","v":0},{"$f":"'MI materialen'!O205","v":0},{"$f":"'MI materialen'!P205","v":0},{"$f":"'MI materialen'!Q205","v":0},{"$f":"'MI materialen'!R205","v":0},{"$f":"'MI materialen'!S205","v":0},{"$f":"'MI materialen'!T205","v":0},{"$f":"'MI materialen'!U205","v":0},{"$f":"'MI materialen'!V205","v":0},{"$f":"'MI materialen'!W205","v":0},{"$f":"'MI materialen'!X205","v":0},{"$f":"'MI materialen'!Y205","v":0},{"$f":"'MI materialen'!Z205","v":0},{"$f":"'MI materialen'!AA205","v":0},{"$f":"'MI materialen'!AB205","v":0},{"$f":"'MI materialen'!AC205","v":0},{"$f":"'MI materialen'!AD205","v":0},{"$f":"'MI materialen'!AE205","v":0},{"$f":"'MI materialen'!AF205","v":0},{"$f":"'MI materialen'!AG205","v":0},{"$f":"'MI materialen'!AH205","v":0},{"$f":"'MI materialen'!AI205","v":0},{"$f":"'MI materialen'!AJ205","v":0},{"$f":"'MI materialen'!AK205","v":0},{"$f":"'MI materialen'!AL205","v":0},{"$f":"'MI materialen'!AM205","v":0},{"$f":"'MI materialen'!AN205","v":0},{"$f":"'MI materialen'!AO205","v":0},{"$f":"'MI materialen'!AP205","v":0},{"$f":"'MI materialen'!AQ205","v":0},{"$f":"'MI materialen'!AR205","v":0}]
[{"$f":"'MI materialen'!A206","v":0},{"$f":"'MI materialen'!B206","v":0},{"$f":"'MI materialen'!C206","v":0},{"$f":"'MI materialen'!D206","v":0},{"$f":"'MI materialen'!E206","v":0},0,{"$f":"'MI materialen'!F206","v":0},{"$f":"'MI materialen'!G206","v":0},{"$f":"'MI materialen'!H206","v":0},{"$f":"'MI materialen'!I206","v":0},{"$f":"'MI materialen'!J206","v":0},{"$f":"'MI materialen'!K206","v":0},{"$f":"'MI materialen'!L206","v":0},{"$f":"'MI materialen'!M206","v":0},{"$f":"'MI materialen'!N206","v":0},{"$f":"'MI materialen'!O206","v":0},{"$f":"'MI materialen'!P206","v":0},{"$f":"'MI materialen'!Q206","v":0},{"$f":"'MI materialen'!R206","v":0},{"$f":"'MI materialen'!S206","v":0},{"$f":"'MI materialen'!T206","v":0},{"$f":"'MI materialen'!U206","v":0},{"$f":"'MI materialen'!V206","v":0},{"$f":"'MI materialen'!W206","v":0},{"$f":"'MI materialen'!X206","v":0},{"$f":"'MI materialen'!Y206","v":0},{"$f":"'MI materialen'!Z206","v":0},{"$f":"'MI materialen'!AA206","v":0},{"$f":"'MI materialen'!AB206","v":0},{"$f":"'MI materialen'!AC206","v":0},{"$f":"'MI materialen'!AD206","v":0},{"$f":"'MI materialen'!AE206","v":0},{"$f":"'MI materialen'!AF206","v":0},{"$f":"'MI materialen'!AG206","v":0},{"$f":"'MI materialen'!AH206","v":0},{"$f":"'MI materialen'!AI206","v":0},{"$f":"'MI materialen'!AJ206","v":0},{"$f":"'MI materialen'!AK206","v":0},{"$f":"'MI materialen'!AL206","v":0},{"$f":"'MI materialen'!AM206","v":0},{"$f":"'MI materialen'!AN206","v":0},{"$f":"'MI materialen'!AO206","v":0},{"$f":"'MI materialen'!AP206","v":0},{"$f":"'MI materialen'!AQ206","v":0},{"$f":"'MI materialen'!AR206","v":0}]
[{"$f":"'MI materialen'!A207","v":0},{"$f":"'MI materialen'!B207","v":"leeg"},{"$f":"'MI materialen'!C207","v":0},{"$f":"'MI materialen'!D207","v":0},{"$f":"'MI materialen'!E207","v":"leeg"},0,{"$f":"'MI materialen'!F207","v":0},{"$f":"'MI materialen'!G207","v":0},{"$f":"'MI materialen'!H207","v":0},{"$f":"'MI materialen'!I207","v":0},{"$f":"'MI materialen'!J207","v":0},{"$f":"'MI materialen'!K207","v":0},{"$f":"'MI materialen'!L207","v":0},{"$f":"'MI materialen'!M207","v":0},{"$f":"'MI materialen'!N207","v":0},{"$f":"'MI materialen'!O207","v":0},{"$f":"'MI materialen'!P207","v":0},{"$f":"'MI materialen'!Q207","v":0},{"$f":"'MI materialen'!R207","v":0},{"$f":"'MI materialen'!S207","v":0},{"$f":"'MI materialen'!T207","v":0},{"$f":"'MI materialen'!U207","v":0},{"$f":"'MI materialen'!V207","v":0},{"$f":"'MI materialen'!W207","v":0},{"$f":"'MI materialen'!X207","v":0},{"$f":"'MI materialen'!Y207","v":0},{"$f":"'MI materialen'!Z207","v":0},{"$f":"'MI materialen'!AA207","v":0},{"$f":"'MI materialen'!AB207","v":0},{"$f":"'MI materialen'!AC207","v":0},{"$f":"'MI materialen'!AD207","v":0},{"$f":"'MI materialen'!AE207","v":0},{"$f":"'MI materialen'!AF207","v":0},{"$f":"'MI materialen'!AG207","v":0},{"$f":"'MI materialen'!AH207","v":0},{"$f":"'MI materialen'!AI207","v":0},{"$f":"'MI materialen'!AJ207","v":0},{"$f":"'MI materialen'!AK207","v":0},{"$f":"'MI materialen'!AL207","v":0},{"$f":"'MI materialen'!AM207","v":0},{"$f":"'MI materialen'!AN207","v":0},{"$f":"'MI materialen'!AO207","v":0},{"$f":"'MI materialen'!AP207","v":0},{"$f":"'MI materialen'!AQ207","v":0},{"$f":"'MI materialen'!AR207","v":0}]
[{"$f":"'MI materialen'!A208","v":0},{"$f":"'MI materialen'!B208","v":0},{"$f":"'MI materialen'!C208","v":0},{"$f":"'MI materialen'!D208","v":0},{"$f":"'MI materialen'!E208","v":0},0,{"$f":"'MI materialen'!F208","v":0},{"$f":"'MI materialen'!G208","v":0},{"$f":"'MI materialen'!H208","v":0},{"$f":"'MI materialen'!I208","v":0},{"$f":"'MI materialen'!J208","v":0},{"$f":"'MI materialen'!K208","v":0},{"$f":"'MI materialen'!L208","v":0},{"$f":"'MI materialen'!M208","v":0},{"$f":"'MI materialen'!N208","v":0},{"$f":"'MI materialen'!O208","v":0},{"$f":"'MI materialen'!P208","v":0},{"$f":"'MI materialen'!Q208","v":0},{"$f":"'MI materialen'!R208","v":0},{"$f":"'MI materialen'!S208","v":0},{"$f":"'MI materialen'!T208","v":0},{"$f":"'MI materialen'!U208","v":0},{"$f":"'MI materialen'!V208","v":0},{"$f":"'MI materialen'!W208","v":0},{"$f":"'MI materialen'!X208","v":0},{"$f":"'MI materialen'!Y208","v":0},{"$f":"'MI materialen'!Z208","v":0},{"$f":"'MI materialen'!AA208","v":0},{"$f":"'MI materialen'!AB208","v":0},{"$f":"'MI materialen'!AC208","v":0},{"$f":"'MI materialen'!AD208","v":0},{"$f":"'MI materialen'!AE208","v":0},{"$f":"'MI materialen'!AF208","v":0},{"$f":"'MI materialen'!AG208","v":0},{"$f":"'MI materialen'!AH208","v":0},{"$f":"'MI materialen'!AI208","v":0},{"$f":"'MI materialen'!AJ208","v":0},{"$f":"'MI materialen'!AK208","v":0},{"$f":"'MI materialen'!AL208","v":0},{"$f":"'MI materialen'!AM208","v":0},{"$f":"'MI materialen'!AN208","v":0},{"$f":"'MI materialen'!AO208","v":0},{"$f":"'MI materialen'!AP208","v":0},{"$f":"'MI materialen'!AQ208","v":0},{"$f":"'MI materialen'!AR208","v":0}]
[{"$f":"'MI materialen'!A209","v":0},{"$f":"'MI materialen'!B209","v":0},{"$f":"'MI materialen'!C209","v":0},{"$f":"'MI materialen'!D209","v":0},{"$f":"'MI materialen'!E209","v":0},0,{"$f":"'MI materialen'!F209","v":0},{"$f":"'MI materialen'!G209","v":0},{"$f":"'MI materialen'!H209","v":0},{"$f":"'MI materialen'!I209","v":0},{"$f":"'MI materialen'!J209","v":0},{"$f":"'MI materialen'!K209","v":0},{"$f":"'MI materialen'!L209","v":0},{"$f":"'MI materialen'!M209","v":0},{"$f":"'MI materialen'!N209","v":0},{"$f":"'MI materialen'!O209","v":0},{"$f":"'MI materialen'!P209","v":0},{"$f":"'MI materialen'!Q209","v":0},{"$f":"'MI materialen'!R209","v":0},{"$f":"'MI materialen'!S209","v":0},{"$f":"'MI materialen'!T209","v":0},{"$f":"'MI materialen'!U209","v":0},{"$f":"'MI materialen'!V209","v":0},{"$f":"'MI materialen'!W209","v":0},{"$f":"'MI materialen'!X209","v":0},{"$f":"'MI materialen'!Y209","v":0},{"$f":"'MI materialen'!Z209","v":0},{"$f":"'MI materialen'!AA209","v":0},{"$f":"'MI materialen'!AB209","v":0},{"$f":"'MI materialen'!AC209","v":0},{"$f":"'MI materialen'!AD209","v":0},{"$f":"'MI materialen'!AE209","v":0},{"$f":"'MI materialen'!AF209","v":0},{"$f":"'MI materialen'!AG209","v":0},{"$f":"'MI materialen'!AH209","v":0},{"$f":"'MI materialen'!AI209","v":0},{"$f":"'MI materialen'!AJ209","v":0},{"$f":"'MI materialen'!AK209","v":0},{"$f":"'MI materialen'!AL209","v":0},{"$f":"'MI materialen'!AM209","v":0},{"$f":"'MI materialen'!AN209","v":0},{"$f":"'MI materialen'!AO209","v":0},{"$f":"'MI materialen'!AP209","v":0},{"$f":"'MI materialen'!AQ209","v":0},{"$f":"'MI materialen'!AR209","v":0}]
[{"$f":"'MI materialen'!A210","v":0},{"$f":"'MI materialen'!B210","v":0},{"$f":"'MI materialen'!C210","v":0},{"$f":"'MI materialen'!D210","v":0},{"$f":"'MI materialen'!E210","v":0},0,{"$f":"'MI materialen'!F210","v":0},{"$f":"'MI materialen'!G210","v":0},{"$f":"'MI materialen'!H210","v":0},{"$f":"'MI materialen'!I210","v":0},{"$f":"'MI materialen'!J210","v":0},{"$f":"'MI materialen'!K210","v":0},{"$f":"'MI materialen'!L210","v":0},{"$f":"'MI materialen'!M210","v":0},{"$f":"'MI materialen'!N210","v":0},{"$f":"'MI materialen'!O210","v":0},{"$f":"'MI materialen'!P210","v":0},{"$f":"'MI materialen'!Q210","v":0},{"$f":"'MI materialen'!R210","v":0},{"$f":"'MI materialen'!S210","v":0},{"$f":"'MI materialen'!T210","v":0},{"$f":"'MI materialen'!U210","v":0},{"$f":"'MI materialen'!V210","v":0},{"$f":"'MI materialen'!W210","v":0},{"$f":"'MI materialen'!X210","v":0},{"$f":"'MI materialen'!Y210","v":0},{"$f":"'MI materialen'!Z210","v":0},{"$f":"'MI materialen'!AA210","v":0},{"$f":"'MI materialen'!AB210","v":0},{"$f":"'MI materialen'!AC210","v":0},{"$f":"'MI materialen'!AD210","v":0},{"$f":"'MI materialen'!AE210","v":0},{"$f":"'MI materialen'!AF210","v":0},{"$f":"'MI materialen'!AG210","v":0},{"$f":"'MI materialen'!AH210","v":0},{"$f":"'MI materialen'!AI210","v":0},{"$f":"'MI materialen'!AJ210","v":0},{"$f":"'MI materialen'!AK210","v":0},{"$f":"'MI materialen'!AL210","v":0},{"$f":"'MI materialen'!AM210","v":0},{"$f":"'MI materialen'!AN210","v":0},{"$f":"'MI materialen'!AO210","v":0},{"$f":"'MI materialen'!AP210","v":0},{"$f":"'MI materialen'!AQ210","v":0},{"$f":"'MI materialen'!AR210","v":0}]
[{"$f":"'MI materialen'!A211","v":0},{"$f":"'MI materialen'!B211","v":0},{"$f":"'MI materialen'!C211","v":0},{"$f":"'MI materialen'!D211","v":0},{"$f":"'MI materialen'!E211","v":0},0,{"$f":"'MI materialen'!F211","v":0},{"$f":"'MI materialen'!G211","v":0},{"$f":"'MI materialen'!H211","v":0},{"$f":"'MI materialen'!I211","v":0},{"$f":"'MI materialen'!J211","v":0},{"$f":"'MI materialen'!K211","v":0},{"$f":"'MI materialen'!L211","v":0},{"$f":"'MI materialen'!M211","v":0},{"$f":"'MI materialen'!N211","v":0},{"$f":"'MI materialen'!O211","v":0},{"$f":"'MI materialen'!P211","v":0},{"$f":"'MI materialen'!Q211","v":0},{"$f":"'MI materialen'!R211","v":0},{"$f":"'MI materialen'!S211","v":0},{"$f":"'MI materialen'!T211","v":0},{"$f":"'MI materialen'!U211","v":0},{"$f":"'MI materialen'!V211","v":0},{"$f":"'MI materialen'!W211","v":0},{"$f":"'MI materialen'!X211","v":0},{"$f":"'MI materialen'!Y211","v":0},{"$f":"'MI materialen'!Z211","v":0},{"$f":"'MI materialen'!AA211","v":0},{"$f":"'MI materialen'!AB211","v":0},{"$f":"'MI materialen'!AC211","v":0},{"$f":"'MI materialen'!AD211","v":0},{"$f":"'MI materialen'!AE211","v":0},{"$f":"'MI materialen'!AF211","v":0},{"$f":"'MI materialen'!AG211","v":0},{"$f":"'MI materialen'!AH211","v":0},{"$f":"'MI materialen'!AI211","v":0},{"$f":"'MI materialen'!AJ211","v":0},{"$f":"'MI materialen'!AK211","v":0},{"$f":"'MI materialen'!AL211","v":0},{"$f":"'MI materialen'!AM211","v":0},{"$f":"'MI materialen'!AN211","v":0},{"$f":"'MI materialen'!AO211","v":0},{"$f":"'MI materialen'!AP211","v":0},{"$f":"'MI materialen'!AQ211","v":0},{"$f":"'MI materialen'!AR211","v":0}]
[{"$f":"'MI materialen'!A212","v":0},{"$f":"'MI materialen'!B212","v":0},{"$f":"'MI materialen'!C212","v":0},{"$f":"'MI materialen'!D212","v":0},{"$f":"'MI materialen'!E212","v":0},0,{"$f":"'MI materialen'!F212","v":0},{"$f":"'MI materialen'!G212","v":0},{"$f":"'MI materialen'!H212","v":0},{"$f":"'MI materialen'!I212","v":0},{"$f":"'MI materialen'!J212","v":0},{"$f":"'MI materialen'!K212","v":0},{"$f":"'MI materialen'!L212","v":0},{"$f":"'MI materialen'!M212","v":0},{"$f":"'MI materialen'!N212","v":0},{"$f":"'MI materialen'!O212","v":0},{"$f":"'MI materialen'!P212","v":0},{"$f":"'MI materialen'!Q212","v":0},{"$f":"'MI materialen'!R212","v":0},{"$f":"'MI materialen'!S212","v":0},{"$f":"'MI materialen'!T212","v":0},{"$f":"'MI materialen'!U212","v":0},{"$f":"'MI materialen'!V212","v":0},{"$f":"'MI materialen'!W212","v":0},{"$f":"'MI materialen'!X212","v":0},{"$f":"'MI materialen'!Y212","v":0},{"$f":"'MI materialen'!Z212","v":0},{"$f":"'MI materialen'!AA212","v":0},{"$f":"'MI materialen'!AB212","v":0},{"$f":"'MI materialen'!AC212","v":0},{"$f":"'MI materialen'!AD212","v":0},{"$f":"'MI materialen'!AE212","v":0},{"$f":"'MI materialen'!AF212","v":0},{"$f":"'MI materialen'!AG212","v":0},{"$f":"'MI materialen'!AH212","v":0},{"$f":"'MI materialen'!AI212","v":0},{"$f":"'MI materialen'!AJ212","v":0},{"$f":"'MI materialen'!AK212","v":0},{"$f":"'MI materialen'!AL212","v":0},{"$f":"'MI materialen'!AM212","v":0},{"$f":"'MI materialen'!AN212","v":0},{"$f":"'MI materialen'!AO212","v":0},{"$f":"'MI materialen'!AP212","v":0},{"$f":"'MI materialen'!AQ212","v":0},{"$f":"'MI materialen'!AR212","v":0}]
[{"$f":"'MI materialen'!A213","v":0},{"$f":"'MI materialen'!B213","v":0},{"$f":"'MI materialen'!C213","v":0},{"$f":"'MI materialen'!D213","v":0},{"$f":"'MI materialen'!E213","v":0},0,{"$f":"'MI materialen'!F213","v":0},{"$f":"'MI materialen'!G213","v":0},{"$f":"'MI materialen'!H213","v":0},{"$f":"'MI materialen'!I213","v":0},{"$f":"'MI materialen'!J213","v":0},{"$f":"'MI materialen'!K213","v":0},{"$f":"'MI materialen'!L213","v":0},{"$f":"'MI materialen'!M213","v":0},{"$f":"'MI materialen'!N213","v":0},{"$f":"'MI materialen'!O213","v":0},{"$f":"'MI materialen'!P213","v":0},{"$f":"'MI materialen'!Q213","v":0},{"$f":"'MI materialen'!R213","v":0},{"$f":"'MI materialen'!S213","v":0},{"$f":"'MI materialen'!T213","v":0},{"$f":"'MI materialen'!U213","v":0},{"$f":"'MI materialen'!V213","v":0},{"$f":"'MI materialen'!W213","v":0},{"$f":"'MI materialen'!X213","v":0},{"$f":"'MI materialen'!Y213","v":0},{"$f":"'MI materialen'!Z213","v":0},{"$f":"'MI materialen'!AA213","v":0},{"$f":"'MI materialen'!AB213","v":0},{"$f":"'MI materialen'!AC213","v":0},{"$f":"'MI materialen'!AD213","v":0},{"$f":"'MI materialen'!AE213","v":0},{"$f":"'MI materialen'!AF213","v":0},{"$f":"'MI materialen'!AG213","v":0},{"$f":"'MI materialen'!AH213","v":0},{"$f":"'MI materialen'!AI213","v":0},{"$f":"'MI materialen'!AJ213","v":0},{"$f":"'MI materialen'!AK213","v":0},{"$f":"'MI materialen'!AL213","v":0},{"$f":"'MI materialen'!AM213","v":0},{"$f":"'MI materialen'!AN213","v":0},{"$f":"'MI materialen'!AO213","v":0},{"$f":"'MI materialen'!AP213","v":0},{"$f":"'MI materialen'!AQ213","v":0},{"$f":"'MI materialen'!AR213","v":0}]
[{"$f":"'MI materialen'!A214","v":0},{"$f":"'MI materialen'!B214","v":0},{"$f":"'MI materialen'!C214","v":0},{"$f":"'MI materialen'!D214","v":0},{"$f":"'MI materialen'!E214","v":0},0,{"$f":"'MI materialen'!F214","v":0},{"$f":"'MI materialen'!G214","v":0},{"$f":"'MI materialen'!H214","v":0},{"$f":"'MI materialen'!I214","v":0},{"$f":"'MI materialen'!J214","v":0},{"$f":"'MI materialen'!K214","v":0},{"$f":"'MI materialen'!L214","v":0},{"$f":"'MI materialen'!M214","v":0},{"$f":"'MI materialen'!N214","v":0},{"$f":"'MI materialen'!O214","v":0},{"$f":"'MI materialen'!P214","v":0},{"$f":"'MI materialen'!Q214","v":0},{"$f":"'MI materialen'!R214","v":0},{"$f":"'MI materialen'!S214","v":0},{"$f":"'MI materialen'!T214","v":0},{"$f":"'MI materialen'!U214","v":0},{"$f":"'MI materialen'!V214","v":0},{"$f":"'MI materialen'!W214","v":0},{"$f":"'MI materialen'!X214","v":0},{"$f":"'MI materialen'!Y214","v":0},{"$f":"'MI materialen'!Z214","v":0},{"$f":"'MI materialen'!AA214","v":0},{"$f":"'MI materialen'!AB214","v":0},{"$f":"'MI materialen'!AC214","v":0},{"$f":"'MI materialen'!AD214","v":0},{"$f":"'MI materialen'!AE214","v":0},{"$f":"'MI materialen'!AF214","v":0},{"$f":"'MI materialen'!AG214","v":0},{"$f":"'MI materialen'!AH214","v":0},{"$f":"'MI materialen'!AI214","v":0},{"$f":"'MI materialen'!AJ214","v":0},{"$f":"'MI materialen'!AK214","v":0},{"$f":"'MI materialen'!AL214","v":0},{"$f":"'MI materialen'!AM214","v":0},{"$f":"'MI materialen'!AN214","v":0},{"$f":"'MI materialen'!AO214","v":0},{"$f":"'MI materialen'!AP214","v":0},{"$f":"'MI materialen'!AQ214","v":0},{"$f":"'MI materialen'!AR214","v":0}]
[{"$f":"'MI materialen'!A215","v":0},{"$f":"'MI materialen'!B215","v":0},{"$f":"'MI materialen'!C215","v":0},{"$f":"'MI materialen'!D215","v":0},{"$f":"'MI materialen'!E215","v":0},0,{"$f":"'MI materialen'!F215","v":0},{"$f":"'MI materialen'!G215","v":0},{"$f":"'MI materialen'!H215","v":0},{"$f":"'MI materialen'!I215","v":0},{"$f":"'MI materialen'!J215","v":0},{"$f":"'MI materialen'!K215","v":0},{"$f":"'MI materialen'!L215","v":0},{"$f":"'MI materialen'!M215","v":0},{"$f":"'MI materialen'!N215","v":0},{"$f":"'MI materialen'!O215","v":0},{"$f":"'MI materialen'!P215","v":0},{"$f":"'MI materialen'!Q215","v":0},{"$f":"'MI materialen'!R215","v":0},{"$f":"'MI materialen'!S215","v":0},{"$f":"'MI materialen'!T215","v":0},{"$f":"'MI materialen'!U215","v":0},{"$f":"'MI materialen'!V215","v":0},{"$f":"'MI materialen'!W215","v":0},{"$f":"'MI materialen'!X215","v":0},{"$f":"'MI materialen'!Y215","v":0},{"$f":"'MI materialen'!Z215","v":0},{"$f":"'MI materialen'!AA215","v":0},{"$f":"'MI materialen'!AB215","v":0},{"$f":"'MI materialen'!AC215","v":0},{"$f":"'MI materialen'!AD215","v":0},{"$f":"'MI materialen'!AE215","v":0},{"$f":"'MI materialen'!AF215","v":0},{"$f":"'MI materialen'!AG215","v":0},{"$f":"'MI materialen'!AH215","v":0},{"$f":"'MI materialen'!AI215","v":0},{"$f":"'MI materialen'!AJ215","v":0},{"$f":"'MI materialen'!AK215","v":0},{"$f":"'MI materialen'!AL215","v":0},{"$f":"'MI materialen'!AM215","v":0},{"$f":"'MI materialen'!AN215","v":0},{"$f":"'MI materialen'!AO215","v":0},{"$f":"'MI materialen'!AP215","v":0},{"$f":"'MI materialen'!AQ215","v":0},{"$f":"'MI materialen'!AR215","v":0}]
[{"$f":"'MI materialen'!A216","v":0},{"$f":"'MI materialen'!B216","v":0},{"$f":"'MI materialen'!C216","v":0},{"$f":"'MI materialen'!D216","v":0},{"$f":"'MI materialen'!E216","v":0},0,{"$f":"'MI materialen'!F216","v":0},{"$f":"'MI materialen'!G216","v":0},{"$f":"'MI materialen'!H216","v":0},{"$f":"'MI materialen'!I216","v":0},{"$f":"'MI materialen'!J216","v":0},{"$f":"'MI materialen'!K216","v":0},{"$f":"'MI materialen'!L216","v":0},{"$f":"'MI materialen'!M216","v":0},{"$f":"'MI materialen'!N216","v":0},{"$f":"'MI materialen'!O216","v":0},{"$f":"'MI materialen'!P216","v":0},{"$f":"'MI materialen'!Q216","v":0},{"$f":"'MI materialen'!R216","v":0},{"$f":"'MI materialen'!S216","v":0},{"$f":"'MI materialen'!T216","v":0},{"$f":"'MI materialen'!U216","v":0},{"$f":"'MI materialen'!V216","v":0},{"$f":"'MI materialen'!W216","v":0},{"$f":"'MI materialen'!X216","v":0},{"$f":"'MI materialen'!Y216","v":0},{"$f":"'MI materialen'!Z216","v":0},{"$f":"'MI materialen'!AA216","v":0},{"$f":"'MI materialen'!AB216","v":0},{"$f":"'MI materialen'!AC216","v":0},{"$f":"'MI materialen'!AD216","v":0},{"$f":"'MI materialen'!AE216","v":0},{"$f":"'MI materialen'!AF216","v":0},{"$f":"'MI materialen'!AG216","v":0},{"$f":"'MI materialen'!AH216","v":0},{"$f":"'MI materialen'!AI216","v":0},{"$f":"'MI materialen'!AJ216","v":0},{"$f":"'MI materialen'!AK216","v":0},{"$f":"'MI materialen'!AL216","v":0},{"$f":"'MI materialen'!AM216","v":0},{"$f":"'MI materialen'!AN216","v":0},{"$f":"'MI materialen'!AO216","v":0},{"$f":"'MI materialen'!AP216","v":0},{"$f":"'MI materialen'!AQ216","v":0},{"$f":"'MI materialen'!AR216","v":0}]
[{"$f":"'MI materialen'!A217","v":0},{"$f":"'MI materialen'!B217","v":0},{"$f":"'MI materialen'!C217","v":0},{"$f":"'MI materialen'!D217","v":0},{"$f":"'MI materialen'!E217","v":0},0,{"$f":"'MI materialen'!F217","v":0},{"$f":"'MI materialen'!G217","v":0},{"$f":"'MI materialen'!H217","v":0},{"$f":"'MI materialen'!I217","v":0},{"$f":"'MI materialen'!J217","v":0},{"$f":"'MI materialen'!K217","v":0},{"$f":"'MI materialen'!L217","v":0},{"$f":"'MI materialen'!M217","v":0},{"$f":"'MI materialen'!N217","v":0},{"$f":"'MI materialen'!O217","v":0},{"$f":"'MI materialen'!P217","v":0},{"$f":"'MI materialen'!Q217","v":0},{"$f":"'MI materialen'!R217","v":0},{"$f":"'MI materialen'!S217","v":0},{"$f":"'MI materialen'!T217","v":0},{"$f":"'MI materialen'!U217","v":0},{"$f":"'MI materialen'!V217","v":0},{"$f":"'MI materialen'!W217","v":0},{"$f":"'MI materialen'!X217","v":0},{"$f":"'MI materialen'!Y217","v":0},{"$f":"'MI materialen'!Z217","v":0},{"$f":"'MI materialen'!AA217","v":0},{"$f":"'MI materialen'!AB217","v":0},{"$f":"'MI materialen'!AC217","v":0},{"$f":"'MI materialen'!AD217","v":0},{"$f":"'MI materialen'!AE217","v":0},{"$f":"'MI materialen'!AF217","v":0},{"$f":"'MI materialen'!AG217","v":0},{"$f":"'MI materialen'!AH217","v":0},{"$f":"'MI materialen'!AI217","v":0},{"$f":"'MI materialen'!AJ217","v":0},{"$f":"'MI materialen'!AK217","v":0},{"$f":"'MI materialen'!AL217","v":0},{"$f":"'MI materialen'!AM217","v":0},{"$f":"'MI materialen'!AN217","v":0},{"$f":"'MI materialen'!AO217","v":0},{"$f":"'MI materialen'!AP217","v":0},{"$f":"'MI materialen'!AQ217","v":0},{"$f":"'MI materialen'!AR217","v":0}]
[{"$f":"'MI materialen'!A218","v":0},{"$f":"'MI materialen'!B218","v":0},{"$f":"'MI materialen'!C218","v":0},{"$f":"'MI materialen'!D218","v":0},{"$f":"'MI materialen'!E218","v":0},0,{"$f":"'MI materialen'!F218","v":0},{"$f":"'MI materialen'!G218","v":0},{"$f":"'MI materialen'!H218","v":0},{"$f":"'MI materialen'!I218","v":0},{"$f":"'MI materialen'!J218","v":0},{"$f":"'MI materialen'!K218","v":0},{"$f":"'MI materialen'!L218","v":0},{"$f":"'MI materialen'!M218","v":0},{"$f":"'MI materialen'!N218","v":0},{"$f":"'MI materialen'!O218","v":0},{"$f":"'MI materialen'!P218","v":0},{"$f":"'MI materialen'!Q218","v":0},{"$f":"'MI materialen'!R218","v":0},{"$f":"'MI materialen'!S218","v":0},{"$f":"'MI materialen'!T218","v":0},{"$f":"'MI materialen'!U218","v":0},{"$f":"'MI materialen'!V218","v":0},{"$f":"'MI materialen'!W218","v":0},{"$f":"'MI materialen'!X218","v":0},{"$f":"'MI materialen'!Y218","v":0},{"$f":"'MI materialen'!Z218","v":0},{"$f":"'MI materialen'!AA218","v":0},{"$f":"'MI materialen'!AB218","v":0},{"$f":"'MI materialen'!AC218","v":0},{"$f":"'MI materialen'!AD218","v":0},{"$f":"'MI materialen'!AE218","v":0},{"$f":"'MI materialen'!AF218","v":0},{"$f":"'MI materialen'!AG218","v":0},{"$f":"'MI materialen'!AH218","v":0},{"$f":"'MI materialen'!AI218","v":0},{"$f":"'MI materialen'!AJ218","v":0},{"$f":"'MI materialen'!AK218","v":0},{"$f":"'MI materialen'!AL218","v":0},{"$f":"'MI materialen'!AM218","v":0},{"$f":"'MI materialen'!AN218","v":0},{"$f":"'MI materialen'!AO218","v":0},{"$f":"'MI materialen'!AP218","v":0},{"$f":"'MI materialen'!AQ218","v":0},{"$f":"'MI materialen'!AR218","v":0}]
[]
[]
[]
[]
[]
[]
[null,"leeg",null,null,"leeg",0,0,0,0,0,0,0,0,0,0,0,0,0,0,0,0,0,0,0,0,0,0,0,0,0,0,0,0,0,0,0,0,0,0,0,0,0,0,0,0]
[]
[]
[]
[]
[null,null,null,null,{"$f":"VLOOKUP(E228,MKI!E:F,MATCH(F16,E16:F16,0),FALSE)","v":{"$error":"#VALUE!"}}]
[]
[]
[null,null,null,null,"_0269-reD&Module D aluminium, per kg NETTO geleverd schroot (vermeden: Aluminium, cast alloy {GLO}| aluminium ingot, primary, to market | Cut-off, U; Aluminium, cast alloy {RER}| treatment of aluminium scrap, post-consumer, prepared for recycling, at refiner | Cut-off, U)"]

{"sheet":"MI materialen","index":26,"n_rows":313,"n_cols":45,"rows_kept":313,"cut":false,"hidden":true,"merged":[[164,0,164,4],[187,0,187,4],[0,0,0,17],[13,0,13,4],[117,0,117,4],[128,0,128,4],[145,0,145,4],[139,0,139,4]]}
["Database gekarakteriseerde milieu-impact materialen"]
[]
["Uitgangspunten"]
["Methode: ","Bepalingsmethode 'set 1', feb 2021 (NMD 3.4) V3.04 / MKI-SBK single-score"]
["Indicator: ","Karakterisatie"]
["Skip categories: ","Nooit",null,null,null,null,"=","berekening gecontroleerd"]
["Sluit infrastructuurprocessen uit: ","Nee"]
["Sluit lange termijnemissies uit: ","Ja"]
["Sorted on item: ","Effectcategorie"]
["Sort order: ","Oplopend"]
["Update:","26-01-2022 (EI 3.6 / NMD 3.4)",null,"=","niet langer ondersteund"]
[]
[null,null,null,null,null,null,null,null,null,null,null,null,null,null,null,null,null,null,null,null,null,null,null,null,null,null,null,null,null,null,null,null,null,null,"Einde leven",null,null,null,null,null,null,"Koppelingproces "]
["Materialen",null,null,null,null,"001. abiotic depletion, non fuel (AD)","002. abiotic depletion, fuel (AD)","004. global warming (GWP)","005. ozone layer depletion (ODP)","006. photochemical oxidation (POCP)","007. acidification (AP)","008. eutrophication (EP)","009. human toxicity (HT)","010. Ecotoxicity, fresh water (FAETP)","012. Ecotoxcity, marine water (MAETP)","014. Ecotoxicity, terrestric (TETP)","111. Energy, primary, renewable, excludi","113. Energy, primary, renewable, materia","101. Energy, primary, renewable (MJ)","112. Energy, primary, non-renewable, exc","114. Energy, primary, non-renewable, mat","102. Energy, primary, non-renewable (MJ)","108. Secondary material (kg)","109. Secondary fuel, renewable (kg)","110. Secondary fuel, non-renewable (kg)","104. Water, fresh water use (m3)","106. Waste, hazardous (kg)","105. Waste, non hazardous (kg)","107. Waste, radioactive (kg)","120. Components for re-use (kg)","121. Materials for recycling (kg)","122. Materials for energy recovery (kg)","123. Exported energy, electric (MJ)","124. Exported energy, thermal (MJ)","Stroom nr.",null,null,"Stort","AVI","Recycling","Hergebruik","Stort","AVI","Recyling"]
["Categorie","Triviale naam","Eenheid","Secundaire input","Technische naam","kg Sb eq","kg Sb eq","kg CO2 eq","kg CFC-11 eq","kg C2H4","kg SO2 eq","kg PO4--- eq","kg 1,4-DB eq","kg 1,4-DB eq","kg 1,4-DB eq","kg 1,4-DB eq","MJ","MJ","MJ","MJ","MJ","MJ","kg","MJ","MJ","m3","kg","kg","kg","kg","kg","kg","MJ","MJ",null,"Type","Specificatie"]
["Bindmiddelen","Tegellijm","kg",0,"_XXXX Lijm, tegellijm, polymeer [VLK]",2.0279208999999999E-5,1.0456778999999999E-2,1.0722061000000001,1.2224107999999999E-7,8.3387101999999995E-4,4.0347142999999997E-3,6.6871805999999998E-4,0.71524589000000005,1.2460849E-2,33.275512999999997,1.6838980999999999E-3,1.7608499999999999E-2,0,1.0705376,0.16016,0,22.615473999999999,0,0,0,2.0527614E-2,1.8348342999999999E-5,9.7189334000000002E-2,2.5551342999999998E-4,0,0,0,0,0,2,{"$f":"VLOOKUP($AI16,'Forfaitaire afvalscenario''s'!$A:$I,2,FALSE)","v":"afwerkingen"},{"$f":"VLOOKUP($AI16,'Forfaitaire afvalscenario''s'!$A:$I,3,FALSE)","v":"verkleefd aan puin"},{"$f":"VLOOKUP($AI16,'Forfaitaire afvalscenario''s'!$A:$I,6,FALSE)","v":1},{"$f":"VLOOKUP($AI16,'Forfaitaire afvalscenario''s'!$A:$I,7,FALSE)","v":0},{"$f":"VLOOKUP($AI16,'Forfaitaire afvalscenario''s'!$A:$I,8,FALSE)","v":0},{"$f":"VLOOKUP($AI16,'Forfaitaire afvalscenario''s'!$A:$I,9,FALSE)","v":0},"0299-sto&Stort verf (o.b.v. Waste paint {Europe without Switzerland}| treatment of waste paint, sanitary landfill | Cut-off, U)","_0106-pro&Verbranden, overig (o.b.v. Municipal solid waste {NL}| treatment of, incineration | Cut-off, U)",".",". "]
["Bindmiddelen","Componentenlijm (OCF)","kg",0,"_XXXX Lijm, One Component Foam (OCF) [VLK]",8.0591122000000002E-5,4.4475581E-2,4.1887410000000003,7.5896955999999997E-7,5.3729378000000001E-2,2.1861591E-2,4.7171963000000004E-3,2.3288783,6.6716622000000003E-2,131.61240000000001,1.0461949E-2,0,0,4.4771979999999996,0,0,97.018737000000002,0,0,0,8.7642913000000003E-2,6.6369614000000001E-5,0.33659241000000001,1.9977527E-4,0,0,0,0,0,1,{"$f":"VLOOKUP($AI17,'Forfaitaire afvalscenario''s'!$A:$I,2,FALSE)","v":"afwerkingen"},{"$f":"VLOOKUP($AI17,'Forfaitaire afvalscenario''s'!$A:$I,3,FALSE)","v":"verkleefd aan hout, kunststof, metaal"},{"$f":"VLOOKUP($AI17,'Forfaitaire afvalscenario''s'!$A:$I,6,FALSE)","v":0},{"$f":"VLOOKUP($AI17,'Forfaitaire afvalscenario''s'!$A:$I,7,FALSE)","v":1},{"$f":"VLOOKUP($AI17,'Forfaitaire afvalscenario''s'!$A:$I,8,FALSE)","v":0},{"$f":"VLOOKUP($AI17,'Forfaitaire afvalscenario''s'!$A:$I,9,FALSE)","v":0},"0299-sto&Stort verf (o.b.v. Waste paint {Europe without Switzerland}| treatment of waste paint, sanitary landfill | Cut-off, U)","_0106-pro&Verbranden, overig (o.b.v. Municipal solid waste {NL}| treatment of, incineration | Cut-off, U)",".",". "]
["Bindmiddelen","Neopreenlijm","kg",0,"_XXXX Lijm, neopreen [VLK]",3.9372829000000003E-5,3.2483592999999998E-2,2.1274278,3.8313889000000003E-7,2.7823871999999999E-3,1.0463531999999999E-2,1.9665512E-3,1.3868807999999999,0.10694884,75.447991999999999,2.3275206999999999E-2,0,0,1.8089192999999999,0,0,71.202917999999997,0,0,0,2.4086697000000001E-2,6.3002197999999999E-5,0.13937891999999999,2.0337525E-4,0,0,0,0,0,1,{"$f":"VLOOKUP($AI18,'Forfaitaire afvalscenario''s'!$A:$I,2,FALSE)","v":"afwerkingen"},{"$f":"VLOOKUP($AI18,'Forfaitaire afvalscenario''s'!$A:$I,3,FALSE)","v":"verkleefd aan hout, kunststof, metaal"},{"$f":"VLOOKUP($AI18,'Forfaitaire afvalscenario''s'!$A:$I,6,FALSE)","v":0},{"$f":"VLOOKUP($AI18,'Forfaitaire afvalscenario''s'!$A:$I,7,FALSE)","v":1},{"$f":"VLOOKUP($AI18,'Forfaitaire afvalscenario''s'!$A:$I,8,FALSE)","v":0},{"$f":"VLOOKUP($AI18,'Forfaitaire afvalscenario''s'!$A:$I,9,FALSE)","v":0},"0299-sto&Stort verf (o.b.v. Waste paint {Europe without Switzerland}| treatment of waste paint, sanitary landfill | Cut-off, U)","_0106-pro&Verbranden, overig (o.b.v. Municipal solid waste {NL}| treatment of, incineration | Cut-off, U)",".",". "]
["Bindmiddelen","Kitlijm (PU)","kg",0,"_XXXX Kit / lijm, PU 1 componenten [VLK]",7.7596083000000001E-5,4.3693479E-2,4.2654810999999997,6.1364550999999996E-7,5.3328139000000004E-3,2.181905E-2,4.5601671999999996E-3,2.0968076,5.3449622000000002E-2,109.13418,1.0289524E-2,0,0,4.6613625000000001,0,0,96.171521999999996,0,0,0,9.1217659000000006E-2,5.0472102E-5,0.32525903,1.6088701000000001E-4,0,0,0,0,0,1,{"$f":"VLOOKUP($AI19,'Forfaitaire afvalscenario''s'!$A:$I,2,FALSE)","v":"afwerkingen"},{"$f":"VLOOKUP($AI19,'Forfaitaire afvalscenario''s'!$A:$I,3,FALSE)","v":"verkleefd aan hout, kunststof, metaal"},{"$f":"VLOOKUP($AI19,'Forfaitaire afvalscenario''s'!$A:$I,6,FALSE)","v":0},{"$f":"VLOOKUP($AI19,'Forfaitaire afvalscenario''s'!$A:$I,7,FALSE)","v":1},{"$f":"VLOOKUP($AI19,'Forfaitaire afvalscenario''s'!$A:$I,8,FALSE)","v":0},{"$f":"VLOOKUP($AI19,'Forfaitaire afvalscenario''s'!$A:$I,9,FALSE)","v":0},"0300-sto&Stort PUR (o.b.v. Waste polyurethane {RoW}| treatment of, sanitary landfill | Cut-off, U)","_0106-pro&Verbranden, overig (o.b.v. Municipal solid waste {NL}| treatment of, incineration | Cut-off, U)",".",". "]
["Bindmiddelen","Cement (CEM I)","kg",0,"_0172-fab&Cement, CEM I (o.b.v. CEM I 52.5 R)",1.8085267999999999E-7,2.4575661E-3,1.1168019,9.2376890999999999E-9,1.6513580000000001E-4,1.3733338999999999E-3,3.7098718000000002E-4,3.8884119000000002E-2,1.1412302000000001E-3,3.7942298999999999,9.8483253999999995E-4,8.3849999999999994E-2,0,0.26313895999999998,0.76266666999999999,0,4.3148689999999998,0,0,0,1.7711093E-3,2.4457274999999999E-5,1.6182849999999999E-2,9.9016666999999993E-4,0,0,0,0,0,2,{"$f":"VLOOKUP($AI20,'Forfaitaire afvalscenario''s'!$A:$I,2,FALSE)","v":"afwerkingen"},{"$f":"VLOOKUP($AI20,'Forfaitaire afvalscenario''s'!$A:$I,3,FALSE)","v":"verkleefd aan puin"},{"$f":"VLOOKUP($AI20,'Forfaitaire afvalscenario''s'!$A:$I,6,FALSE)","v":1},{"$f":"VLOOKUP($AI20,'Forfaitaire afvalscenario''s'!$A:$I,7,FALSE)","v":0},{"$f":"VLOOKUP($AI20,'Forfaitaire afvalscenario''s'!$A:$I,8,FALSE)","v":0},{"$f":"VLOOKUP($AI20,'Forfaitaire afvalscenario''s'!$A:$I,9,FALSE)","v":0},"0247-sto&Stort inert afval (o.b.v. Inert waste, for final disposal {RoW}| treatment of inert waste, inert material landfill | Cut-off, U) fijn-/grofkeramisch, grind, kalkzandsteen, schelpen, zand","_0259-avC&Verbranden bitumen (30,1 MJ/kg) (o.b.v. Waste bitumen sheet {CH}| treatment of, municipal incineration | Cut-off, U)",".",". "]
["Bindmiddelen","Cementlijm","kg",0,"_0066-fab&Lijm, tegellijm cement [VLK]",3.9813005E-6,2.9545698E-3,0.62446815,2.9816206E-8,2.6706045E-4,1.5592969E-3,2.6143742E-4,8.9246811999999995E-2,1.1816617999999999E-2,13.823221999999999,7.3040409999999996E-4,3.0186000000000001E-2,0,0.53572127000000003,0.27456000000000003,0,6.0180293999999996,0,0,0,5.1922740000000002E-3,1.1916286999999999E-5,5.2237042999999997E-2,3.6979139999999998E-4,0,0,0,0,0,2,{"$f":"VLOOKUP($AI21,'Forfaitaire afvalscenario''s'!$A:$I,2,FALSE)","v":"afwerkingen"},{"$f":"VLOOKUP($AI21,'Forfaitaire afvalscenario''s'!$A:$I,3,FALSE)","v":"verkleefd aan puin"},{"$f":"VLOOKUP($AI21,'Forfaitaire afvalscenario''s'!$A:$I,6,FALSE)","v":1},{"$f":"VLOOKUP($AI21,'Forfaitaire afvalscenario''s'!$A:$I,7,FALSE)","v":0},{"$f":"VLOOKUP($AI21,'Forfaitaire afvalscenario''s'!$A:$I,8,FALSE)","v":0},{"$f":"VLOOKUP($AI21,'Forfaitaire afvalscenario''s'!$A:$I,9,FALSE)","v":0},"0247-sto&Stort inert afval (o.b.v. Inert waste, for final disposal {RoW}| treatment of inert waste, inert material landfill | Cut-off, U) fijn-/grofkeramisch, grind, kalkzandsteen, schelpen, zand","_0259-avC&Verbranden bitumen (30,1 MJ/kg) (o.b.v. Waste bitumen sheet {CH}| treatment of, municipal incineration | Cut-off, U)",".",". "]
["Bindmiddelen","Epoxylijm","kg",0,"_0064-fab&Lijm, epoxy 2 componenten [VLK]",8.0245406000000006E-5,4.4566685000000002E-2,3.8652793000000001,5.0135014999999999E-7,4.3996106000000002E-3,1.5855977E-2,2.6958503000000002E-3,4.0407985999999996,0.73841453999999995,97.933401000000003,5.7762760999999999E-3,0,0,3.5160043000000001,0,0,94.888503,0,0,0,5.5617130000000001E-2,4.4470637999999998E-5,0.33443488999999998,1.1385778E-4,0,0,0,0,0,1,{"$f":"VLOOKUP($AI22,'Forfaitaire afvalscenario''s'!$A:$I,2,FALSE)","v":"afwerkingen"},{"$f":"VLOOKUP($AI22,'Forfaitaire afvalscenario''s'!$A:$I,3,FALSE)","v":"verkleefd aan hout, kunststof, metaal"},{"$f":"VLOOKUP($AI22,'Forfaitaire afvalscenario''s'!$A:$I,6,FALSE)","v":0},{"$f":"VLOOKUP($AI22,'Forfaitaire afvalscenario''s'!$A:$I,7,FALSE)","v":1},{"$f":"VLOOKUP($AI22,'Forfaitaire afvalscenario''s'!$A:$I,8,FALSE)","v":0},{"$f":"VLOOKUP($AI22,'Forfaitaire afvalscenario''s'!$A:$I,9,FALSE)","v":0},"0312-sto&Stort PP, ongecontroleerd ('laten zitten') (o.b.v. Waste polypropylene {GLO}| treatment of waste polypropylene, unsanitary landfill, moist infiltration class (300mm) | Cut-off, U)","_0106-pro&Verbranden, overig (o.b.v. Municipal solid waste {NL}| treatment of, incineration | Cut-off, U)",".",". "]
["Bindmiddelen","Melanimehars","kg",0,"_0061-fab&Melaminehars (o.b.v. Melamine formaldehyde resin {RER}| market for melamine formaldehyde resin | Cut-off, U)",9.9926531999999994E-5,3.9171836000000002E-2,4.3712365999999996,5.5390759000000001E-7,2.2591597E-3,2.4930229000000002E-2,3.4238716E-3,2.2447781,8.4437076E-2,277.00033999999999,7.6544960000000002E-3,0,0,2.3259755000000002,0,0,81.409865999999994,0,0,0,0.20210686,7.9766372999999995E-5,0.36894069000000002,1.9585421E-4,0,0,0,0,0,1,{"$f":"VLOOKUP($AI23,'Forfaitaire afvalscenario''s'!$A:$I,2,FALSE)","v":"afwerkingen"},{"$f":"VLOOKUP($AI23,'Forfaitaire afvalscenario''s'!$A:$I,3,FALSE)","v":"verkleefd aan hout, kunststof, metaal"},{"$f":"VLOOKUP($AI23,'Forfaitaire afvalscenario''s'!$A:$I,6,FALSE)","v":0},{"$f":"VLOOKUP($AI23,'Forfaitaire afvalscenario''s'!$A:$I,7,FALSE)","v":1},{"$f":"VLOOKUP($AI23,'Forfaitaire afvalscenario''s'!$A:$I,8,FALSE)","v":0},{"$f":"VLOOKUP($AI23,'Forfaitaire afvalscenario''s'!$A:$I,9,FALSE)","v":0},"0312-sto&Stort PP, ongecontroleerd ('laten zitten') (o.b.v. Waste polypropylene {GLO}| treatment of waste polypropylene, unsanitary landfill, moist infiltration class (300mm) | Cut-off, U)","_0297-avC&Verbranden organisch afval (4,29 MJ/kg) (o.b.v. Biowaste {GLO}| treatment of biowaste, municipal incineration | Cut-off, U)",".",". "]
["Bindmiddelen","Siliconenlijm","kg",0,"_0045-fab&Kit / lijm, siliconen [VLK]",3.5537217999999998E-5,2.0669670000000001E-2,1.9364174000000001,7.7251661000000002E-7,1.9028539E-3,8.7214501E-3,8.8190396000000003E-4,0.76334466000000001,2.5873703000000001E-2,67.050269999999998,3.2915803000000002E-3,0,0,2.9313175,0,0,45.263191999999997,0,0,0,5.7783593000000001E-2,2.0761544000000001E-5,0.16313606,7.0422386999999996E-5,0,0,0,0,0,1,{"$f":"VLOOKUP($AI24,'Forfaitaire afvalscenario''s'!$A:$I,2,FALSE)","v":"afwerkingen"},{"$f":"VLOOKUP($AI24,'Forfaitaire afvalscenario''s'!$A:$I,3,FALSE)","v":"verkleefd aan hout, kunststof, metaal"},{"$f":"VLOOKUP($AI24,'Forfaitaire afvalscenario''s'!$A:$I,6,FALSE)","v":0},{"$f":"VLOOKUP($AI24,'Forfaitaire afvalscenario''s'!$A:$I,7,FALSE)","v":1},{"$f":"VLOOKUP($AI24,'Forfaitaire afvalscenario''s'!$A:$I,8,FALSE)","v":0},{"$f":"VLOOKUP($AI24,'Forfaitaire afvalscenario''s'!$A:$I,9,FALSE)","v":0},"0299-sto&Stort verf (o.b.v. Waste paint {Europe without Switzerland}| treatment of waste paint, sanitary landfill | Cut-off, U)","_0106-pro&Verbranden, overig (o.b.v. Municipal solid waste {NL}| treatment of, incineration | Cut-off, U)",".",". "]
["Bindmiddelen","Kitlijm (MS/STP/SPUR)","kg",0,"_0033-fab&Kit, hybride (MS/STP/SPUR) [VLK]",2.6059551999999999E-5,2.5666810000000002E-2,2.2774190000000001,6.1719334999999996E-8,2.1649633999999999E-3,9.3324464999999992E-3,1.5214041999999999E-3,0.58493691999999997,2.0220927999999999E-2,44.398505999999998,3.5587585000000001E-3,0,0,2.6223440999999998,0,0,58.656761000000003,0,0,0,5.9168542999999997E-2,1.164859E-5,0.12777237,3.2614799000000002E-5,0,0,0,0,0,2,{"$f":"VLOOKUP($AI25,'Forfaitaire afvalscenario''s'!$A:$I,2,FALSE)","v":"afwerkingen"},{"$f":"VLOOKUP($AI25,'Forfaitaire afvalscenario''s'!$A:$I,3,FALSE)","v":"verkleefd aan puin"},{"$f":"VLOOKUP($AI25,'Forfaitaire afvalscenario''s'!$A:$I,6,FALSE)","v":1},{"$f":"VLOOKUP($AI25,'Forfaitaire afvalscenario''s'!$A:$I,7,FALSE)","v":0},{"$f":"VLOOKUP($AI25,'Forfaitaire afvalscenario''s'!$A:$I,8,FALSE)","v":0},{"$f":"VLOOKUP($AI25,'Forfaitaire afvalscenario''s'!$A:$I,9,FALSE)","v":0},"0300-sto&Stort PUR (o.b.v. Waste polyurethane {RoW}| treatment of, sanitary landfill | Cut-off, U)","_0106-pro&Verbranden, overig (o.b.v. Municipal solid waste {NL}| treatment of, incineration | Cut-off, U)",".",". "]
["Bindmiddelen","Acryllijm","kg",0,"_0016-fab&Kit / lijm, acryl [VLK]",2.0869843999999998E-5,1.5270362000000001E-2,1.1178242,5.6356482E-8,8.7491521999999997E-4,6.3085060000000002E-3,6.3126865000000005E-4,0.29628996000000002,7.4762188999999996E-3,18.053180999999999,5.3576704999999999E-3,0,0,0.82050067000000004,0,0,33.678294999999999,0,0,0,2.4120460999999999E-2,3.400287E-4,6.5485084999999998E-2,2.1377985E-5,0,0,0,0,0,1,{"$f":"VLOOKUP($AI26,'Forfaitaire afvalscenario''s'!$A:$I,2,FALSE)","v":"afwerkingen"},{"$f":"VLOOKUP($AI26,'Forfaitaire afvalscenario''s'!$A:$I,3,FALSE)","v":"verkleefd aan hout, kunststof, metaal"},{"$f":"VLOOKUP($AI26,'Forfaitaire afvalscenario''s'!$A:$I,6,FALSE)","v":0},{"$f":"VLOOKUP($AI26,'Forfaitaire afvalscenario''s'!$A:$I,7,FALSE)","v":1},{"$f":"VLOOKUP($AI26,'Forfaitaire afvalscenario''s'!$A:$I,8,FALSE)","v":0},{"$f":"VLOOKUP($AI26,'Forfaitaire afvalscenario''s'!$A:$I,9,FALSE)","v":0},"0299-sto&Stort verf (o.b.v. Waste paint {Europe without Switzerland}| treatment of waste paint, sanitary landfill | Cut-off, U)","_0106-pro&Verbranden, overig (o.b.v. Municipal solid waste {NL}| treatment of, incineration | Cut-off, U)",".",". "]
["Coatings","Alkydharsverf","kg",0,"_0025-fab&Alkydharsverf, watergedragen, voor binnen (voldoet aan Arboregel) - onderhoud 1 maal per 8 jaar [VVVF]",4.3824096000000002E-5,1.5499265999999999E-2,2.4494351999999999,2.4316927000000003E-7,2.0077643000000001E-3,1.0514845E-2,7.7011316999999998E-3,0.88690374000000005,0.22239843000000001,140.41623999999999,3.2602399999999997E-2,0,0,6.4931384999999997,0,0,33.438200000000002,0,0,0,3.5445164000000001E-2,2.4261817E-4,0.56875164,1.2289671000000001E-4,0,0,0,0,0,1,{"$f":"VLOOKUP($AI27,'Forfaitaire afvalscenario''s'!$A:$I,2,FALSE)","v":"afwerkingen"},{"$f":"VLOOKUP($AI27,'Forfaitaire afvalscenario''s'!$A:$I,3,FALSE)","v":"verkleefd aan hout, kunststof, metaal"},{"$f":"VLOOKUP($AI27,'Forfaitaire afvalscenario''s'!$A:$I,6,FALSE)","v":0},{"$f":"VLOOKUP($AI27,'Forfaitaire afvalscenario''s'!$A:$I,7,FALSE)","v":1},{"$f":"VLOOKUP($AI27,'Forfaitaire afvalscenario''s'!$A:$I,8,FALSE)","v":0},{"$f":"VLOOKUP($AI27,'Forfaitaire afvalscenario''s'!$A:$I,9,FALSE)","v":0},"0299-sto&Stort verf (o.b.v. Waste paint {Europe without Switzerland}| treatment of waste paint, sanitary landfill | Cut-off, U)","_0266-avC&Verbranden verf (10,14 MJ/kg) (o.b.v. Waste paint {Europe without Switzerland}| treatment of waste paint, municipal incineration | Cut-off, U)",".",". "]
["Coatings","Poedercoating","kg",0,"_0036-fab&Poedercoating, poederlak, moffellaag (o.b.v. Powder coat, steel {GLO}| market for | Cut-off, U; 1 m2 = 0,1 kg)",6.7265233999999998E-4,0.27309719999999998,34.285758999999999,4.2075315000000003E-6,2.102101E-2,0.1226481,1.3745515E-2,12.572215999999999,1.1147781999999999,1365.5088000000001,5.2692083000000001E-2,0,0,31.060089000000001,0,0,559.08486000000005,0,0,0,0.30332847000000002,5.7058509000000005E-4,3.4858050999999999,1.0134138E-3,0,0,0,0,0,1,{"$f":"VLOOKUP($AI28,'Forfaitaire afvalscenario''s'!$A:$I,2,FALSE)","v":"afwerkingen"},{"$f":"VLOOKUP($AI28,'Forfaitaire afvalscenario''s'!$A:$I,3,FALSE)","v":"verkleefd aan hout, kunststof, metaal"},{"$f":"VLOOKUP($AI28,'Forfaitaire afvalscenario''s'!$A:$I,6,FALSE)","v":0},{"$f":"VLOOKUP($AI28,'Forfaitaire afvalscenario''s'!$A:$I,7,FALSE)","v":1},{"$f":"VLOOKUP($AI28,'Forfaitaire afvalscenario''s'!$A:$I,8,FALSE)","v":0},{"$f":"VLOOKUP($AI28,'Forfaitaire afvalscenario''s'!$A:$I,9,FALSE)","v":0},"0299-sto&Stort verf (o.b.v. Waste paint {Europe without Switzerland}| treatment of waste paint, sanitary landfill | Cut-off, U)","_0266-avC&Verbranden verf (10,14 MJ/kg) (o.b.v. Waste paint {Europe without Switzerland}| treatment of waste paint, municipal incineration | Cut-off, U)",".",". "]
["Coatings","Latexverf","kg",0,"_0050-fab&Latex, acryl (o.b.v. Latex {RER}| market for latex | Cut-off, U)",1.1510601999999999E-6,4.0670852E-2,2.6965487000000001,4.8329179999999997E-9,1.986046E-3,1.4972376000000001E-2,1.4715821E-3,0.10755879,5.5200383999999998E-3,8.7680670000000003,1.4706209E-2,0,0,1.2067342E-2,0,0,88.645015999999998,0,0,0,6.2779346999999999E-2,1.1010366999999999E-3,6.0141726999999999E-2,2.8091154999999998E-6,0,0,0,0,0,1,{"$f":"VLOOKUP($AI29,'Forfaitaire afvalscenario''s'!$A:$I,2,FALSE)","v":"afwerkingen"},{"$f":"VLOOKUP($AI29,'Forfaitaire afvalscenario''s'!$A:$I,3,FALSE)","v":"verkleefd aan hout, kunststof, metaal"},{"$f":"VLOOKUP($AI29,'Forfaitaire afvalscenario''s'!$A:$I,6,FALSE)","v":0},{"$f":"VLOOKUP($AI29,'Forfaitaire afvalscenario''s'!$A:$I,7,FALSE)","v":1},{"$f":"VLOOKUP($AI29,'Forfaitaire afvalscenario''s'!$A:$I,8,FALSE)","v":0},{"$f":"VLOOKUP($AI29,'Forfaitaire afvalscenario''s'!$A:$I,9,FALSE)","v":0},"0299-sto&Stort verf (o.b.v. Waste paint {Europe without Switzerland}| treatment of waste paint, sanitary landfill | Cut-off, U)","_0266-avC&Verbranden verf (10,14 MJ/kg) (o.b.v. Waste paint {Europe without Switzerland}| treatment of waste paint, municipal incineration | Cut-off, U)",".",". "]
["Coatings","Natlak","kg",0,"_0383-fab&Polyurethaan coating, natlak conserveringssysteem (verbruik 0,51 kg/m2, uitgaande van 25% overspray en laagdikte 320 µm; Incl. emissie na aanbrengen)",4.1070040000000001E-5,4.3101705999999997E-2,4.3066554000000004,3.1423290000000001E-7,0.29557854,1.674457E-2,2.7884652E-3,3.4615646,0.75755163999999997,77.693004000000002,5.2438616E-3,0,0,2.9993473000000002,0,0,94.352283999999997,0,0,0,7.6031805999999993E-2,3.1808316999999998E-5,0.26732968000000001,6.3645943000000004E-5,0,0,0,0,0,1,{"$f":"VLOOKUP($AI30,'Forfaitaire afvalscenario''s'!$A:$I,2,FALSE)","v":"afwerkingen"},{"$f":"VLOOKUP($AI30,'Forfaitaire afvalscenario''s'!$A:$I,3,FALSE)","v":"verkleefd aan hout, kunststof, metaal"},{"$f":"VLOOKUP($AI30,'Forfaitaire afvalscenario''s'!$A:$I,6,FALSE)","v":0},{"$f":"VLOOKUP($AI30,'Forfaitaire afvalscenario''s'!$A:$I,7,FALSE)","v":1},{"$f":"VLOOKUP($AI30,'Forfaitaire afvalscenario''s'!$A:$I,8,FALSE)","v":0},{"$f":"VLOOKUP($AI30,'Forfaitaire afvalscenario''s'!$A:$I,9,FALSE)","v":0},"0299-sto&Stort verf (o.b.v. Waste paint {Europe without Switzerland}| treatment of waste paint, sanitary landfill | Cut-off, U)","_0266-avC&Verbranden verf (10,14 MJ/kg) (o.b.v. Waste paint {Europe without Switzerland}| treatment of waste paint, municipal incineration | Cut-off, U)",".",". "]
["Coatings","Impregneermiddel","kg",0,"_0411-fab&Impregneermiddel, voor onbehandeld hard- en zachthout",2.4006370999999998E-5,1.8191088000000001E-2,0.68952482000000004,4.8154272999999996E-7,1.5029584999999999E-3,6.9182977999999997E-3,2.4246644000000001E-3,0.55932581999999997,0.20207336000000001,50.820649000000003,4.0937794999999999E-2,0,0,14.854694,0,0,40.809977000000003,0,0,0,4.6020088000000001E-2,7.9807174999999995E-5,7.4862840999999999E-2,2.5936227000000002E-4,0,0,0,0,0,1,{"$f":"VLOOKUP($AI31,'Forfaitaire afvalscenario''s'!$A:$I,2,FALSE)","v":"afwerkingen"},{"$f":"VLOOKUP($AI31,'Forfaitaire afvalscenario''s'!$A:$I,3,FALSE)","v":"verkleefd aan hout, kunststof, metaal"},{"$f":"VLOOKUP($AI31,'Forfaitaire afvalscenario''s'!$A:$I,6,FALSE)","v":0},{"$f":"VLOOKUP($AI31,'Forfaitaire afvalscenario''s'!$A:$I,7,FALSE)","v":1},{"$f":"VLOOKUP($AI31,'Forfaitaire afvalscenario''s'!$A:$I,8,FALSE)","v":0},{"$f":"VLOOKUP($AI31,'Forfaitaire afvalscenario''s'!$A:$I,9,FALSE)","v":0},"0299-sto&Stort verf (o.b.v. Waste paint {Europe without Switzerland}| treatment of waste paint, sanitary landfill | Cut-off, U)","_0266-avC&Verbranden verf (10,14 MJ/kg) (o.b.v. Waste paint {Europe without Switzerland}| treatment of waste paint, municipal incineration | Cut-off, U)",".",". "]
["Coatings","Metaalconserveringsmiddel","kg",0,"_0213-fab&Metaalconserveringssysteem, 'menie', vlgns ISO 12944 - onderhoud 1 maal per 15 jaar [VVVF]",1.6563044E-4,2.3770983999999998E-2,2.4219769000000002,5.1767183999999995E-7,4.5031506999999998E-2,1.3860107E-2,2.4139792000000002E-3,2.2842761999999999,0.29924977000000003,136.55779000000001,8.3759938999999999E-3,0,0,2.7621066999999999,0,0,52.272114999999999,0,0,0,4.1754483000000002E-2,3.9250055000000002E-5,0.33444320999999999,1.1183926E-4,0,0,0,0,0,1,{"$f":"VLOOKUP($AI32,'Forfaitaire afvalscenario''s'!$A:$I,2,FALSE)","v":"afwerkingen"},{"$f":"VLOOKUP($AI32,'Forfaitaire afvalscenario''s'!$A:$I,3,FALSE)","v":"verkleefd aan hout, kunststof, metaal"},{"$f":"VLOOKUP($AI32,'Forfaitaire afvalscenario''s'!$A:$I,6,FALSE)","v":0},{"$f":"VLOOKUP($AI32,'Forfaitaire afvalscenario''s'!$A:$I,7,FALSE)","v":1},{"$f":"VLOOKUP($AI32,'Forfaitaire afvalscenario''s'!$A:$I,8,FALSE)","v":0},{"$f":"VLOOKUP($AI32,'Forfaitaire afvalscenario''s'!$A:$I,9,FALSE)","v":0},"0299-sto&Stort verf (o.b.v. Waste paint {Europe without Switzerland}| treatment of waste paint, sanitary landfill | Cut-off, U)","_0266-avC&Verbranden verf (10,14 MJ/kg) (o.b.v. Waste paint {Europe without Switzerland}| treatment of waste paint, municipal incineration | Cut-off, U)",".",". "]
["Coatings","Acrylaatdispersieverf","kg",0,"_XXXX Acrylaatdispersieverf, watergedragen, voor binnen (Verfrichtlijn2004/42/EC+Arbo) - onderhoud 1 maal per 10 jaar [VVVF]",4.7467469999999997E-5,1.6722239E-2,1.8905985000000001,1.8234434E-7,1.8193979E-3,2.1282776E-2,1.1650886000000001E-3,0.98052402000000005,0.21056525000000001,206.57177999999999,3.5360241000000001E-3,0,0,2.9504294999999998,0,0,36.448317000000003,0,0,0,4.8866307999999997E-2,2.8267198000000001E-5,0.85454622999999996,1.1012937E-4,0,0,0,0,0,1,{"$f":"VLOOKUP($AI33,'Forfaitaire afvalscenario''s'!$A:$I,2,FALSE)","v":"afwerkingen"},{"$f":"VLOOKUP($AI33,'Forfaitaire afvalscenario''s'!$A:$I,3,FALSE)","v":"verkleefd aan hout, kunststof, metaal"},{"$f":"VLOOKUP($AI33,'Forfaitaire afvalscenario''s'!$A:$I,6,FALSE)","v":0},{"$f":"VLOOKUP($AI33,'Forfaitaire afvalscenario''s'!$A:$I,7,FALSE)","v":1},{"$f":"VLOOKUP($AI33,'Forfaitaire afvalscenario''s'!$A:$I,8,FALSE)","v":0},{"$f":"VLOOKUP($AI33,'Forfaitaire afvalscenario''s'!$A:$I,9,FALSE)","v":0},"0299-sto&Stort verf (o.b.v. Waste paint {Europe without Switzerland}| treatment of waste paint, sanitary landfill | Cut-off, U)","_0266-avC&Verbranden verf (10,14 MJ/kg) (o.b.v. Waste paint {Europe without Switzerland}| treatment of waste paint, municipal incineration | Cut-off, U)",".",". "]
["Keramiek","Baksteen","kg",0,"_0008-fab&Baksteen, metselbaksteen, straatbaksteen, klinker (o.b.v. Clay brick {GLO}| market for | Cut-off, U)",9.2902841999999992E-6,1.6906264999999999E-3,0.31438409,2.6400106999999999E-8,1.5938129E-4,9.1837950000000005E-4,1.4127971E-4,0.10812695999999999,2.6738728000000002E-3,14.483495,3.3033930000000002E-4,0,0,0.18541484,0,0,3.5458082000000002,0,0,0,6.3872166000000005E-4,1.0111772E-5,6.3235890000000003E-2,1.1577079000000001E-5,0,0,0,0,0,1,{"$f":"VLOOKUP($AI34,'Forfaitaire afvalscenario''s'!$A:$I,2,FALSE)","v":"afwerkingen"},{"$f":"VLOOKUP($AI34,'Forfaitaire afvalscenario''s'!$A:$I,3,FALSE)","v":"verkleefd aan hout, kunststof, metaal"},{"$f":"VLOOKUP($AI34,'Forfaitaire afvalscenario''s'!$A:$I,6,FALSE)","v":0},{"$f":"VLOOKUP($AI34,'Forfaitaire afvalscenario''s'!$A:$I,7,FALSE)","v":1},{"$f":"VLOOKUP($AI34,'Forfaitaire afvalscenario''s'!$A:$I,8,FALSE)","v":0},{"$f":"VLOOKUP($AI34,'Forfaitaire afvalscenario''s'!$A:$I,9,FALSE)","v":0},"0241-sto&Stort bitumen (o.b.v. Waste bitumen {Europe without Switzerland}| treatment of waste bitumen, sanitary landfill | Cut-off, U)","_0259-avC&Verbranden bitumen (30,1 MJ/kg) (o.b.v. Waste bitumen sheet {CH}| treatment of, municipal incineration | Cut-off, U)",".",". "]
["Keramiek","Keramische tegel","kg",0,"_0034-fab&Keramiek (o.b.v. Ceramic tile {GLO}| market for | Cut-off, U)",5.5400873000000005E-4,5.8133320999999996E-3,0.79619633999999995,6.8684682999999997E-8,3.7600042999999999E-4,3.8673357999999998E-3,4.1766398999999998E-4,0.35888030999999998,2.4782993999999999E-2,42.378985,1.4412772E-3,0,0,0.85336827999999998,0,0,11.567379000000001,0,0,0,6.4192529999999998E-3,9.6704456000000008E-3,0.27415240000000002,2.6554752000000001E-5,0,0,0,0,0,14,{"$f":"VLOOKUP($AI35,'Forfaitaire afvalscenario''s'!$A:$I,2,FALSE)","v":"fijnkeramisch"},{"$f":"VLOOKUP($AI35,'Forfaitaire afvalscenario''s'!$A:$I,3,FALSE)","v":"o.a. sanitair"},{"$f":"VLOOKUP($AI35,'Forfaitaire afvalscenario''s'!$A:$I,6,FALSE)","v":0.15},{"$f":"VLOOKUP($AI35,'Forfaitaire afvalscenario''s'!$A:$I,7,FALSE)","v":0},{"$f":"VLOOKUP($AI35,'Forfaitaire afvalscenario''s'!$A:$I,8,FALSE)","v":0.8},{"$f":"VLOOKUP($AI35,'Forfaitaire afvalscenario''s'!$A:$I,9,FALSE)","v":0.05},"0241-sto&Stort bitumen (o.b.v. Waste bitumen {Europe without Switzerland}| treatment of waste bitumen, sanitary landfill | Cut-off, U)","_0259-avC&Verbranden bitumen (30,1 MJ/kg) (o.b.v. Waste bitumen sheet {CH}| treatment of, municipal incineration | Cut-off, U)","0384-reD&Module D, Klei, per kg NETTO geleverd klei (o.b.v. Clay {CH}| clay pit operation | Cut-off, U)",". "]
["Keramiek","Betontegels","kg",0,"_0149-fab&Betontegels, straattegels (o.b.v. Concrete roof tile {GLO}| market for | Cut-off, U)",1.9659233E-5,1.0710654000000001E-3,0.25697147999999997,1.2992973000000001E-8,9.1537841999999998E-5,8.6298750999999998E-4,1.1853478E-4,7.4133324E-2,4.5699384000000001E-3,6.8143241999999997,4.5070115999999998E-4,0,0,0.14196429999999999,0,0,2.0816813999999999,0,0,0,1.9450327E-3,3.7984121000000002E-6,4.0709745999999998E-2,7.2917534999999997E-6,0,0,0,0,0,21,{"$f":"VLOOKUP($AI36,'Forfaitaire afvalscenario''s'!$A:$I,2,FALSE)","v":"grofkeramisch"},{"$f":"VLOOKUP($AI36,'Forfaitaire afvalscenario''s'!$A:$I,3,FALSE)","v":"o.a. metselwerk, pannen"},{"$f":"VLOOKUP($AI36,'Forfaitaire afvalscenario''s'!$A:$I,6,FALSE)","v":0.01},{"$f":"VLOOKUP($AI36,'Forfaitaire afvalscenario''s'!$A:$I,7,FALSE)","v":0},{"$f":"VLOOKUP($AI36,'Forfaitaire afvalscenario''s'!$A:$I,8,FALSE)","v":0.99},{"$f":"VLOOKUP($AI36,'Forfaitaire afvalscenario''s'!$A:$I,9,FALSE)","v":0},"0241-sto&Stort bitumen (o.b.v. Waste bitumen {Europe without Switzerland}| treatment of waste bitumen, sanitary landfill | Cut-off, U)","_0259-avC&Verbranden bitumen (30,1 MJ/kg) (o.b.v. Waste bitumen sheet {CH}| treatment of, municipal incineration | Cut-off, U)","0376-reD&Module D, Cement, CEM I, zonder 30% opslag (vermeden: 0172-fab&Cement, CEM I (o.b.v. CEM I 52.5 R))",". "]
["Keramiek","Klei","kg",0,"_0225-fab&Klei, geëxpandeerd (o.b.v. Expanded clay {GLO}| market for | Cut-off, U)",3.5166995E-6,2.4780815999999998E-3,0.42601763999999998,1.1272087E-8,1.7736723999999999E-4,2.9002762999999999E-3,2.0412539E-4,0.13622500000000001,1.6145196E-3,10.608691,5.8860608999999995E-4,0,0,0.37858835000000002,0,0,3.9985317,0,0,0,8.3102038000000002E-4,2.9801923999999998E-6,2.3547200000000001E-2,6.6618177999999997E-6,0,0,0,0,0,14,{"$f":"VLOOKUP($AI37,'Forfaitaire afvalscenario''s'!$A:$I,2,FALSE)","v":"fijnkeramisch"},{"$f":"VLOOKUP($AI37,'Forfaitaire afvalscenario''s'!$A:$I,3,FALSE)","v":"o.a. sanitair"},{"$f":"VLOOKUP($AI37,'Forfaitaire afvalscenario''s'!$A:$I,6,FALSE)","v":0.15},{"$f":"VLOOKUP($AI37,'Forfaitaire afvalscenario''s'!$A:$I,7,FALSE)","v":0},{"$f":"VLOOKUP($AI37,'Forfaitaire afvalscenario''s'!$A:$I,8,FALSE)","v":0.8},{"$f":"VLOOKUP($AI37,'Forfaitaire afvalscenario''s'!$A:$I,9,FALSE)","v":0.05},"0241-sto&Stort bitumen (o.b.v. Waste bitumen {Europe without Switzerland}| treatment of waste bitumen, sanitary landfill | Cut-off, U)","_0259-avC&Verbranden bitumen (30,1 MJ/kg) (o.b.v. Waste bitumen sheet {CH}| treatment of, municipal incineration | Cut-off, U)","0384-reD&Module D, Klei, per kg NETTO geleverd klei (o.b.v. Clay {CH}| clay pit operation | Cut-off, U)",". "]
["Keramiek","Natuursteen","kg",0,"_0232-fab&Natuursteen, graniet, hardsteen (= Natural stone plate, polished {GLO}| market for | Cut-off, U)",2.3093473000000001E-6,6.8740451000000001E-3,0.97278098000000002,6.8581607000000002E-8,3.6912475000000001E-4,4.6880576E-3,6.9423741999999995E-4,0.27319681000000001,5.7406154999999999E-3,29.004541,1.5697121000000001E-3,0,0,1.1596766999999999,0,0,13.780454000000001,0,0,0,7.0363702000000002E-3,1.0974129999999999E-5,7.6128061999999996E-2,5.1343452999999999E-5,0,0,0,0,0,52,{"$f":"VLOOKUP($AI38,'Forfaitaire afvalscenario''s'!$A:$I,2,FALSE)","v":"steenachtig, overig"},{"$f":"VLOOKUP($AI38,'Forfaitaire afvalscenario''s'!$A:$I,3,FALSE)","v":"o.a. natuursteen, breuksteen"},{"$f":"VLOOKUP($AI38,'Forfaitaire afvalscenario''s'!$A:$I,6,FALSE)","v":0.01},{"$f":"VLOOKUP($AI38,'Forfaitaire afvalscenario''s'!$A:$I,7,FALSE)","v":0},{"$f":"VLOOKUP($AI38,'Forfaitaire afvalscenario''s'!$A:$I,8,FALSE)","v":0.99},{"$f":"VLOOKUP($AI38,'Forfaitaire afvalscenario''s'!$A:$I,9,FALSE)","v":0},"0241-sto&Stort bitumen (o.b.v. Waste bitumen {Europe without Switzerland}| treatment of waste bitumen, sanitary landfill | Cut-off, U)","_0259-avC&Verbranden bitumen (30,1 MJ/kg) (o.b.v. Waste bitumen sheet {CH}| treatment of, municipal incineration | Cut-off, U)","0271-reD&Module D, grind, per kg NETTO geleverd granulaat/grind (vermeden: Gravel, round {RoW}| gravel and sand quarry operation | Cut-off, U)",". "]
["Keramiek","Vlakglas","kg",0,"_0019-fab&Glas, vlakglas (o.b.v. Flat glass, coated {RoW}| market for flat glass, coated | Cut-off, U)",1.2727678000000001E-4,6.8513740000000004E-3,1.1972769000000001,9.7102062999999995E-8,5.5175006000000003E-4,1.0106271E-2,8.6513412E-4,0.50994607000000003,1.2114282000000001E-2,54.823403999999996,1.213974E-3,0,0,0.64444246999999999,0,0,13.950832,0,0,0,6.3080966999999998E-3,1.9417252E-5,0.14741905999999999,4.3217212999999999E-5,0,0,0,0,0,17,{"$f":"VLOOKUP($AI39,'Forfaitaire afvalscenario''s'!$A:$I,2,FALSE)","v":"glas"},{"$f":"VLOOKUP($AI39,'Forfaitaire afvalscenario''s'!$A:$I,3,FALSE)","v":"o.a. vlakglas"},{"$f":"VLOOKUP($AI39,'Forfaitaire afvalscenario''s'!$A:$I,6,FALSE)","v":0.3},{"$f":"VLOOKUP($AI39,'Forfaitaire afvalscenario''s'!$A:$I,7,FALSE)","v":0},{"$f":"VLOOKUP($AI39,'Forfaitaire afvalscenario''s'!$A:$I,8,FALSE)","v":0.7},{"$f":"VLOOKUP($AI39,'Forfaitaire afvalscenario''s'!$A:$I,9,FALSE)","v":0},"0244-sto&Stort glas (o.b.v. Waste glass {CH}| treatment of, inert material landfill | Cut-off, U)","_0256-avC&Verbranden glas (o.b.v. Waste glass {Europe without Switzerland}| treatment of waste glass, municipal incineration | Cut-off, U)","0273-reD&Module D, vlakglas per kg NETTO geleverd kringloopglas (79% verpakkingsglas- en 21% glaswoltoepassing waar primaire grondstoffen worden vermeden - niet de energie )",". "]
["Keramiek","Anhydriet","kg",0,"_XXXX Anhydriet, ongehydrateerd gips, calciumsulfaat, voor o.a. gietvloeren (o.b.v. Anhydrite {GLO}| market for | Cut-off, U)",7.1086497000000003E-7,4.0031533999999999E-4,5.6255251999999999E-2,6.3587022000000003E-9,3.2769821999999999E-5,3.3241291999999998E-4,4.8913733000000003E-5,1.9671963000000001E-2,4.7123131000000002E-4,1.9580588999999999,9.2596232E-5,0,0,3.9361537000000002E-2,0,0,0.83040577000000004,0,0,0,2.2040802000000001E-4,2.9000063000000002E-6,2.06099E-2,3.7218578000000001E-6,0,0,0,0,0,16,{"$f":"VLOOKUP($AI40,'Forfaitaire afvalscenario''s'!$A:$I,2,FALSE)","v":"gips"},{"$f":"VLOOKUP($AI40,'Forfaitaire afvalscenario''s'!$A:$I,3,FALSE)","v":"o.a. blokken, platen"},{"$f":"VLOOKUP($AI40,'Forfaitaire afvalscenario''s'!$A:$I,6,FALSE)","v":0.95},{"$f":"VLOOKUP($AI40,'Forfaitaire afvalscenario''s'!$A:$I,7,FALSE)","v":0},{"$f":"VLOOKUP($AI40,'Forfaitaire afvalscenario''s'!$A:$I,8,FALSE)","v":0.05},{"$f":"VLOOKUP($AI40,'Forfaitaire afvalscenario''s'!$A:$I,9,FALSE)","v":0},"0241-sto&Stort bitumen (o.b.v. Waste bitumen {Europe without Switzerland}| treatment of waste bitumen, sanitary landfill | Cut-off, U)","_0259-avC&Verbranden bitumen (30,1 MJ/kg) (o.b.v. Waste bitumen sheet {CH}| treatment of, municipal incineration | Cut-off, U)","0271-reD&Module D, grind, per kg NETTO geleverd granulaat/grind (vermeden: Gravel, round {RoW}| gravel and sand quarry operation | Cut-off, U)",". "]
["Keramiek","Kalkzandsteen","kg",0,"_XXXX Kalkzandsteen, stenen en blokken (o.b.v. Sand-lime brick {GLO}| market for | Cut-off, U)",8.8046988999999996E-6,7.6554297000000005E-4,0.18583976999999999,1.2670779E-8,7.3826033999999994E-5,6.6914210999999995E-4,8.235045E-5,7.2688671999999996E-2,1.0821114000000001E-3,4.2379689000000003,2.6037382000000003E-4,0,0,0.14808478,0,0,1.5449077,0,0,0,6.6124491000000001E-4,3.1536930999999999E-6,2.4703952000000001E-2,7.002849E-6,0,0,0,0,0,28,{"$f":"VLOOKUP($AI41,'Forfaitaire afvalscenario''s'!$A:$I,2,FALSE)","v":"kalkzandsteen"},{"$f":"VLOOKUP($AI41,'Forfaitaire afvalscenario''s'!$A:$I,3,FALSE)","v":"o.a. elementen, metselwerk"},{"$f":"VLOOKUP($AI41,'Forfaitaire afvalscenario''s'!$A:$I,6,FALSE)","v":0.01},{"$f":"VLOOKUP($AI41,'Forfaitaire afvalscenario''s'!$A:$I,7,FALSE)","v":0},{"$f":"VLOOKUP($AI41,'Forfaitaire afvalscenario''s'!$A:$I,8,FALSE)","v":0.99},{"$f":"VLOOKUP($AI41,'Forfaitaire afvalscenario''s'!$A:$I,9,FALSE)","v":0},"0241-sto&Stort bitumen (o.b.v. Waste bitumen {Europe without Switzerland}| treatment of waste bitumen, sanitary landfill | Cut-off, U)","_0259-avC&Verbranden bitumen (30,1 MJ/kg) (o.b.v. Waste bitumen sheet {CH}| treatment of, municipal incineration | Cut-off, U)","0280-reD&Module D, zand (o.b.v. Sand {RoW}| gravel and quarry operation | Cut-off, U)",". "]
["Metalen","Messing","kg",0,"_0056-fab&Messing (o.b.v. Brass {RoW}| production | Cut-off, U)",2.5717433000000001E-2,2.7239532E-2,4.2711304999999999,2.5253771000000001E-7,1.6838898000000001E-2,0.35062025000000002,1.9066705E-2,57.443161000000003,1.3317650999999999,5840.1791999999996,0.15736137,0,0,12.812659999999999,0,0,53.354671000000003,0,0,0,0.10012847,3.2036129000000001E-3,1.4620572999999999,1.6966628999999999E-4,0,0,0,0,0,36,{"$f":"VLOOKUP($AI42,'Forfaitaire afvalscenario''s'!$A:$I,2,FALSE)","v":"metalen, overig"},{"$f":"VLOOKUP($AI42,'Forfaitaire afvalscenario''s'!$A:$I,3,FALSE)","v":"o.a. bevestiging, hulpstukken"},{"$f":"VLOOKUP($AI42,'Forfaitaire afvalscenario''s'!$A:$I,6,FALSE)","v":0.05},{"$f":"VLOOKUP($AI42,'Forfaitaire afvalscenario''s'!$A:$I,7,FALSE)","v":0.05},{"$f":"VLOOKUP($AI42,'Forfaitaire afvalscenario''s'!$A:$I,8,FALSE)","v":0.9},{"$f":"VLOOKUP($AI42,'Forfaitaire afvalscenario''s'!$A:$I,9,FALSE)","v":0},"0248-sto&Stort koper, lood, verzinkt staal, zink (o.b.v. Scrap tin sheet {CH}| treatment of, sanitary landfill | Cut-off, U, bij gebrek aan passender proces)","_0307-avC&Verbranden koperschroot (o.b.v. Scrap copper {RoW}| treatment of, municipal incineration | Cut-off, U)","0277-reD&Module D, koper, per kg NETTO geleverd schroot (vermeden: Copper {RER}| production, primary | Cut-off, U)",". "]
["Metalen","Aluminium","kg",0.74,"_0151-fab&Aluminium (o.b.v. Aluminium, cast alloy {GLO}| market for | Cut-off, U; 26% primair, 74% secundair)",3.0030950999999999E-3,3.2924441999999998E-2,5.3027180999999999,2.1541044E-7,2.2293221999999998E-3,2.9520115E-2,2.575244E-3,4.7657026,4.5761551999999997E-2,261.77276999999998,9.9582547000000004E-3,0,0,6.6141955000000001,0,0,56.253044000000003,0,0,0,5.1506151999999999E-2,2.6922102000000001E-3,1.0627899999999999,1.0212377E-4,0,0,0,0,0,36,{"$f":"VLOOKUP($AI43,'Forfaitaire afvalscenario''s'!$A:$I,2,FALSE)","v":"metalen, overig"},{"$f":"VLOOKUP($AI43,'Forfaitaire afvalscenario''s'!$A:$I,3,FALSE)","v":"o.a. bevestiging, hulpstukken"},{"$f":"VLOOKUP($AI43,'Forfaitaire afvalscenario''s'!$A:$I,6,FALSE)","v":0.05},{"$f":"VLOOKUP($AI43,'Forfaitaire afvalscenario''s'!$A:$I,7,FALSE)","v":0.05},{"$f":"VLOOKUP($AI43,'Forfaitaire afvalscenario''s'!$A:$I,8,FALSE)","v":0.9},{"$f":"VLOOKUP($AI43,'Forfaitaire afvalscenario''s'!$A:$I,9,FALSE)","v":0},"0239-sto&Stort aluminium (o.b.v. Waste aluminium {RoW}| treatment of, sanitary landfill | Cut-off, U)","_0255-avC&Verbranden aluminium (o.b.v. Scrap aluminium {Europe without Switzerland}| treatment of scrap aluminium, municipal incineration | Cut-off, U)","0269-reD&Module D aluminium, per kg NETTO geleverd schroot (vermeden: Aluminium, cast alloy {GLO}| aluminium ingot, primary, to market | Cut-off, U; Aluminium, cast alloy {RER}|",". "]
["Metalen","Ongelegeerd staal","kg",0.21299999999999999,"_0214-fab&Staal, ongelegeerd (o.b.v. Steel, unalloyed {GLO}| market for | Cut-off, U; 78,7% primair, 21,3% secundair)",8.7901524999999994E-6,1.2244447E-2,1.8200822000000001,9.7077249000000006E-8,2.9182994000000002E-3,6.8697413999999997E-3,9.2207615999999998E-4,1.1548859,9.3912428999999992E-3,30.749818999999999,3.13941E-3,0,0,0.65313993000000004,0,0,19.642600000000002,0,0,0,9.0067710999999998E-3,1.6167079999999999E-4,0.33682698999999999,3.0269654999999999E-5,0,0,0,0,0,3,{"$f":"VLOOKUP($AI44,'Forfaitaire afvalscenario''s'!$A:$I,2,FALSE)","v":"aluminium, uit B&U"},{"$f":"VLOOKUP($AI44,'Forfaitaire afvalscenario''s'!$A:$I,3,FALSE)","v":"o.a. profielen, platen, leidingen"},{"$f":"VLOOKUP($AI44,'Forfaitaire afvalscenario''s'!$A:$I,6,FALSE)","v":0.03},{"$f":"VLOOKUP($AI44,'Forfaitaire afvalscenario''s'!$A:$I,7,FALSE)","v":0.03},{"$f":"VLOOKUP($AI44,'Forfaitaire afvalscenario''s'!$A:$I,8,FALSE)","v":0.94},{"$f":"VLOOKUP($AI44,'Forfaitaire afvalscenario''s'!$A:$I,9,FALSE)","v":0},"0253-sto&Stort staal (o.b.v. Scrap steel {Europe without Switzerland}| treatment of scrap steel, inert material landfill | Cut-off, U)","_0257-avC&Verbranden staalschroot (o.b.v. Scrap steel {Europe without Switzerland}| treatment of scrap steel, municipal incineration | Cut-off, U)","0282-reD&Module D, staal, per kg NETTO geleverd ongelegeerd schroot (World Steel methode obv Steel, low-alloyed {RER&RoW}| steel production, electric, low-alloyed | Cut-off, U  -",". "]
["Metalen","Gietijzer","kg",0.38700000000000001,"_0220-fab&Gietijzer (o.b.v. Cast iron {GLO}| market for | Cut-off, U; 61,3% primair, 38,7% secundair)",8.9167040999999997E-6,1.2580375E-2,1.7096699,9.9873611999999994E-8,2.4166563999999998E-3,6.9133116000000003E-3,9.2360038999999997E-4,1.1983330999999999,2.2192330999999999E-2,49.969298999999999,6.6748857999999994E-2,0,0,0.83820395000000003,0,0,21.183126000000001,0,0,0,6.1846961000000004E-3,1.3209874000000001E-4,0.29594298000000002,3.8878858000000003E-5,0,0,0,0,0,36,{"$f":"VLOOKUP($AI45,'Forfaitaire afvalscenario''s'!$A:$I,2,FALSE)","v":"metalen, overig"},{"$f":"VLOOKUP($AI45,'Forfaitaire afvalscenario''s'!$A:$I,3,FALSE)","v":"o.a. bevestiging, hulpstukken"},{"$f":"VLOOKUP($AI45,'Forfaitaire afvalscenario''s'!$A:$I,6,FALSE)","v":0.05},{"$f":"VLOOKUP($AI45,'Forfaitaire afvalscenario''s'!$A:$I,7,FALSE)","v":0.05},{"$f":"VLOOKUP($AI45,'Forfaitaire afvalscenario''s'!$A:$I,8,FALSE)","v":0.9},{"$f":"VLOOKUP($AI45,'Forfaitaire afvalscenario''s'!$A:$I,9,FALSE)","v":0},"0253-sto&Stort staal (o.b.v. Scrap steel {Europe without Switzerland}| treatment of scrap steel, inert material landfill | Cut-off, U)","_0257-avC&Verbranden staalschroot (o.b.v. Scrap steel {Europe without Switzerland}| treatment of scrap steel, municipal incineration | Cut-off, U)","0282-reD&Module D, staal, per kg NETTO geleverd ongelegeerd schroot (World Steel methode obv Steel, low-alloyed {RER&RoW}| steel production, electric, low-alloyed | Cut-off, U  -",". "]
["Metalen","Koper","kg",0.74,"_0287-fab&Koper, semis, voor plaat en buis (o.b.v. 33% 0059-fab&koper, kathode, 67% Copper {RER}| treatment of scrap by electrolytic refining; 26% primair, 74% secundair)",7.8586414000000003E-4,1.3070333999999999E-2,2.0035036000000002,1.3349167999999999E-7,4.7639368000000001E-3,9.3078077999999995E-2,7.2971968999999996E-3,14.960019000000001,0.44261193999999998,1740.8272999999999,4.1696848000000002E-2,0,0,6.1866994999999996,0,0,27.190135000000001,0,0,0,3.6789158000000002E-2,5.9403227999999997E-5,0.69951156999999997,1.0442978E-4,0,0,0,0,0,36,{"$f":"VLOOKUP($AI46,'Forfaitaire afvalscenario''s'!$A:$I,2,FALSE)","v":"metalen, overig"},{"$f":"VLOOKUP($AI46,'Forfaitaire afvalscenario''s'!$A:$I,3,FALSE)","v":"o.a. bevestiging, hulpstukken"},{"$f":"VLOOKUP($AI46,'Forfaitaire afvalscenario''s'!$A:$I,6,FALSE)","v":0.05},{"$f":"VLOOKUP($AI46,'Forfaitaire afvalscenario''s'!$A:$I,7,FALSE)","v":0.05},{"$f":"VLOOKUP($AI46,'Forfaitaire afvalscenario''s'!$A:$I,8,FALSE)","v":0.9},{"$f":"VLOOKUP($AI46,'Forfaitaire afvalscenario''s'!$A:$I,9,FALSE)","v":0},"0248-sto&Stort koper, lood, verzinkt staal, zink (o.b.v. Scrap tin sheet {CH}| treatment of, sanitary landfill | Cut-off, U, bij gebrek aan passender proces)","_0307-avC&Verbranden koperschroot (o.b.v. Scrap copper {RoW}| treatment of, municipal incineration | Cut-off, U)","0277-reD&Module D, koper, per kg NETTO geleverd schroot (vermeden: Copper {RER}| production, primary | Cut-off, U)",". "]
["Metalen","Verzinkt staal","kg",0,"_0417-fab&Staal, ongelegeerd, verzinkt (o.b.v. 98,6% Steel, unalloyed {GLO}| market for | Cut-off, U + Hot rolling, steel; 1,4% Zinc {GLO}| market for | Cut-off, U + Zinc coat, coils)",4.2550599999999997E-3,1.6053982000000001E-2,2.3213594999999998,1.429418E-7,3.3691074999999998E-3,1.9821476000000001E-2,3.5430404E-3,1.3996219000000001,2.5255710000000001E-2,60.661977,4.4206806E-3,0,0,1.2573839,0,0,27.428578000000002,0,0,0,2.3589868999999999E-2,7.1116892999999995E-4,0.42471810999999998,5.3800385E-5,0,0,0,0,0,36,{"$f":"VLOOKUP($AI47,'Forfaitaire afvalscenario''s'!$A:$I,2,FALSE)","v":"metalen, overig"},{"$f":"VLOOKUP($AI47,'Forfaitaire afvalscenario''s'!$A:$I,3,FALSE)","v":"o.a. bevestiging, hulpstukken"},{"$f":"VLOOKUP($AI47,'Forfaitaire afvalscenario''s'!$A:$I,6,FALSE)","v":0.05},{"$f":"VLOOKUP($AI47,'Forfaitaire afvalscenario''s'!$A:$I,7,FALSE)","v":0.05},{"$f":"VLOOKUP($AI47,'Forfaitaire afvalscenario''s'!$A:$I,8,FALSE)","v":0.9},{"$f":"VLOOKUP($AI47,'Forfaitaire afvalscenario''s'!$A:$I,9,FALSE)","v":0},"0248-sto&Stort koper, lood, verzinkt staal, zink (o.b.v. Scrap tin sheet {CH}| treatment of, sanitary landfill | Cut-off, U, bij gebrek aan passender proces)","_0257-avC&Verbranden staalschroot (o.b.v. Scrap steel {Europe without Switzerland}| treatment of scrap steel, municipal incineration | Cut-off, U)","0282-reD&Module D, staal, per kg NETTO geleverd ongelegeerd schroot (World Steel methode obv Steel, low-alloyed {RER&RoW}| steel production, electric, low-alloyed | Cut-off, U  -",". "]
["Metalen","Laaggelegeerd staal","kg",0.125,"_0238-fab&Staal, laaggelegeerd (o.b.v. Steel, low-alloyed {GLO}| market for | Cut-off, U; 57% primair, 43% secundair)",2.8237941000000002E-5,1.1097055E-2,1.5821143,9.2944636000000006E-8,2.0410200000000002E-3,7.0856888E-3,1.0407896000000001E-3,5.7933719000000004,2.1369948999999999E-2,58.545397999999999,3.4692749000000002E-2,0,0,1.6831908,0,0,19.178419999999999,0,0,0,1.0658368E-2,9.2925982000000002E-5,0.69539633000000001,4.0525943000000002E-5,0,0,0,0,0,36,{"$f":"VLOOKUP($AI48,'Forfaitaire afvalscenario''s'!$A:$I,2,FALSE)","v":"metalen, overig"},{"$f":"VLOOKUP($AI48,'Forfaitaire afvalscenario''s'!$A:$I,3,FALSE)","v":"o.a. bevestiging, hulpstukken"},{"$f":"VLOOKUP($AI48,'Forfaitaire afvalscenario''s'!$A:$I,6,FALSE)","v":0.05},{"$f":"VLOOKUP($AI48,'Forfaitaire afvalscenario''s'!$A:$I,7,FALSE)","v":0.05},{"$f":"VLOOKUP($AI48,'Forfaitaire afvalscenario''s'!$A:$I,8,FALSE)","v":0.9},{"$f":"VLOOKUP($AI48,'Forfaitaire afvalscenario''s'!$A:$I,9,FALSE)","v":0},"0248-sto&Stort koper, lood, verzinkt staal, zink (o.b.v. Scrap tin sheet {CH}| treatment of, sanitary landfill | Cut-off, U, bij gebrek aan passender proces)","_0257-avC&Verbranden staalschroot (o.b.v. Scrap steel {Europe without Switzerland}| treatment of scrap steel, municipal incineration | Cut-off, U)","0282-reD&Module D, staal, per kg NETTO geleverd ongelegeerd schroot (World Steel methode obv Steel, low-alloyed {RER&RoW}| steel production, electric, low-alloyed | Cut-off, U  -","."]
["Metalen","Hooggelegeerd staal","kg",0.28000000000000003,"_0202-fab&Staal, hooggelegeerd, RVS (o.b.v. Steel, chromium steel 18/8 {GLO}| market for | Cut-off, U; 72% primair, 28% secundair)",1.6564155000000001E-4,2.8760454000000001E-2,4.3959294,2.1024026E-7,2.8662045E-3,2.4132319999999999E-2,2.3872061999999999E-3,74.414837000000006,6.9783807000000003E-2,270.93151999999998,9.0735530999999994E-2,0,0,12.656451000000001,0,0,51.176802000000002,0,0,0,1.9674783000000001E-2,9.8267695999999997E-5,5.3720774000000002,1.0568931000000001E-4,0,0,0,0,0,36,{"$f":"VLOOKUP($AI49,'Forfaitaire afvalscenario''s'!$A:$I,2,FALSE)","v":"metalen, overig"},{"$f":"VLOOKUP($AI49,'Forfaitaire afvalscenario''s'!$A:$I,3,FALSE)","v":"o.a. bevestiging, hulpstukken"},{"$f":"VLOOKUP($AI49,'Forfaitaire afvalscenario''s'!$A:$I,6,FALSE)","v":0.05},{"$f":"VLOOKUP($AI49,'Forfaitaire afvalscenario''s'!$A:$I,7,FALSE)","v":0.05},{"$f":"VLOOKUP($AI49,'Forfaitaire afvalscenario''s'!$A:$I,8,FALSE)","v":0.9},{"$f":"VLOOKUP($AI49,'Forfaitaire afvalscenario''s'!$A:$I,9,FALSE)","v":0},"0248-sto&Stort koper, lood, verzinkt staal, zink (o.b.v. Scrap tin sheet {CH}| treatment of, sanitary landfill | Cut-off, U, bij gebrek aan passender proces)","_0257-avC&Verbranden staalschroot (o.b.v. Scrap steel {Europe without Switzerland}| treatment of scrap steel, municipal incineration | Cut-off, U)","0282-reD&Module D, staal, per kg NETTO geleverd ongelegeerd schroot (World Steel methode obv Steel, low-alloyed {RER&RoW}| steel production, electric, low-alloyed | Cut-off, U  -","."]
["Metalen","Ferronickel staal (25% nickel)","kg",0,"_0352-fab&Ferronikkel (o.b.v. Ferronickel, 25% Ni {GLO}| production | Cut-off, U)",1.5380445E-4,5.7408613999999997E-2,8.8547943999999994,4.0324540999999999E-7,3.2288900999999999E-3,4.8827542000000002E-2,4.1430143000000001E-3,5.0229274999999998,0.17685374000000001,717.73026000000004,2.2094649000000001E-2,0,0,29.775205,0,0,103.5325,0,0,0,3.3366265999999999E-2,7.4335362999999999E-5,12.922302,2.0255977000000001E-4,0,0,0,0,0,36,{"$f":"VLOOKUP($AI50,'Forfaitaire afvalscenario''s'!$A:$I,2,FALSE)","v":"metalen, overig"},{"$f":"VLOOKUP($AI50,'Forfaitaire afvalscenario''s'!$A:$I,3,FALSE)","v":"o.a. bevestiging, hulpstukken"},{"$f":"VLOOKUP($AI50,'Forfaitaire afvalscenario''s'!$A:$I,6,FALSE)","v":0.05},{"$f":"VLOOKUP($AI50,'Forfaitaire afvalscenario''s'!$A:$I,7,FALSE)","v":0.05},{"$f":"VLOOKUP($AI50,'Forfaitaire afvalscenario''s'!$A:$I,8,FALSE)","v":0.9},{"$f":"VLOOKUP($AI50,'Forfaitaire afvalscenario''s'!$A:$I,9,FALSE)","v":0},"0248-sto&Stort koper, lood, verzinkt staal, zink (o.b.v. Scrap tin sheet {CH}| treatment of, sanitary landfill | Cut-off, U, bij gebrek aan passender proces)","_0257-avC&Verbranden staalschroot (o.b.v. Scrap steel {Europe without Switzerland}| treatment of scrap steel, municipal incineration | Cut-off, U)","0282-reD&Module D, staal, per kg NETTO geleverd ongelegeerd schroot (World Steel methode obv Steel, low-alloyed {RER&RoW}| steel production, electric, low-alloyed | Cut-off, U  -","."]
["Metalen","Hoog carbon ferrochroom staal (68% chroom)","kg",0,"_0351-fab&Ferrochroom (o.b.v. Ferrochromium, high-carbon, 68% Cr {GLO}| production | Cut-off, U)",4.1649027E-4,1.3558310000000001E-2,2.060419,8.6787175999999998E-8,1.7240975999999999E-3,1.7651971999999998E-2,2.0416848E-3,272.78764999999999,1.5042537999999999E-2,66.824072999999999,0.24328137999999999,0,0,10.099722999999999,0,0,24.468834999999999,0,0,0,1.7066331000000001E-2,1.1572422E-5,3.9281182000000001,6.4330506999999996E-5,0,0,0,0,0,36,{"$f":"VLOOKUP($AI51,'Forfaitaire afvalscenario''s'!$A:$I,2,FALSE)","v":"metalen, overig"},{"$f":"VLOOKUP($AI51,'Forfaitaire afvalscenario''s'!$A:$I,3,FALSE)","v":"o.a. bevestiging, hulpstukken"},{"$f":"VLOOKUP($AI51,'Forfaitaire afvalscenario''s'!$A:$I,6,FALSE)","v":0.05},{"$f":"VLOOKUP($AI51,'Forfaitaire afvalscenario''s'!$A:$I,7,FALSE)","v":0.05},{"$f":"VLOOKUP($AI51,'Forfaitaire afvalscenario''s'!$A:$I,8,FALSE)","v":0.9},{"$f":"VLOOKUP($AI51,'Forfaitaire afvalscenario''s'!$A:$I,9,FALSE)","v":0},"0248-sto&Stort koper, lood, verzinkt staal, zink (o.b.v. Scrap tin sheet {CH}| treatment of, sanitary landfill | Cut-off, U, bij gebrek aan passender proces)","_0257-avC&Verbranden staalschroot (o.b.v. Scrap steel {Europe without Switzerland}| treatment of scrap steel, municipal incineration | Cut-off, U)","0282-reD&Module D, staal, per kg NETTO geleverd ongelegeerd schroot (World Steel methode obv Steel, low-alloyed {RER&RoW}| steel production, electric, low-alloyed | Cut-off, U  -","."]
["Natuurlijke materialen","Europees hardhout","kg",0,"_0027-fab&Hout, Europees hardhout, eiken, kastanje, robinia, western red cedar, gezaagd (o.b.v. Sawnwood, hardwood, raw, dried (u=10%) {RER}| market for | Cut-off, U en 650 kg/m3 + 1500 kg per as)",8.3519122999999998E-6,2.6796817E-3,0.37254587,5.6503376000000001E-8,4.8128017999999999E-4,1.8957392999999999E-3,4.2806516E-4,0.17574762999999999,5.6451905000000002E-3,14.823881999999999,1.2216115E-3,0,0,30.470237000000001,0,0,5.7822255,0,0,0,1.3214731999999999E-3,1.6985798E-5,0.26348321000000002,3.2872961999999998E-5,0,0,0,0,0,25,{"$f":"VLOOKUP($AI52,'Forfaitaire afvalscenario''s'!$A:$I,2,FALSE)","v":"hout, verontreinigd"},{"$f":"VLOOKUP($AI52,'Forfaitaire afvalscenario''s'!$A:$I,3,FALSE)","v":"o.a. geschilderd, verduurzaamd"},{"$f":"VLOOKUP($AI52,'Forfaitaire afvalscenario''s'!$A:$I,6,FALSE)","v":0.05},{"$f":"VLOOKUP($AI52,'Forfaitaire afvalscenario''s'!$A:$I,7,FALSE)","v":0.95},{"$f":"VLOOKUP($AI52,'Forfaitaire afvalscenario''s'!$A:$I,8,FALSE)","v":0},{"$f":"VLOOKUP($AI52,'Forfaitaire afvalscenario''s'!$A:$I,9,FALSE)","v":0},"0246-sto&Stort hout, geschilderd (o.b.v. 99% Waste wood, untreated en 1% Waste paint {EU}| treatment of, sanitary landfill | Cut-off, U)","_0263-avC&Verbranden hout, verontreinigd (13,99 MJ/kg) (o.b.v. Waste building wood, chrome preserved {CH}| treatment of, municipal incineration | Cut-off, U)","0275-reD&Module D, houten balk, per kg NETTO geleverd (o.b.v. Sawnwood, beam, softwood, dried (u=10%), planed {RoW}| planing, beam, softwood, u=10% | Cut-off, U)",". "]
["Natuurlijke materialen","Cellulose","kg",0,"_0049-fab&Cellulose, inclusief inblazen (o.b.v. Cellulose fibre, inclusive blowing in {GLO}| market for | Cut-off, U)",5.3812588000000001E-5,3.8591623999999999E-3,0.55502620000000003,4.7133667E-8,3.5898785999999999E-4,3.8938460999999999E-3,4.5636827000000002E-4,0.58674470000000001,9.3788962000000003E-3,27.437415000000001,2.2727694000000001E-3,0,0,2.7285208000000001,0,0,7.7778309999999999,0,0,0,6.2360412000000004E-3,1.6665108999999999E-5,0.13750845,2.5784501E-5,0,0,0,0,0,38,{"$f":"VLOOKUP($AI53,'Forfaitaire afvalscenario''s'!$A:$I,2,FALSE)","v":"organisch, overig"},{"$f":"VLOOKUP($AI53,'Forfaitaire afvalscenario''s'!$A:$I,3,FALSE)","v":"o.a. isolatie"},{"$f":"VLOOKUP($AI53,'Forfaitaire afvalscenario''s'!$A:$I,6,FALSE)","v":0.05},{"$f":"VLOOKUP($AI53,'Forfaitaire afvalscenario''s'!$A:$I,7,FALSE)","v":0.95},{"$f":"VLOOKUP($AI53,'Forfaitaire afvalscenario''s'!$A:$I,8,FALSE)","v":0},{"$f":"VLOOKUP($AI53,'Forfaitaire afvalscenario''s'!$A:$I,9,FALSE)","v":0},"0245-sto&Stort hout, 'schoon' (o.b.v. Waste wood, untreated {Europe without Switzerland}| treatment of waste wood, untreated, sanitary landfill | Cut-off, U)","_0297-avC&Verbranden organisch afval (4,29 MJ/kg) (o.b.v. Biowaste {GLO}| treatment of biowaste, municipal incineration | Cut-off, U)","0276-reD&Module D, houtspaanders, per kg NETTO geleverd (o.b.v. Wood chips, dry, measured as dry mass {RER}| three layered laminated board production | Cut-off, U)",". "]
["Natuurlijke materialen","Zachthout","kg",0,"_0067-fab&Hout, zachthout, vuren, grenen, lariks, douglas (o.b.v. Sawnwood, softwood, dried (u=10%), planed {RER}| production | Cut-off, U en 1 m3 = 460 kg)",8.8120761000000008E-6,1.5817706999999999E-3,0.22661132,2.4016230999999999E-8,2.2126390000000001E-4,1.2323614000000001E-3,2.4410449999999999E-4,0.10722733,2.5267053999999999E-3,7.1560600000000001,7.7154158999999996E-4,0,0,36.268180000000001,0,0,3.2642937000000001,0,0,0,1.2392333000000001E-3,1.2907098999999999E-5,7.0917575999999996E-2,1.5043022999999999E-5,0,0,0,0,0,25,{"$f":"VLOOKUP($AI54,'Forfaitaire afvalscenario''s'!$A:$I,2,FALSE)","v":"hout, verontreinigd"},{"$f":"VLOOKUP($AI54,'Forfaitaire afvalscenario''s'!$A:$I,3,FALSE)","v":"o.a. geschilderd, verduurzaamd"},{"$f":"VLOOKUP($AI54,'Forfaitaire afvalscenario''s'!$A:$I,6,FALSE)","v":0.05},{"$f":"VLOOKUP($AI54,'Forfaitaire afvalscenario''s'!$A:$I,7,FALSE)","v":0.95},{"$f":"VLOOKUP($AI54,'Forfaitaire afvalscenario''s'!$A:$I,8,FALSE)","v":0},{"$f":"VLOOKUP($AI54,'Forfaitaire afvalscenario''s'!$A:$I,9,FALSE)","v":0},"0246-sto&Stort hout, geschilderd (o.b.v. 99% Waste wood, untreated en 1% Waste paint {EU}| treatment of, sanitary landfill | Cut-off, U)","_0263-avC&Verbranden hout, verontreinigd (13,99 MJ/kg) (o.b.v. Waste building wood, chrome preserved {CH}| treatment of, municipal incineration | Cut-off, U)","0275-reD&Module D, houten balk, per kg NETTO geleverd (o.b.v. Sawnwood, beam, softwood, dried (u=10%), planed {RoW}| planing, beam, softwood, u=10% | Cut-off, U)",". "]
["Natuurlijke materialen","Resthout","kg",1,"_0071-fab&Hout, resthout, houtafval, houtsnippers, secundair (= 0-waarden want 'vrij van milieulast'; 0% primair, 100% secundair)",0,0,0,0,0,0,0,0,0,0,0,0,0,0,0,0,0,0,0,0,0,0,0,0,0,0,0,0,0,25,{"$f":"VLOOKUP($AI55,'Forfaitaire afvalscenario''s'!$A:$I,2,FALSE)","v":"hout, verontreinigd"},{"$f":"VLOOKUP($AI55,'Forfaitaire afvalscenario''s'!$A:$I,3,FALSE)","v":"o.a. geschilderd, verduurzaamd"},{"$f":"VLOOKUP($AI55,'Forfaitaire afvalscenario''s'!$A:$I,6,FALSE)","v":0.05},{"$f":"VLOOKUP($AI55,'Forfaitaire afvalscenario''s'!$A:$I,7,FALSE)","v":0.95},{"$f":"VLOOKUP($AI55,'Forfaitaire afvalscenario''s'!$A:$I,8,FALSE)","v":0},{"$f":"VLOOKUP($AI55,'Forfaitaire afvalscenario''s'!$A:$I,9,FALSE)","v":0},"0246-sto&Stort hout, geschilderd (o.b.v. 99% Waste wood, untreated en 1% Waste paint {EU}| treatment of, sanitary landfill | Cut-off, U)","_0263-avC&Verbranden hout, verontreinigd (13,99 MJ/kg) (o.b.v. Waste building wood, chrome preserved {CH}| treatment of, municipal incineration | Cut-off, U)","0275-reD&Module D, houten balk, per kg NETTO geleverd (o.b.v. Sawnwood, beam, softwood, dried (u=10%), planed {RoW}| planing, beam, softwood, u=10% | Cut-off, U)",". "]
["Natuurlijke materialen","Gecreosoteerd zachthout","kg",0,"_0177-fab&Hout, zachthout, gecreosoteerd (o.b.v. Sawnwood, softwood, dried (u=10%) en Wood preservation, pressure vessel, creosote)",1.1784258999999999E-5,6.4084779999999996E-3,0.48845054999999998,6.1824895000000002E-8,6.6109309E-3,2.3071039999999999E-3,4.0042259999999998E-4,0.63045333000000003,4.9182990000000002,13.675810999999999,9.0300600000000003E-4,0,0,29.634830000000001,0,0,10.701084,0,0,0,1.5736098E-2,1.4829233000000001E-5,8.3842760000000002E-2,1.7089823999999999E-5,0,0,0,0,0,25,{"$f":"VLOOKUP($AI56,'Forfaitaire afvalscenario''s'!$A:$I,2,FALSE)","v":"hout, verontreinigd"},{"$f":"VLOOKUP($AI56,'Forfaitaire afvalscenario''s'!$A:$I,3,FALSE)","v":"o.a. geschilderd, verduurzaamd"},{"$f":"VLOOKUP($AI56,'Forfaitaire afvalscenario''s'!$A:$I,6,FALSE)","v":0.05},{"$f":"VLOOKUP($AI56,'Forfaitaire afvalscenario''s'!$A:$I,7,FALSE)","v":0.95},{"$f":"VLOOKUP($AI56,'Forfaitaire afvalscenario''s'!$A:$I,8,FALSE)","v":0},{"$f":"VLOOKUP($AI56,'Forfaitaire afvalscenario''s'!$A:$I,9,FALSE)","v":0},"0246-sto&Stort hout, geschilderd (o.b.v. 99% Waste wood, untreated en 1% Waste paint {EU}| treatment of, sanitary landfill | Cut-off, U)","_0263-avC&Verbranden hout, verontreinigd (13,99 MJ/kg) (o.b.v. Waste building wood, chrome preserved {CH}| treatment of, municipal incineration | Cut-off, U)","0275-reD&Module D, houten balk, per kg NETTO geleverd (o.b.v. Sawnwood, beam, softwood, dried (u=10%), planed {RoW}| planing, beam, softwood, u=10% | Cut-off, U)",". "]
["Natuurlijke materialen","Gewolmaniseerd zachthout","kg",0,"_0180-fab&Hout, zachthout, gewolmaniseerd (o.b.v. Sawnwood, softwood, dried (u=10%) en Wood preservation, oscillating pressure method, inorganic salt, containing Cr)",4.0740586000000003E-5,2.3101329000000002E-3,0.35776131999999999,3.0307540999999998E-8,3.3234629E-4,3.3789853999999999E-3,3.8172717000000002E-4,0.39523322999999999,1.1549576000000001E-2,36.994103000000003,1.5807845E-3,0,0,35.074494999999999,0,0,4.6333190999999996,0,0,0,3.3201835000000002E-3,1.6072413000000001E-5,0.12985967000000001,1.7885629999999999E-5,0,0,0,0,0,25,{"$f":"VLOOKUP($AI57,'Forfaitaire afvalscenario''s'!$A:$I,2,FALSE)","v":"hout, verontreinigd"},{"$f":"VLOOKUP($AI57,'Forfaitaire afvalscenario''s'!$A:$I,3,FALSE)","v":"o.a. geschilderd, verduurzaamd"},{"$f":"VLOOKUP($AI57,'Forfaitaire afvalscenario''s'!$A:$I,6,FALSE)","v":0.05},{"$f":"VLOOKUP($AI57,'Forfaitaire afvalscenario''s'!$A:$I,7,FALSE)","v":0.95},{"$f":"VLOOKUP($AI57,'Forfaitaire afvalscenario''s'!$A:$I,8,FALSE)","v":0},{"$f":"VLOOKUP($AI57,'Forfaitaire afvalscenario''s'!$A:$I,9,FALSE)","v":0},"0246-sto&Stort hout, geschilderd (o.b.v. 99% Waste wood, untreated en 1% Waste paint {EU}| treatment of, sanitary landfill | Cut-off, U)","_0263-avC&Verbranden hout, verontreinigd (13,99 MJ/kg) (o.b.v. Waste building wood, chrome preserved {CH}| treatment of, municipal incineration | Cut-off, U)","0275-reD&Module D, houten balk, per kg NETTO geleverd (o.b.v. Sawnwood, beam, softwood, dried (u=10%), planed {RoW}| planing, beam, softwood, u=10% | Cut-off, U)",". "]
["Natuurlijke materialen","Hardhoutsnippers","kg",0,"_0291-fab&Hout, Europees hardhout, wilg (o.b.v. Wood chips and particles, willow {GLO}| market for | Cut-off, U)",1.0902452E-5,3.5664593999999998E-4,6.7760628000000003E-2,6.8042860000000003E-9,4.4013056E-5,4.0672160000000001E-4,7.0308890000000002E-4,4.5159865E-2,-1.6800463999999999E-4,1.8681624999999999,-9.5675965000000001E-5,0,0,20.480041,0,0,0.74413859000000004,0,0,0,3.6112063999999998E-4,2.3186942000000001E-6,2.9073502000000001E-2,3.5427030999999998E-6,0,0,0,0,0,25,{"$f":"VLOOKUP($AI58,'Forfaitaire afvalscenario''s'!$A:$I,2,FALSE)","v":"hout, verontreinigd"},{"$f":"VLOOKUP($AI58,'Forfaitaire afvalscenario''s'!$A:$I,3,FALSE)","v":"o.a. geschilderd, verduurzaamd"},{"$f":"VLOOKUP($AI58,'Forfaitaire afvalscenario''s'!$A:$I,6,FALSE)","v":0.05},{"$f":"VLOOKUP($AI58,'Forfaitaire afvalscenario''s'!$A:$I,7,FALSE)","v":0.95},{"$f":"VLOOKUP($AI58,'Forfaitaire afvalscenario''s'!$A:$I,8,FALSE)","v":0},{"$f":"VLOOKUP($AI58,'Forfaitaire afvalscenario''s'!$A:$I,9,FALSE)","v":0},"0246-sto&Stort hout, geschilderd (o.b.v. 99% Waste wood, untreated en 1% Waste paint {EU}| treatment of, sanitary landfill | Cut-off, U)","_0263-avC&Verbranden hout, verontreinigd (13,99 MJ/kg) (o.b.v. Waste building wood, chrome preserved {CH}| treatment of, municipal incineration | Cut-off, U)","0276-reD&Module D, houtspaanders, per kg NETTO geleverd (o.b.v. Wood chips, dry, measured as dry mass {RER}| three layered laminated board production | Cut-off, U)",". "]
["Natuurlijke materialen","Tropisch hardhout","kg",0,"_0381-fab&Hout, tropisch hardhout, Zuid-Amerikaans, gezaagd (o.b.v. Sawnwood, hardwood, dried (u=10%), planed {RoW}| market for | Cut-off, U en 1000 kg/m3 + 10100 km zeetransport + 350 km per as)",3.9988319999999998E-6,1.7046454E-3,0.25297733,3.7030837999999997E-8,3.8832443000000002E-4,3.3392305000000001E-3,4.7722029000000002E-4,0.13219444,3.5064893999999999E-3,10.027967,8.2478141E-4,0,0,19.797916000000001,0,0,3.6982835000000001,0,0,0,7.6728346000000001E-4,8.9271166999999996E-6,9.3384643000000003E-2,2.1468884999999999E-5,0,0,0,0,0,25,{"$f":"VLOOKUP($AI59,'Forfaitaire afvalscenario''s'!$A:$I,2,FALSE)","v":"hout, verontreinigd"},{"$f":"VLOOKUP($AI59,'Forfaitaire afvalscenario''s'!$A:$I,3,FALSE)","v":"o.a. geschilderd, verduurzaamd"},{"$f":"VLOOKUP($AI59,'Forfaitaire afvalscenario''s'!$A:$I,6,FALSE)","v":0.05},{"$f":"VLOOKUP($AI59,'Forfaitaire afvalscenario''s'!$A:$I,7,FALSE)","v":0.95},{"$f":"VLOOKUP($AI59,'Forfaitaire afvalscenario''s'!$A:$I,8,FALSE)","v":0},{"$f":"VLOOKUP($AI59,'Forfaitaire afvalscenario''s'!$A:$I,9,FALSE)","v":0},"0246-sto&Stort hout, geschilderd (o.b.v. 99% Waste wood, untreated en 1% Waste paint {EU}| treatment of, sanitary landfill | Cut-off, U)","_0263-avC&Verbranden hout, verontreinigd (13,99 MJ/kg) (o.b.v. Waste building wood, chrome preserved {CH}| treatment of, municipal incineration | Cut-off, U)","0275-reD&Module D, houten balk, per kg NETTO geleverd (o.b.v. Sawnwood, beam, softwood, dried (u=10%), planed {RoW}| planing, beam, softwood, u=10% | Cut-off, U)",". "]
["Natuurlijke materialen","Bamboe","kg",0,"_0414-fab&Bamboe, balk, geperste bundels strips (Strand woven bamboo beams [VanderLugt&Vogtlander 2015])",1.0254481E-5,9.4089477999999994E-3,1.3684512,8.0609539E-8,5.8984800000000002E-4,1.005405E-2,1.1462594999999999E-3,0.55873943000000004,1.0831199999999999E-2,52.168298,2.2195228000000001E-3,0,0,0.93194675000000005,0,0,16.580763999999999,0,0,0,1.0064297E-2,1.1702251000000001E-5,0.18852730000000001,4.0447483999999998E-5,0,0,0,0,0,25,{"$f":"VLOOKUP($AI60,'Forfaitaire afvalscenario''s'!$A:$I,2,FALSE)","v":"hout, verontreinigd"},{"$f":"VLOOKUP($AI60,'Forfaitaire afvalscenario''s'!$A:$I,3,FALSE)","v":"o.a. geschilderd, verduurzaamd"},{"$f":"VLOOKUP($AI60,'Forfaitaire afvalscenario''s'!$A:$I,6,FALSE)","v":0.05},{"$f":"VLOOKUP($AI60,'Forfaitaire afvalscenario''s'!$A:$I,7,FALSE)","v":0.95},{"$f":"VLOOKUP($AI60,'Forfaitaire afvalscenario''s'!$A:$I,8,FALSE)","v":0},{"$f":"VLOOKUP($AI60,'Forfaitaire afvalscenario''s'!$A:$I,9,FALSE)","v":0},"0246-sto&Stort hout, geschilderd (o.b.v. 99% Waste wood, untreated en 1% Waste paint {EU}| treatment of, sanitary landfill | Cut-off, U)","_0263-avC&Verbranden hout, verontreinigd (13,99 MJ/kg) (o.b.v. Waste building wood, chrome preserved {CH}| treatment of, municipal incineration | Cut-off, U)","0275-reD&Module D, houten balk, per kg NETTO geleverd (o.b.v. Sawnwood, beam, softwood, dried (u=10%), planed {RoW}| planing, beam, softwood, u=10% | Cut-off, U)",". "]
["Natuurlijke materialen","Kurk","kg",0,"_0435-fab&Kurk, geexpandeerd (o.b.v. Cork slab {GLO}| market for | Cut-off, U + 2300 km zeetransport)",1.7603964000000001E-5,1.3310466E-2,1.7657616,1.1898152000000001E-7,1.1043273000000001E-3,1.0043207E-2,1.1276389999999999E-3,0.83832682000000003,3.1806292999999999E-2,64.821973999999997,3.4727654000000002E-3,0,0,125.88798,0,0,26.085830000000001,0,0,0,2.5817054999999998E-2,1.9008224000000001E-5,0.16151319,7.1145351000000004E-5,0,0,0,0,0,25,{"$f":"VLOOKUP($AI61,'Forfaitaire afvalscenario''s'!$A:$I,2,FALSE)","v":"hout, verontreinigd"},{"$f":"VLOOKUP($AI61,'Forfaitaire afvalscenario''s'!$A:$I,3,FALSE)","v":"o.a. geschilderd, verduurzaamd"},{"$f":"VLOOKUP($AI61,'Forfaitaire afvalscenario''s'!$A:$I,6,FALSE)","v":0.05},{"$f":"VLOOKUP($AI61,'Forfaitaire afvalscenario''s'!$A:$I,7,FALSE)","v":0.95},{"$f":"VLOOKUP($AI61,'Forfaitaire afvalscenario''s'!$A:$I,8,FALSE)","v":0},{"$f":"VLOOKUP($AI61,'Forfaitaire afvalscenario''s'!$A:$I,9,FALSE)","v":0},"0246-sto&Stort hout, geschilderd (o.b.v. 99% Waste wood, untreated en 1% Waste paint {EU}| treatment of, sanitary landfill | Cut-off, U)","_0263-avC&Verbranden hout, verontreinigd (13,99 MJ/kg) (o.b.v. Waste building wood, chrome preserved {CH}| treatment of, municipal incineration | Cut-off, U)","0276-reD&Module D, houtspaanders, per kg NETTO geleverd (o.b.v. Wood chips, dry, measured as dry mass {RER}| three layered laminated board production | Cut-off, U)",". "]
["Plaatmateriaal","Multiplex","kg",0,"_0010-fab&Hout, multiplex, binnentoepassing (o.b.v. Plywood, for indoor use {RER}| market for | Cut-off, U en 500 kg/m3; 100% primair, 0% secundair)",1.5714644000000001E-5,6.4381139000000004E-3,0.77931412,1.1014507E-7,1.4111347999999999E-3,4.6723412000000001E-3,1.0789044E-3,0.42010904999999998,1.7755105E-2,37.219093000000001,3.5098500000000001E-3,0,0,64.994152999999997,0,0,15.154973,0,0,0,2.0013185999999999E-2,2.7784078E-5,0.21603152,7.0151959000000003E-5,0,0,0,0,0,25,{"$f":"VLOOKUP($AI62,'Forfaitaire afvalscenario''s'!$A:$I,2,FALSE)","v":"hout, verontreinigd"},{"$f":"VLOOKUP($AI62,'Forfaitaire afvalscenario''s'!$A:$I,3,FALSE)","v":"o.a. geschilderd, verduurzaamd"},{"$f":"VLOOKUP($AI62,'Forfaitaire afvalscenario''s'!$A:$I,6,FALSE)","v":0.05},{"$f":"VLOOKUP($AI62,'Forfaitaire afvalscenario''s'!$A:$I,7,FALSE)","v":0.95},{"$f":"VLOOKUP($AI62,'Forfaitaire afvalscenario''s'!$A:$I,8,FALSE)","v":0},{"$f":"VLOOKUP($AI62,'Forfaitaire afvalscenario''s'!$A:$I,9,FALSE)","v":0},"0246-sto&Stort hout, geschilderd (o.b.v. 99% Waste wood, untreated en 1% Waste paint {EU}| treatment of, sanitary landfill | Cut-off, U)","_0263-avC&Verbranden hout, verontreinigd (13,99 MJ/kg) (o.b.v. Waste building wood, chrome preserved {CH}| treatment of, municipal incineration | Cut-off, U)","0276-reD&Module D, houtspaanders, per kg NETTO geleverd (o.b.v. Wood chips, dry, measured as dry mass {RER}| three layered laminated board production | Cut-off, U)",". "]
["Plaatmateriaal","Spaanplaat","kg",0.64900000000000002,"_0021-fab&Hout, spaanplaat, binnengebruik (o.b.v. Particle board, for indoor use {GLO}| market for | Cut-off, U en 680 kg/m3; 35,1% primair, 64,9% secundair)",1.1743849E-5,4.6332637999999997E-3,0.53664319999999999,6.4356608000000006E-8,9.3540194000000002E-4,3.5390591999999998E-3,4.3691242000000002E-4,0.54458881999999997,9.5847373E-3,25.287703,1.3659888999999999E-3,0,0,28.067619000000001,0,0,9.7744418999999994,0,0,0,1.2181427E-2,1.7522244E-5,0.10623518,3.0672222999999997E-5,0,0,0,0,0,25,{"$f":"VLOOKUP($AI63,'Forfaitaire afvalscenario''s'!$A:$I,2,FALSE)","v":"hout, verontreinigd"},{"$f":"VLOOKUP($AI63,'Forfaitaire afvalscenario''s'!$A:$I,3,FALSE)","v":"o.a. geschilderd, verduurzaamd"},{"$f":"VLOOKUP($AI63,'Forfaitaire afvalscenario''s'!$A:$I,6,FALSE)","v":0.05},{"$f":"VLOOKUP($AI63,'Forfaitaire afvalscenario''s'!$A:$I,7,FALSE)","v":0.95},{"$f":"VLOOKUP($AI63,'Forfaitaire afvalscenario''s'!$A:$I,8,FALSE)","v":0},{"$f":"VLOOKUP($AI63,'Forfaitaire afvalscenario''s'!$A:$I,9,FALSE)","v":0},"0246-sto&Stort hout, geschilderd (o.b.v. 99% Waste wood, untreated en 1% Waste paint {EU}| treatment of, sanitary landfill | Cut-off, U)","_0263-avC&Verbranden hout, verontreinigd (13,99 MJ/kg) (o.b.v. Waste building wood, chrome preserved {CH}| treatment of, municipal incineration | Cut-off, U)","0276-reD&Module D, houtspaanders, per kg NETTO geleverd (o.b.v. Wood chips, dry, measured as dry mass {RER}| three layered laminated board production | Cut-off, U)",". "]
["Plaatmateriaal","OSB","kg",0,"_0023-fab&Hout, OSB (o.b.v. Oriented strand board {GLO}| market for | Cut-off, U en 600 kg/m3; 100% primair, 0% secundair)",1.7168316999999999E-5,5.3197124999999996E-3,0.62026802999999997,8.1377337999999997E-8,9.3123727999999998E-4,3.4300779E-3,7.0914793E-4,0.38835039999999998,8.4774444000000008E-3,20.895907000000001,2.1022927999999998E-3,0,0,30.065742,0,0,11.048279000000001,0,0,0,6.8065390000000003E-3,2.3825334E-5,0.1769288,3.2222362999999997E-5,0,0,0,0,0,25,{"$f":"VLOOKUP($AI64,'Forfaitaire afvalscenario''s'!$A:$I,2,FALSE)","v":"hout, verontreinigd"},{"$f":"VLOOKUP($AI64,'Forfaitaire afvalscenario''s'!$A:$I,3,FALSE)","v":"o.a. geschilderd, verduurzaamd"},{"$f":"VLOOKUP($AI64,'Forfaitaire afvalscenario''s'!$A:$I,6,FALSE)","v":0.05},{"$f":"VLOOKUP($AI64,'Forfaitaire afvalscenario''s'!$A:$I,7,FALSE)","v":0.95},{"$f":"VLOOKUP($AI64,'Forfaitaire afvalscenario''s'!$A:$I,8,FALSE)","v":0},{"$f":"VLOOKUP($AI64,'Forfaitaire afvalscenario''s'!$A:$I,9,FALSE)","v":0},"0246-sto&Stort hout, geschilderd (o.b.v. 99% Waste wood, untreated en 1% Waste paint {EU}| treatment of, sanitary landfill | Cut-off, U)","_0263-avC&Verbranden hout, verontreinigd (13,99 MJ/kg) (o.b.v. Waste building wood, chrome preserved {CH}| treatment of, municipal incineration | Cut-off, U)","0276-reD&Module D, houtspaanders, per kg NETTO geleverd (o.b.v. Wood chips, dry, measured as dry mass {RER}| three layered laminated board production | Cut-off, U)",". "]
["Plaatmateriaal","Zachthout","kg",0,"_0024-fab&Hout, zachthout, vuren, grenen, lariks, douglas, gelamineerd (o.b.v. Glued laminated timber, for indoor use {GLO}| market for | Cut-off, U en 1 m3 = 460 kg; 100% primair, 0% secundair)",1.030638E-5,3.7296438000000002E-3,0.50808233999999997,6.1691040000000006E-8,5.9952018000000002E-4,2.9416192E-3,6.0434737000000002E-4,0.23928362,6.9461662000000002E-3,18.733712000000001,1.7131710999999999E-3,0,0,48.081322999999998,0,0,8.2913771999999994,0,0,0,5.7695984000000001E-3,2.4766317E-5,0.16394221,4.0940781999999997E-5,0,0,0,0,0,25,{"$f":"VLOOKUP($AI65,'Forfaitaire afvalscenario''s'!$A:$I,2,FALSE)","v":"hout, verontreinigd"},{"$f":"VLOOKUP($AI65,'Forfaitaire afvalscenario''s'!$A:$I,3,FALSE)","v":"o.a. geschilderd, verduurzaamd"},{"$f":"VLOOKUP($AI65,'Forfaitaire afvalscenario''s'!$A:$I,6,FALSE)","v":0.05},{"$f":"VLOOKUP($AI65,'Forfaitaire afvalscenario''s'!$A:$I,7,FALSE)","v":0.95},{"$f":"VLOOKUP($AI65,'Forfaitaire afvalscenario''s'!$A:$I,8,FALSE)","v":0},{"$f":"VLOOKUP($AI65,'Forfaitaire afvalscenario''s'!$A:$I,9,FALSE)","v":0},"0246-sto&Stort hout, geschilderd (o.b.v. 99% Waste wood, untreated en 1% Waste paint {EU}| treatment of, sanitary landfill | Cut-off, U)","_0263-avC&Verbranden hout, verontreinigd (13,99 MJ/kg) (o.b.v. Waste building wood, chrome preserved {CH}| treatment of, municipal incineration | Cut-off, U)","0276-reD&Module D, houtspaanders, per kg NETTO geleverd (o.b.v. Wood chips, dry, measured as dry mass {RER}| three layered laminated board production | Cut-off, U)",". "]
["Plaatmateriaal","HDF","kg",0,"_0038-fab&HDF, high density fibreboard, hardboard (o.b.v. Fibreboard, hard {GLO}| market for | Cut-off, U en 900 kg/m3; 100% primair, 0% secundair)",8.1237706999999992E-6,8.6326927999999994E-3,1.2658830999999999,6.8674816999999996E-8,1.6686209000000001E-3,7.5124060999999997E-3,1.3087175E-3,0.77397284,2.3963667000000001E-2,33.951177000000001,6.4649946999999998E-3,0,0,24.336055000000002,0,0,15.612664000000001,0,0,0,8.6762956999999995E-3,3.4242146000000001E-5,0.18091109,3.5989479999999997E-5,0,0,0,0,0,25,{"$f":"VLOOKUP($AI66,'Forfaitaire afvalscenario''s'!$A:$I,2,FALSE)","v":"hout, verontreinigd"},{"$f":"VLOOKUP($AI66,'Forfaitaire afvalscenario''s'!$A:$I,3,FALSE)","v":"o.a. geschilderd, verduurzaamd"},{"$f":"VLOOKUP($AI66,'Forfaitaire afvalscenario''s'!$A:$I,6,FALSE)","v":0.05},{"$f":"VLOOKUP($AI66,'Forfaitaire afvalscenario''s'!$A:$I,7,FALSE)","v":0.95},{"$f":"VLOOKUP($AI66,'Forfaitaire afvalscenario''s'!$A:$I,8,FALSE)","v":0},{"$f":"VLOOKUP($AI66,'Forfaitaire afvalscenario''s'!$A:$I,9,FALSE)","v":0},"0246-sto&Stort hout, geschilderd (o.b.v. 99% Waste wood, untreated en 1% Waste paint {EU}| treatment of, sanitary landfill | Cut-off, U)","_0263-avC&Verbranden hout, verontreinigd (13,99 MJ/kg) (o.b.v. Waste building wood, chrome preserved {CH}| treatment of, municipal incineration | Cut-off, U)","0276-reD&Module D, houtspaanders, per kg NETTO geleverd (o.b.v. Wood chips, dry, measured as dry mass {RER}| three layered laminated board production | Cut-off, U)",". "]
["Plaatmateriaal","MDF","kg",0.14000000000000001,"_0044-fab&MDF (o.b.v. Medium density fibreboard {GLO}| market for | Cut-off, U en 780 kg/m3; 86% primair, 14% secundair)",1.5657142000000001E-5,7.7966438999999997E-3,0.93799480000000002,9.5749385E-8,9.7947310000000005E-4,4.8881641999999996E-3,7.6374429000000005E-4,0.47655816000000001,1.6901587999999999E-2,48.024036000000002,2.4394842000000001E-3,0,0,13.508470000000001,0,0,15.840835,0,0,0,2.2299571000000001E-2,2.4063819E-5,0.18728995000000001,4.0350588E-5,0,0,0,0,0,25,{"$f":"VLOOKUP($AI67,'Forfaitaire afvalscenario''s'!$A:$I,2,FALSE)","v":"hout, verontreinigd"},{"$f":"VLOOKUP($AI67,'Forfaitaire afvalscenario''s'!$A:$I,3,FALSE)","v":"o.a. geschilderd, verduurzaamd"},{"$f":"VLOOKUP($AI67,'Forfaitaire afvalscenario''s'!$A:$I,6,FALSE)","v":0.05},{"$f":"VLOOKUP($AI67,'Forfaitaire afvalscenario''s'!$A:$I,7,FALSE)","v":0.95},{"$f":"VLOOKUP($AI67,'Forfaitaire afvalscenario''s'!$A:$I,8,FALSE)","v":0},{"$f":"VLOOKUP($AI67,'Forfaitaire afvalscenario''s'!$A:$I,9,FALSE)","v":0},"0246-sto&Stort hout, geschilderd (o.b.v. 99% Waste wood, untreated en 1% Waste paint {EU}| treatment of, sanitary landfill | Cut-off, U)","_0263-avC&Verbranden hout, verontreinigd (13,99 MJ/kg) (o.b.v. Waste building wood, chrome preserved {CH}| treatment of, municipal incineration | Cut-off, U)","0276-reD&Module D, houtspaanders, per kg NETTO geleverd (o.b.v. Wood chips, dry, measured as dry mass {RER}| three layered laminated board production | Cut-off, U)",". "]
["Plaatmateriaal","Karton","kg",0.76,"_0058-fab&Papier/karton (o.b.v. Core board {GLO}| market for | Cut-off, U; 24% primair, 76% secundair)",1.6047965E-5,8.9003525E-3,1.4823219000000001,7.8818800000000002E-8,6.5386926E-4,9.7884037E-3,2.2105575999999999E-3,0.58385975000000001,0.16844287999999999,42.631179000000003,3.4324484000000002E-2,0,0,13.604456000000001,0,0,16.296212000000001,0,0,0,4.1411064999999997E-2,2.8717185999999998E-5,0.16730953000000001,4.9772065999999998E-5,0,0,0,0,0,37,{"$f":"VLOOKUP($AI68,'Forfaitaire afvalscenario''s'!$A:$I,2,FALSE)","v":"organisch"},{"$f":"VLOOKUP($AI68,'Forfaitaire afvalscenario''s'!$A:$I,3,FALSE)","v":"via restmateriaal"},{"$f":"VLOOKUP($AI68,'Forfaitaire afvalscenario''s'!$A:$I,6,FALSE)","v":0.15},{"$f":"VLOOKUP($AI68,'Forfaitaire afvalscenario''s'!$A:$I,7,FALSE)","v":0.85},{"$f":"VLOOKUP($AI68,'Forfaitaire afvalscenario''s'!$A:$I,8,FALSE)","v":0},{"$f":"VLOOKUP($AI68,'Forfaitaire afvalscenario''s'!$A:$I,9,FALSE)","v":0},"0246-sto&Stort hout, geschilderd (o.b.v. 99% Waste wood, untreated en 1% Waste paint {EU}| treatment of, sanitary landfill | Cut-off, U)","_0263-avC&Verbranden hout, verontreinigd (13,99 MJ/kg) (o.b.v. Waste building wood, chrome preserved {CH}| treatment of, municipal incineration | Cut-off, U)","0276-reD&Module D, houtspaanders, per kg NETTO geleverd (o.b.v. Wood chips, dry, measured as dry mass {RER}| three layered laminated board production | Cut-off, U)",". "]
["Polymeren","EPS","kg",0.13,"_0007-fab&Polystyreen, EPS (o.b.v. Polystyrene foam slab {GLO}| market for | Cut-off, U; 87% primair, 13% secundair)",5.1555783999999998E-6,4.2085786E-2,4.0524391,1.1692487E-7,8.2514040000000004E-3,1.4154494E-2,1.3102397E-3,0.68234437000000003,1.5945811000000001E-2,53.556505000000001,2.6191333000000002E-3,0,0,1.5434806000000001,0,0,92.751658000000006,0,0,0,6.3638379999999994E-2,1.5355975000000002E-5,0.18218987,4.5827224E-5,0,0,0,0,0,13,{"$f":"VLOOKUP($AI69,'Forfaitaire afvalscenario''s'!$A:$I,2,FALSE)","v":"eps, overig"},{"$f":"VLOOKUP($AI69,'Forfaitaire afvalscenario''s'!$A:$I,3,FALSE)","v":"o.a. isolatie"},{"$f":"VLOOKUP($AI69,'Forfaitaire afvalscenario''s'!$A:$I,6,FALSE)","v":0.05},{"$f":"VLOOKUP($AI69,'Forfaitaire afvalscenario''s'!$A:$I,7,FALSE)","v":0.9},{"$f":"VLOOKUP($AI69,'Forfaitaire afvalscenario''s'!$A:$I,8,FALSE)","v":0.05},{"$f":"VLOOKUP($AI69,'Forfaitaire afvalscenario''s'!$A:$I,9,FALSE)","v":0},"0242-sto&Stort EPS, XPS (o.b.v. Waste polystyrene {Europe without Switzerland}| treatment of waste polystyrene, sanitary landfill | Cut-off, U)","_0261-avC&Verbranden EPS (32,2 MJ/kg) (o.b.v. Waste expanded polystyrene {CH}| treatment of, municipal incineration | Cut-off, U)","0309-reD&Module D, EPS, per kg NETTO geleverd EPS (o.b.v. vermeden Polystyrene, expandable {RER}| production | Cut-off, U en kwaliteitsfactor 0,9)",". "]
["Polymeren","Rubber","kg",0,"_0014-fab&EPDM, rubber, chloropreen, neoprene, styrene butadiene rubber - SBR (o.b.v. Synthetic rubber {GLO}| market for | Cut-off, U)",1.0623413E-3,3.8312299000000001E-2,2.7592566000000001,5.4635066999999996E-7,3.2436208999999999E-3,1.3394924000000001E-2,1.5762004E-3,1.2467276,2.7641893000000001E-2,100.18998999999999,4.0490086E-3,0,0,3.1285085000000001,0,0,83.879176999999999,0,0,0,4.5529284000000003E-2,4.647406E-5,0.26863521000000001,3.2552009000000001E-4,0,0,0,0,0,11,{"$f":"VLOOKUP($AI70,'Forfaitaire afvalscenario''s'!$A:$I,2,FALSE)","v":"elastomeren (o.a. epdm)"},{"$f":"VLOOKUP($AI70,'Forfaitaire afvalscenario''s'!$A:$I,3,FALSE)","v":"o.a. dakbedekkingen, folies"},{"$f":"VLOOKUP($AI70,'Forfaitaire afvalscenario''s'!$A:$I,6,FALSE)","v":0.1},{"$f":"VLOOKUP($AI70,'Forfaitaire afvalscenario''s'!$A:$I,7,FALSE)","v":0.85},{"$f":"VLOOKUP($AI70,'Forfaitaire afvalscenario''s'!$A:$I,8,FALSE)","v":0.05},{"$f":"VLOOKUP($AI70,'Forfaitaire afvalscenario''s'!$A:$I,9,FALSE)","v":0},"0249-sto&Stort kunststoffen (o.b.v. mix 21% PE, 21% PP, 17% PVC, 21% PS en 20% mixture)","_0260-avC&Verbranden rubber/EPDM (27,2 MJ/kg) (o.b.v. Waste rubber, unspecified {Europe without Switzerland}| treatment of waste rubber, unspecified, municipal incineration | Cut-off, U)","0278-reD&Module D, PE, per kg NETTO geleverd (o.b.v. vermeden Polyethylene, high density, granulate {RER}| production | Cut-off, U en kwaliteitsfactor 0,67)",". "]
["Polymeren","Polycarbonaat","kg",0,"_0030-fab&Polycarbonaat (o.b.v. Polycarbonate {GLO}| market for | Cut-off, U)",3.7917198999999998E-6,5.0352573999999997E-2,8.2014169999999993,1.6204938999999999E-8,3.6368448E-3,2.5388392999999999E-2,2.0251265000000001E-3,0.32958187999999999,3.1626900999999999E-2,26.662019000000001,2.7292288000000001E-2,0,0,0.50140107,0,0,108.23061,0,0,0,5.2757301999999999E-2,3.2843630999999998E-6,0.14733642999999999,8.1801409000000004E-6,0,0,0,0,0,32,{"$f":"VLOOKUP($AI71,'Forfaitaire afvalscenario''s'!$A:$I,2,FALSE)","v":"kunststoffen, overig"},{"$f":"VLOOKUP($AI71,'Forfaitaire afvalscenario''s'!$A:$I,3,FALSE)","v":"o.a. profielen, platen, leidingen"},{"$f":"VLOOKUP($AI71,'Forfaitaire afvalscenario''s'!$A:$I,6,FALSE)","v":0},{"$f":"VLOOKUP($AI71,'Forfaitaire afvalscenario''s'!$A:$I,7,FALSE)","v":0.9},{"$f":"VLOOKUP($AI71,'Forfaitaire afvalscenario''s'!$A:$I,8,FALSE)","v":0.1},{"$f":"VLOOKUP($AI71,'Forfaitaire afvalscenario''s'!$A:$I,9,FALSE)","v":0},"0249-sto&Stort kunststoffen (o.b.v. mix 21% PE, 21% PP, 17% PVC, 21% PS en 20% mixture)","_0264-avC&Verbranden kunststoffen (28,67 MJ/kg) (o.b.v. o.b.v. mix 21% PE, 21% PP, 20% PVC, 17% PS en 21% mixture)","0278-reD&Module D, PE, per kg NETTO geleverd (o.b.v. vermeden Polyethylene, high density, granulate {RER}| production | Cut-off, U en kwaliteitsfactor 0,67)",". "]
["Polymeren","PUR","kg",0,"_0032-fab&PUR, hardschuim (o.b.v. Polyurethane, rigid foam {RER}| market for polyurethane, rigid foam | Cut-off, U)",9.8938673999999997E-5,5.5009325999999997E-2,5.7187070999999996,8.8865569999999998E-7,7.8591582000000007E-3,2.9626660999999999E-2,6.5997885000000003E-3,2.7447919000000001,7.5734368999999996E-2,146.35503,1.4681051000000001E-2,0,0,6.5621213000000003,0,0,121.89359,0,0,0,0.12594089,6.9013959999999997E-5,0.48421672999999998,2.3547433000000001E-4,0,0,0,0,0,13,{"$f":"VLOOKUP($AI72,'Forfaitaire afvalscenario''s'!$A:$I,2,FALSE)","v":"eps, overig"},{"$f":"VLOOKUP($AI72,'Forfaitaire afvalscenario''s'!$A:$I,3,FALSE)","v":"o.a. isolatie"},{"$f":"VLOOKUP($AI72,'Forfaitaire afvalscenario''s'!$A:$I,6,FALSE)","v":0.05},{"$f":"VLOOKUP($AI72,'Forfaitaire afvalscenario''s'!$A:$I,7,FALSE)","v":0.9},{"$f":"VLOOKUP($AI72,'Forfaitaire afvalscenario''s'!$A:$I,8,FALSE)","v":0.05},{"$f":"VLOOKUP($AI72,'Forfaitaire afvalscenario''s'!$A:$I,9,FALSE)","v":0},"0300-sto&Stort PUR (o.b.v. Waste polyurethane {RoW}| treatment of, sanitary landfill | Cut-off, U)","_0264-avC&Verbranden kunststoffen (28,67 MJ/kg) (o.b.v. o.b.v. mix 21% PE, 21% PP, 20% PVC, 17% PS en 21% mixture)","0278-reD&Module D, PE, per kg NETTO geleverd (o.b.v. vermeden Polyethylene, high density, granulate {RER}| production | Cut-off, U en kwaliteitsfactor 0,67)",". "]
["Polymeren","Polystyreen","kg",0.13,"_0048-fab&Polystyreen (o.b.v. Polystyrene, general purpose {GLO}| market for | Cut-off, U)",2.3846581999999998E-6,4.0017234999999998E-2,3.7470306,1.547453E-8,2.2427004E-3,1.198886E-2,8.2346871000000003E-4,0.46251967999999999,1.5908832000000001E-2,26.792048000000001,1.1871226000000001E-3,0,0,0.35190392999999998,0,0,88.780416000000002,0,0,0,5.2536490999999998E-2,3.0908043E-6,9.2489071000000006E-2,7.7872438999999993E-6,0,0,0,0,0,13,{"$f":"VLOOKUP($AI73,'Forfaitaire afvalscenario''s'!$A:$I,2,FALSE)","v":"eps, overig"},{"$f":"VLOOKUP($AI73,'Forfaitaire afvalscenario''s'!$A:$I,3,FALSE)","v":"o.a. isolatie"},{"$f":"VLOOKUP($AI73,'Forfaitaire afvalscenario''s'!$A:$I,6,FALSE)","v":0.05},{"$f":"VLOOKUP($AI73,'Forfaitaire afvalscenario''s'!$A:$I,7,FALSE)","v":0.9},{"$f":"VLOOKUP($AI73,'Forfaitaire afvalscenario''s'!$A:$I,8,FALSE)","v":0.05},{"$f":"VLOOKUP($AI73,'Forfaitaire afvalscenario''s'!$A:$I,9,FALSE)","v":0},"0242-sto&Stort EPS, XPS (o.b.v. Waste polystyrene {Europe without Switzerland}| treatment of waste polystyrene, sanitary landfill | Cut-off, U)","_0261-avC&Verbranden EPS (32,2 MJ/kg) (o.b.v. Waste expanded polystyrene {CH}| treatment of, municipal incineration | Cut-off, U)","0309-reD&Module D, EPS, per kg NETTO geleverd EPS (o.b.v. vermeden Polystyrene, expandable {RER}| production | Cut-off, U en kwaliteitsfactor 0,9)",". "]
["Polymeren","ABS","kg",0,"_0055-fab&ABS (o.b.v. Acrylonitrile-butadiene-styrene copolymer {GLO}| market for | Cut-off, U)",6.2555329E-6,4.5601174000000001E-2,4.6739518000000002,5.9947158000000005E-8,3.5907705999999998E-3,1.4138217E-2,1.2987617000000001E-3,0.45326945000000002,9.2243070999999996E-2,118.71172,1.3218934999999999E-3,0,0,0.54905680000000001,0,0,99.479298,0,0,0,5.8327737999999997E-2,9.3068868000000002E-6,0.22060075000000001,1.4221779000000001E-5,0,0,0,0,0,32,{"$f":"VLOOKUP($AI74,'Forfaitaire afvalscenario''s'!$A:$I,2,FALSE)","v":"kunststoffen, overig"},{"$f":"VLOOKUP($AI74,'Forfaitaire afvalscenario''s'!$A:$I,3,FALSE)","v":"o.a. profielen, platen, leidingen"},{"$f":"VLOOKUP($AI74,'Forfaitaire afvalscenario''s'!$A:$I,6,FALSE)","v":0},{"$f":"VLOOKUP($AI74,'Forfaitaire afvalscenario''s'!$A:$I,7,FALSE)","v":0.9},{"$f":"VLOOKUP($AI74,'Forfaitaire afvalscenario''s'!$A:$I,8,FALSE)","v":0.1},{"$f":"VLOOKUP($AI74,'Forfaitaire afvalscenario''s'!$A:$I,9,FALSE)","v":0},"0249-sto&Stort kunststoffen (o.b.v. mix 21% PE, 21% PP, 17% PVC, 21% PS en 20% mixture)","_0264-avC&Verbranden kunststoffen (28,67 MJ/kg) (o.b.v. o.b.v. mix 21% PE, 21% PP, 20% PVC, 17% PS en 21% mixture)","0278-reD&Module D, PE, per kg NETTO geleverd (o.b.v. vermeden Polyethylene, high density, granulate {RER}| production | Cut-off, U en kwaliteitsfactor 0,67)",". "]
["Polymeren","Polyester","kg",0,"_0075-fab&Polyester, glasvezelversterkt (o.b.v. Glass fibre reinforced plastic, polyester resin, hand lay-up {GLO}| market for | Cut-off, U)",1.3433590999999999E-4,3.1551206999999998E-2,3.8446289999999999,3.6785044999999999E-7,8.4370603000000002E-3,1.8513248E-2,3.354919E-3,3.9257561999999999,6.7274533999999997E-2,124.7056,1.6170759999999999E-2,0,0,4.7195039999999997,0,0,65.714236999999997,0,0,0,4.4958333000000003E-2,6.5127106999999994E-5,0.48980186999999997,1.1743718000000001E-4,0,0,0,0,0,32,{"$f":"VLOOKUP($AI75,'Forfaitaire afvalscenario''s'!$A:$I,2,FALSE)","v":"kunststoffen, overig"},{"$f":"VLOOKUP($AI75,'Forfaitaire afvalscenario''s'!$A:$I,3,FALSE)","v":"o.a. profielen, platen, leidingen"},{"$f":"VLOOKUP($AI75,'Forfaitaire afvalscenario''s'!$A:$I,6,FALSE)","v":0},{"$f":"VLOOKUP($AI75,'Forfaitaire afvalscenario''s'!$A:$I,7,FALSE)","v":0.9},{"$f":"VLOOKUP($AI75,'Forfaitaire afvalscenario''s'!$A:$I,8,FALSE)","v":0.1},{"$f":"VLOOKUP($AI75,'Forfaitaire afvalscenario''s'!$A:$I,9,FALSE)","v":0},"0249-sto&Stort kunststoffen (o.b.v. mix 21% PE, 21% PP, 17% PVC, 21% PS en 20% mixture)","_0264-avC&Verbranden kunststoffen (28,67 MJ/kg) (o.b.v. o.b.v. mix 21% PE, 21% PP, 20% PVC, 17% PS en 21% mixture)","0278-reD&Module D, PE, per kg NETTO geleverd (o.b.v. vermeden Polyethylene, high density, granulate {RER}| production | Cut-off, U en kwaliteitsfactor 0,67)",". "]
["Polymeren","Polyetheen (PE)","kg",0,"_0353-fab&Polyetheen, HDPE, granulaat (o.b.v. Polyethylene, high density, granulate {GLO}| market for | Cut-off, U)",2.2419371000000002E-5,3.6676598999999997E-2,2.3170872999999998,5.8551781E-8,1.9942278000000002E-3,8.1238609999999996E-3,8.2197976999999998E-4,0.4570824,1.0551786E-2,37.530090000000001,1.6546E-3,0,0,0.99526099000000001,0,0,79.379125000000002,0,0,0,2.3805960000000001E-2,1.2052922E-5,0.16806761000000001,3.4006144E-5,0,0,0,0,0,32,{"$f":"VLOOKUP($AI76,'Forfaitaire afvalscenario''s'!$A:$I,2,FALSE)","v":"kunststoffen, overig"},{"$f":"VLOOKUP($AI76,'Forfaitaire afvalscenario''s'!$A:$I,3,FALSE)","v":"o.a. profielen, platen, leidingen"},{"$f":"VLOOKUP($AI76,'Forfaitaire afvalscenario''s'!$A:$I,6,FALSE)","v":0},{"$f":"VLOOKUP($AI76,'Forfaitaire afvalscenario''s'!$A:$I,7,FALSE)","v":0.9},{"$f":"VLOOKUP($AI76,'Forfaitaire afvalscenario''s'!$A:$I,8,FALSE)","v":0.1},{"$f":"VLOOKUP($AI76,'Forfaitaire afvalscenario''s'!$A:$I,9,FALSE)","v":0},"0251-sto&Stort PE (o.b.v. Waste polyethylene {Europe without Switzerland}| treatment of waste polyethylene, sanitary landfill | Cut-off, U), ook elastomeren als epdm","_0311-avC&Verbranden PE (42,47 MJ/kg) (o.b.v. Waste polyethylene {RoW}| treatment of waste polyethylene, municipal incineration | Cut-off, U)","0278-reD&Module D, PE, per kg NETTO geleverd (o.b.v. vermeden Polyethylene, high density, granulate {RER}| production | Cut-off, U en kwaliteitsfactor 0,67)",". "]
["Polymeren","Polypropeen (PP)","kg",0,"_0355-fab&Polypropeen, PP, granulaat (o.b.v. Polypropylene, granulate {GLO}| market for | Cut-off, U)",2.2163853000000001E-5,3.7287742999999998E-2,2.2841152,4.3613179999999999E-8,1.7669067E-3,7.9391834000000008E-3,7.7406966000000002E-4,0.40123045000000002,9.9477200999999998E-3,33.728999999999999,1.4562498E-3,0,0,0.86845675,0,0,80.842583000000005,0,0,0,2.0628143000000002E-2,1.0088191E-5,0.16782027999999999,2.6288971999999999E-5,0,0,0,0,0,32,{"$f":"VLOOKUP($AI77,'Forfaitaire afvalscenario''s'!$A:$I,2,FALSE)","v":"kunststoffen, overig"},{"$f":"VLOOKUP($AI77,'Forfaitaire afvalscenario''s'!$A:$I,3,FALSE)","v":"o.a. profielen, platen, leidingen"},{"$f":"VLOOKUP($AI77,'Forfaitaire afvalscenario''s'!$A:$I,6,FALSE)","v":0},{"$f":"VLOOKUP($AI77,'Forfaitaire afvalscenario''s'!$A:$I,7,FALSE)","v":0.9},{"$f":"VLOOKUP($AI77,'Forfaitaire afvalscenario''s'!$A:$I,8,FALSE)","v":0.1},{"$f":"VLOOKUP($AI77,'Forfaitaire afvalscenario''s'!$A:$I,9,FALSE)","v":0},"0249-sto&Stort kunststoffen (o.b.v. mix 21% PE, 21% PP, 17% PVC, 21% PS en 20% mixture)","_0310-avC&Verbranden PP (32,78 MJ/kg) (o.b.v. Waste polypropylene {RoW}| treatment of waste polypropylene, municipal incineration | Cut-off, U)","0278-reD&Module D, PE, per kg NETTO geleverd (o.b.v. vermeden Polyethylene, high density, granulate {RER}| production | Cut-off, U en kwaliteitsfactor 0,67)",". "]
["Polymeren","PVC","kg",0,"_0356-fab&PVC, granulaat (o.b.v. Polyvinylchloride, suspension polymerised {GLO}| market for | Cut-off, U)",5.6796558000000003E-5,2.7379702999999998E-2,2.4418221999999998,1.1604048999999999E-6,1.3128276999999999E-3,9.7311635000000007E-3,1.1245425E-3,0.94485443000000002,2.5742989000000001E-2,88.224170000000001,4.1720654999999997E-3,0,0,1.9750468999999999,0,0,57.458804000000001,0,0,0,3.3890380999999997E-2,3.3560453999999999E-5,0.29493694999999998,6.4014899999999996E-5,0,0,0,0,0,32,{"$f":"VLOOKUP($AI78,'Forfaitaire afvalscenario''s'!$A:$I,2,FALSE)","v":"kunststoffen, overig"},{"$f":"VLOOKUP($AI78,'Forfaitaire afvalscenario''s'!$A:$I,3,FALSE)","v":"o.a. profielen, platen, leidingen"},{"$f":"VLOOKUP($AI78,'Forfaitaire afvalscenario''s'!$A:$I,6,FALSE)","v":0},{"$f":"VLOOKUP($AI78,'Forfaitaire afvalscenario''s'!$A:$I,7,FALSE)","v":0.9},{"$f":"VLOOKUP($AI78,'Forfaitaire afvalscenario''s'!$A:$I,8,FALSE)","v":0.1},{"$f":"VLOOKUP($AI78,'Forfaitaire afvalscenario''s'!$A:$I,9,FALSE)","v":0},"0252-sto&Stort PVC (o.b.v. Waste polyvinylchloride {Europe without Switzerland}| treatment of waste polyvinylchloride, sanitary landfill | Cut-off, U)","_0265-avC&Verbranden PVC (21,51 MJ/kg) (o.b.v. Waste polyvinylchloride {CH}| treatment of, municipal incineration | Cut-off, U)","0278-reD&Module D, PE, per kg NETTO geleverd (o.b.v. vermeden Polyethylene, high density, granulate {RER}| production | Cut-off, U en kwaliteitsfactor 0,67)",". "]
["Polymeren","Gerecycled kunststof","kg",1,"_0403-fab&Kunststof, gemengd, gerecycled (= 0-waarden want 'vrij van milieulast')",0,0,0,0,0,0,0,0,0,0,0,0,0,0,0,0,0,0,0,0,0,0,0,0,0,0,0,0,0,32,{"$f":"VLOOKUP($AI79,'Forfaitaire afvalscenario''s'!$A:$I,2,FALSE)","v":"kunststoffen, overig"},{"$f":"VLOOKUP($AI79,'Forfaitaire afvalscenario''s'!$A:$I,3,FALSE)","v":"o.a. profielen, platen, leidingen"},{"$f":"VLOOKUP($AI79,'Forfaitaire afvalscenario''s'!$A:$I,6,FALSE)","v":0},{"$f":"VLOOKUP($AI79,'Forfaitaire afvalscenario''s'!$A:$I,7,FALSE)","v":0.9},{"$f":"VLOOKUP($AI79,'Forfaitaire afvalscenario''s'!$A:$I,8,FALSE)","v":0.1},{"$f":"VLOOKUP($AI79,'Forfaitaire afvalscenario''s'!$A:$I,9,FALSE)","v":0},"0249-sto&Stort kunststoffen (o.b.v. mix 21% PE, 21% PP, 17% PVC, 21% PS en 20% mixture)","_0264-avC&Verbranden kunststoffen (28,67 MJ/kg) (o.b.v. o.b.v. mix 21% PE, 21% PP, 20% PVC, 17% PS en 21% mixture)","0278-reD&Module D, PE, per kg NETTO geleverd (o.b.v. vermeden Polyethylene, high density, granulate {RER}| production | Cut-off, U en kwaliteitsfactor 0,67)",". "]
["Polymeren","High Impact Polystyreen (HIPS)","kg",{"$f":"D74","v":0},"obv 80% PS en 20% ABS; afvalscenario zelfde als ABS (TNO, Tom Ligthart)",{"$f":"0.8*F73+0.2*F74","v":3.1588331399999997E-6},4.1134022800000003E-2,3.9324148400000003,2.4369055600000003E-8,2.5123144399999998E-3,1.2418731400000001E-2,9.18527308E-4,0.46066963400000005,3.1175679800000002E-2,45.175982400000009,1.21407678E-3,0,0,0.39133450400000003,0,0,90.920192400000019,0,0,0,5.3694740400000003E-2,4.3340208000000004E-6,0.11811140680000001,9.074150920000001E-6,0,0,0,0,0,32,{"$f":"VLOOKUP($AI80,'Forfaitaire afvalscenario''s'!$A:$I,2,FALSE)","v":"kunststoffen, overig"},"o.a. verpakking",{"$f":"AL73","v":0.05},{"$f":"AM73","v":0.9},{"$f":"AN73","v":0.05},{"$f":"AO73","v":0},"0249-sto&Stort kunststoffen (o.b.v. mix 21% PE, 21% PP, 17% PVC, 21% PS en 20% mixture)","_0264-avC&Verbranden kunststoffen (28,67 MJ/kg) (o.b.v. o.b.v. mix 21% PE, 21% PP, 20% PVC, 17% PS en 21% mixture)","0278-reD&Module D, PE, per kg NETTO geleverd (o.b.v. vermeden Polyethylene, high density, granulate {RER}| production | Cut-off, U en kwaliteitsfactor 0,67)"]
["Polymeren","Vezelversterkte polymeren (PA6.6)","kg",{"$f":"30%*40%","v":0.12},"Nylon 6-6, glass-filled {RER}| market for nylon 6-6, glass-filled | Cut-off, U; afvalscenario: secundaire content ca 40% voor glasvezels, 0% voor PA, aandeel glas ca 30%, geen recycling (TNO, Tom Ligthart)",3.6298290694457302E-6,4.9730536880104197E-2,7.1910339327645998,8.0038855986189293E-9,2.8816321796084599E-3,2.5482261628664699E-2,4.44965804558611E-3,0.225126312062779,6.6688229928002996E-2,58.299812105159397,4.7181071905134399E-4,0,0,1.26817064219792,0,0,110.524105604377,0,0,0,0.18427850384797201,1.4385186507716499E-6,0.109126574593787,3.4243646765127399E-6,0,0,0,0,0,32,{"$f":"VLOOKUP($AI81,'Forfaitaire afvalscenario''s'!$A:$I,2,FALSE)","v":"kunststoffen, overig"},"o.a. scheepsbouw, automotive, lucht- en ruimtevaart, civiele techniek, sportartikelen",0,1,0,{"$f":"AO74","v":0},"0249-sto&Stort kunststoffen (o.b.v. mix 21% PE, 21% PP, 17% PVC, 21% PS en 20% mixture)","_0264-avC&Verbranden kunststoffen (28,67 MJ/kg) (o.b.v. o.b.v. mix 21% PE, 21% PP, 20% PVC, 17% PS en 21% mixture)","0278-reD&Module D, PE, per kg NETTO geleverd (o.b.v. vermeden Polyethylene, high density, granulate {RER}| production | Cut-off, U en kwaliteitsfactor 0,67)"]
["Polymeren","LDPE","kg",0.05,"0012-fab&Polyetheen, LDPE, folie (o.b.v. Packaging film, low density polyethylene {GLO}| market for | Cut-off, U); inzet gerecyclede content, afvalscenario: TNO, Tom Ligthart",3.0546415123962002E-5,4.2804594923300902E-2,3.1313613597315002,1.0628507164730001E-7,3.35442222164576E-3,1.18301561125946E-2,1.32837280622667E-3,0.77765559504915405,1.83920082214056E-2,62.687269597312003,3.6902025511527398E-3,0,0,3.60571069223352,0,0,92.469423590982899,0,0,0,5.4930085111203598E-2,2.3357575813461701E-5,0.29686313035325501,8.3182560922866997E-5,0,0,0,0,0,32,{"$f":"VLOOKUP($AI82,'Forfaitaire afvalscenario''s'!$A:$I,2,FALSE)","v":"kunststoffen, overig"},"o.a. folie, flessen, kabelbeschermmateriaal, coating, kliko's",0,0.7,0.3,0,"0249-sto&Stort kunststoffen (o.b.v. mix 21% PE, 21% PP, 17% PVC, 21% PS en 20% mixture)","_0264-avC&Verbranden kunststoffen (28,67 MJ/kg) (o.b.v. o.b.v. mix 21% PE, 21% PP, 20% PVC, 17% PS en 21% mixture)","0278-reD&Module D, PE, per kg NETTO geleverd (o.b.v. vermeden Polyethylene, high density, granulate {RER}| production | Cut-off, U en kwaliteitsfactor 0,67)"]
["Textiel","Nylon","kg",0,"_0015-fab&Polyamide, PA 6, PA 66 (o.b.v. Nylon 6 {GLO}| market for | Cut-off, U)",6.7920054999999997E-5,5.6036252000000002E-2,9.3081140999999992,1.8559459999999999E-8,4.9295559999999999E-3,3.0166279000000001E-2,5.7846777E-3,0.40311216,3.3228517999999999E-2,47.118701000000001,1.1521521000000001E-3,0,0,0.59149733000000004,0,0,122.75098,0,0,0,6.9126185000000007E-2,3.6223095000000002E-6,0.14270422999999999,8.3962841000000007E-6,0,0,0,0,0,32,{"$f":"VLOOKUP($AI83,'Forfaitaire afvalscenario''s'!$A:$I,2,FALSE)","v":"kunststoffen, overig"},{"$f":"VLOOKUP($AI83,'Forfaitaire afvalscenario''s'!$A:$I,3,FALSE)","v":"o.a. profielen, platen, leidingen"},{"$f":"VLOOKUP($AI83,'Forfaitaire afvalscenario''s'!$A:$I,6,FALSE)","v":0},{"$f":"VLOOKUP($AI83,'Forfaitaire afvalscenario''s'!$A:$I,7,FALSE)","v":0.9},{"$f":"VLOOKUP($AI83,'Forfaitaire afvalscenario''s'!$A:$I,8,FALSE)","v":0.1},{"$f":"VLOOKUP($AI83,'Forfaitaire afvalscenario''s'!$A:$I,9,FALSE)","v":0},"0249-sto&Stort kunststoffen (o.b.v. mix 21% PE, 21% PP, 17% PVC, 21% PS en 20% mixture)","_0264-avC&Verbranden kunststoffen (28,67 MJ/kg) (o.b.v. o.b.v. mix 21% PE, 21% PP, 20% PVC, 17% PS en 21% mixture)","0278-reD&Module D, PE, per kg NETTO geleverd (o.b.v. vermeden Polyethylene, high density, granulate {RER}| production | Cut-off, U en kwaliteitsfactor 0,67)",". "]
["Textiel","Schapenwol","kg",0.22,"_0073-fab&Schapenwol, 80% import Australië, 20% NL (o.b.v. Sheep fleece in the grease {GLO}| market for | Cut-off, U + transport; 78% primair, 22% secundair)",3.2541722999999999E-4,2.2611625E-2,43.537728999999999,4.3315314999999998E-7,1.2675766E-2,0.64027767000000002,0.25248903,8.5512329000000005,1.0691109999999999,188.69371000000001,3.5984825999999998E-2,0,0,139.79465999999999,0,0,47.028587000000002,0,0,0,0.27266852000000003,9.6871910999999993E-5,2.8313603999999999,1.9526784E-4,0,0,0,0,0,38,{"$f":"VLOOKUP($AI84,'Forfaitaire afvalscenario''s'!$A:$I,2,FALSE)","v":"organisch, overig"},{"$f":"VLOOKUP($AI84,'Forfaitaire afvalscenario''s'!$A:$I,3,FALSE)","v":"o.a. isolatie"},{"$f":"VLOOKUP($AI84,'Forfaitaire afvalscenario''s'!$A:$I,6,FALSE)","v":0.05},{"$f":"VLOOKUP($AI84,'Forfaitaire afvalscenario''s'!$A:$I,7,FALSE)","v":0.95},{"$f":"VLOOKUP($AI84,'Forfaitaire afvalscenario''s'!$A:$I,8,FALSE)","v":0},{"$f":"VLOOKUP($AI84,'Forfaitaire afvalscenario''s'!$A:$I,9,FALSE)","v":0},"0250-sto&Stort minerale wol (o.b.v. Waste mineral wool, for final disposal {Europe without Switzerland}| treatment of waste mineral wool, inert material landfill | Cut-off, U)","_0297-avC&Verbranden organisch afval (4,29 MJ/kg) (o.b.v. Biowaste {GLO}| treatment of biowaste, municipal incineration | Cut-off, U)","0276-reD&Module D, houtspaanders, per kg NETTO geleverd (o.b.v. Wood chips, dry, measured as dry mass {RER}| three layered laminated board production | Cut-off, U)",". "]
["Textiel","Jute","kg",0,"_0187-fab&Jute, geweven (o.b.v. Textile, jute {GLO}| market for | Cut-off, U)",8.3802757000000006E-5,1.4318437999999999E-2,2.2646576,1.5349437E-7,2.1407931999999998E-3,2.1443220999999998E-2,2.5606237E-2,25.436976999999999,0.50967161999999999,107.05992000000001,1.0388973999999999E-3,0,0,95.534503999999998,0,0,27.197274,0,0,0,0.45726997000000003,9.5853839E-5,0.47286429000000002,8.4563345999999996E-5,0,0,0,0,0,38,{"$f":"VLOOKUP($AI85,'Forfaitaire afvalscenario''s'!$A:$I,2,FALSE)","v":"organisch, overig"},{"$f":"VLOOKUP($AI85,'Forfaitaire afvalscenario''s'!$A:$I,3,FALSE)","v":"o.a. isolatie"},{"$f":"VLOOKUP($AI85,'Forfaitaire afvalscenario''s'!$A:$I,6,FALSE)","v":0.05},{"$f":"VLOOKUP($AI85,'Forfaitaire afvalscenario''s'!$A:$I,7,FALSE)","v":0.95},{"$f":"VLOOKUP($AI85,'Forfaitaire afvalscenario''s'!$A:$I,8,FALSE)","v":0},{"$f":"VLOOKUP($AI85,'Forfaitaire afvalscenario''s'!$A:$I,9,FALSE)","v":0},"0245-sto&Stort hout, 'schoon' (o.b.v. Waste wood, untreated {Europe without Switzerland}| treatment of waste wood, untreated, sanitary landfill | Cut-off, U)","_0297-avC&Verbranden organisch afval (4,29 MJ/kg) (o.b.v. Biowaste {GLO}| treatment of biowaste, municipal incineration | Cut-off, U)","0276-reD&Module D, houtspaanders, per kg NETTO geleverd (o.b.v. Wood chips, dry, measured as dry mass {RER}| three layered laminated board production | Cut-off, U)",". "]
["Textiel","Kokos","kg",0,"_0189-fab&Kokos, matten en vliezen (o.b.v. Coconut husk {GLO}| market for coconut husk | Cut-off, U (= 0-waarden want 'vrij van milieulast') + Weaving + 12500 km oceanic transport)",9.5305368000000003E-5,1.4162264000000001E-2,2.3703031999999999,1.7601481999999999E-7,2.4825046000000002E-3,2.6171567E-2,2.9790100999999999E-2,29.477996999999998,0.59016946000000003,117.71169,9.7930179999999997E-4,0,0,110.99019,0,0,28.382425000000001,0,0,0,0.53123578000000005,9.4476357000000005E-5,0.45488861000000003,1.0265685999999999E-4,0,0,0,0,0,38,{"$f":"VLOOKUP($AI86,'Forfaitaire afvalscenario''s'!$A:$I,2,FALSE)","v":"organisch, overig"},{"$f":"VLOOKUP($AI86,'Forfaitaire afvalscenario''s'!$A:$I,3,FALSE)","v":"o.a. isolatie"},{"$f":"VLOOKUP($AI86,'Forfaitaire afvalscenario''s'!$A:$I,6,FALSE)","v":0.05},{"$f":"VLOOKUP($AI86,'Forfaitaire afvalscenario''s'!$A:$I,7,FALSE)","v":0.95},{"$f":"VLOOKUP($AI86,'Forfaitaire afvalscenario''s'!$A:$I,8,FALSE)","v":0},{"$f":"VLOOKUP($AI86,'Forfaitaire afvalscenario''s'!$A:$I,9,FALSE)","v":0},"0245-sto&Stort hout, 'schoon' (o.b.v. Waste wood, untreated {Europe without Switzerland}| treatment of waste wood, untreated, sanitary landfill | Cut-off, U)","_0297-avC&Verbranden organisch afval (4,29 MJ/kg) (o.b.v. Biowaste {GLO}| treatment of biowaste, municipal incineration | Cut-off, U)","0276-reD&Module D, houtspaanders, per kg NETTO geleverd (o.b.v. Wood chips, dry, measured as dry mass {RER}| three layered laminated board production | Cut-off, U)",". "]
["Textiel","Fleece (PET)","kg",0,"_Fleece, polyethylene {GLO}| market for | Cut-off, U",4.4952944000000002E-5,4.4924436999999998E-2,3.2091232999999999,1.1416793E-7,2.6465616000000002E-3,1.1683818E-2,1.2699337E-3,1.2856050000000001,2.4575857E-2,69.240690999999998,3.9310083999999999E-3,0,0,1.9783264,0,0,96.929686000000004,0,0,0,4.0145843000000001E-2,3.6265786000000003E-5,0.31942603000000003,6.5039888999999997E-5,0,0,0,0,0,32,{"$f":"VLOOKUP($AI87,'Forfaitaire afvalscenario''s'!$A:$I,2,FALSE)","v":"kunststoffen, overig"},{"$f":"VLOOKUP($AI87,'Forfaitaire afvalscenario''s'!$A:$I,3,FALSE)","v":"o.a. profielen, platen, leidingen"},{"$f":"VLOOKUP($AI87,'Forfaitaire afvalscenario''s'!$A:$I,6,FALSE)","v":0},{"$f":"VLOOKUP($AI87,'Forfaitaire afvalscenario''s'!$A:$I,7,FALSE)","v":0.9},{"$f":"VLOOKUP($AI87,'Forfaitaire afvalscenario''s'!$A:$I,8,FALSE)","v":0.1},{"$f":"VLOOKUP($AI87,'Forfaitaire afvalscenario''s'!$A:$I,9,FALSE)","v":0},"0313-sto&Stort PE, ongecontroleerd ('laten zitten') (o.b.v. Waste polyethylene {GLO}| treatment of waste polyethylene, unsanitary landfill, moist infiltration class (300mm) | Cut-off, U)","_0264-avC&Verbranden kunststoffen (28,67 MJ/kg) (o.b.v. o.b.v. mix 21% PE, 21% PP, 20% PVC, 17% PS en 21% mixture)","0278-reD&Module D, PE, per kg NETTO geleverd (o.b.v. vermeden Polyethylene, high density, granulate {RER}| production | Cut-off, U en kwaliteitsfactor 0,67)",". "]
["Textiel","Katoen","kg",0,"_XXXX Katoen (o.b.v. Textile, woven cotton {GLO}| market for | Cut-off, U)",1.6083471000000001E-4,6.0436626E-2,10.304767,5.8367061000000003E-7,3.9465131000000001E-3,7.064732E-2,0.10536635,3.2044914000000002,7.6259829000000003,379.76323000000002,2.6994647999999999,0,0,53.542088999999997,0,0,116.46720999999999,0,0,0,5.5103511000000003,1.5153979999999999E-4,0.89582830000000002,3.5749622E-4,0,0,0,0,0,38,{"$f":"VLOOKUP($AI88,'Forfaitaire afvalscenario''s'!$A:$I,2,FALSE)","v":"organisch, overig"},{"$f":"VLOOKUP($AI88,'Forfaitaire afvalscenario''s'!$A:$I,3,FALSE)","v":"o.a. isolatie"},{"$f":"VLOOKUP($AI88,'Forfaitaire afvalscenario''s'!$A:$I,6,FALSE)","v":0.05},{"$f":"VLOOKUP($AI88,'Forfaitaire afvalscenario''s'!$A:$I,7,FALSE)","v":0.95},{"$f":"VLOOKUP($AI88,'Forfaitaire afvalscenario''s'!$A:$I,8,FALSE)","v":0},{"$f":"VLOOKUP($AI88,'Forfaitaire afvalscenario''s'!$A:$I,9,FALSE)","v":0},"0245-sto&Stort hout, 'schoon' (o.b.v. Waste wood, untreated {Europe without Switzerland}| treatment of waste wood, untreated, sanitary landfill | Cut-off, U)","_0297-avC&Verbranden organisch afval (4,29 MJ/kg) (o.b.v. Biowaste {GLO}| treatment of biowaste, municipal incineration | Cut-off, U)","0276-reD&Module D, houtspaanders, per kg NETTO geleverd (o.b.v. Wood chips, dry, measured as dry mass {RER}| three layered laminated board production | Cut-off, U)",". "]
["Textiel","Polyester","kg",0,"_0075-fab&Polyester, glasvezelversterkt (o.b.v. Glass fibre reinforced plastic, polyester resin, hand lay-up {GLO}| market for | Cut-off, U)",1.3433590999999999E-4,3.1551206999999998E-2,3.8446289999999999,3.6785044999999999E-7,8.4370603000000002E-3,1.8513248E-2,3.354919E-3,3.9257561999999999,6.7274533999999997E-2,124.7056,1.6170759999999999E-2,0,0,4.7195039999999997,0,0,65.714236999999997,0,0,0,4.4958333000000003E-2,6.5127106999999994E-5,0.48980186999999997,1.1743718000000001E-4,0,0,0,0,0,32,{"$f":"VLOOKUP($AI89,'Forfaitaire afvalscenario''s'!$A:$I,2,FALSE)","v":"kunststoffen, overig"},{"$f":"VLOOKUP($AI89,'Forfaitaire afvalscenario''s'!$A:$I,3,FALSE)","v":"o.a. profielen, platen, leidingen"},{"$f":"VLOOKUP($AI89,'Forfaitaire afvalscenario''s'!$A:$I,6,FALSE)","v":0},{"$f":"VLOOKUP($AI89,'Forfaitaire afvalscenario''s'!$A:$I,7,FALSE)","v":0.9},{"$f":"VLOOKUP($AI89,'Forfaitaire afvalscenario''s'!$A:$I,8,FALSE)","v":0.1},{"$f":"VLOOKUP($AI89,'Forfaitaire afvalscenario''s'!$A:$I,9,FALSE)","v":0},"0313-sto&Stort PE, ongecontroleerd ('laten zitten') (o.b.v. Waste polyethylene {GLO}| treatment of waste polyethylene, unsanitary landfill, moist infiltration class (300mm) | Cut-off, U)","_0264-avC&Verbranden kunststoffen (28,67 MJ/kg) (o.b.v. o.b.v. mix 21% PE, 21% PP, 20% PVC, 17% PS en 21% mixture)","0278-reD&Module D, PE, per kg NETTO geleverd (o.b.v. vermeden Polyethylene, high density, granulate {RER}| production | Cut-off, U en kwaliteitsfactor 0,67)",". "]
["Elektronica","LCD display","kg",0,"_Liquid crystal display, unmounted {GLO}| market for | Cut-off, U",1.4632602E-2,0.43619479,67.387032000000005,4.3329800000000001E-6,4.3754932000000003E-2,0.40374495999999999,0.15861944,92.604771999999997,2.0960923,12482.221,0.31530140000000001,0,0,84.229315999999997,0,0,853.15067999999997,0,0,0,0.57132132999999996,2.3120184E-3,9.4705747999999996,2.0917354000000001E-3,0,0,0,0,0,30,{"$f":"VLOOKUP($AI90,'Forfaitaire afvalscenario''s'!$A:$I,2,FALSE)","v":"koper, gemengd"},{"$f":"VLOOKUP($AI90,'Forfaitaire afvalscenario''s'!$A:$I,3,FALSE)","v":"elektriciteitsleidingen"},{"$f":"VLOOKUP($AI90,'Forfaitaire afvalscenario''s'!$A:$I,6,FALSE)","v":0.1},{"$f":"VLOOKUP($AI90,'Forfaitaire afvalscenario''s'!$A:$I,7,FALSE)","v":0.05},{"$f":"VLOOKUP($AI90,'Forfaitaire afvalscenario''s'!$A:$I,8,FALSE)","v":0.85},{"$f":"VLOOKUP($AI90,'Forfaitaire afvalscenario''s'!$A:$I,9,FALSE)","v":0},"0248-sto&Stort koper, lood, verzinkt staal, zink (o.b.v. Scrap tin sheet {CH}| treatment of, sanitary landfill | Cut-off, U, bij gebrek aan passender proces)","_0307-avC&Verbranden koperschroot (o.b.v. Scrap copper {RoW}| treatment of, municipal incineration | Cut-off, U)","0277-reD&Module D, koper, per kg NETTO geleverd schroot (vermeden: Copper {RER}| production, primary | Cut-off, U)",". "]
["Elektronica","Printplaat (PCB)","kg",0,"_0405-fab&Elektronica, printplaat, inclusief elektronische componenten (o.b.v. Printed wiring board, surface mounted, unspecified, Pb free {GLO}| market for | Cut-off, U)",0.18124346,2.6312508000000001,375.06083999999998,3.7349070999999999E-5,0.16971380999999999,2.3864201,0.46063817000000001,194.26115999999999,20.103566000000001,51404.468000000001,2.1938713000000001,0,0,497.25572,0,0,5105.9624999999996,0,0,0,3.6133065000000002,1.6468581999999999E-2,31.168503999999999,1.4504893E-2,0,0,0,0,0,30,{"$f":"VLOOKUP($AI91,'Forfaitaire afvalscenario''s'!$A:$I,2,FALSE)","v":"koper, gemengd"},{"$f":"VLOOKUP($AI91,'Forfaitaire afvalscenario''s'!$A:$I,3,FALSE)","v":"elektriciteitsleidingen"},{"$f":"VLOOKUP($AI91,'Forfaitaire afvalscenario''s'!$A:$I,6,FALSE)","v":0.1},{"$f":"VLOOKUP($AI91,'Forfaitaire afvalscenario''s'!$A:$I,7,FALSE)","v":0.05},{"$f":"VLOOKUP($AI91,'Forfaitaire afvalscenario''s'!$A:$I,8,FALSE)","v":0.85},{"$f":"VLOOKUP($AI91,'Forfaitaire afvalscenario''s'!$A:$I,9,FALSE)","v":0},"0248-sto&Stort koper, lood, verzinkt staal, zink (o.b.v. Scrap tin sheet {CH}| treatment of, sanitary landfill | Cut-off, U, bij gebrek aan passender proces)","_0307-avC&Verbranden koperschroot (o.b.v. Scrap copper {RoW}| treatment of, municipal incineration | Cut-off, U)","0277-reD&Module D, koper, per kg NETTO geleverd schroot (vermeden: Copper {RER}| production, primary | Cut-off, U)",". "]
["Elektronica","LED","kg",6.8000000000000005E-2,"_0305-fab&LED (o.b.v. Light emitting diode {GLO}| market for | Cut-off, U; 93,2% primair, 6,8% secundair)",6.5146561000000002E-3,1.903106,268.59231999999997,1.2338799E-5,9.5312285999999996E-2,1.4783037999999999,0.21724540000000001,151.91573,2.6605916999999999,19651.705000000002,0.56184688000000005,0,0,365.32972000000001,0,0,3657.7087000000001,0,0,0,2.8223562000000002,2.6788290000000002E-3,20.304117000000002,9.6189407999999997E-3,0,0,0,0,0,30,{"$f":"VLOOKUP($AI92,'Forfaitaire afvalscenario''s'!$A:$I,2,FALSE)","v":"koper, gemengd"},{"$f":"VLOOKUP($AI92,'Forfaitaire afvalscenario''s'!$A:$I,3,FALSE)","v":"elektriciteitsleidingen"},{"$f":"VLOOKUP($AI92,'Forfaitaire afvalscenario''s'!$A:$I,6,FALSE)","v":0.1},{"$f":"VLOOKUP($AI92,'Forfaitaire afvalscenario''s'!$A:$I,7,FALSE)","v":0.05},{"$f":"VLOOKUP($AI92,'Forfaitaire afvalscenario''s'!$A:$I,8,FALSE)","v":0.85},{"$f":"VLOOKUP($AI92,'Forfaitaire afvalscenario''s'!$A:$I,9,FALSE)","v":0},"0248-sto&Stort koper, lood, verzinkt staal, zink (o.b.v. Scrap tin sheet {CH}| treatment of, sanitary landfill | Cut-off, U, bij gebrek aan passender proces)","_0307-avC&Verbranden koperschroot (o.b.v. Scrap copper {RoW}| treatment of, municipal incineration | Cut-off, U)","0277-reD&Module D, koper, per kg NETTO geleverd schroot (vermeden: Copper {RER}| production, primary | Cut-off, U)",". "]
["Elektronica","Accu Li-ion oplaadbaar","kg",2.3E-2,"_0301-fab&Accu, Lithium-ion (o.b.v. Battery, Li-ion, rechargeable, prismatic {GLO}| market for | Cut-off, U; 97,7% primair, 2,3% secundair)",1.4162261000000001E-3,5.7385968000000002E-2,7.7671567000000001,6.8203034999999997E-7,9.1115177000000002E-3,0.13245404999999999,9.4904155999999996E-3,22.80555,0.47246778,2026.2788,6.2680039000000007E-2,0,0,12.86299,0,0,110.13475,0,0,0,0.10185145,3.8063315000000002E-3,2.0951257999999999,2.6757567000000002E-4,0,0,0,0,0,32,{"$f":"VLOOKUP($AI93,'Forfaitaire afvalscenario''s'!$A:$I,2,FALSE)","v":"kunststoffen, overig"},{"$f":"VLOOKUP($AI93,'Forfaitaire afvalscenario''s'!$A:$I,3,FALSE)","v":"o.a. profielen, platen, leidingen"},{"$f":"VLOOKUP($AI93,'Forfaitaire afvalscenario''s'!$A:$I,6,FALSE)","v":0},{"$f":"VLOOKUP($AI93,'Forfaitaire afvalscenario''s'!$A:$I,7,FALSE)","v":0.9},{"$f":"VLOOKUP($AI93,'Forfaitaire afvalscenario''s'!$A:$I,8,FALSE)","v":0.1},{"$f":"VLOOKUP($AI93,'Forfaitaire afvalscenario''s'!$A:$I,9,FALSE)","v":0}]
["Overig","Leeg","kg",0,"-",0,0,0,0,0,0,0,0,0,0,0,0,0,0,0,0,0,0,0,0,0,0,0,0,0,0,0,0,0,"-","-","-",0,0,0,0]
["Circulaire materialen","Pfleiderer DecoBoard","kg",0.66,"EPD",1.6595940740740739E-7,0,0.14478287037037035,9.1666724722222207E-8,1.3624444444444443E-3,2.0132592592592591E-2,8.5284166666666668E-3,0,0,0,0,0,0,0,0,0,0,0,0,0,0,0,0,0,0,0,0,0,0,27,{"$f":"VLOOKUP($AI95,'Forfaitaire afvalscenario''s'!$A:$I,2,FALSE)","v":"hout, verontreinigd"},{"$f":"VLOOKUP($AI95,'Forfaitaire afvalscenario''s'!$A:$I,3,FALSE)","v":"via restmateriaal"},{"$f":"VLOOKUP($AI95,'Forfaitaire afvalscenario''s'!$A:$I,6,FALSE)","v":0.1},{"$f":"VLOOKUP($AI95,'Forfaitaire afvalscenario''s'!$A:$I,7,FALSE)","v":0.9},{"$f":"VLOOKUP($AI95,'Forfaitaire afvalscenario''s'!$A:$I,8,FALSE)","v":0},{"$f":"VLOOKUP($AI95,'Forfaitaire afvalscenario''s'!$A:$I,9,FALSE)","v":0},{"$f":"E174","v":"0246-sto&Stort hout, geschilderd (o.b.v. 99% Waste wood, untreated en 1% Waste paint {EU}| treatment of, sanitary landfill | Cut-off, U)"},{"$f":"'MI materialen'!E157","v":"_0263-avC&Verbranden hout, verontreinigd (13,99 MJ/kg) (o.b.v. Waste building wood, chrome preserved {CH}| treatment of, municipal incineration | Cut-off, U)"},{"$f":"E195","v":"0276-reD&Module D, houtspaanders, per kg NETTO geleverd (o.b.v. Wood chips, dry, measured as dry mass {RER}| three layered laminated board production | Cut-off, U)"}]
["Circulaire materialen","Pfleiderer LivingBoard","kg",0.66,"EPD",1.6595940740740739E-7,0,0.14478287037037035,9.1666724722222207E-8,1.3624444444444443E-3,2.0132592592592591E-2,8.5284166666666668E-3,0,0,0,0,0,0,0,0,0,0,0,0,0,0,0,0,0,0,0,0,0,0,27,{"$f":"VLOOKUP($AI96,'Forfaitaire afvalscenario''s'!$A:$I,2,FALSE)","v":"hout, verontreinigd"},{"$f":"VLOOKUP($AI96,'Forfaitaire afvalscenario''s'!$A:$I,3,FALSE)","v":"via restmateriaal"},{"$f":"VLOOKUP($AI96,'Forfaitaire afvalscenario''s'!$A:$I,6,FALSE)","v":0.1},{"$f":"VLOOKUP($AI96,'Forfaitaire afvalscenario''s'!$A:$I,7,FALSE)","v":0.9},{"$f":"VLOOKUP($AI96,'Forfaitaire afvalscenario''s'!$A:$I,8,FALSE)","v":0},{"$f":"VLOOKUP($AI96,'Forfaitaire afvalscenario''s'!$A:$I,9,FALSE)","v":0},{"$f":"E174","v":"0246-sto&Stort hout, geschilderd (o.b.v. 99% Waste wood, untreated en 1% Waste paint {EU}| treatment of, sanitary landfill | Cut-off, U)"},{"$f":"'MI materialen'!E157","v":"_0263-avC&Verbranden hout, verontreinigd (13,99 MJ/kg) (o.b.v. Waste building wood, chrome preserved {CH}| treatment of, municipal incineration | Cut-off, U)"},{"$f":"E195","v":"0276-reD&Module D, houtspaanders, per kg NETTO geleverd (o.b.v. Wood chips, dry, measured as dry mass {RER}| three layered laminated board production | Cut-off, U)"}]
["Circulaire materialen","Accoya","kg",0,"EPD",4.8772413793103458E-7,7.5843678160919547E-4,3.6500000000000005E-2,2.708620689655173E-6,1.1512643678160922E-3,8.2298850574712649E-3,3.2875862068965519E-3,0,0,0,0,0,0,0,0,0,0,0,0,0,0,0,0,0,0,0,0,0,0,27,{"$f":"VLOOKUP($AI97,'Forfaitaire afvalscenario''s'!$A:$I,2,FALSE)","v":"hout, verontreinigd"},{"$f":"VLOOKUP($AI97,'Forfaitaire afvalscenario''s'!$A:$I,3,FALSE)","v":"via restmateriaal"},{"$f":"VLOOKUP($AI97,'Forfaitaire afvalscenario''s'!$A:$I,6,FALSE)","v":0.1},{"$f":"VLOOKUP($AI97,'Forfaitaire afvalscenario''s'!$A:$I,7,FALSE)","v":0.9},{"$f":"VLOOKUP($AI97,'Forfaitaire afvalscenario''s'!$A:$I,8,FALSE)","v":0},{"$f":"VLOOKUP($AI97,'Forfaitaire afvalscenario''s'!$A:$I,9,FALSE)","v":0},{"$f":"E174","v":"0246-sto&Stort hout, geschilderd (o.b.v. 99% Waste wood, untreated en 1% Waste paint {EU}| treatment of, sanitary landfill | Cut-off, U)"},{"$f":"'MI materialen'!E157","v":"_0263-avC&Verbranden hout, verontreinigd (13,99 MJ/kg) (o.b.v. Waste building wood, chrome preserved {CH}| treatment of, municipal incineration | Cut-off, U)"},{"$f":"E195","v":"0276-reD&Module D, houtspaanders, per kg NETTO geleverd (o.b.v. Wood chips, dry, measured as dry mass {RER}| three layered laminated board production | Cut-off, U)"}]
["Circulaire materialen","Really solid boards","kg",0.99,"EPD",3.2492307692307689E-6,0,5.923076923076924E-2,3.2538461538461538E-6,9.0153846153846161E-3,0,2.4784615384615383E-3,0,0,0,0,0,0,0,0,0,0,0,0,0,0,0,0,0,0,0,0,0,0,40,{"$f":"VLOOKUP($AI98,'Forfaitaire afvalscenario''s'!$A:$I,2,FALSE)","v":"plaatmateriaal, verontreinigd"},{"$f":"VLOOKUP($AI98,'Forfaitaire afvalscenario''s'!$A:$I,3,FALSE)","v":"grote delen, o.a. bekleding"},{"$f":"VLOOKUP($AI98,'Forfaitaire afvalscenario''s'!$A:$I,6,FALSE)","v":0.05},{"$f":"VLOOKUP($AI98,'Forfaitaire afvalscenario''s'!$A:$I,7,FALSE)","v":0.95},{"$f":"VLOOKUP($AI98,'Forfaitaire afvalscenario''s'!$A:$I,8,FALSE)","v":0},{"$f":"VLOOKUP($AI98,'Forfaitaire afvalscenario''s'!$A:$I,9,FALSE)","v":0},{"$f":"E173","v":"0245-sto&Stort hout, 'schoon' (o.b.v. Waste wood, untreated {Europe without Switzerland}| treatment of waste wood, untreated, sanitary landfill | Cut-off, U)"},{"$f":"E156","v":"_0262-avC&Verbranden hout, 'schoon' (13,99 MJ/kg) (o.b.v. Waste wood, untreated {CH}| treatment of, municipal incineration | Cut-off, U)"},{"$f":"E195","v":"0276-reD&Module D, houtspaanders, per kg NETTO geleverd (o.b.v. Wood chips, dry, measured as dry mass {RER}| three layered laminated board production | Cut-off, U)"}]
["Circulaire materialen","Resysta","kg",0.6,"EPD",8.618832E-7,0,9.5860000000000015E-2,1.096302E-8,1.4695399999999999E-3,2.9208000000000001E-2,8.0441999999999996E-3,0,0,0,0,0,0,0,0,0,0,0,0,0,0,0,0,0,0,0,0,0,0,40,{"$f":"VLOOKUP($AI99,'Forfaitaire afvalscenario''s'!$A:$I,2,FALSE)","v":"plaatmateriaal, verontreinigd"},{"$f":"VLOOKUP($AI99,'Forfaitaire afvalscenario''s'!$A:$I,3,FALSE)","v":"grote delen, o.a. bekleding"},{"$f":"VLOOKUP($AI99,'Forfaitaire afvalscenario''s'!$A:$I,6,FALSE)","v":0.05},{"$f":"VLOOKUP($AI99,'Forfaitaire afvalscenario''s'!$A:$I,7,FALSE)","v":0.95},{"$f":"VLOOKUP($AI99,'Forfaitaire afvalscenario''s'!$A:$I,8,FALSE)","v":0},{"$f":"VLOOKUP($AI99,'Forfaitaire afvalscenario''s'!$A:$I,9,FALSE)","v":0},{"$f":"E174","v":"0246-sto&Stort hout, geschilderd (o.b.v. 99% Waste wood, untreated en 1% Waste paint {EU}| treatment of, sanitary landfill | Cut-off, U)"},{"$f":"E156","v":"_0262-avC&Verbranden hout, 'schoon' (13,99 MJ/kg) (o.b.v. Waste wood, untreated {CH}| treatment of, municipal incineration | Cut-off, U)"},{"$f":"E195","v":"0276-reD&Module D, houtspaanders, per kg NETTO geleverd (o.b.v. Wood chips, dry, measured as dry mass {RER}| three layered laminated board production | Cut-off, U)"}]
["Circulaire materialen","Graphenstone","kg",0,"EPD",2.4424000000000001E-8,0.25270399999999998,5.29285E-3,3.4533000000000004E-7,6.7442000000000009E-5,2.1049599999999999E-3,7.43499E-4,0,0,0,0,0,0,0,0,0,0,0,0,0,0,0,0,0,0,0,0,0,0,1,{"$f":"VLOOKUP($AI100,'Forfaitaire afvalscenario''s'!$A:$I,2,FALSE)","v":"afwerkingen"},{"$f":"VLOOKUP($AI100,'Forfaitaire afvalscenario''s'!$A:$I,3,FALSE)","v":"verkleefd aan hout, kunststof, metaal"},{"$f":"VLOOKUP($AI100,'Forfaitaire afvalscenario''s'!$A:$I,6,FALSE)","v":0},{"$f":"VLOOKUP($AI100,'Forfaitaire afvalscenario''s'!$A:$I,7,FALSE)","v":1},{"$f":"VLOOKUP($AI100,'Forfaitaire afvalscenario''s'!$A:$I,8,FALSE)","v":0},{"$f":"VLOOKUP($AI100,'Forfaitaire afvalscenario''s'!$A:$I,9,FALSE)","v":0},"0299-sto&Stort verf (o.b.v. Waste paint {Europe without Switzerland}| treatment of waste paint, sanitary landfill | Cut-off, U)",{"$f":"E160","v":"_0266-avC&Verbranden verf (10,14 MJ/kg) (o.b.v. Waste paint {Europe without Switzerland}| treatment of waste paint, municipal incineration | Cut-off, U)"},{"$f":"E207","v":"leeg"}]
["Circulaire materialen","RAW Paints","kg",0,"EPD",6.3179511000000004E-6,5.4084800999999998E-3,0.91680189000000001,5.2948878999999998E-8,6.2015623000000002E-4,3.1027041E-3,1.0866249999999999E-3,0.49539440000000001,0.1234538,19.335328000000001,4.7554737E-2,0,0,5.0880555999999997,0,0,13.635014,0,0,0,1.1147433E-2,1.1498467E-5,8.7177800999999999E-2,3.7020641000000001E-5,0,0,0,0,0,1,{"$f":"VLOOKUP($AI101,'Forfaitaire afvalscenario''s'!$A:$I,2,FALSE)","v":"afwerkingen"},{"$f":"VLOOKUP($AI101,'Forfaitaire afvalscenario''s'!$A:$I,3,FALSE)","v":"verkleefd aan hout, kunststof, metaal"},{"$f":"VLOOKUP($AI101,'Forfaitaire afvalscenario''s'!$A:$I,6,FALSE)","v":0},{"$f":"VLOOKUP($AI101,'Forfaitaire afvalscenario''s'!$A:$I,7,FALSE)","v":1},{"$f":"VLOOKUP($AI101,'Forfaitaire afvalscenario''s'!$A:$I,8,FALSE)","v":0},{"$f":"VLOOKUP($AI101,'Forfaitaire afvalscenario''s'!$A:$I,9,FALSE)","v":0},"0299-sto&Stort verf (o.b.v. Waste paint {Europe without Switzerland}| treatment of waste paint, sanitary landfill | Cut-off, U)",{"$f":"E160","v":"_0266-avC&Verbranden verf (10,14 MJ/kg) (o.b.v. Waste paint {Europe without Switzerland}| treatment of waste paint, municipal incineration | Cut-off, U)"},{"$f":"E207","v":"leeg"}]
["Circulaire materialen","Cosentino","kg",0,"EPD",1.0582080000000001E-7,0,5.5569500000000001E-2,4.2331110000000003E-6,7.1273799999999998E-4,2.1631519999999998E-2,6.9755310000000001E-3,0,0,0,0,0,0,0,0,0,0,0,0,0,0,0,0,0,0,0,0,0,0,52,{"$f":"VLOOKUP($AI102,'Forfaitaire afvalscenario''s'!$A:$I,2,FALSE)","v":"steenachtig, overig"},{"$f":"VLOOKUP($AI102,'Forfaitaire afvalscenario''s'!$A:$I,3,FALSE)","v":"o.a. natuursteen, breuksteen"},{"$f":"VLOOKUP($AI102,'Forfaitaire afvalscenario''s'!$A:$I,6,FALSE)","v":0.01},{"$f":"VLOOKUP($AI102,'Forfaitaire afvalscenario''s'!$A:$I,7,FALSE)","v":0},{"$f":"VLOOKUP($AI102,'Forfaitaire afvalscenario''s'!$A:$I,8,FALSE)","v":0.99},{"$f":"VLOOKUP($AI102,'Forfaitaire afvalscenario''s'!$A:$I,9,FALSE)","v":0},{"$f":"E175","v":"0247-sto&Stort inert afval (o.b.v. Inert waste, for final disposal {RoW}| treatment of inert waste, inert material landfill | Cut-off, U) fijn-/grofkeramisch, grind, kalkzandsteen, schelpen, zand"},{"$f":"E150","v":"_0256-avC&Verbranden glas (o.b.v. Waste glass {Europe without Switzerland}| treatment of waste glass, municipal incineration | Cut-off, U)"},{"$f":"E191","v":"0271-reD&Module D, grind, per kg NETTO geleverd granulaat/grind (vermeden: Gravel, round {RoW}| gravel and sand quarry operation | Cut-off, U)"}]
["Circulaire materialen",null,"kg",null,"PM",null,null,null,null,null,null,null,null,null,null,null,null,null,null,null,null,null,null,null,null,null,null,null,null,null,null,null,null,null,null,{"$f":"VLOOKUP($AI103,'Forfaitaire afvalscenario''s'!$A:$I,2,FALSE)","v":{"$error":"#N/A"}},{"$f":"VLOOKUP($AI103,'Forfaitaire afvalscenario''s'!$A:$I,3,FALSE)","v":{"$error":"#N/A"}},{"$f":"VLOOKUP($AI103,'Forfaitaire afvalscenario''s'!$A:$I,6,FALSE)","v":{"$error":"#N/A"}},{"$f":"VLOOKUP($AI103,'Forfaitaire afvalscenario''s'!$A:$I,7,FALSE)","v":{"$error":"#N/A"}},{"$f":"VLOOKUP($AI103,'Forfaitaire afvalscenario''s'!$A:$I,8,FALSE)","v":{"$error":"#N/A"}},{"$f":"VLOOKUP($AI103,'Forfaitaire afvalscenario''s'!$A:$I,9,FALSE)","v":{"$error":"#N/A"}}]
["Circulaire materialen",null,"kg",null,"PM",null,null,null,null,null,null,null,null,null,null,null,null,null,null,null,null,null,null,null,null,null,null,null,null,null,null,null,null,null,null,{"$f":"VLOOKUP($AI104,'Forfaitaire afvalscenario''s'!$A:$I,2,FALSE)","v":{"$error":"#N/A"}},{"$f":"VLOOKUP($AI104,'Forfaitaire afvalscenario''s'!$A:$I,3,FALSE)","v":{"$error":"#N/A"}},{"$f":"VLOOKUP($AI104,'Forfaitaire afvalscenario''s'!$A:$I,6,FALSE)","v":{"$error":"#N/A"}},{"$f":"VLOOKUP($AI104,'Forfaitaire afvalscenario''s'!$A:$I,7,FALSE)","v":{"$error":"#N/A"}},{"$f":"VLOOKUP($AI104,'Forfaitaire afvalscenario''s'!$A:$I,8,FALSE)","v":{"$error":"#N/A"}},{"$f":"VLOOKUP($AI104,'Forfaitaire afvalscenario''s'!$A:$I,9,FALSE)","v":{"$error":"#N/A"}}]
["Circulaire materialen",null,"kg",null,"PM",null,null,null,null,null,null,null,null,null,null,null,null,null,null,null,null,null,null,null,null,null,null,null,null,null,null,null,null,null,null,{"$f":"VLOOKUP($AI105,'Forfaitaire afvalscenario''s'!$A:$I,2,FALSE)","v":{"$error":"#N/A"}},{"$f":"VLOOKUP($AI105,'Forfaitaire afvalscenario''s'!$A:$I,3,FALSE)","v":{"$error":"#N/A"}},{"$f":"VLOOKUP($AI105,'Forfaitaire afvalscenario''s'!$A:$I,6,FALSE)","v":{"$error":"#N/A"}},{"$f":"VLOOKUP($AI105,'Forfaitaire afvalscenario''s'!$A:$I,7,FALSE)","v":{"$error":"#N/A"}},{"$f":"VLOOKUP($AI105,'Forfaitaire afvalscenario''s'!$A:$I,8,FALSE)","v":{"$error":"#N/A"}},{"$f":"VLOOKUP($AI105,'Forfaitaire afvalscenario''s'!$A:$I,9,FALSE)","v":{"$error":"#N/A"}}]
["Circulaire materialen",null,"kg",null,"PM",null,null,null,null,null,null,null,null,null,null,null,null,null,null,null,null,null,null,null,null,null,null,null,null,null,null,null,null,null,null,{"$f":"VLOOKUP($AI106,'Forfaitaire afvalscenario''s'!$A:$I,2,FALSE)","v":{"$error":"#N/A"}},{"$f":"VLOOKUP($AI106,'Forfaitaire afvalscenario''s'!$A:$I,3,FALSE)","v":{"$error":"#N/A"}},{"$f":"VLOOKUP($AI106,'Forfaitaire afvalscenario''s'!$A:$I,6,FALSE)","v":{"$error":"#N/A"}},{"$f":"VLOOKUP($AI106,'Forfaitaire afvalscenario''s'!$A:$I,7,FALSE)","v":{"$error":"#N/A"}},{"$f":"VLOOKUP($AI106,'Forfaitaire afvalscenario''s'!$A:$I,8,FALSE)","v":{"$error":"#N/A"}},{"$f":"VLOOKUP($AI106,'Forfaitaire afvalscenario''s'!$A:$I,9,FALSE)","v":{"$error":"#N/A"}}]
["Circulaire materialen",null,"kg",null,"PM",null,null,null,null,null,null,null,null,null,null,null,null,null,null,null,null,null,null,null,null,null,null,null,null,null,null,null,null,null,null,{"$f":"VLOOKUP($AI107,'Forfaitaire afvalscenario''s'!$A:$I,2,FALSE)","v":{"$error":"#N/A"}},{"$f":"VLOOKUP($AI107,'Forfaitaire afvalscenario''s'!$A:$I,3,FALSE)","v":{"$error":"#N/A"}},{"$f":"VLOOKUP($AI107,'Forfaitaire afvalscenario''s'!$A:$I,6,FALSE)","v":{"$error":"#N/A"}},{"$f":"VLOOKUP($AI107,'Forfaitaire afvalscenario''s'!$A:$I,7,FALSE)","v":{"$error":"#N/A"}},{"$f":"VLOOKUP($AI107,'Forfaitaire afvalscenario''s'!$A:$I,8,FALSE)","v":{"$error":"#N/A"}},{"$f":"VLOOKUP($AI107,'Forfaitaire afvalscenario''s'!$A:$I,9,FALSE)","v":{"$error":"#N/A"}}]
["Circulaire materialen",null,"kg",null,"PM",null,null,null,null,null,null,null,null,null,null,null,null,null,null,null,null,null,null,null,null,null,null,null,null,null,null,null,null,null,null,{"$f":"VLOOKUP($AI108,'Forfaitaire afvalscenario''s'!$A:$I,2,FALSE)","v":{"$error":"#N/A"}},{"$f":"VLOOKUP($AI108,'Forfaitaire afvalscenario''s'!$A:$I,3,FALSE)","v":{"$error":"#N/A"}},{"$f":"VLOOKUP($AI108,'Forfaitaire afvalscenario''s'!$A:$I,6,FALSE)","v":{"$error":"#N/A"}},{"$f":"VLOOKUP($AI108,'Forfaitaire afvalscenario''s'!$A:$I,7,FALSE)","v":{"$error":"#N/A"}},{"$f":"VLOOKUP($AI108,'Forfaitaire afvalscenario''s'!$A:$I,8,FALSE)","v":{"$error":"#N/A"}},{"$f":"VLOOKUP($AI108,'Forfaitaire afvalscenario''s'!$A:$I,9,FALSE)","v":{"$error":"#N/A"}}]
["Circulaire materialen",null,"kg",null,"PM",null,null,null,null,null,null,null,null,null,null,null,null,null,null,null,null,null,null,null,null,null,null,null,null,null,null,null,null,null,null,{"$f":"VLOOKUP($AI109,'Forfaitaire afvalscenario''s'!$A:$I,2,FALSE)","v":{"$error":"#N/A"}},{"$f":"VLOOKUP($AI109,'Forfaitaire afvalscenario''s'!$A:$I,3,FALSE)","v":{"$error":"#N/A"}},{"$f":"VLOOKUP($AI109,'Forfaitaire afvalscenario''s'!$A:$I,6,FALSE)","v":{"$error":"#N/A"}},{"$f":"VLOOKUP($AI109,'Forfaitaire afvalscenario''s'!$A:$I,7,FALSE)","v":{"$error":"#N/A"}},{"$f":"VLOOKUP($AI109,'Forfaitaire afvalscenario''s'!$A:$I,8,FALSE)","v":{"$error":"#N/A"}},{"$f":"VLOOKUP($AI109,'Forfaitaire afvalscenario''s'!$A:$I,9,FALSE)","v":{"$error":"#N/A"}}]
["Circulaire materialen",null,"kg",null,"PM",null,null,null,null,null,null,null,null,null,null,null,null,null,null,null,null,null,null,null,null,null,null,null,null,null,null,null,null,null,null,{"$f":"VLOOKUP($AI110,'Forfaitaire afvalscenario''s'!$A:$I,2,FALSE)","v":{"$error":"#N/A"}},{"$f":"VLOOKUP($AI110,'Forfaitaire afvalscenario''s'!$A:$I,3,FALSE)","v":{"$error":"#N/A"}},{"$f":"VLOOKUP($AI110,'Forfaitaire afvalscenario''s'!$A:$I,6,FALSE)","v":{"$error":"#N/A"}},{"$f":"VLOOKUP($AI110,'Forfaitaire afvalscenario''s'!$A:$I,7,FALSE)","v":{"$error":"#N/A"}},{"$f":"VLOOKUP($AI110,'Forfaitaire afvalscenario''s'!$A:$I,8,FALSE)","v":{"$error":"#N/A"}},{"$f":"VLOOKUP($AI110,'Forfaitaire afvalscenario''s'!$A:$I,9,FALSE)","v":{"$error":"#N/A"}}]
["Circulaire materialen",null,"kg",null,"PM",null,null,null,null,null,null,null,null,null,null,null,null,null,null,null,null,null,null,null,null,null,null,null,null,null,null,null,null,null,null,{"$f":"VLOOKUP($AI111,'Forfaitaire afvalscenario''s'!$A:$I,2,FALSE)","v":{"$error":"#N/A"}},{"$f":"VLOOKUP($AI111,'Forfaitaire afvalscenario''s'!$A:$I,3,FALSE)","v":{"$error":"#N/A"}},{"$f":"VLOOKUP($AI111,'Forfaitaire afvalscenario''s'!$A:$I,6,FALSE)","v":{"$error":"#N/A"}},{"$f":"VLOOKUP($AI111,'Forfaitaire afvalscenario''s'!$A:$I,7,FALSE)","v":{"$error":"#N/A"}},{"$f":"VLOOKUP($AI111,'Forfaitaire afvalscenario''s'!$A:$I,8,FALSE)","v":{"$error":"#N/A"}},{"$f":"VLOOKUP($AI111,'Forfaitaire afvalscenario''s'!$A:$I,9,FALSE)","v":{"$error":"#N/A"}}]
["Circulaire materialen",null,"kg",null,"PM",null,null,null,null,null,null,null,null,null,null,null,null,null,null,null,null,null,null,null,null,null,null,null,null,null,null,null,null,null,null,{"$f":"VLOOKUP($AI112,'Forfaitaire afvalscenario''s'!$A:$I,2,FALSE)","v":{"$error":"#N/A"}},{"$f":"VLOOKUP($AI112,'Forfaitaire afvalscenario''s'!$A:$I,3,FALSE)","v":{"$error":"#N/A"}},{"$f":"VLOOKUP($AI112,'Forfaitaire afvalscenario''s'!$A:$I,6,FALSE)","v":{"$error":"#N/A"}},{"$f":"VLOOKUP($AI112,'Forfaitaire afvalscenario''s'!$A:$I,7,FALSE)","v":{"$error":"#N/A"}},{"$f":"VLOOKUP($AI112,'Forfaitaire afvalscenario''s'!$A:$I,8,FALSE)","v":{"$error":"#N/A"}},{"$f":"VLOOKUP($AI112,'Forfaitaire afvalscenario''s'!$A:$I,9,FALSE)","v":{"$error":"#N/A"}}]
["Circulaire materialen",null,"kg",null,"PM",null,null,null,null,null,null,null,null,null,null,null,null,null,null,null,null,null,null,null,null,null,null,null,null,null,null,null,null,null,null,{"$f":"VLOOKUP($AI113,'Forfaitaire afvalscenario''s'!$A:$I,2,FALSE)","v":{"$error":"#N/A"}},{"$f":"VLOOKUP($AI113,'Forfaitaire afvalscenario''s'!$A:$I,3,FALSE)","v":{"$error":"#N/A"}},{"$f":"VLOOKUP($AI113,'Forfaitaire afvalscenario''s'!$A:$I,6,FALSE)","v":{"$error":"#N/A"}},{"$f":"VLOOKUP($AI113,'Forfaitaire afvalscenario''s'!$A:$I,7,FALSE)","v":{"$error":"#N/A"}},{"$f":"VLOOKUP($AI113,'Forfaitaire afvalscenario''s'!$A:$I,8,FALSE)","v":{"$error":"#N/A"}},{"$f":"VLOOKUP($AI113,'Forfaitaire afvalscenario''s'!$A:$I,9,FALSE)","v":{"$error":"#N/A"}}]
["Circulaire materialen",null,"kg",null,"PM",null,null,null,null,null,null,null,null,null,null,null,null,null,null,null,null,null,null,null,null,null,null,null,null,null,null,null,null,null,null,{"$f":"VLOOKUP($AI114,'Forfaitaire afvalscenario''s'!$A:$I,2,FALSE)","v":{"$error":"#N/A"}},{"$f":"VLOOKUP($AI114,'Forfaitaire afvalscenario''s'!$A:$I,3,FALSE)","v":{"$error":"#N/A"}},{"$f":"VLOOKUP($AI114,'Forfaitaire afvalscenario''s'!$A:$I,6,FALSE)","v":{"$error":"#N/A"}},{"$f":"VLOOKUP($AI114,'Forfaitaire afvalscenario''s'!$A:$I,7,FALSE)","v":{"$error":"#N/A"}},{"$f":"VLOOKUP($AI114,'Forfaitaire afvalscenario''s'!$A:$I,8,FALSE)","v":{"$error":"#N/A"}},{"$f":"VLOOKUP($AI114,'Forfaitaire afvalscenario''s'!$A:$I,9,FALSE)","v":{"$error":"#N/A"}}]
["Circulaire materialen",null,"kg",null,"PM",null,null,null,null,null,null,null,null,null,null,null,null,null,null,null,null,null,null,null,null,null,null,null,null,null,null,null,null,null,null,{"$f":"VLOOKUP($AI115,'Forfaitaire afvalscenario''s'!$A:$I,2,FALSE)","v":{"$error":"#N/A"}},{"$f":"VLOOKUP($AI115,'Forfaitaire afvalscenario''s'!$A:$I,3,FALSE)","v":{"$error":"#N/A"}},{"$f":"VLOOKUP($AI115,'Forfaitaire afvalscenario''s'!$A:$I,6,FALSE)","v":{"$error":"#N/A"}},{"$f":"VLOOKUP($AI115,'Forfaitaire afvalscenario''s'!$A:$I,7,FALSE)","v":{"$error":"#N/A"}},{"$f":"VLOOKUP($AI115,'Forfaitaire afvalscenario''s'!$A:$I,8,FALSE)","v":{"$error":"#N/A"}},{"$f":"VLOOKUP($AI115,'Forfaitaire afvalscenario''s'!$A:$I,9,FALSE)","v":{"$error":"#N/A"}}]
["Circulaire materialen",null,"kg",null,"PM",null,null,null,null,null,null,null,null,null,null,null,null,null,null,null,null,null,null,null,null,null,null,null,null,null,null,null,null,null,null,{"$f":"VLOOKUP($AI116,'Forfaitaire afvalscenario''s'!$A:$I,2,FALSE)","v":{"$error":"#N/A"}},{"$f":"VLOOKUP($AI116,'Forfaitaire afvalscenario''s'!$A:$I,3,FALSE)","v":{"$error":"#N/A"}},{"$f":"VLOOKUP($AI116,'Forfaitaire afvalscenario''s'!$A:$I,6,FALSE)","v":{"$error":"#N/A"}},{"$f":"VLOOKUP($AI116,'Forfaitaire afvalscenario''s'!$A:$I,7,FALSE)","v":{"$error":"#N/A"}},{"$f":"VLOOKUP($AI116,'Forfaitaire afvalscenario''s'!$A:$I,8,FALSE)","v":{"$error":"#N/A"}},{"$f":"VLOOKUP($AI116,'Forfaitaire afvalscenario''s'!$A:$I,9,FALSE)","v":{"$error":"#N/A"}}]
["Circulaire materialen",null,"kg",null,"PM",null,null,null,null,null,null,null,null,null,null,null,null,null,null,null,null,null,null,null,null,null,null,null,null,null,null,null,null,null,null,{"$f":"VLOOKUP($AI117,'Forfaitaire afvalscenario''s'!$A:$I,2,FALSE)","v":{"$error":"#N/A"}},{"$f":"VLOOKUP($AI117,'Forfaitaire afvalscenario''s'!$A:$I,3,FALSE)","v":{"$error":"#N/A"}},{"$f":"VLOOKUP($AI117,'Forfaitaire afvalscenario''s'!$A:$I,6,FALSE)","v":{"$error":"#N/A"}},{"$f":"VLOOKUP($AI117,'Forfaitaire afvalscenario''s'!$A:$I,7,FALSE)","v":{"$error":"#N/A"}},{"$f":"VLOOKUP($AI117,'Forfaitaire afvalscenario''s'!$A:$I,8,FALSE)","v":{"$error":"#N/A"}},{"$f":"VLOOKUP($AI117,'Forfaitaire afvalscenario''s'!$A:$I,9,FALSE)","v":{"$error":"#N/A"}}]
["Bewerkingen",null,null,null,null,"001. abiotic depletion, non fuel (AD)","002. abiotic depletion, fuel (AD)","004. global warming (GWP)","005. ozone layer depletion (ODP)","006. photochemical oxidation (POCP)","007. acidification (AP)","008. eutrophication (EP)","009. human toxicity (HT)","010. Ecotoxicity, fresh water (FAETP)","012. Ecotoxcity, marine water (MAETP)","014. Ecotoxicity, terrestric (TETP)","111. Energy, primary, renewable, excludi","113. Energy, primary, renewable, materia","101. Energy, primary, renewable (MJ)","112. Energy, primary, non-renewable, exc","114. Energy, primary, non-renewable, mat","102. Energy, primary, non-renewable (MJ)","108. Secondary material (kg)","109. Secondary fuel, renewable (kg)","110. Secondary fuel, non-renewable (kg)","104. Water, fresh water use (m3)","106. Waste, hazardous (kg)","105. Waste, non hazardous (kg)","107. Waste, radioactive (kg)","120. Components for re-use (kg)","121. Materials for recycling (kg)","122. Materials for energy recovery (kg)","123. Exported energy, electric (MJ)","124. Exported energy, thermal (MJ)"]
["Categorie","Triviale naam","Eenheid",null,"Technische naam","kg Sb eq","kg Sb eq","kg CO2 eq","kg CFC-11 eq","kg C2H4","kg SO2 eq","kg PO4--- eq","kg 1,4-DB eq","kg 1,4-DB eq","kg 1,4-DB eq","kg 1,4-DB eq","MJ","MJ","MJ","MJ","MJ","MJ","kg","MJ","MJ","m3","kg","kg","kg","kg","kg","kg","MJ","MJ"]
["Energie","Diesel","l",null,"_0095-pro&Diesel, gasolie, gebruik, liter (o.b.v. 35,8 MJ Diesel, burned in building machine {GLO}| processing | Cut-off, U)",{"$f":"0.0050275595/1000","v":5.0275595E-6},{"$f":"21.399129/1000","v":2.1399128999999999E-2},{"$f":"3244.3959/1000","v":3.2443958999999998},{"$f":"0.00056173439/1000","v":5.6173438999999998E-7},{"$f":"3.3031331/1000","v":3.3031331000000002E-3},{"$f":"24.44975/1000","v":2.4449750000000003E-2},{"$f":"5.5578935/1000","v":5.5578934999999993E-3},{"$f":"1201.0205/1000","v":1.2010205},{"$f":"16.717823/1000","v":1.6717823E-2},{"$f":"58131.376/1000","v":58.131375999999996},{"$f":"1.9770647/1000","v":1.9770647E-3},0,0,{"$f":"244.04249/1000","v":0.24404248999999997},0,0,{"$f":"47914.57/1000","v":47.914569999999998},0,0,0,{"$f":"2.3221927/1000","v":2.3221927000000001E-3},{"$f":"0.12289004/1000","v":1.2289004000000001E-4},{"$f":"53.419344/1000","v":5.3419344000000001E-2},{"$f":"0.3132852/1000","v":3.1328519999999997E-4},0,0,0,0,0]
["Energie","Aardgas","m3",null,"_0111-pro&Aardgas, algemeen gebruik, per m3 (o.b.v. 31,7 MJ Heat, district or industrial, natural gas {RER}| market group for | Cut-off, U)",5.1400510000000005E-7,1.4331722E-2,1.6256866000000001,2.1407839999999999E-7,2.5767154000000002E-4,1.1795009000000001E-3,1.6217424E-4,8.8439228999999994E-2,9.4528459000000004E-4,3.9696641000000001,2.9423676999999998E-4,0,0,7.3487155999999998E-2,0,0,29.405843000000001,0,0,0,1.0277493E-3,3.4276951999999999E-5,1.0863416000000001E-2,1.5191227E-5,0,0,0,0,0]
["Energie","Elektriciteit (grijs)","kWh",null,"_0124-pro&1 kWh, uit stopcontact (o.b.v. Electricity, low voltage {NL}| market for | Cut-off, U)",7.2763470000000001E-7,1.3408642000000001E-3,0.17818012999999999,8.7974346000000005E-9,2.6538735999999999E-5,3.3367918000000001E-4,6.8649030999999998E-5,2.0048504000000002E-2,5.5278122000000001E-4,2.3326929000000001,9.0811484999999998E-4,0,0,0.25511518,0,0,2.5338262999999999,0,0,0,1.4515232E-3,1.8249297E-6,6.9753317999999998E-3,4.8934584999999996E-6,0,0,0,0,0]
["Energie","Elektriciteit (gebruiker)","kWh",null,"_0124-pro&1 kWh, uit stopcontact (o.b.v. Electricity, low voltage {NL}| market for | Cut-off, U)",7.2763470000000001E-7,1.3408642000000001E-3,0.17818012999999999,8.7974346000000005E-9,2.6538735999999999E-5,3.3367918000000001E-4,6.8649030999999998E-5,2.0048504000000002E-2,5.5278122000000001E-4,2.3326929000000001,9.0811484999999998E-4,0,0,0.25511518,0,0,2.5338262999999999,0,0,0,1.4515232E-3,1.8249297E-6,6.9753317999999998E-3,4.8934584999999996E-6,0,0,0,0,0]
["Energie","Benzine","l",null,"_0109-pro&benzine, gebruik, per liter (o.b.v. 15,3 km Bezine, gebruik, per km (o.b.v. Transport, passenger car, medium size, petrol, EURO 4 | Alloc Rec, U; AANGEPAST)",{"$f":"0.0030991567/1000","v":3.0991567E-6},{"$f":"24.048378/1000","v":2.4048377999999999E-2},{"$f":"3852.9043/1000","v":3.8529043000000001},{"$f":"0.00065491243/1000","v":6.5491243000000006E-7},{"$f":"1.9900579/1000","v":1.9900579000000002E-3},{"$f":"6.8984176/1000","v":6.8984175999999998E-3},{"$f":"0.92128032/1000","v":9.2128032000000004E-4},{"$f":"1226.5799/1000","v":1.2265798999999999},{"$f":"24.189531/1000","v":2.4189531E-2},{"$f":"89288.993/1000","v":89.288993000000005},{"$f":"1.7696586/1000","v":1.7696586000000001E-3},0,0,{"$f":"187.34548/1000","v":0.18734548000000001},0,0,{"$f":"54389.015/1000","v":54.389015000000001},0,0,0,{"$f":"0.72011132/1000","v":7.2011131999999997E-4},{"$f":"0.25260375/1000","v":2.5260374999999999E-4},{"$f":"25.209257/1000","v":2.5209257000000002E-2},{"$f":"0.3670008/1000","v":3.6700080000000003E-4},0,0,0,0,0]
["Energie","Lassen","m",null,"_0140-pro&Lassen, staal, arc, per meter (o.b.v. Welding, arc, steel {GLO}| market for | Cut-off, U)",2.0295754000000001E-6,1.2283702E-3,0.17299771999999999,1.0185364E-8,1.4839074E-4,7.4591784999999999E-4,1.0026518E-4,0.84424672999999995,9.1820601999999998E-3,52.499057000000001,3.4662319E-3,0,0,0.23715544,0,0,2.3616537000000002,0,0,0,2.9157204999999999E-3,5.9210704000000001E-6,4.5416619999999998E-2,7.1479890999999998E-6,0,0,0,0,0]
["Energie","Verspanen","kg",null,"_0296-pro&Verspanen, hout, elektrisch, per kg (o.b.v. Wood chipping, industrial residual wood, stationary electric chipper {RER}| processing | Cut-off, U)",3.3710806999999998E-8,6.3913412999999999E-5,8.6883755999999993E-3,9.5798808000000005E-10,2.5495363999999998E-6,4.0457989999999997E-5,5.3895743000000004E-6,1.8562786E-3,4.5005839999999998E-5,0.20080558000000001,2.5746702000000001E-5,0,0,2.9744485000000001E-2,0,0,0.18614227,0,0,0,1.4808049E-4,7.9014999999999996E-8,9.6344905999999999E-4,1.2479029000000001E-6,0,0,0,0,0]
["Energie","Elektriciteit (groen)","kWh",null,"_Elektriciteit, groene stroom (26,5% hout, 26,5% biogas uit mest, bio-afval en RWZI-slib, 45% wind, 1,4% hydro, 0,5% PV; mix, at power plant; zonder distributie- en transformatieverliezen)",1.5283353E-6,2.8988369000000001E-4,9.8303436999999994E-2,6.3538575000000003E-9,1.1687742E-4,1.3543228999999999E-3,3.0913216000000001E-4,6.2689387999999999E-2,1.2500771000000001E-3,3.0479432000000002,3.5219910999999997E-4,0,0,6.3088946000000004,0,0,0.55851342000000004,0,0,0,2.3955294000000001E-4,3.9503422999999998E-6,2.4026742E-2,2.1289335E-6,0,0,0,0,0]
["Energie","Metaalbewerking","kg",null,"_Metal working, average for metal product manufacturing {GLO}| market for | Cut-off, U",1.4410835000000001E-4,1.3821174E-2,2.1193176,1.4644515E-7,1.9060005000000001E-3,2.0969817000000002E-2,1.8389169E-3,5.1493319,8.8511561000000002E-2,309.4307,2.104433E-2,0,0,2.8378188,0,0,27.430647,0,0,0,1.7190987000000001E-2,6.7580800999999998E-5,0.38590560000000002,8.9619850000000002E-5,0,0,0,0,0]
["Transport",null,null,null,null,"001. abiotic depletion, non fuel (AD)","002. abiotic depletion, fuel (AD)","004. global warming (GWP)","005. ozone layer depletion (ODP)","006. photochemical oxidation (POCP)","007. acidification (AP)","008. eutrophication (EP)","009. human toxicity (HT)","010. Ecotoxicity, fresh water (FAETP)","012. Ecotoxcity, marine water (MAETP)","014. Ecotoxicity, terrestric (TETP)","111. Energy, primary, renewable, excludi","113. Energy, primary, renewable, materia","101. Energy, primary, renewable (MJ)","112. Energy, primary, non-renewable, exc","114. Energy, primary, non-renewable, mat","102. Energy, primary, non-renewable (MJ)","108. Secondary material (kg)","109. Secondary fuel, renewable (kg)","110. Secondary fuel, non-renewable (kg)","104. Water, fresh water use (m3)","106. Waste, hazardous (kg)","105. Waste, non hazardous (kg)","107. Waste, radioactive (kg)","120. Components for re-use (kg)","121. Materials for recycling (kg)","122. Materials for energy recovery (kg)","123. Exported energy, electric (MJ)","124. Exported energy, thermal (MJ)"]
["Categorie","Triviale naam","Eenheid",null,"Technische naam","kg Sb eq","kg Sb eq","kg CO2 eq","kg CFC-11 eq","kg C2H4","kg SO2 eq","kg PO4--- eq","kg 1,4-DB eq","kg 1,4-DB eq","kg 1,4-DB eq","kg 1,4-DB eq","MJ","MJ","MJ","MJ","MJ","MJ","kg","MJ","MJ","m3","kg","kg","kg","kg","kg","kg","MJ","MJ"]
["Transport","Vrachtwagen (onbekend)","tonkm",null,"_0001-tra&Transport, vrachtwagen (o.b.v. Transport, freight, lorry, unspecified {GLO}| market group for transport, freight, lorry, unspecified | Cut-off, U)",3.4193337999999998E-6,9.8407152000000008E-4,0.13382372000000001,2.3742153000000001E-8,8.0747751999999995E-5,5.8840914000000001E-4,1.1559847000000001E-4,5.6342995999999999E-2,1.6448786E-3,5.9166865,1.9913812E-4,0,0,2.5480431000000001E-2,0,0,2.1609924,0,0,0,2.4790156000000001E-4,5.1577953000000003E-6,0.12910995,1.3365468E-5,0,0,0,0,0]
["Transport","Binnenvaart","tonkm",null,"_0103-tra&Transport, vrachtschip, binnenvaart (o.b.v. Transport, freight, inland waterways, barge {GLO}| market group for transport, freight, inland waterways, barge | Cut-off, U)",3.7286849E-7,2.9176050999999998E-4,4.7415459E-2,6.7911426000000002E-9,2.7873509000000001E-5,3.3948639000000002E-4,7.6043679999999997E-5,1.1515832E-2,2.8766794000000001E-4,0.91017778999999999,5.6404077000000001E-5,0,0,1.4250928E-2,0,0,0.64199956000000002,0,0,0,1.1578502E-4,1.5766911999999999E-6,2.8574814E-3,3.9205143999999997E-6,0,0,0,0,0]
["Transport","Vrachttrein","tonkm",null,"_0133-tra&Transport, vrachttrein (o.b.v. Transport, freight train {Europe without Switzerland}| market for | Cut-off, U)",3.7621756999999999E-7,3.1411588999999998E-4,4.6337639999999999E-2,5.7297530999999997E-9,3.2826249000000002E-5,3.0082778000000001E-4,5.7367653000000001E-5,2.0079735000000001E-2,3.0019778000000001E-4,1.1635047999999999,1.0661605E-4,0,0,5.9414412E-2,0,0,0.72912315000000005,0,0,0,3.2338581E-4,1.3368934000000001E-6,9.2813385999999994E-3,4.2212066999999997E-6,0,0,0,0,0]
["Transport","Vrachtwagen (EURO4)","tonkm",null,"_0319-tra&Transport, vrachtwagen (>32 ton), euro 4, diesel (o.b.v. Transport, freight, lorry >32 metric ton, EURO4 {RER}| transport, freight, lorry >32 metric ton, EURO4 | Cut-off, U)",1.5503312000000001E-6,6.7059659999999996E-4,8.9419295999999995E-2,1.7018446E-8,5.6448394999999999E-5,3.4895854000000003E-4,6.7854227000000006E-5,4.2896198000000003E-2,1.1632036E-3,4.5593295999999999,1.3762761E-4,0,0,1.7790159999999999E-2,0,0,1.4997788999999999,0,0,0,1.6096683999999999E-4,3.4243606E-6,0.12296701,9.6439473999999993E-6,0,0,0,0,0]
["Transport","Vrachtwagen (EURO5)","tonkm",null,"_0320-tra&Transport, vrachtwagen (>32 ton), euro 5, diesel, per tkm (o.b.v. Vrachtwagen (>32 ton), euro 5, diesel, per liter, c2)",1.6372377999999999E-7,6.4556387000000003E-4,8.5300170999999994E-2,1.6958515000000001E-8,5.3835397000000001E-5,3.1109786000000001E-4,6.3360997000000004E-5,3.0039867000000001E-2,1.9372401E-3,5.0699978000000003,1.7803172000000001E-4,0,0,2.306414E-2,0,0,1.4747178000000001,0,0,0,2.9937888E-4,1.0447165999999999E-5,0.12177706000000001,0,0,0,0,0,0]
["Transport","Vrachtwagen (EURO6)","tonkm",null,"_0324-tra&Transport, vrachtwagen (>32 ton), euro 6, diesel, per tkm (o.b.v. Vrachtwagen (>32 ton), euro 6, diesel, per liter, c2)",1.6702081E-7,6.5232881E-4,8.5962616000000006E-2,1.7083966999999999E-8,5.284384E-5,2.1481002000000001E-4,3.7861546999999998E-5,3.0083209E-2,1.9381604000000001E-3,5.0921386000000002,1.7886131999999999E-4,0,0,2.3331046000000001E-2,0,0,1.4897218999999999,0,0,0,3.0090040000000002E-4,1.0507747E-5,0.12178235,0,0,0,0,0,0]
["Transport","Vrachtwagen (biodiesel)","tonkm",null,"_0325-tra&Transport, vrachtwagen (>32 ton), euro 6, 100% biodiesel, per tkm (o.b.v. Vrachtwagen (>32 ton), euro 6, ongemixte biodiesel, per liter, c2)",2.0893146000000001E-7,2.9463088E-4,3.9057548999999997E-2,6.1700246999999996E-9,5.221402E-5,2.6658265000000002E-4,1.1738054E-4,2.8376611E-2,1.4754562000000001E-2,4.6436380000000002,5.8150511000000004E-3,0,0,0.19693630000000001,0,0,0.66570890999999999,0,0,0,1.6052893999999999E-3,4.385462E-6,0.11850985,0,0,0,0,0,0]
["Transport","Vrachtwagen (waterstof)","tonkm",null,"_0363-tra&Transport, vrachtwagen, waterstof (o.b.v. Transport, freight, lorry >32 metric ton, EURO5 {RER}| transport, freight, lorry >32 metric ton, EURO5 | Cut-off, U)",2.0207634E-6,7.9472216E-4,5.4126708000000003E-2,1.0371192999999999E-8,6.2053345000000001E-5,2.0104340999999999E-4,2.6809431999999999E-5,3.6860199000000003E-2,8.7333709000000004E-4,3.5966591999999999,1.7338187000000001E-4,0,0,3.4701601999999998E-2,0,0,1.7496107999999999,0,0,0,8.8634456999999995E-4,1.0352498000000001E-6,0.12394967,3.0919690999999999E-6,0,0,0,0,0]
["Transport","Zeevaart","tonkm",null,"_0290-tra&Transport, vrachtschip, container, zee (o.b.v. Transport, freight, sea, container ship {GLO}| market for transport, freight, sea, container ship | Cut-off, U)",7.0017093999999994E-8,5.7217530000000001E-5,9.352707E-3,1.4992562999999999E-9,1.2471254E-5,2.4502531000000001E-4,2.6854156000000001E-5,5.2646385E-3,8.5659875000000001E-5,0.40498740999999999,1.5365869999999999E-5,0,0,8.1066269999999999E-4,0,0,0.12776804,0,0,0,6.2638002999999999E-6,1.0989803E-7,2.7864053000000003E-4,8.3711661000000001E-7,0,0,0,0,0]
["Transport",null,null,null,null,"001. abiotic depletion, non fuel (AD)","002. abiotic depletion, fuel (AD)","004. global warming (GWP)","005. ozone layer depletion (ODP)","006. photochemical oxidation (POCP)","007. acidification (AP)","008. eutrophication (EP)","009. human toxicity (HT)","010. Ecotoxicity, fresh water (FAETP)","012. Ecotoxcity, marine water (MAETP)","014. Ecotoxicity, terrestric (TETP)","111. Energy, primary, renewable, excludi","113. Energy, primary, renewable, materia","101. Energy, primary, renewable (MJ)","112. Energy, primary, non-renewable, exc","114. Energy, primary, non-renewable, mat","102. Energy, primary, non-renewable (MJ)","108. Secondary material (kg)","109. Secondary fuel, renewable (kg)","110. Secondary fuel, non-renewable (kg)","104. Water, fresh water use (m3)","106. Waste, hazardous (kg)","105. Waste, non hazardous (kg)","107. Waste, radioactive (kg)","120. Components for re-use (kg)","121. Materials for recycling (kg)","122. Materials for energy recovery (kg)","123. Exported energy, electric (MJ)","124. Exported energy, thermal (MJ)"]
["Categorie","Triviale naam","Eenheid",null,"Technische naam","kg Sb eq","kg Sb eq","kg CO2 eq","kg CFC-11 eq","kg C2H4","kg SO2 eq","kg PO4--- eq","kg 1,4-DB eq","kg 1,4-DB eq","kg 1,4-DB eq","kg 1,4-DB eq","MJ","MJ","MJ","MJ","MJ","MJ","kg","MJ","MJ","m3","kg","kg","kg","kg","kg","kg","MJ","MJ"]
["Transport","Vrachtwagen (onbekend)","tonkm",null,{"$f":"E131","v":"_0001-tra&Transport, vrachtwagen (o.b.v. Transport, freight, lorry, unspecified {GLO}| market group for transport, freight, lorry, unspecified | Cut-off, U)"},{"$f":"F131","v":3.4193337999999998E-6},9.8407152000000008E-4,0.13382372000000001,2.3742153000000001E-8,8.0747751999999995E-5,5.8840914000000001E-4,1.1559847000000001E-4,5.6342995999999999E-2,1.6448786E-3,5.9166865,1.9913812E-4,0,0,2.5480431000000001E-2,0,0,2.1609924,0,0,0,2.4790156000000001E-4,5.1577953000000003E-6,0.12910995,1.3365468E-5,0,0,0,0,0]
["Transport","Binnenvaart","tonkm",null,{"$f":"E132","v":"_0103-tra&Transport, vrachtschip, binnenvaart (o.b.v. Transport, freight, inland waterways, barge {GLO}| market group for transport, freight, inland waterways, barge | Cut-off, U)"},{"$f":"F132","v":3.7286849E-7},2.9176050999999998E-4,4.7415459E-2,6.7911426000000002E-9,2.7873509000000001E-5,3.3948639000000002E-4,7.6043679999999997E-5,1.1515832E-2,2.8766794000000001E-4,0.91017778999999999,5.6404077000000001E-5,0,0,1.4250928E-2,0,0,0.64199956000000002,0,0,0,1.1578502E-4,1.5766911999999999E-6,2.8574814E-3,3.9205143999999997E-6,0,0,0,0,0]
["Transport","Vrachttrein","tonkm",null,{"$f":"E133","v":"_0133-tra&Transport, vrachttrein (o.b.v. Transport, freight train {Europe without Switzerland}| market for | Cut-off, U)"},{"$f":"F133","v":3.7621756999999999E-7},3.1411588999999998E-4,4.6337639999999999E-2,5.7297530999999997E-9,3.2826249000000002E-5,3.0082778000000001E-4,5.7367653000000001E-5,2.0079735000000001E-2,3.0019778000000001E-4,1.1635047999999999,1.0661605E-4,0,0,5.9414412E-2,0,0,0.72912315000000005,0,0,0,3.2338581E-4,1.3368934000000001E-6,9.2813385999999994E-3,4.2212066999999997E-6,0,0,0,0,0]
["Transport","Vrachtwagen (EURO4)","tonkm",null,{"$f":"E134","v":"_0319-tra&Transport, vrachtwagen (>32 ton), euro 4, diesel (o.b.v. Transport, freight, lorry >32 metric ton, EURO4 {RER}| transport, freight, lorry >32 metric ton, EURO4 | Cut-off, U)"},{"$f":"F134","v":1.5503312000000001E-6},6.7059659999999996E-4,8.9419295999999995E-2,1.7018446E-8,5.6448394999999999E-5,3.4895854000000003E-4,6.7854227000000006E-5,4.2896198000000003E-2,1.1632036E-3,4.5593295999999999,1.3762761E-4,0,0,1.7790159999999999E-2,0,0,1.4997788999999999,0,0,0,1.6096683999999999E-4,3.4243606E-6,0.12296701,9.6439473999999993E-6,0,0,0,0,0]
["Verbranden (inc. Baten)",null,null,null,null,"001. abiotic depletion, non fuel (AD)","002. abiotic depletion, fuel (AD)","004. global warming (GWP)","005. ozone layer depletion (ODP)","006. photochemical oxidation (POCP)","007. acidification (AP)","008. eutrophication (EP)","009. human toxicity (HT)","010. Ecotoxicity, fresh water (FAETP)","012. Ecotoxcity, marine water (MAETP)","014. Ecotoxicity, terrestric (TETP)","111. Energy, primary, renewable, excludi","113. Energy, primary, renewable, materia","101. Energy, primary, renewable (MJ)","112. Energy, primary, non-renewable, exc","114. Energy, primary, non-renewable, mat","102. Energy, primary, non-renewable (MJ)","108. Secondary material (kg)","109. Secondary fuel, renewable (kg)","110. Secondary fuel, non-renewable (kg)","104. Water, fresh water use (m3)","106. Waste, hazardous (kg)","105. Waste, non hazardous (kg)","107. Waste, radioactive (kg)","120. Components for re-use (kg)","121. Materials for recycling (kg)","122. Materials for energy recovery (kg)","123. Exported energy, electric (MJ)","124. Exported energy, thermal (MJ)"]
["Categorie","Triviale naam","Eenheid",null,"Technische naam","kg Sb eq","kg Sb eq","kg CO2 eq","kg CFC-11 eq","kg C2H4","kg SO2 eq","kg PO4--- eq","kg 1,4-DB eq","kg 1,4-DB eq","kg 1,4-DB eq","kg 1,4-DB eq","MJ","MJ","MJ","MJ","MJ","MJ","kg","MJ","MJ","m3","kg","kg","kg","kg","kg","kg","MJ","MJ"]
["Verbranden",null,"kg",null,"_0106-pro&Verbranden, overig (o.b.v. Municipal solid waste {NL}| treatment of, incineration | Cut-off, U)",2.9039006999999998E-7,1.6877569999999999E-4,0.51848788000000001,3.6968797000000001E-9,1.3556065E-5,2.2318726000000001E-4,8.1867996999999995E-5,9.0692797000000006E-2,2.8361790000000001E-2,165.31475,5.7736408000000003E-4,0,0,1.0749819000000001E-2,0,0,0.35117304999999999,0,0,0,1.1605417E-3,1.0359040999999999E-6,5.4602717000000002E-2,1.1324261E-6,0,0,0,0,0]
["Verbranden",null,"kg",null,"_0255-avC&Verbranden aluminium (o.b.v. Scrap aluminium {Europe without Switzerland}| treatment of scrap aluminium, municipal incineration | Cut-off, U)",2.6774621000000001E-7,1.2917264000000001E-4,1.3697363000000001E-2,2.6770663999999998E-9,1.4954790000000001E-5,6.8735787999999994E-5,1.254472E-5,9.6217416000000007E-3,1.418902E-4,0.47766743,3.1886089000000003E-5,0,0,4.6854567E-3,0,0,0.27844149000000001,0,0,0,-2.0839021999999999E-4,5.5269352999999995E-7,1.1358646999999999E-2,1.4906007999999999E-6,0,0,0,0,0]
["Verbranden",null,"kg",null,"_0256-avC&Verbranden glas (o.b.v. Waste glass {Europe without Switzerland}| treatment of waste glass, municipal incineration | Cut-off, U)",3.3544444999999999E-7,1.712641E-4,1.7706810999999999E-2,3.5468971000000001E-9,1.8227458999999999E-5,9.1767656999999995E-5,1.6886576E-5,1.1373518000000001E-2,1.8602332999999999E-4,0.65807537999999999,3.7411803000000001E-5,0,0,5.5703667999999996E-3,0,0,0.36913887000000001,0,0,0,-1.18804E-4,6.9895439000000004E-7,1.3585195E-2,1.9739785E-6,0,0,0,0,0]
["Verbranden",null,"kg",null,"_0257-avC&Verbranden staalschroot (o.b.v. Scrap steel {Europe without Switzerland}| treatment of scrap steel, municipal incineration | Cut-off, U)",2.0936107000000001E-7,9.3303915000000001E-5,1.037307E-2,1.8777637999999999E-9,1.2241434000000001E-5,4.9851022000000001E-5,8.9952277E-6,9.4660235999999998E-3,3.7924483E-3,2.8988078000000002,2.7400136000000001E-5,0,0,3.7314865000000002E-3,0,0,0.1988366,0,0,0,-2.8692901999999998E-4,4.2258962000000003E-7,9.6727731000000004E-3,1.0395104999999999E-6,0,0,0,0,0]
["Verbranden",null,"kg",null,"_0258-avC&Verbranden volkern (o.b.v. Waste cement-fibre slab, dismantled {CH}| treatment of waste cement-fibre slab, municipal incineration | Cut-off, U)",6.0396396000000001E-8,6.8354255999999997E-5,8.6984500999999995E-3,1.3088191E-9,4.2027367E-5,2.0770736000000001E-4,5.1695313000000002E-5,2.5201273E-2,2.1399605999999999E-4,0.39083891999999998,2.3860627E-5,0,0,4.3431905999999996E-3,0,0,0.14277988,0,0,0,5.3823892999999999E-4,2.7545390000000001E-7,4.4587139999999999E-3,5.4386788000000005E-7,0,0,0,0,0]
["Verbranden",null,"kg",null,"_0259-avC&Verbranden bitumen (30,1 MJ/kg) (o.b.v. Waste bitumen sheet {CH}| treatment of, municipal incineration | Cut-off, U)",3.3920259000000002E-8,-1.1173045E-2,1.0924077999999999,-1.3458346000000001E-7,-1.2237032E-4,-3.3449712000000001E-4,-3.2653398000000003E-5,-1.8384217000000001E-2,2.1052763000000002E-3,3.2399939,-1.3323855000000001E-4,0,0,-1.8600223999999999E-2,0,0,-22.909911999999998,0,0,0,-3.0990762000000002E-4,-2.5876069999999999E-5,4.9415239999999999E-2,-8.7349882000000006E-6,0,0,0,0,0]
["Verbranden",null,"kg",null,"_0260-avC&Verbranden rubber/EPDM (27,2 MJ/kg) (o.b.v. Waste rubber, unspecified {Europe without Switzerland}| treatment of waste rubber, unspecified, municipal incineration | Cut-off, U)",1.7556792E-7,-1.0026675000000001E-2,2.0354621000000002,-1.2365093000000001E-7,-1.4254204000000001E-4,-3.7982628000000001E-4,2.5182534E-6,-4.4829474000000001E-2,4.1060162E-5,-1.1525171000000001,5.8133159000000004E-6,0,0,-1.8389458000000001E-2,0,0,-20.549222,0,0,0,2.9731972E-3,-2.1384911999999999E-5,6.6316912000000006E-2,-7.6093558000000001E-6,0,0,0,0,0]
["Verbranden",null,"kg",null,"_0261-avC&Verbranden EPS (32,2 MJ/kg) (o.b.v. Waste expanded polystyrene {CH}| treatment of, municipal incineration | Cut-off, U)",-2.5517188000000002E-7,-1.2069649E-2,1.8183465999999999,-1.5174456000000001E-7,-1.4484274E-4,-6.0934507999999997E-4,-5.9395038E-5,6.9958215000000004E-2,3.6756394999999998E-3,16.563482,-1.7516111999999999E-4,0,0,-3.9705474999999997E-2,0,0,-24.746281,0,0,0,-7.4901152000000004E-4,-2.728407E-5,1.8880588E-2,-1.0277594E-5,0,0,0,0,0]
["Verbranden",null,"kg",null,"_0262-avC&Verbranden hout, 'schoon' (13,99 MJ/kg) (o.b.v. Waste wood, untreated {CH}| treatment of, municipal incineration | Cut-off, U)",-8.0566281999999999E-7,-2.8981879E-4,-4.8852349000000003E-2,-1.5786693999999999E-8,-1.4785029E-4,-9.9846319000000011E-4,-3.4596494000000002E-4,-7.9497767999999996E-2,-2.0006209000000001E-3,-2.4561356999999999,-6.4556034000000004E-4,0,0,-15.18873,0,0,-0.64843843999999995,0,0,0,2.9924412E-4,-2.2337700000000001E-6,-2.0709133000000001E-2,-4.2358070000000002E-6,0,0,0,0,0]
["Verbranden",null,"kg",null,"_0263-avC&Verbranden hout, verontreinigd (13,99 MJ/kg) (o.b.v. Waste building wood, chrome preserved {CH}| treatment of, municipal incineration | Cut-off, U)",-8.0162438000000001E-7,-2.8849970999999999E-4,-4.8475857999999997E-2,-1.5735318E-8,-1.4774404999999999E-4,-9.9708850000000009E-4,-3.4581852E-4,-7.9297515999999998E-2,-1.0674739000000001E-3,-2.3305615,-6.4508844999999998E-4,0,0,-15.188454,0,0,-0.64567783999999995,0,0,0,3.0257993E-4,-1.8927441E-6,-1.8584650000000001E-2,-4.2229648000000003E-6,0,0,0,0,0]
["Verbranden",null,"kg",null,"_0264-avC&Verbranden kunststoffen (28,67 MJ/kg) (o.b.v. o.b.v. mix 21% PE, 21% PP, 20% PVC, 17% PS en 21% mixture)",2.7998023000000002E-6,-9.8223230000000009E-3,1.4718888000000001,-5.6341131E-8,-8.2537802000000007E-5,1.2348215999999999E-4,3.3411077E-5,0.10997807,9.1343358000000006E-3,25.743856999999998,2.2924115999999999E-4,0,0,0.15642740999999999,0,0,-20.216553999999999,0,0,0,2.7299996000000001E-3,-2.1710765999999999E-5,3.09666E-2,-3.0238073999999999E-6,0,0,0,0,0]
["Verbranden",null,"kg",null,"_0265-avC&Verbranden PVC (21,51 MJ/kg) (o.b.v. Waste polyvinylchloride {CH}| treatment of, municipal incineration | Cut-off, U)",1.4389954E-5,-3.6249779E-3,1.4274804000000001,2.7750466999999999E-7,1.1879118999999999E-4,2.7122318000000001E-3,3.4696488000000001E-4,0.36692935999999998,9.3892138000000007E-3,43.662145000000002,1.7504113E-3,0,0,0.89859820000000001,0,0,-7.8055876,0,0,0,1.5758904000000001E-2,-5.3665077999999997E-6,0.12321303,2.2708483000000001E-5,0,0,0,0,0]
["Verbranden",null,"kg",null,"_0266-avC&Verbranden verf (10,14 MJ/kg) (o.b.v. Waste paint {Europe without Switzerland}| treatment of waste paint, municipal incineration | Cut-off, U)",7.4563248999999994E-8,-3.7147452999999999E-3,1.9747881,-4.6478923000000001E-8,-5.0366771000000001E-5,-1.1947222E-4,2.7736089E-5,6.0289542000000002E-2,6.9420182000000004E-3,26.207972000000002,5.7174045999999995E-4,0,0,-9.2335283999999997E-3,0,0,-7.6164823999999998,0,0,0,-2.2343347000000001E-4,-5.6483890999999998E-6,3.7127555E-2,-2.8069671000000001E-6,0,0,0,0,0]
["Verbranden",null,"kg",null,"_0297-avC&Verbranden organisch afval (4,29 MJ/kg) (o.b.v. Biowaste {GLO}| treatment of biowaste, municipal incineration | Cut-off, U)",5.0150521000000004E-7,2.6857991000000001E-5,1.9117305000000001E-2,-2.5818315E-9,-4.4972626999999997E-5,-1.8923907E-4,-5.7923746999999998E-5,-9.0584875000000002E-3,3.3771403999999997E-4,4.5793064000000001,-1.1562486E-4,0,0,-4.6507696999999997,0,0,3.5474331999999997E-2,0,0,0,5.110014E-4,-3.0590126000000002E-7,4.9841921999999997E-2,-5.4542476999999996E-7,0,0,0,0,0]
["Verbranden",null,"kg",null,"_0307-avC&Verbranden koperschroot (o.b.v. Scrap copper {RoW}| treatment of, municipal incineration | Cut-off, U)",2.7391441000000001E-7,1.3128344E-4,1.4148885E-2,2.6725138999999999E-9,1.5206931E-5,7.1658049000000005E-5,1.3377675000000001E-5,1.0052716999999999E-2,2.7947657000000001E-2,6.1920611000000001,3.3786472000000003E-5,0,0,4.6058185E-3,0,0,0.28093953999999999,0,0,0,-2.0697854999999999E-4,5.5655874000000004E-7,1.1935157E-2,1.4767080999999999E-6,0,0,0,0,0]
["Verbranden",null,"kg",null,"_0310-avC&Verbranden PP (32,78 MJ/kg) (o.b.v. Waste polypropylene {RoW}| treatment of waste polypropylene, municipal incineration | Cut-off, U)",3.0479652000000001E-8,-1.2231607E-2,1.2023953999999999,-1.5453546E-7,-1.8154911999999999E-4,-6.3432785999999999E-4,-3.0780486000000003E-5,1.1325712E-4,2.8242311999999999E-2,38.983567000000001,-1.475263E-4,0,0,-4.3436240000000001E-2,0,0,-25.081143999999998,0,0,0,-1.1539342E-3,-2.6329505999999999E-5,1.5421066000000001E-2,-1.0434391999999999E-5,0,0,0,0,0]
["Verbranden",null,"kg",null,"_0311-avC&Verbranden PE (42,47 MJ/kg) (o.b.v. Waste polyethylene {RoW}| treatment of waste polyethylene, municipal incineration | Cut-off, U)",-2.1799846000000001E-8,-1.5866013000000002E-2,1.2729359,-2.0050291E-7,-2.3745592999999999E-4,-8.5045062000000001E-4,-5.0824876000000003E-5,-8.6096600999999995E-3,3.3364452000000003E-2,45.801926999999999,-2.0249878000000001E-4,0,0,-5.7186992999999998E-2,0,0,-32.532255999999997,0,0,0,-1.4321539999999999E-3,-3.4431299999999997E-5,1.606254E-2,-1.3602828E-5,0,0,0,0,0]
["Stort",null,null,null,null,"001. abiotic depletion, non fuel (AD)","002. abiotic depletion, fuel (AD)","004. global warming (GWP)","005. ozone layer depletion (ODP)","006. photochemical oxidation (POCP)","007. acidification (AP)","008. eutrophication (EP)","009. human toxicity (HT)","010. Ecotoxicity, fresh water (FAETP)","012. Ecotoxcity, marine water (MAETP)","014. Ecotoxicity, terrestric (TETP)","111. Energy, primary, renewable, excludi","113. Energy, primary, renewable, materia","101. Energy, primary, renewable (MJ)","112. Energy, primary, non-renewable, exc","114. Energy, primary, non-renewable, mat","102. Energy, primary, non-renewable (MJ)","108. Secondary material (kg)","109. Secondary fuel, renewable (kg)","110. Secondary fuel, non-renewable (kg)","104. Water, fresh water use (m3)","106. Waste, hazardous (kg)","105. Waste, non hazardous (kg)","107. Waste, radioactive (kg)","120. Components for re-use (kg)","121. Materials for recycling (kg)","122. Materials for energy recovery (kg)","123. Exported energy, electric (MJ)","124. Exported energy, thermal (MJ)"]
["Categorie","Triviale naam","Eenheid",null,"Technische naam","kg Sb eq","kg Sb eq","kg CO2 eq","kg CFC-11 eq","kg C2H4","kg SO2 eq","kg PO4--- eq","kg 1,4-DB eq","kg 1,4-DB eq","kg 1,4-DB eq","kg 1,4-DB eq","MJ","MJ","MJ","MJ","MJ","MJ","kg","MJ","MJ","m3","kg","kg","kg","kg","kg","kg","MJ","MJ"]
["Storten",null,"kg",null,"0239-sto&Stort aluminium (o.b.v. Waste aluminium {RoW}| treatment of, sanitary landfill | Cut-off, U)",3.0637270999999999E-7,3.0534593999999998E-4,3.9016451000000001E-2,3.7449124E-9,2.5896057999999999E-5,2.1441477E-4,2.8202517E-5,1.463033E-2,4.7819604000000002E-4,1.1841401,7.4878365999999998E-5,0,0,3.3203281000000001E-2,0,0,0.59852324000000001,0,0,0,4.2388756E-4,5.4527234999999996E-7,1.0169737000000001,2.2342002E-6,0,0,0,0,0]
["Storten",null,"kg",null,"0240-sto&Stort beton, cellenbeton (o.b.v. Waste concrete {Europe without Switzerland}| treatment of waste concrete, inert material landfill | Cut-off, U)",4.8191034000000002E-8,7.0392419000000006E-5,5.1682146999999998E-3,1.7213381E-9,5.5051671999999999E-6,3.7795110999999997E-5,7.2906224000000001E-6,2.3359901000000001E-3,5.5438446E-5,0.19820626,5.8670976999999998E-6,0,0,1.190298E-3,0,0,0.15637619999999999,0,0,0,1.5723153E-4,2.1998950000000001E-7,0.99969461000000004,9.6680516999999991E-7,0,0,0,0,0]
["Storten",null,"kg",null,"0241-sto&Stort bitumen (o.b.v. Waste bitumen {Europe without Switzerland}| treatment of waste bitumen, sanitary landfill | Cut-off, U)",1.1499624E-7,1.2245143E-4,0.12802836000000001,2.6492982000000002E-9,3.1402831000000002E-5,1.3319697E-4,5.9798903000000003E-5,6.2590351999999997E-3,1.4199672999999999E-3,1.6004461999999999,1.8562016999999999E-5,0,0,5.3632551000000004E-3,0,0,0.27037371999999998,0,0,0,2.6591749E-4,3.8447851000000001E-7,1.0024423,1.5316262E-6,0,0,0,0,0]
["Storten",null,"kg",null,"0242-sto&Stort EPS, XPS (o.b.v. Waste polystyrene {Europe without Switzerland}| treatment of waste polystyrene, sanitary landfill | Cut-off, U)",1.1370786E-7,1.2241007000000001E-4,0.13312673999999999,2.6251463999999999E-9,2.9796967999999999E-5,7.1037902000000005E-5,3.4064637E-5,7.2253365999999999E-3,1.7346071E-3,2.1511353,2.439849E-5,0,0,4.5418906E-3,0,0,0.26767415,0,0,0,2.6242429999999997E-4,3.8191045E-7,1.0024206,1.4942395E-6,0,0,0,0,0]
["Storten",null,"kg",null,"0243-sto&Stort gips (o.b.v. Waste gypsum {Europe without Switzerland}| treatment of waste gypsum, inert material landfill | Cut-off, U)",4.8191034000000002E-8,7.0392419000000006E-5,5.1682146999999998E-3,1.7213381E-9,5.5051671999999999E-6,3.7795110999999997E-5,7.2906224000000001E-6,2.3359901000000001E-3,5.5438446E-5,0.19820626,5.8670976999999998E-6,0,0,1.190298E-3,0,0,0.15637619999999999,0,0,0,1.5723153E-4,2.1998950000000001E-7,0.99969461000000004,9.6680516999999991E-7,0,0,0,0,0]
["Storten",null,"kg",null,"0244-sto&Stort glas (o.b.v. Waste glass {CH}| treatment of, inert material landfill | Cut-off, U)",3.7868526999999998E-8,6.4743365000000005E-5,4.2229620000000002E-3,1.6579876E-9,4.5647414999999999E-6,3.0999211999999999E-5,6.6341663000000001E-6,1.9796758E-3,4.7424523999999999E-5,0.15960948,4.5281303000000001E-6,0,0,2.1264669999999999E-3,0,0,0.14671849000000001,0,0,0,1.6458468E-4,1.5396858000000001E-7,0.99939049999999996,9.4082609999999998E-7,0,0,0,0,0]
["Storten",null,"kg",null,"0245-sto&Stort hout, 'schoon' (o.b.v. Waste wood, untreated {Europe without Switzerland}| treatment of waste wood, untreated, sanitary landfill | Cut-off, U)",1.1346865E-7,1.2179314E-4,7.5371103999999994E-2,2.6216076000000001E-9,2.3601636999999999E-5,6.9803975000000003E-5,2.8787765E-5,6.5383233999999997E-3,1.0625587E-4,0.43593885999999998,2.1223405000000001E-5,0,0,4.4097346000000004E-3,0,0,0.26649030000000001,0,0,0,2.6178762E-4,3.8585274000000002E-7,1.0024139999999999,1.4909129999999999E-6,0,0,0,0,0]
["Storten",null,"kg",null,"0246-sto&Stort hout, geschilderd (o.b.v. 99% Waste wood, untreated en 1% Waste paint {EU}| treatment of, sanitary landfill | Cut-off, U)",1.1346466E-7,1.2177987999999999E-4,7.5640595000000005E-2,2.6215860999999998E-9,2.3612308999999999E-5,6.9790828000000006E-5,2.8663031000000001E-5,6.5326448999999997E-3,1.2860608999999999E-4,0.4635997,2.1222292999999999E-5,0,0,4.4088421000000001E-3,0,0,0.26647110000000002,0,0,0,2.6178274999999999E-4,3.8581393E-7,1.0024141,1.4909305000000001E-6,0,0,0,0,0]
["Storten",null,"kg",null,"0247-sto&Stort inert afval (o.b.v. Inert waste, for final disposal {RoW}| treatment of inert waste, inert material landfill | Cut-off, U) fijn-/grofkeramisch, grind, kalkzandsteen, schelpen, zand",4.8191034999999999E-8,7.0392419000000006E-5,5.1682148000000002E-3,1.7213381E-9,5.5051671999999999E-6,3.7795112E-5,7.2906224000000001E-6,2.3359901000000001E-3,5.5438447000000003E-5,0.19820626,5.8670976999999998E-6,0,0,1.1902981E-3,0,0,0.15637619999999999,0,0,0,1.5723153E-4,2.1998950000000001E-7,0.99969461999999998,9.6680517999999995E-7,0,0,0,0,0]
["Storten",null,"kg",null,"0248-sto&Stort koper, lood, verzinkt staal, zink (o.b.v. Scrap tin sheet {CH}| treatment of, sanitary landfill | Cut-off, U, bij gebrek aan passender proces)",7.8782284999999999E-8,1.0924615E-4,8.8377548E-3,2.6253590999999998E-9,8.7159221000000008E-6,5.8042426000000003E-5,1.2077684000000001E-5,7.7488504E-3,2.458404E-3,0.65316034999999995,1.9260622E-5,0,0,1.3544667999999999E-2,0,0,0.2549323,0,0,0,2.9971332999999999E-4,2.9530641000000002E-7,1.0021134,1.5868685000000001E-6,0,0,0,0,0]
["Storten",null,"kg",null,"0249-sto&Stort kunststoffen (o.b.v. mix 21% PE, 21% PP, 17% PVC, 21% PS en 20% mixture)",1.1374579999999999E-7,1.2245762000000001E-4,0.10982463000000001,2.6255211999999998E-9,2.5973713000000001E-5,7.1247007999999999E-5,3.6295347E-5,8.3700120999999992E-3,5.2137787000000003E-3,5.4574338999999998,2.1783572999999999E-5,0,0,4.5538072999999997E-3,0,0,0.26777411000000001,0,0,0,2.6250067999999998E-4,3.8188814000000002E-7,1.0024207999999999,1.4945742000000001E-6,0,0,0,0,0]
["Storten",null,"kg",null,"0250-sto&Stort minerale wol (o.b.v. Waste mineral wool, for final disposal {Europe without Switzerland}| treatment of waste mineral wool, inert material landfill | Cut-off, U)",4.8191034000000002E-8,7.0392419000000006E-5,5.1682146999999998E-3,1.7213381E-9,5.5051671999999999E-6,3.7795110999999997E-5,7.2906224000000001E-6,2.3359901000000001E-3,5.5438446E-5,0.19820626,5.8670976999999998E-6,0,0,1.190298E-3,0,0,0.15637619999999999,0,0,0,1.5723153E-4,2.1998950000000001E-7,0.99969461000000004,9.6680516999999991E-7,0,0,0,0,0]
["Storten",null,"kg",null,"0251-sto&Stort PE (o.b.v. Waste polyethylene {Europe without Switzerland}| treatment of waste polyethylene, sanitary landfill | Cut-off, U), ook elastomeren als epdm",1.1348145E-7,1.2195943000000001E-4,0.12681213,2.6223523000000001E-9,2.8742651000000001E-5,7.0271780000000006E-5,2.8311219999999999E-5,1.0384025999999999E-2,1.0805709E-2,10.79852,1.7926196E-5,0,0,4.4417948E-3,0,0,0.26679965,0,0,0,2.6194674000000001E-4,3.8144674E-7,1.0024166000000001,1.4916871000000001E-6,0,0,0,0,0]
["Storten",null,"kg",null,"0252-sto&Stort PVC (o.b.v. Waste polyvinylchloride {Europe without Switzerland}| treatment of waste polyvinylchloride, sanitary landfill | Cut-off, U)",1.1319227E-7,1.2135577000000001E-4,7.2684719999999994E-2,2.6187367000000002E-9,1.9908127000000001E-5,7.0824117000000005E-5,2.420452E-5,7.3227965999999997E-3,1.8322185E-3,2.2949682999999999,2.4270868000000001E-5,0,0,4.3136902999999999E-3,0,0,0.26564623999999998,0,0,0,2.6131829E-4,3.8079785E-7,1.0024101999999999,1.4884843E-6,0,0,0,0,0]
["Storten",null,"kg",null,"0253-sto&Stort staal (o.b.v. Scrap steel {Europe without Switzerland}| treatment of scrap steel, inert material landfill | Cut-off, U)",4.8191034000000002E-8,7.0392419000000006E-5,5.1682148000000002E-3,1.7213381E-9,5.5051671999999999E-6,3.7795110999999997E-5,7.2906224000000001E-6,2.3359901000000001E-3,5.5438446E-5,0.19820626,5.8670976999999998E-6,0,0,1.190298E-3,0,0,0.15637619999999999,0,0,0,1.5723153E-4,2.1998950000000001E-7,0.99969461000000004,9.6680516999999991E-7,0,0,0,0,0]
["Storten",null,"kg",null,"0254-sto&Stort huishoudelijk afval (o.b.v. Municipal solid waste {RoW}| treatment of, sanitary landfill | Cut-off, U)",1.4914035E-7,1.7124415E-4,0.63036150999999996,2.9580146E-9,1.4260008999999999E-4,1.4284491000000001E-4,5.9563743999999997E-4,2.6290144000000001E-2,2.4137354999999999E-3,5.9883983000000001,8.3265226999999997E-5,0,0,1.4736686000000001E-2,0,0,0.36182311,0,0,0,3.1278430999999999E-4,1.1285684E-6,1.0030737000000001,1.7626754E-6,0,0,0,0,0]
["Storten",null,"kg",null,"0299-sto&Stort verf (o.b.v. Waste paint {Europe without Switzerland}| treatment of waste paint, sanitary landfill | Cut-off, U)",1.1306936E-7,1.2046783E-4,0.10232026,2.6194605000000001E-9,2.4668828999999999E-5,6.8489305000000002E-5,1.6314305000000001E-5,5.9704813000000002E-3,2.3412771000000001E-3,3.2020233999999999,2.1112139000000001E-5,0,0,4.3204906E-3,0,0,0.26456988999999997,0,0,0,2.6130099000000001E-4,3.8197232000000002E-7,1.0024280000000001,1.4926636999999999E-6,0,0,0,0,0]
["Storten",null,"kg",null,"0300-sto&Stort PUR (o.b.v. Waste polyurethane {RoW}| treatment of, sanitary landfill | Cut-off, U)",1.3247628000000001E-7,1.5952324999999999E-4,0.10727367,2.8561555E-9,2.5798872000000001E-5,1.0157544000000001E-4,5.3595895999999997E-4,8.7096185999999999E-3,1.9128992999999999E-3,2.4132449999999999,4.9678249999999998E-5,0,0,1.2765409E-2,0,0,0.33977718000000001,0,0,0,3.0167045000000002E-4,4.1297090999999999E-7,1.0027528999999999,1.70461E-6,0,0,0,0,0]
["Storten",null,"kg",null,"0308-sto&Stort PS, EPS, XPS, ongecontroleerd ('laten zitten') (o.b.v. Waste polystyrene {GLO}| treatment of waste polystyrene, unsanitary landfill, moist infiltration class (300mm) | Cut-off, U)",6.8269353999999998E-9,2.9001933000000001E-5,0.20648767000000001,7.6112884999999998E-10,4.2217405E-5,3.4209925999999997E-5,2.1449983999999999E-5,4.4847252000000002E-3,3.6475956000000002E-3,5.0425618999999999,9.6183720999999993E-6,0,0,3.3208015E-4,0,0,6.4934413999999996E-2,0,0,0,3.1531576000000001E-6,1.665556E-7,7.2721538000000002E-5,4.2448232999999998E-7,0,0,0,0,0]
["Storten",null,"kg",null,"0312-sto&Stort PP, ongecontroleerd ('laten zitten') (o.b.v. Waste polypropylene {GLO}| treatment of waste polypropylene, unsanitary landfill, moist infiltration class (300mm) | Cut-off, U)",6.8269353999999998E-9,2.9001933000000001E-5,0.16591167000000001,7.6112884999999998E-10,3.4628492E-5,3.3706277999999999E-5,1.7149163000000001E-5,9.6707712000000008E-3,1.8283707E-2,19.076301000000001,3.0605413000000001E-6,0,0,3.3208015E-4,0,0,6.4934413999999996E-2,0,0,0,3.1531576000000001E-6,1.665556E-7,7.2721538999999998E-5,4.2448232999999998E-7,0,0,0,0,0]
["Storten",null,"kg",null,"0313-sto&Stort PE, ongecontroleerd ('laten zitten') (o.b.v. Waste polyethylene {GLO}| treatment of waste polyethylene, unsanitary landfill, moist infiltration class (300mm) | Cut-off, U)",6.8269353999999998E-9,2.9001933000000001E-5,0.19567967,7.6112884999999998E-10,4.0185648000000002E-5,3.3811581000000001E-5,1.8921721E-5,1.1152743E-2,2.1649018999999999E-2,22.577359999999999,3.12877E-6,0,0,3.3208015E-4,0,0,6.4934413999999996E-2,0,0,0,3.1531576000000001E-6,1.665556E-7,7.2721538999999998E-5,4.2448232E-7,0,0,0,0,0]
["Recycling (incl C)",null,null,null,null,"001. abiotic depletion, non fuel (AD)","002. abiotic depletion, fuel (AD)","004. global warming (GWP)","005. ozone layer depletion (ODP)","006. photochemical oxidation (POCP)","007. acidification (AP)","008. eutrophication (EP)","009. human toxicity (HT)","010. Ecotoxicity, fresh water (FAETP)","012. Ecotoxcity, marine water (MAETP)","014. Ecotoxicity, terrestric (TETP)","111. Energy, primary, renewable, excludi","113. Energy, primary, renewable, materia","101. Energy, primary, renewable (MJ)","112. Energy, primary, non-renewable, exc","114. Energy, primary, non-renewable, mat","102. Energy, primary, non-renewable (MJ)","108. Secondary material (kg)","109. Secondary fuel, renewable (kg)","110. Secondary fuel, non-renewable (kg)","104. Water, fresh water use (m3)","106. Waste, hazardous (kg)","105. Waste, non hazardous (kg)","107. Waste, radioactive (kg)","120. Components for re-use (kg)","121. Materials for recycling (kg)","122. Materials for energy recovery (kg)","123. Exported energy, electric (MJ)","124. Exported energy, thermal (MJ)"]
["Categorie","Triviale naam","Eenheid",null,"Technische naam","kg Sb eq","kg Sb eq","kg CO2 eq","kg CFC-11 eq","kg C2H4","kg SO2 eq","kg PO4--- eq","kg 1,4-DB eq","kg 1,4-DB eq","kg 1,4-DB eq","kg 1,4-DB eq","MJ","MJ","MJ","MJ","MJ","MJ","kg","MJ","MJ","m3","kg","kg","kg","kg","kg","kg","MJ","MJ"]
["Recycling",null,"kg",null,"0269-reD&Module D aluminium, per kg NETTO geleverd schroot (vermeden: Aluminium, cast alloy {GLO}| aluminium ingot, primary, to market | Cut-off, U; Aluminium, cast alloy {RER}|",4.0066941000000003E-3,-0.10708416,-17.101087,-5.6346256000000001E-7,-7.1584839000000001E-3,-9.8007496999999999E-2,-7.9771666999999997E-3,-16.730547000000001,-0.10381699,-829.15287999999998,-3.1948074999999999E-2,0,0,-21.499237000000001,0,0,-175.54695000000001,0,0,0,-9.9302284000000005E-2,8.0894290000000004E-3,-3.3568327,-2.574977E-4,0,0,0,0,0]
["Recycling",null,"kg",null,"0271-reD&Module D, grind, per kg NETTO geleverd granulaat/grind (vermeden: Gravel, round {RoW}| gravel and sand quarry operation | Cut-off, U)",-2.0911455000000001E-7,-2.7684458000000001E-5,-4.0981263000000002E-3,-3.5739902E-10,-3.0296772999999998E-6,-2.3284115000000001E-5,-3.7942804999999998E-6,-1.8978659E-3,-2.9432297000000001E-5,-0.12224314,-9.8714555000000002E-6,0,0,-3.6270326999999999E-3,0,0,-5.5563372999999999E-2,0,0,0,-1.4102940999999999E-3,-1.0582467E-7,-5.6747006000000002E-4,-2.2908378000000001E-7,0,0,0,0,0]
["Recycling",null,"kg",null,"0273-reD&Module D, vlakglas per kg NETTO geleverd kringloopglas (79% verpakkingsglas- en 21% glaswoltoepassing waar primaire grondstoffen worden vermeden - niet de energie )",-6.1417606000000003E-5,-2.1220074000000001E-3,-0.44098759999999998,-1.7012883000000001E-8,-1.058512E-4,-1.7941749E-3,-2.1892373999999999E-4,-8.1510183E-2,-3.0686926999999998E-3,-12.003904,-5.1596567999999995E-4,0,0,-0.41586153999999997,0,0,-4.0259779,0,0,0,-4.7816619999999999E-3,-3.7565041999999999E-6,-2.1400941999999999E-2,-9.2672379000000007E-6,0,0,0,0,0]
["Recycling",null,"kg",null,"0274-reD&Module D, glaswol/glasschuim, per kg NETTO geleverd (glaswol/-schuimtoepassing waar primaire grondstoffen worden vermeden - niet de energie)",-6.0015461000000002E-5,-3.6543308000000002E-3,-0.53015069000000004,-2.4103362E-8,-1.5555804999999999E-4,-2.8578317000000002E-3,-3.4626075000000002E-4,-0.19908316000000001,-4.1305491999999999E-3,-18.682579,-1.0300388999999999E-3,0,0,-0.81706959000000001,0,0,-6.9923033999999999,0,0,0,-6.8203977000000004E-3,-3.9222938000000001E-6,-6.6017453000000004E-2,-2.0409928999999999E-5,0,0,0,0,0]
["Recycling",null,"kg",null,"0275-reD&Module D, houten balk, per kg NETTO geleverd (o.b.v. Sawnwood, beam, softwood, dried (u=10%), planed {RoW}| planing, beam, softwood, u=10% | Cut-off, U)",-7.6613775999999992E-6,-1.1972367E-3,-0.17236172,-1.5466805E-8,-1.8249771000000001E-4,-9.3049063000000005E-4,-1.8948510000000001E-4,-8.5017857000000002E-2,-1.9837951E-3,-5.1706531,-6.8269364999999995E-4,0,0,-35.332987000000003,0,0,-2.4258340999999999,0,0,0,-9.7888869000000009E-4,-8.4425994999999997E-6,-3.8039204E-2,-1.0083697999999999E-5,0,0,0,0,0]
["Recycling",null,"kg",null,"0276-reD&Module D, houtspaanders, per kg NETTO geleverd (o.b.v. Wood chips, dry, measured as dry mass {RER}| three layered laminated board production | Cut-off, U)",-1.1282182E-6,-5.1740057999999996E-4,-6.9785589999999995E-2,-7.9128525000000004E-9,-6.5803174000000003E-5,-3.6340063999999999E-4,-6.9150170999999995E-5,-2.6757959000000001E-2,-7.3425203999999997E-4,-2.1348123999999999,-2.2799731999999999E-4,0,0,-7.8713139999999999,0,0,-1.199338,0,0,0,-6.4940074999999999E-4,-2.9461675000000001E-6,-1.7331810999999999E-2,-6.3368257999999996E-6,0,0,0,0,0]
["Recycling",null,"kg",null,"0277-reD&Module D, koper, per kg NETTO geleverd schroot (vermeden: Copper {RER}| production, primary | Cut-off, U)",-1.2194799E-3,-1.0065647E-2,-1.6187486,-1.2812981E-7,-3.5166966999999999E-3,-6.0955228E-2,-5.0103921000000003E-3,-9.6418057000000008,-0.38137401999999998,-1447.2273,-2.2278389999999999E-2,0,0,-6.9462539999999997,0,0,-22.456437999999999,0,0,0,-3.6786513999999999E-2,-2.5611738000000001E-5,-1.2925339,-9.2650879E-5,0,0,0,0,0]
["Recycling",null,"kg",null,"0278-reD&Module D, PE, per kg NETTO geleverd (o.b.v. vermeden Polyethylene, high density, granulate {RER}| production | Cut-off, U en kwaliteitsfactor 0,67)",-7.4684484999999997E-6,-2.0796841E-2,-0.92548615000000001,-1.3078934E-8,-1.0649170999999999E-3,-3.1859293000000002E-3,-2.3412625E-4,0.13021474,8.1135364999999993E-5,-2.6184002,2.7746352000000002E-4,0,0,-0.61700690000000002,0,0,-47.044524000000003,0,0,0,-1.4283725000000001E-2,-7.9551456999999996E-10,0.13313453,-1.4338899E-5,0,0,0,0,0]
["Recycling",null,"kg",null,"0280-reD&Module D, zand (o.b.v. Sand {RoW}| gravel and quarry operation | Cut-off, U)",-2.0911455000000001E-7,-2.7684458000000001E-5,-4.0981263000000002E-3,-3.5739902E-10,-3.0296772999999998E-6,-2.3284115000000001E-5,-3.7942804999999998E-6,-1.8978659E-3,-2.9432297000000001E-5,-0.12224314,-9.8714555000000002E-6,0,0,-3.6270326999999999E-3,0,0,-5.5563372E-2,0,0,0,-1.4102940999999999E-3,-1.0582467E-7,-5.6747006999999998E-4,-2.2908378000000001E-7,0,0,0,0,0]
["Recycling",null,"kg",null,"0282-reD&Module D, staal, per kg NETTO geleverd ongelegeerd schroot (World Steel methode obv Steel, low-alloyed {RER&RoW}| steel production, electric, low-alloyed | Cut-off, U  -",4.0740051000000001E-7,-8.0414564000000008E-3,-1.3045035,-4.3233336000000002E-8,-2.8659741999999999E-3,-4.2546084999999997E-3,-5.0305227000000004E-4,-0.80062422,1.0852726E-2,11.003337,6.9490598000000001E-2,0,0,0.34265535000000003,0,0,-9.9601839000000005,0,0,0,-4.9876112000000004E-3,-1.6976219999999999E-4,-0.12943925000000001,1.0453303E-5,0,0,0,0,0]
["Recycling",null,"kg",null,"0283-reD&Module D, zink, per kg NETTO geleverd schroot (vermeden: Zinc {RoW}| primary production from concentrate | Cut-off, U)",-7.7272799000000003E-2,-2.1014908999999998E-2,-3.0148335999999998,-2.3182182000000001E-7,-1.2300829000000001E-3,-2.4134002000000002E-2,-3.5231324000000001E-3,-2.4194171,-0.18071783,-311.33057000000002,-1.3691202E-2,0,0,-5.9925666,0,0,-47.780250000000002,0,0,0,-9.4774201000000002E-2,-9.9961741999999992E-3,-0.44197427,-2.3394949E-4,0,0,0,0,0]
["Recycling",null,"kg",null,"0309-reD&Module D, EPS, per kg NETTO geleverd EPS (o.b.v. vermeden Polystyrene, expandable {RER}| production | Cut-off, U en kwaliteitsfactor 0,9)",-4.9419936999999999E-6,-3.7748812E-2,-3.5469217999999998,-7.5638503000000004E-8,-2.9641945E-3,-1.0640088000000001E-2,-9.5240923000000004E-4,-0.61959858999999995,-1.276095E-2,-38.477150000000002,-1.7851281E-3,0,0,-0.56584553000000004,0,0,-84.111721000000003,0,0,0,-6.0294812000000003E-2,-6.0861057999999999E-6,-0.21747738999999999,-1.4368274E-5,0,0,0,0,0]
["Recycling",null,"kg",null,"0376-reD&Module D, Cement, CEM I, zonder 30% opslag (vermeden: 0172-fab&Cement, CEM I (o.b.v. CEM I 52.5 R))",-1.4370657000000001E-7,-1.9018126000000001E-3,-0.86068666999999999,-7.2819628E-9,-1.2794575000000001E-4,-1.0638446E-3,-2.8703118000000002E-4,-3.0293015999999999E-2,-8.8446002000000003E-4,-2.9434619,-7.6225659999999999E-4,-6.4500000000000002E-2,0,-0.20365807999999999,-0.58666666999999995,0,-3.3424287000000001,0,0,0,-1.3696915000000001E-3,-1.885134E-5,-1.5493596E-2,-7.6176479000000005E-4,0,0,0,0,0]
["Recycling",null,"kg",null,"0384-reD&Module D, Klei, per kg NETTO geleverd klei (o.b.v. Clay {CH}| clay pit operation | Cut-off, U)",-1.5206551000000001E-6,-4.5077702000000003E-5,-7.1173275999999999E-3,-7.6618013E-10,-7.5483217999999997E-6,-5.6197542E-5,-9.0299602000000004E-6,-1.0013993000000001E-2,-1.2595794000000001E-4,-0.40114429000000001,-5.4975772E-5,0,0,-6.0499938000000003E-3,0,0,-9.1245146999999999E-2,0,0,0,-4.9285403999999998E-5,-4.8047166E-7,-2.0003614000000001E-3,-4.0802659E-7,0,0,0,0,0]
[]
[]
[]
[null,"leeg",null,null,"leeg",0,0,0,0,0,0,0,0,0,0,0,0,0,0,0,0,0,0,0,0,0,0,0,0,0,0,0,0,0,0,0,0,0,0,0,0,0,0,0,0]
[]
[]
[]
[]
[]
[]
[]
[]
[]
[]
[]
[]
[]
[]
[]
[]
[]
[]
[]
[]
[]
[]
[]
[]
[]
[]
[]
[]
[]
[]
[]
[]
[]
[]
[]
[]
[]
[]
[]
[]
[]
[]
[]
[]
[]
[]
[]
[]
[]
[]
[]
[]
[]
[]
[]
[]
[]
[]
[]
[]
[]
[]
[]
[]
[]
[]
[]
[]
[]
[]
[]
[]
[]
[]
[]
[]
[]
[]
[]
[]
[]
[]
[]
[]
[]
[]
[]
[]
[]
[]
[]
[]
[]
[]
[]
[]
[]
["Effectcategorie","001. abiotic depletion, non fuel (AD)","002. abiotic depletion, fuel (AD)","004. global warming (GWP)","005. ozone layer depletion (ODP)","006. photochemical oxidation (POCP)","007. acidification (AP)","008. eutrophication (EP)","009. human toxicity (HT)","010. Ecotoxicity, fresh water (FAETP)","012. Ecotoxcity, marine water (MAETP)","014. Ecotoxicity, terrestric (TETP)","111. Energy, primary, renewable, excludi","113. Energy, primary, renewable, materia","101. Energy, primary, renewable (MJ)","112. Energy, primary, non-renewable, exc","114. Energy, primary, non-renewable, mat","102. Energy, primary, non-renewable (MJ)","108. Secondary material (kg)","109. Secondary fuel, renewable (kg)","110. Secondary fuel, non-renewable (kg)","104. Water, fresh water use (m3)","106. Waste, hazardous (kg)","105. Waste, non hazardous (kg)","107. Waste, radioactive (kg)","120. Components for re-use (kg)","121. Materials for recycling (kg)","122. Materials for energy recovery (kg)","123. Exported energy, electric (MJ)","124. Exported energy, thermal (MJ)"]
["Eenheid","kg Sb eq","kg Sb eq","kg CO2 eq","kg CFC-11 eq","kg C2H4","kg SO2 eq","kg PO4--- eq","kg 1,4-DB eq","kg 1,4-DB eq","kg 1,4-DB eq","kg 1,4-DB eq","MJ","MJ","MJ","MJ","MJ","MJ","kg","MJ","MJ","m3","kg","kg","kg","kg","kg","kg","MJ","MJ"]
["_Liquid crystal display, minor components, auxilliaries and assembly effort {GLO}| market for | Cut-off, U",1.2824753E-3,0.21409518999999999,35.520682000000001,1.7248717E-6,2.7176295999999999E-2,0.21193870000000001,0.12401500999999999,67.920221999999995,0.48212608000000001,8827.1363999999994,0.10162709,0,0,43.828026000000001,0,0,414.24142000000001,0,0,0,0.28763921999999997,1.1959329999999999E-3,5.8358495000000001,1.0212988E-3,0,0,0,0,0]
["_0405-fab&Elektronica, printplaat, inclusief elektronische componenten (o.b.v. Printed wiring board, surface mounted, unspecified, Pb free {GLO}| market for | Cut-off, U)",0.18124346,2.6312508000000001,375.06085000000002,3.7349070999999999E-5,0.16971381999999999,2.3864201,0.46063817000000001,194.26115999999999,20.103566000000001,51404.468000000001,2.1938713000000001,0,0,497.25661000000002,0,0,5105.5385999999999,0,0,0,3.6133066,1.6468582999999998E-2,31.168505,1.4504893E-2,0,0,0,0,0]
["_0305-fab&LED (o.b.v. Light emitting diode {GLO}| market for | Cut-off, U; 93,2% primair, 6,8% secundair)",6.5146561000000002E-3,1.903106,268.59231999999997,1.2338799E-5,9.5312289999999994E-2,1.4783037999999999,0.21724540000000001,151.91573,2.6605916999999999,19651.705000000002,0.56184688999999999,0,0,365.33055999999999,0,0,3657.3640999999998,0,0,0,2.8223562000000002,2.6788291999999998E-3,20.304117000000002,9.6189410000000006E-3,0,0,0,0,0]
["_0303-fab&Elektronica, passieve componenten (o.b.v. Electronic component, passive, unspecified {GLO}| market for | Cut-off, U)",6.1437401000000003E-2,0.54073475000000004,75.845132000000007,5.4204999000000001E-6,0.11273556,0.70577308999999999,9.7065229000000003E-2,60.530586999999997,3.2736038999999999,13559.109,0.48568492000000002,0,0,98.990105,0,0,1060.3931,0,0,0,0.72468522000000002,3.8034295999999999E-3,9.8373834999999996,3.0518976999999998E-3,0,0,0,0,0]
["_0302-fab&Accu, NiMH (o.b.v. Battery, NiMH, rechargeable, prismatic {GLO}| market for | Cut-off, U)",2.4305646999999999E-3,0.12451673000000001,18.910146000000001,4.3177911000000002E-5,6.3841756E-2,1.4269946,1.4963381E-2,23.573464000000001,1.1314786999999999,4113.0406000000003,9.9006565000000005E-2,0,0,23.689613000000001,0,0,247.18904000000001,0,0,0,0.25188094,4.8197868999999999E-4,6.2770222000000002,6.5615818000000004E-4,0,0,0,0,0]
["_0301-fab&Accu, Lithium-ion (o.b.v. Battery, Li-ion, rechargeable, prismatic {GLO}| market for | Cut-off, U; 97,7% primair, 2,3% secundair)",1.4162261000000001E-3,5.7385969000000002E-2,7.7671570000000001,6.8203037999999998E-7,9.1115181000000003E-3,0.13245404999999999,9.4904159000000002E-3,22.80555,0.47246778,2026.2789,6.2680040000000006E-2,0,0,12.863064,0,0,110.126,0,0,0,0.10185145,3.8063315000000002E-3,2.0951257999999999,2.6757568999999999E-4,0,0,0,0,0]
["_0057-fab&Elektronica, actieve componenten (o.b.v. Electronic component, active, unspecified {GLO}| market for | Cut-off, U)",0.52144336999999996,7.6481298999999998,1081.1975,1.0264044E-4,0.39913127999999998,5.6696761999999996,1.2009276,392.93684999999999,52.827089999999998,129218.4,6.0545727999999999,0,0,1437.8353999999999,0,0,14793.905000000001,0,0,0,9.6916480000000007,2.2320533E-2,73.331918999999999,4.2343749999999999E-2,0,0,0,0,0]

{"sheet":"Lijsten NN","index":27,"n_rows":34,"n_cols":12,"rows_kept":34,"cut":false,"hidden":true,"merged":[]}
["Materiaalgroepen","Leeg","Bindmiddelen","Circulaire_materialen","Elektronica","Coatings","Keramiek","Metalen","Natuurlijke_materialen","Plaatmateriaal","Polymeren","Textiel"]
["Leeg","Leeg","Tegellijm","Pfleiderer DecoBoard","LCD display","Alkydharsverf","Baksteen","Messing","Europees hardhout","Multiplex","EPS","Nylon"]
["Bindmiddelen",null,"Componentenlijm (OCF)","Pfleiderer LivingBoard","Printplaat (PCB)","Poedercoating","Keramische tegel","Aluminium","Cellulose","Spaanplaat","Rubber","Schapenwol"]
["Coatings",null,"Neopreenlijm","Accoya","LED","Latexverf","Betontegels","Ongelegeerd staal","Zachthout","OSB","Polycarbonaat","Jute"]
["Circulaire_materialen",null,"Kitlijm (PU)","Really solid boards","Accu Li-ion oplaadbaar","Natlak","Klei","Gietijzer","Resthout","Zachthout","PUR","Kokos"]
["Elektronica",null,"Cement (CEM I)","Resysta",null,"Impregneermiddel","Natuursteen","Koper","Gecreosoteerd zachthout","HDF","Polystyreen","Fleece (PET)"]
["Keramiek",null,"Cementlijm","Graphenstone",null,"Metaalconserveringsmiddel","Vlakglas","Verzinkt staal","Gewolmaniseerd zachthout","MDF","ABS","Katoen"]
["Metalen",null,"Epoxylijm","RAW Paints",null,"Acrylaatdispersieverf","Anhydriet","Laaggelegeerd staal","Hardhoutsnippers","Karton","Polyester","Polyester"]
["Natuurlijke_materialen",null,"Melanimehars","Cosentino",null,null,"Kalkzandsteen","Hooggelegeerd staal","Tropisch hardhout",null,"Polyetheen (PE)"]
["Plaatmateriaal",null,"Siliconenlijm",null,null,null,null,"Ferronickel staal (25% nickel)","Bamboe",null,"Polypropeen (PP)"]
["Polymeren",null,"Kitlijm (MS/STP/SPUR)",null,null,null,null,"Hoog carbon ferrochroom staal (68% chroom)","Kurk",null,"PVC"]
["Textiel",null,"Acryllijm",null,null,null,null,null,null,null,"Gerecycled kunststof"]
[]
[]
[]
[]
[]
[]
[]
[]
[]
[]
[]
["Bewerkingen",null,"Transport",null,"Gebruik",null,"Levensduur","Producteenheid","Forfaitair"]
["Leeg","-","Leeg",null,"Leeg","-","Leeg","Leeg","Standaard"]
["Diesel","l","Vrachtwagen (onbekend)",150,"Aardgas","m3","uur","Stuks","Eigen"]
["Aardgas","m3","Binnenvaart",0,"Elektriciteit (gebruiker)","kWh","dag","Kilogram"]
["Elektriciteit (grijs)","kWh","Vrachttrein",0,"Diesel","l","maand","Meter"]
["Elektriciteit (groen)","kWh","Vrachtwagen (EURO4)",150,"Benzine","l","jaar","m2"]
[null,null,"Vrachtwagen (EURO5)",150,null,null,"keer gebruik","m3"]
[null,null,"Vrachtwagen (EURO6)",150]
[null,null,"Vrachtwagen (biodiesel)",150]
[null,null,"Vrachtwagen (waterstof)",150]
[null,null,"Zeevaart",0]

{"sheet":"Forfaitaire afvalscenario's","index":28,"n_rows":69,"n_cols":16,"rows_kept":69,"cut":false,"hidden":true,"merged":[]}
[null,"Versie: november 2020 "]
["ID","Stroom","Specificatie","%\nverlies","Laten\nzitten","Stort","AVI","Recycling","Hergebruik"]
[1,"afwerkingen","verkleefd aan hout, kunststof, metaal",0,0,0,1,0,0,null,{"$f":"Table001__Page_1_2[[#This Row],[%\nverlies]]/100","v":0},{"$f":"Table001__Page_1_2[[#This Row],[Laten\nzitten]]/100","v":0},{"$f":"Table001__Page_1_2[[#This Row],[Stort]]/100","v":0},{"$f":"Table001__Page_1_2[[#This Row],[AVI]]/100","v":0.01},{"$f":"Table001__Page_1_2[[#This Row],[Recycling]]/100","v":0},{"$f":"Table001__Page_1_2[[#This Row],[Hergebruik]]/100","v":0}]
[2,"afwerkingen","verkleefd aan puin",0,0,1,0,0,0,null,{"$f":"Table001__Page_1_2[[#This Row],[%\nverlies]]/100","v":0},{"$f":"Table001__Page_1_2[[#This Row],[Laten\nzitten]]/100","v":0},{"$f":"Table001__Page_1_2[[#This Row],[Stort]]/100","v":0.01},{"$f":"Table001__Page_1_2[[#This Row],[AVI]]/100","v":0},{"$f":"Table001__Page_1_2[[#This Row],[Recycling]]/100","v":0},{"$f":"Table001__Page_1_2[[#This Row],[Hergebruik]]/100","v":0}]
[3,"aluminium, uit B&U","o.a. profielen, platen, leidingen",0,0,0.03,0.03,0.94,0,null,{"$f":"Table001__Page_1_2[[#This Row],[%\nverlies]]/100","v":0},{"$f":"Table001__Page_1_2[[#This Row],[Laten\nzitten]]/100","v":0},{"$f":"Table001__Page_1_2[[#This Row],[Stort]]/100","v":2.9999999999999997E-4},{"$f":"Table001__Page_1_2[[#This Row],[AVI]]/100","v":2.9999999999999997E-4},{"$f":"Table001__Page_1_2[[#This Row],[Recycling]]/100","v":9.3999999999999986E-3},{"$f":"Table001__Page_1_2[[#This Row],[Hergebruik]]/100","v":0}]
[4,"aluminium, uit GWW","o.a lichtmasten en randafwerkingen",0,0,0,0.03,0.97,0,null,{"$f":"Table001__Page_1_2[[#This Row],[%\nverlies]]/100","v":0},{"$f":"Table001__Page_1_2[[#This Row],[Laten\nzitten]]/100","v":0},{"$f":"Table001__Page_1_2[[#This Row],[Stort]]/100","v":0},{"$f":"Table001__Page_1_2[[#This Row],[AVI]]/100","v":2.9999999999999997E-4},{"$f":"Table001__Page_1_2[[#This Row],[Recycling]]/100","v":9.7000000000000003E-3},{"$f":"Table001__Page_1_2[[#This Row],[Hergebruik]]/100","v":0}]
[5,"asfalt",null,0,0,0.01,0,0.99,0,null,{"$f":"Table001__Page_1_2[[#This Row],[%\nverlies]]/100","v":0},{"$f":"Table001__Page_1_2[[#This Row],[Laten\nzitten]]/100","v":0},{"$f":"Table001__Page_1_2[[#This Row],[Stort]]/100","v":1E-4},{"$f":"Table001__Page_1_2[[#This Row],[AVI]]/100","v":0},{"$f":"Table001__Page_1_2[[#This Row],[Recycling]]/100","v":9.8999999999999991E-3},{"$f":"Table001__Page_1_2[[#This Row],[Hergebruik]]/100","v":0}]
[6,"asfaltgranulaatcement (agrac)",null,0,0,0.01,0,0.99,0,null,{"$f":"Table001__Page_1_2[[#This Row],[%\nverlies]]/100","v":0},{"$f":"Table001__Page_1_2[[#This Row],[Laten\nzitten]]/100","v":0},{"$f":"Table001__Page_1_2[[#This Row],[Stort]]/100","v":1E-4},{"$f":"Table001__Page_1_2[[#This Row],[AVI]]/100","v":0},{"$f":"Table001__Page_1_2[[#This Row],[Recycling]]/100","v":9.8999999999999991E-3},{"$f":"Table001__Page_1_2[[#This Row],[Hergebruik]]/100","v":0}]
[7,"beton","o.a. elementen, metselwerk, gewapend\nbeton",0,0,0.01,0,0.99,0,null,{"$f":"Table001__Page_1_2[[#This Row],[%\nverlies]]/100","v":0},{"$f":"Table001__Page_1_2[[#This Row],[Laten\nzitten]]/100","v":0},{"$f":"Table001__Page_1_2[[#This Row],[Stort]]/100","v":1E-4},{"$f":"Table001__Page_1_2[[#This Row],[AVI]]/100","v":0},{"$f":"Table001__Page_1_2[[#This Row],[Recycling]]/100","v":9.8999999999999991E-3},{"$f":"Table001__Page_1_2[[#This Row],[Hergebruik]]/100","v":0}]
[8,"beton, cellenbeton","o.a. elementen, blokken",0,0,0.01,0,0.99,0,null,{"$f":"Table001__Page_1_2[[#This Row],[%\nverlies]]/100","v":0},{"$f":"Table001__Page_1_2[[#This Row],[Laten\nzitten]]/100","v":0},{"$f":"Table001__Page_1_2[[#This Row],[Stort]]/100","v":1E-4},{"$f":"Table001__Page_1_2[[#This Row],[AVI]]/100","v":0},{"$f":"Table001__Page_1_2[[#This Row],[Recycling]]/100","v":9.8999999999999991E-3},{"$f":"Table001__Page_1_2[[#This Row],[Hergebruik]]/100","v":0}]
[9,"bitumen","o.a. dakbedekkingen",0,0,0.05,0.9,0.05,0,null,{"$f":"Table001__Page_1_2[[#This Row],[%\nverlies]]/100","v":0},{"$f":"Table001__Page_1_2[[#This Row],[Laten\nzitten]]/100","v":0},{"$f":"Table001__Page_1_2[[#This Row],[Stort]]/100","v":5.0000000000000001E-4},{"$f":"Table001__Page_1_2[[#This Row],[AVI]]/100","v":9.0000000000000011E-3},{"$f":"Table001__Page_1_2[[#This Row],[Recycling]]/100","v":5.0000000000000001E-4},{"$f":"Table001__Page_1_2[[#This Row],[Hergebruik]]/100","v":0}]
[10,"coating op staal uit GWW","verwijdering door middel van gritstralen",0,0,0.9,0.1,0,0,null,{"$f":"Table001__Page_1_2[[#This Row],[%\nverlies]]/100","v":0},{"$f":"Table001__Page_1_2[[#This Row],[Laten\nzitten]]/100","v":0},{"$f":"Table001__Page_1_2[[#This Row],[Stort]]/100","v":9.0000000000000011E-3},{"$f":"Table001__Page_1_2[[#This Row],[AVI]]/100","v":1E-3},{"$f":"Table001__Page_1_2[[#This Row],[Recycling]]/100","v":0},{"$f":"Table001__Page_1_2[[#This Row],[Hergebruik]]/100","v":0}]
[11,"elastomeren (o.a. epdm)","o.a. dakbedekkingen, folies",0,0,0.1,0.85,0.05,0,null,{"$f":"Table001__Page_1_2[[#This Row],[%\nverlies]]/100","v":0},{"$f":"Table001__Page_1_2[[#This Row],[Laten\nzitten]]/100","v":0},{"$f":"Table001__Page_1_2[[#This Row],[Stort]]/100","v":1E-3},{"$f":"Table001__Page_1_2[[#This Row],[AVI]]/100","v":8.5000000000000006E-3},{"$f":"Table001__Page_1_2[[#This Row],[Recycling]]/100","v":5.0000000000000001E-4},{"$f":"Table001__Page_1_2[[#This Row],[Hergebruik]]/100","v":0}]
[12,"eps","funderingen",0,0.4,0,0.5,0.1,0,null,{"$f":"Table001__Page_1_2[[#This Row],[%\nverlies]]/100","v":0},{"$f":"Table001__Page_1_2[[#This Row],[Laten\nzitten]]/100","v":4.0000000000000001E-3},{"$f":"Table001__Page_1_2[[#This Row],[Stort]]/100","v":0},{"$f":"Table001__Page_1_2[[#This Row],[AVI]]/100","v":5.0000000000000001E-3},{"$f":"Table001__Page_1_2[[#This Row],[Recycling]]/100","v":1E-3},{"$f":"Table001__Page_1_2[[#This Row],[Hergebruik]]/100","v":0}]
[13,"eps, overig","o.a. isolatie",0,0,0.05,0.9,0.05,0,null,{"$f":"Table001__Page_1_2[[#This Row],[%\nverlies]]/100","v":0},{"$f":"Table001__Page_1_2[[#This Row],[Laten\nzitten]]/100","v":0},{"$f":"Table001__Page_1_2[[#This Row],[Stort]]/100","v":5.0000000000000001E-4},{"$f":"Table001__Page_1_2[[#This Row],[AVI]]/100","v":9.0000000000000011E-3},{"$f":"Table001__Page_1_2[[#This Row],[Recycling]]/100","v":5.0000000000000001E-4},{"$f":"Table001__Page_1_2[[#This Row],[Hergebruik]]/100","v":0}]
[14,"fijnkeramisch","o.a. sanitair",0,0,0.15,0,0.8,0.05,null,{"$f":"Table001__Page_1_2[[#This Row],[%\nverlies]]/100","v":0},{"$f":"Table001__Page_1_2[[#This Row],[Laten\nzitten]]/100","v":0},{"$f":"Table001__Page_1_2[[#This Row],[Stort]]/100","v":1.5E-3},{"$f":"Table001__Page_1_2[[#This Row],[AVI]]/100","v":0},{"$f":"Table001__Page_1_2[[#This Row],[Recycling]]/100","v":8.0000000000000002E-3},{"$f":"Table001__Page_1_2[[#This Row],[Hergebruik]]/100","v":5.0000000000000001E-4}]
[15,"geen afval","leeg scenario",0,0,0,0,0,0,null,{"$f":"Table001__Page_1_2[[#This Row],[%\nverlies]]/100","v":0},{"$f":"Table001__Page_1_2[[#This Row],[Laten\nzitten]]/100","v":0},{"$f":"Table001__Page_1_2[[#This Row],[Stort]]/100","v":0},{"$f":"Table001__Page_1_2[[#This Row],[AVI]]/100","v":0},{"$f":"Table001__Page_1_2[[#This Row],[Recycling]]/100","v":0},{"$f":"Table001__Page_1_2[[#This Row],[Hergebruik]]/100","v":0}]
[16,"gips","o.a. blokken, platen",0,0,0.95,0,0.05,0,null,{"$f":"Table001__Page_1_2[[#This Row],[%\nverlies]]/100","v":0},{"$f":"Table001__Page_1_2[[#This Row],[Laten\nzitten]]/100","v":0},{"$f":"Table001__Page_1_2[[#This Row],[Stort]]/100","v":9.4999999999999998E-3},{"$f":"Table001__Page_1_2[[#This Row],[AVI]]/100","v":0},{"$f":"Table001__Page_1_2[[#This Row],[Recycling]]/100","v":5.0000000000000001E-4},{"$f":"Table001__Page_1_2[[#This Row],[Hergebruik]]/100","v":0}]
[17,"glas","o.a. vlakglas",0,0,0.3,0,0.7,0,null,{"$f":"Table001__Page_1_2[[#This Row],[%\nverlies]]/100","v":0},{"$f":"Table001__Page_1_2[[#This Row],[Laten\nzitten]]/100","v":0},{"$f":"Table001__Page_1_2[[#This Row],[Stort]]/100","v":3.0000000000000001E-3},{"$f":"Table001__Page_1_2[[#This Row],[AVI]]/100","v":0},{"$f":"Table001__Page_1_2[[#This Row],[Recycling]]/100","v":6.9999999999999993E-3},{"$f":"Table001__Page_1_2[[#This Row],[Hergebruik]]/100","v":0}]
[18,"glasschuim","isolatie",0,0,0.85,0.05,0.1,0,null,{"$f":"Table001__Page_1_2[[#This Row],[%\nverlies]]/100","v":0},{"$f":"Table001__Page_1_2[[#This Row],[Laten\nzitten]]/100","v":0},{"$f":"Table001__Page_1_2[[#This Row],[Stort]]/100","v":8.5000000000000006E-3},{"$f":"Table001__Page_1_2[[#This Row],[AVI]]/100","v":5.0000000000000001E-4},{"$f":"Table001__Page_1_2[[#This Row],[Recycling]]/100","v":1E-3},{"$f":"Table001__Page_1_2[[#This Row],[Hergebruik]]/100","v":0}]
[19,"glaswol","isolatie",0,0,0.85,0.05,0.1,0,null,{"$f":"Table001__Page_1_2[[#This Row],[%\nverlies]]/100","v":0},{"$f":"Table001__Page_1_2[[#This Row],[Laten\nzitten]]/100","v":0},{"$f":"Table001__Page_1_2[[#This Row],[Stort]]/100","v":8.5000000000000006E-3},{"$f":"Table001__Page_1_2[[#This Row],[AVI]]/100","v":5.0000000000000001E-4},{"$f":"Table001__Page_1_2[[#This Row],[Recycling]]/100","v":1E-3},{"$f":"Table001__Page_1_2[[#This Row],[Hergebruik]]/100","v":0}]
[20,"grind","ballast, verharding",0,0,0.01,0,0,0.99,null,{"$f":"Table001__Page_1_2[[#This Row],[%\nverlies]]/100","v":0},{"$f":"Table001__Page_1_2[[#This Row],[Laten\nzitten]]/100","v":0},{"$f":"Table001__Page_1_2[[#This Row],[Stort]]/100","v":1E-4},{"$f":"Table001__Page_1_2[[#This Row],[AVI]]/100","v":0},{"$f":"Table001__Page_1_2[[#This Row],[Recycling]]/100","v":0},{"$f":"Table001__Page_1_2[[#This Row],[Hergebruik]]/100","v":9.8999999999999991E-3}]
[21,"grofkeramisch","o.a. metselwerk, pannen",0,0,0.01,0,0.99,0,null,{"$f":"Table001__Page_1_2[[#This Row],[%\nverlies]]/100","v":0},{"$f":"Table001__Page_1_2[[#This Row],[Laten\nzitten]]/100","v":0},{"$f":"Table001__Page_1_2[[#This Row],[Stort]]/100","v":1E-4},{"$f":"Table001__Page_1_2[[#This Row],[AVI]]/100","v":0},{"$f":"Table001__Page_1_2[[#This Row],[Recycling]]/100","v":9.8999999999999991E-3},{"$f":"Table001__Page_1_2[[#This Row],[Hergebruik]]/100","v":0}]
[22,"hout, ‘schoon’","o.a. balken, planken",0,0,0.05,0.8,0.1,0.05,null,{"$f":"Table001__Page_1_2[[#This Row],[%\nverlies]]/100","v":0},{"$f":"Table001__Page_1_2[[#This Row],[Laten\nzitten]]/100","v":0},{"$f":"Table001__Page_1_2[[#This Row],[Stort]]/100","v":5.0000000000000001E-4},{"$f":"Table001__Page_1_2[[#This Row],[AVI]]/100","v":8.0000000000000002E-3},{"$f":"Table001__Page_1_2[[#This Row],[Recycling]]/100","v":1E-3},{"$f":"Table001__Page_1_2[[#This Row],[Hergebruik]]/100","v":5.0000000000000001E-4}]
[24,"hout, ‘schoon’","via restmateriaal",0,0,0.1,0.85,0.05,0,null,{"$f":"Table001__Page_1_2[[#This Row],[%\nverlies]]/100","v":0},{"$f":"Table001__Page_1_2[[#This Row],[Laten\nzitten]]/100","v":0},{"$f":"Table001__Page_1_2[[#This Row],[Stort]]/100","v":1E-3},{"$f":"Table001__Page_1_2[[#This Row],[AVI]]/100","v":8.5000000000000006E-3},{"$f":"Table001__Page_1_2[[#This Row],[Recycling]]/100","v":5.0000000000000001E-4},{"$f":"Table001__Page_1_2[[#This Row],[Hergebruik]]/100","v":0}]
[25,"hout, verontreinigd","o.a. geschilderd, verduurzaamd",0,0,0.05,0.95,0,0,null,{"$f":"Table001__Page_1_2[[#This Row],[%\nverlies]]/100","v":0},{"$f":"Table001__Page_1_2[[#This Row],[Laten\nzitten]]/100","v":0},{"$f":"Table001__Page_1_2[[#This Row],[Stort]]/100","v":5.0000000000000001E-4},{"$f":"Table001__Page_1_2[[#This Row],[AVI]]/100","v":9.4999999999999998E-3},{"$f":"Table001__Page_1_2[[#This Row],[Recycling]]/100","v":0},{"$f":"Table001__Page_1_2[[#This Row],[Hergebruik]]/100","v":0}]
[27,"hout, verontreinigd","via restmateriaal",0,0,0.1,0.9,0,0,null,{"$f":"Table001__Page_1_2[[#This Row],[%\nverlies]]/100","v":0},{"$f":"Table001__Page_1_2[[#This Row],[Laten\nzitten]]/100","v":0},{"$f":"Table001__Page_1_2[[#This Row],[Stort]]/100","v":1E-3},{"$f":"Table001__Page_1_2[[#This Row],[AVI]]/100","v":9.0000000000000011E-3},{"$f":"Table001__Page_1_2[[#This Row],[Recycling]]/100","v":0},{"$f":"Table001__Page_1_2[[#This Row],[Hergebruik]]/100","v":0}]
[28,"kalkzandsteen","o.a. elementen, metselwerk",0,0,0.01,0,0.99,0,null,{"$f":"Table001__Page_1_2[[#This Row],[%\nverlies]]/100","v":0},{"$f":"Table001__Page_1_2[[#This Row],[Laten\nzitten]]/100","v":0},{"$f":"Table001__Page_1_2[[#This Row],[Stort]]/100","v":1E-4},{"$f":"Table001__Page_1_2[[#This Row],[AVI]]/100","v":0},{"$f":"Table001__Page_1_2[[#This Row],[Recycling]]/100","v":9.8999999999999991E-3},{"$f":"Table001__Page_1_2[[#This Row],[Hergebruik]]/100","v":0}]
[29,"koper","o.a. platen, leidingen",0,0,0.05,0,0.95,0,null,{"$f":"Table001__Page_1_2[[#This Row],[%\nverlies]]/100","v":0},{"$f":"Table001__Page_1_2[[#This Row],[Laten\nzitten]]/100","v":0},{"$f":"Table001__Page_1_2[[#This Row],[Stort]]/100","v":5.0000000000000001E-4},{"$f":"Table001__Page_1_2[[#This Row],[AVI]]/100","v":0},{"$f":"Table001__Page_1_2[[#This Row],[Recycling]]/100","v":9.4999999999999998E-3},{"$f":"Table001__Page_1_2[[#This Row],[Hergebruik]]/100","v":0}]
[30,"koper, gemengd","elektriciteitsleidingen",0,0,0.1,0.05,0.85,0,null,{"$f":"Table001__Page_1_2[[#This Row],[%\nverlies]]/100","v":0},{"$f":"Table001__Page_1_2[[#This Row],[Laten\nzitten]]/100","v":0},{"$f":"Table001__Page_1_2[[#This Row],[Stort]]/100","v":1E-3},{"$f":"Table001__Page_1_2[[#This Row],[AVI]]/100","v":5.0000000000000001E-4},{"$f":"Table001__Page_1_2[[#This Row],[Recycling]]/100","v":8.5000000000000006E-3},{"$f":"Table001__Page_1_2[[#This Row],[Hergebruik]]/100","v":0}]
[31,"kunststoffen","via restmateriaal",0,0,0.2,0.8,0,0,null,{"$f":"Table001__Page_1_2[[#This Row],[%\nverlies]]/100","v":0},{"$f":"Table001__Page_1_2[[#This Row],[Laten\nzitten]]/100","v":0},{"$f":"Table001__Page_1_2[[#This Row],[Stort]]/100","v":2E-3},{"$f":"Table001__Page_1_2[[#This Row],[AVI]]/100","v":8.0000000000000002E-3},{"$f":"Table001__Page_1_2[[#This Row],[Recycling]]/100","v":0},{"$f":"Table001__Page_1_2[[#This Row],[Hergebruik]]/100","v":0}]
[32,"kunststoffen, overig","o.a. profielen, platen, leidingen",0,0,0,0.9,0.1,0,null,{"$f":"Table001__Page_1_2[[#This Row],[%\nverlies]]/100","v":0},{"$f":"Table001__Page_1_2[[#This Row],[Laten\nzitten]]/100","v":0},{"$f":"Table001__Page_1_2[[#This Row],[Stort]]/100","v":0},{"$f":"Table001__Page_1_2[[#This Row],[AVI]]/100","v":9.0000000000000011E-3},{"$f":"Table001__Page_1_2[[#This Row],[Recycling]]/100","v":1E-3},{"$f":"Table001__Page_1_2[[#This Row],[Hergebruik]]/100","v":0}]
[33,"kunststoffen, vezelversterkt","o.a. profielen, platen, leidingen",0,0,0,1,0,0,null,{"$f":"Table001__Page_1_2[[#This Row],[%\nverlies]]/100","v":0},{"$f":"Table001__Page_1_2[[#This Row],[Laten\nzitten]]/100","v":0},{"$f":"Table001__Page_1_2[[#This Row],[Stort]]/100","v":0},{"$f":"Table001__Page_1_2[[#This Row],[AVI]]/100","v":0.01},{"$f":"Table001__Page_1_2[[#This Row],[Recycling]]/100","v":0},{"$f":"Table001__Page_1_2[[#This Row],[Hergebruik]]/100","v":0}]
[34,"lood","o.a. slabben",0,0,0.05,0,0.95,0,null,{"$f":"Table001__Page_1_2[[#This Row],[%\nverlies]]/100","v":0},{"$f":"Table001__Page_1_2[[#This Row],[Laten\nzitten]]/100","v":0},{"$f":"Table001__Page_1_2[[#This Row],[Stort]]/100","v":5.0000000000000001E-4},{"$f":"Table001__Page_1_2[[#This Row],[AVI]]/100","v":0},{"$f":"Table001__Page_1_2[[#This Row],[Recycling]]/100","v":9.4999999999999998E-3},{"$f":"Table001__Page_1_2[[#This Row],[Hergebruik]]/100","v":0}]
[35,"metalen, gemengd","via restmateriaal",0,0,0.05,0.05,0.9,0,null,{"$f":"Table001__Page_1_2[[#This Row],[%\nverlies]]/100","v":0},{"$f":"Table001__Page_1_2[[#This Row],[Laten\nzitten]]/100","v":0},{"$f":"Table001__Page_1_2[[#This Row],[Stort]]/100","v":5.0000000000000001E-4},{"$f":"Table001__Page_1_2[[#This Row],[AVI]]/100","v":5.0000000000000001E-4},{"$f":"Table001__Page_1_2[[#This Row],[Recycling]]/100","v":9.0000000000000011E-3},{"$f":"Table001__Page_1_2[[#This Row],[Hergebruik]]/100","v":0}]
[36,"metalen, overig","o.a. bevestiging, hulpstukken",0,0,0.05,0.05,0.9,0,null,{"$f":"Table001__Page_1_2[[#This Row],[%\nverlies]]/100","v":0},{"$f":"Table001__Page_1_2[[#This Row],[Laten\nzitten]]/100","v":0},{"$f":"Table001__Page_1_2[[#This Row],[Stort]]/100","v":5.0000000000000001E-4},{"$f":"Table001__Page_1_2[[#This Row],[AVI]]/100","v":5.0000000000000001E-4},{"$f":"Table001__Page_1_2[[#This Row],[Recycling]]/100","v":9.0000000000000011E-3},{"$f":"Table001__Page_1_2[[#This Row],[Hergebruik]]/100","v":0}]
[37,"organisch","via restmateriaal",0,0,0.15,0.85,0,0,null,{"$f":"Table001__Page_1_2[[#This Row],[%\nverlies]]/100","v":0},{"$f":"Table001__Page_1_2[[#This Row],[Laten\nzitten]]/100","v":0},{"$f":"Table001__Page_1_2[[#This Row],[Stort]]/100","v":1.5E-3},{"$f":"Table001__Page_1_2[[#This Row],[AVI]]/100","v":8.5000000000000006E-3},{"$f":"Table001__Page_1_2[[#This Row],[Recycling]]/100","v":0},{"$f":"Table001__Page_1_2[[#This Row],[Hergebruik]]/100","v":0}]
[38,"organisch, overig","o.a. isolatie",0,0,0.05,0.95,0,0,null,{"$f":"Table001__Page_1_2[[#This Row],[%\nverlies]]/100","v":0},{"$f":"Table001__Page_1_2[[#This Row],[Laten\nzitten]]/100","v":0},{"$f":"Table001__Page_1_2[[#This Row],[Stort]]/100","v":5.0000000000000001E-4},{"$f":"Table001__Page_1_2[[#This Row],[AVI]]/100","v":9.4999999999999998E-3},{"$f":"Table001__Page_1_2[[#This Row],[Recycling]]/100","v":0},{"$f":"Table001__Page_1_2[[#This Row],[Hergebruik]]/100","v":0}]
[39,"plaatmateriaal, ‘schoon’","grote delen, o.a. bekleding",0,0,0.05,0.85,0.1,0,null,{"$f":"Table001__Page_1_2[[#This Row],[%\nverlies]]/100","v":0},{"$f":"Table001__Page_1_2[[#This Row],[Laten\nzitten]]/100","v":0},{"$f":"Table001__Page_1_2[[#This Row],[Stort]]/100","v":5.0000000000000001E-4},{"$f":"Table001__Page_1_2[[#This Row],[AVI]]/100","v":8.5000000000000006E-3},{"$f":"Table001__Page_1_2[[#This Row],[Recycling]]/100","v":1E-3},{"$f":"Table001__Page_1_2[[#This Row],[Hergebruik]]/100","v":0}]
[40,"plaatmateriaal, verontreinigd","grote delen, o.a. bekleding",0,0,0.05,0.95,0,0,null,{"$f":"Table001__Page_1_2[[#This Row],[%\nverlies]]/100","v":0},{"$f":"Table001__Page_1_2[[#This Row],[Laten\nzitten]]/100","v":0},{"$f":"Table001__Page_1_2[[#This Row],[Stort]]/100","v":5.0000000000000001E-4},{"$f":"Table001__Page_1_2[[#This Row],[AVI]]/100","v":9.4999999999999998E-3},{"$f":"Table001__Page_1_2[[#This Row],[Recycling]]/100","v":0},{"$f":"Table001__Page_1_2[[#This Row],[Hergebruik]]/100","v":0}]
[41,"polyolefinen (o.a. pe, pp)","o.a. leidingen, folies",0,0,0.1,0.85,0.05,0,null,{"$f":"Table001__Page_1_2[[#This Row],[%\nverlies]]/100","v":0},{"$f":"Table001__Page_1_2[[#This Row],[Laten\nzitten]]/100","v":0},{"$f":"Table001__Page_1_2[[#This Row],[Stort]]/100","v":1E-3},{"$f":"Table001__Page_1_2[[#This Row],[AVI]]/100","v":8.5000000000000006E-3},{"$f":"Table001__Page_1_2[[#This Row],[Recycling]]/100","v":5.0000000000000001E-4},{"$f":"Table001__Page_1_2[[#This Row],[Hergebruik]]/100","v":0}]
[42,"puin, gemengd","via restmateriaal",0,0,0.9,0.1,0,0,null,{"$f":"Table001__Page_1_2[[#This Row],[%\nverlies]]/100","v":0},{"$f":"Table001__Page_1_2[[#This Row],[Laten\nzitten]]/100","v":0},{"$f":"Table001__Page_1_2[[#This Row],[Stort]]/100","v":9.0000000000000011E-3},{"$f":"Table001__Page_1_2[[#This Row],[AVI]]/100","v":1E-3},{"$f":"Table001__Page_1_2[[#This Row],[Recycling]]/100","v":0},{"$f":"Table001__Page_1_2[[#This Row],[Hergebruik]]/100","v":0}]
[43,"pvc, folies","o.a. dakbedekkingen, waterkering",0,0,0.1,0.85,0.05,0,null,{"$f":"Table001__Page_1_2[[#This Row],[%\nverlies]]/100","v":0},{"$f":"Table001__Page_1_2[[#This Row],[Laten\nzitten]]/100","v":0},{"$f":"Table001__Page_1_2[[#This Row],[Stort]]/100","v":1E-3},{"$f":"Table001__Page_1_2[[#This Row],[AVI]]/100","v":8.5000000000000006E-3},{"$f":"Table001__Page_1_2[[#This Row],[Recycling]]/100","v":5.0000000000000001E-4},{"$f":"Table001__Page_1_2[[#This Row],[Hergebruik]]/100","v":0}]
[44,"pvc, kozijnprofielen",null,0,0,0.1,0.1,0.8,0,null,{"$f":"Table001__Page_1_2[[#This Row],[%\nverlies]]/100","v":0},{"$f":"Table001__Page_1_2[[#This Row],[Laten\nzitten]]/100","v":0},{"$f":"Table001__Page_1_2[[#This Row],[Stort]]/100","v":1E-3},{"$f":"Table001__Page_1_2[[#This Row],[AVI]]/100","v":1E-3},{"$f":"Table001__Page_1_2[[#This Row],[Recycling]]/100","v":8.0000000000000002E-3},{"$f":"Table001__Page_1_2[[#This Row],[Hergebruik]]/100","v":0}]
[45,"pvc, leidingen",null,0,0,0.1,0.2,0.7,0,null,{"$f":"Table001__Page_1_2[[#This Row],[%\nverlies]]/100","v":0},{"$f":"Table001__Page_1_2[[#This Row],[Laten\nzitten]]/100","v":0},{"$f":"Table001__Page_1_2[[#This Row],[Stort]]/100","v":1E-3},{"$f":"Table001__Page_1_2[[#This Row],[AVI]]/100","v":2E-3},{"$f":"Table001__Page_1_2[[#This Row],[Recycling]]/100","v":6.9999999999999993E-3},{"$f":"Table001__Page_1_2[[#This Row],[Hergebruik]]/100","v":0}]
[46,"schelpen","grondwerk",0,0,0.1,0,0.9,0,null,{"$f":"Table001__Page_1_2[[#This Row],[%\nverlies]]/100","v":0},{"$f":"Table001__Page_1_2[[#This Row],[Laten\nzitten]]/100","v":0},{"$f":"Table001__Page_1_2[[#This Row],[Stort]]/100","v":1E-3},{"$f":"Table001__Page_1_2[[#This Row],[AVI]]/100","v":0},{"$f":"Table001__Page_1_2[[#This Row],[Recycling]]/100","v":9.0000000000000011E-3},{"$f":"Table001__Page_1_2[[#This Row],[Hergebruik]]/100","v":0}]
[47,"staal, damwanden","permanente toepassing, inc. Afroesting",0.45,0.35,0,0,0.57999999999999996,7.0000000000000007E-2,null,{"$f":"Table001__Page_1_2[[#This Row],[%\nverlies]]/100","v":4.5000000000000005E-3},{"$f":"Table001__Page_1_2[[#This Row],[Laten\nzitten]]/100","v":3.4999999999999996E-3},{"$f":"Table001__Page_1_2[[#This Row],[Stort]]/100","v":0},{"$f":"Table001__Page_1_2[[#This Row],[AVI]]/100","v":0},{"$f":"Table001__Page_1_2[[#This Row],[Recycling]]/100","v":5.7999999999999996E-3},{"$f":"Table001__Page_1_2[[#This Row],[Hergebruik]]/100","v":7.000000000000001E-4}]
[48,"staal, licht","o.a. profielen, platen, leidingen",0,0,0.01,0,0.87,0.12,null,{"$f":"Table001__Page_1_2[[#This Row],[%\nverlies]]/100","v":0},{"$f":"Table001__Page_1_2[[#This Row],[Laten\nzitten]]/100","v":0},{"$f":"Table001__Page_1_2[[#This Row],[Stort]]/100","v":1E-4},{"$f":"Table001__Page_1_2[[#This Row],[AVI]]/100","v":0},{"$f":"Table001__Page_1_2[[#This Row],[Recycling]]/100","v":8.6999999999999994E-3},{"$f":"Table001__Page_1_2[[#This Row],[Hergebruik]]/100","v":1.1999999999999999E-3}]
[49,"staal, wapening","gewapend betonnen constructies",0,0,0.05,0,0.95,0,null,{"$f":"Table001__Page_1_2[[#This Row],[%\nverlies]]/100","v":0},{"$f":"Table001__Page_1_2[[#This Row],[Laten\nzitten]]/100","v":0},{"$f":"Table001__Page_1_2[[#This Row],[Stort]]/100","v":5.0000000000000001E-4},{"$f":"Table001__Page_1_2[[#This Row],[AVI]]/100","v":0},{"$f":"Table001__Page_1_2[[#This Row],[Recycling]]/100","v":9.4999999999999998E-3},{"$f":"Table001__Page_1_2[[#This Row],[Hergebruik]]/100","v":0}]
[50,"staal, zink / verzinkt staal","o.a. profielen, platen, zinklagen",0,0,0.05,0,0.95,0,null,{"$f":"Table001__Page_1_2[[#This Row],[%\nverlies]]/100","v":0},{"$f":"Table001__Page_1_2[[#This Row],[Laten\nzitten]]/100","v":0},{"$f":"Table001__Page_1_2[[#This Row],[Stort]]/100","v":5.0000000000000001E-4},{"$f":"Table001__Page_1_2[[#This Row],[AVI]]/100","v":0},{"$f":"Table001__Page_1_2[[#This Row],[Recycling]]/100","v":9.4999999999999998E-3},{"$f":"Table001__Page_1_2[[#This Row],[Hergebruik]]/100","v":0}]
[52,"steenachtig, overig","o.a. natuursteen, breuksteen",0,0,0.01,0,0.99,0,null,{"$f":"Table001__Page_1_2[[#This Row],[%\nverlies]]/100","v":0},{"$f":"Table001__Page_1_2[[#This Row],[Laten\nzitten]]/100","v":0},{"$f":"Table001__Page_1_2[[#This Row],[Stort]]/100","v":1E-4},{"$f":"Table001__Page_1_2[[#This Row],[AVI]]/100","v":0},{"$f":"Table001__Page_1_2[[#This Row],[Recycling]]/100","v":9.8999999999999991E-3},{"$f":"Table001__Page_1_2[[#This Row],[Hergebruik]]/100","v":0}]
[53,"steenwol","isolatie",0,0,0.85,0.05,0.1,0,null,{"$f":"Table001__Page_1_2[[#This Row],[%\nverlies]]/100","v":0},{"$f":"Table001__Page_1_2[[#This Row],[Laten\nzitten]]/100","v":0},{"$f":"Table001__Page_1_2[[#This Row],[Stort]]/100","v":8.5000000000000006E-3},{"$f":"Table001__Page_1_2[[#This Row],[AVI]]/100","v":5.0000000000000001E-4},{"$f":"Table001__Page_1_2[[#This Row],[Recycling]]/100","v":1E-3},{"$f":"Table001__Page_1_2[[#This Row],[Hergebruik]]/100","v":0}]
[54,"volkern","bekleding",0,0,0.05,0.75,0.2,0,null,{"$f":"Table001__Page_1_2[[#This Row],[%\nverlies]]/100","v":0},{"$f":"Table001__Page_1_2[[#This Row],[Laten\nzitten]]/100","v":0},{"$f":"Table001__Page_1_2[[#This Row],[Stort]]/100","v":5.0000000000000001E-4},{"$f":"Table001__Page_1_2[[#This Row],[AVI]]/100","v":7.4999999999999997E-3},{"$f":"Table001__Page_1_2[[#This Row],[Recycling]]/100","v":2E-3},{"$f":"Table001__Page_1_2[[#This Row],[Hergebruik]]/100","v":0}]
[55,"xps","isolatie",0,0,0.05,0.9,0.05,0,null,{"$f":"Table001__Page_1_2[[#This Row],[%\nverlies]]/100","v":0},{"$f":"Table001__Page_1_2[[#This Row],[Laten\nzitten]]/100","v":0},{"$f":"Table001__Page_1_2[[#This Row],[Stort]]/100","v":5.0000000000000001E-4},{"$f":"Table001__Page_1_2[[#This Row],[AVI]]/100","v":9.0000000000000011E-3},{"$f":"Table001__Page_1_2[[#This Row],[Recycling]]/100","v":5.0000000000000001E-4},{"$f":"Table001__Page_1_2[[#This Row],[Hergebruik]]/100","v":0}]
[56,"zand, grond",null,0,0,0.01,0,0,0.99,null,{"$f":"Table001__Page_1_2[[#This Row],[%\nverlies]]/100","v":0},{"$f":"Table001__Page_1_2[[#This Row],[Laten\nzitten]]/100","v":0},{"$f":"Table001__Page_1_2[[#This Row],[Stort]]/100","v":1E-4},{"$f":"Table001__Page_1_2[[#This Row],[AVI]]/100","v":0},{"$f":"Table001__Page_1_2[[#This Row],[Recycling]]/100","v":0},{"$f":"Table001__Page_1_2[[#This Row],[Hergebruik]]/100","v":9.8999999999999991E-3}]
[57,"hout, waterbouw","rijshout matten",0,0.5,0.25,0.25,0,0,null,{"$f":"Table001__Page_1_2[[#This Row],[%\nverlies]]/100","v":0},{"$f":"Table001__Page_1_2[[#This Row],[Laten\nzitten]]/100","v":5.0000000000000001E-3},{"$f":"Table001__Page_1_2[[#This Row],[Stort]]/100","v":2.5000000000000001E-3},{"$f":"Table001__Page_1_2[[#This Row],[AVI]]/100","v":2.5000000000000001E-3},{"$f":"Table001__Page_1_2[[#This Row],[Recycling]]/100","v":0},{"$f":"Table001__Page_1_2[[#This Row],[Hergebruik]]/100","v":0}]
[58,"hout, waterbouw","damwanden, vlonders, steigers, beschoeiing",0,0.1,0,0.9,0,0,null,{"$f":"Table001__Page_1_2[[#This Row],[%\nverlies]]/100","v":0},{"$f":"Table001__Page_1_2[[#This Row],[Laten\nzitten]]/100","v":1E-3},{"$f":"Table001__Page_1_2[[#This Row],[Stort]]/100","v":0},{"$f":"Table001__Page_1_2[[#This Row],[AVI]]/100","v":9.0000000000000011E-3},{"$f":"Table001__Page_1_2[[#This Row],[Recycling]]/100","v":0},{"$f":"Table001__Page_1_2[[#This Row],[Hergebruik]]/100","v":0}]
[59,"PE, waterbouw","geotextiel weefsel",0,0.2,0.4,0.4,0,0,null,{"$f":"Table001__Page_1_2[[#This Row],[%\nverlies]]/100","v":0},{"$f":"Table001__Page_1_2[[#This Row],[Laten\nzitten]]/100","v":2E-3},{"$f":"Table001__Page_1_2[[#This Row],[Stort]]/100","v":4.0000000000000001E-3},{"$f":"Table001__Page_1_2[[#This Row],[AVI]]/100","v":4.0000000000000001E-3},{"$f":"Table001__Page_1_2[[#This Row],[Recycling]]/100","v":0},{"$f":"Table001__Page_1_2[[#This Row],[Hergebruik]]/100","v":0}]
[60,"steenachtig, waterbouw","waterbouw/breuksteen",0,0.1,0,0,0.9,0,null,{"$f":"Table001__Page_1_2[[#This Row],[%\nverlies]]/100","v":0},{"$f":"Table001__Page_1_2[[#This Row],[Laten\nzitten]]/100","v":1E-3},{"$f":"Table001__Page_1_2[[#This Row],[Stort]]/100","v":0},{"$f":"Table001__Page_1_2[[#This Row],[AVI]]/100","v":0},{"$f":"Table001__Page_1_2[[#This Row],[Recycling]]/100","v":9.0000000000000011E-3},{"$f":"Table001__Page_1_2[[#This Row],[Hergebruik]]/100","v":0}]
[61,"beton, heipalen, vrijeruimte","heipalen vrije ruimte",0,0,0.01,0,0.99,0,null,{"$f":"Table001__Page_1_2[[#This Row],[%\nverlies]]/100","v":0},{"$f":"Table001__Page_1_2[[#This Row],[Laten\nzitten]]/100","v":0},{"$f":"Table001__Page_1_2[[#This Row],[Stort]]/100","v":1E-4},{"$f":"Table001__Page_1_2[[#This Row],[AVI]]/100","v":0},{"$f":"Table001__Page_1_2[[#This Row],[Recycling]]/100","v":9.8999999999999991E-3},{"$f":"Table001__Page_1_2[[#This Row],[Hergebruik]]/100","v":0}]
[62,"beton, heipalen, bebouwdeom-geving","heipalen bebouwde omgeving",0,0.8,0.01,0,0.19,0,null,{"$f":"Table001__Page_1_2[[#This Row],[%\nverlies]]/100","v":0},{"$f":"Table001__Page_1_2[[#This Row],[Laten\nzitten]]/100","v":8.0000000000000002E-3},{"$f":"Table001__Page_1_2[[#This Row],[Stort]]/100","v":1E-4},{"$f":"Table001__Page_1_2[[#This Row],[AVI]]/100","v":0},{"$f":"Table001__Page_1_2[[#This Row],[Recycling]]/100","v":1.9E-3},{"$f":"Table001__Page_1_2[[#This Row],[Hergebruik]]/100","v":0}]
[63,"beton, straatwerk","opsluitbanden en goten beton",0,0,0.01,0,0.49,0.5,null,{"$f":"Table001__Page_1_2[[#This Row],[%\nverlies]]/100","v":0},{"$f":"Table001__Page_1_2[[#This Row],[Laten\nzitten]]/100","v":0},{"$f":"Table001__Page_1_2[[#This Row],[Stort]]/100","v":1E-4},{"$f":"Table001__Page_1_2[[#This Row],[AVI]]/100","v":0},{"$f":"Table001__Page_1_2[[#This Row],[Recycling]]/100","v":4.8999999999999998E-3},{"$f":"Table001__Page_1_2[[#This Row],[Hergebruik]]/100","v":5.0000000000000001E-3}]
[64,"beton, steen, straatwerk","straatstenen beton en natuursteen",0,0,0.01,0,0.04,0.95,null,{"$f":"Table001__Page_1_2[[#This Row],[%\nverlies]]/100","v":0},{"$f":"Table001__Page_1_2[[#This Row],[Laten\nzitten]]/100","v":0},{"$f":"Table001__Page_1_2[[#This Row],[Stort]]/100","v":1E-4},{"$f":"Table001__Page_1_2[[#This Row],[AVI]]/100","v":0},{"$f":"Table001__Page_1_2[[#This Row],[Recycling]]/100","v":4.0000000000000002E-4},{"$f":"Table001__Page_1_2[[#This Row],[Hergebruik]]/100","v":9.4999999999999998E-3}]
[65,"staal, constructieprofielen",null,0,0,0.01,0,0.94,0.05,null,{"$f":"Table001__Page_1_2[[#This Row],[%\nverlies]]/100","v":0},{"$f":"Table001__Page_1_2[[#This Row],[Laten\nzitten]]/100","v":0},{"$f":"Table001__Page_1_2[[#This Row],[Stort]]/100","v":1E-4},{"$f":"Table001__Page_1_2[[#This Row],[AVI]]/100","v":0},{"$f":"Table001__Page_1_2[[#This Row],[Recycling]]/100","v":9.3999999999999986E-3},{"$f":"Table001__Page_1_2[[#This Row],[Hergebruik]]/100","v":5.0000000000000001E-4}]
[66,"staal, bevestigingsmiddelen",null,0,0,0.01,0,0.99,0,null,{"$f":"Table001__Page_1_2[[#This Row],[%\nverlies]]/100","v":0},{"$f":"Table001__Page_1_2[[#This Row],[Laten\nzitten]]/100","v":0},{"$f":"Table001__Page_1_2[[#This Row],[Stort]]/100","v":1E-4},{"$f":"Table001__Page_1_2[[#This Row],[AVI]]/100","v":0},{"$f":"Table001__Page_1_2[[#This Row],[Recycling]]/100","v":9.8999999999999991E-3},{"$f":"Table001__Page_1_2[[#This Row],[Hergebruik]]/100","v":0}]
[67,"PE/PP, grondwerken","geotextiel en geogrids",0,0.25,0,0.7,0.05,0,null,{"$f":"Table001__Page_1_2[[#This Row],[%\nverlies]]/100","v":0},{"$f":"Table001__Page_1_2[[#This Row],[Laten\nzitten]]/100","v":2.5000000000000001E-3},{"$f":"Table001__Page_1_2[[#This Row],[Stort]]/100","v":0},{"$f":"Table001__Page_1_2[[#This Row],[AVI]]/100","v":6.9999999999999993E-3},{"$f":"Table001__Page_1_2[[#This Row],[Recycling]]/100","v":5.0000000000000001E-4},{"$f":"Table001__Page_1_2[[#This Row],[Hergebruik]]/100","v":0}]
[68,"drainage buizen","horizontale drainbuizen",0,0.8,0.02,0.18,0,0,null,{"$f":"Table001__Page_1_2[[#This Row],[%\nverlies]]/100","v":0},{"$f":"Table001__Page_1_2[[#This Row],[Laten\nzitten]]/100","v":8.0000000000000002E-3},{"$f":"Table001__Page_1_2[[#This Row],[Stort]]/100","v":2.0000000000000001E-4},{"$f":"Table001__Page_1_2[[#This Row],[AVI]]/100","v":1.8E-3},{"$f":"Table001__Page_1_2[[#This Row],[Recycling]]/100","v":0},{"$f":"Table001__Page_1_2[[#This Row],[Hergebruik]]/100","v":0}]
[69,"drainage buizen","verticale drains",0,1,0,0,0,0,null,{"$f":"Table001__Page_1_2[[#This Row],[%\nverlies]]/100","v":0},{"$f":"Table001__Page_1_2[[#This Row],[Laten\nzitten]]/100","v":0.01},{"$f":"Table001__Page_1_2[[#This Row],[Stort]]/100","v":0},{"$f":"Table001__Page_1_2[[#This Row],[AVI]]/100","v":0},{"$f":"Table001__Page_1_2[[#This Row],[Recycling]]/100","v":0},{"$f":"Table001__Page_1_2[[#This Row],[Hergebruik]]/100","v":0}]
[70,"EPS","ophoogmateriaal",0,0.1,0,0,0.2,0.7,null,{"$f":"Table001__Page_1_2[[#This Row],[%\nverlies]]/100","v":0},{"$f":"Table001__Page_1_2[[#This Row],[Laten\nzitten]]/100","v":1E-3},{"$f":"Table001__Page_1_2[[#This Row],[Stort]]/100","v":0},{"$f":"Table001__Page_1_2[[#This Row],[AVI]]/100","v":0},{"$f":"Table001__Page_1_2[[#This Row],[Recycling]]/100","v":2E-3},{"$f":"Table001__Page_1_2[[#This Row],[Hergebruik]]/100","v":6.9999999999999993E-3}]

{"sheet":"Toelichting_milieu_effecten","index":29,"n_rows":72,"n_cols":2,"rows_kept":72,"cut":false,"hidden":true,"merged":[]}
[]
[null,"Hier moet een toelichting komen van alle milieu effect categorien. In paar zinnen -> willen we engelse of nederlandse termen gebruiken?"]
[]
[null,"abiotic depletion, non fuel (AD) - Uitputting van abiotische stoffen , excl. fossiele brandstoffen"]
[null,"Dit effect beschrijft de bijdrage aan de uitputtig van abiotische (dus niet van dierlijke of plantaardige oorsprong) grondstoffen. Fossiele brandstoffen is ingedeeld in een aparte categorie en valt hier dus niet-onder."]
[null,"Omdat de voorraad niet-biogene grondstoffen op aarde eindig is, kunnen er door winning van deze grondstoffen tekorten ontstaan. Daarnaast en zeer relevant is dat grondstofschaarste ook leveringsrisico's met zich meebrengt. Dit geldt met name voor vooral voor bedrijven in de maakindustrie die afhankelijk zijn van zeldzame aardmetalen."]
[]
[null,"abiotic depletion, fuel (AD) - Uitputting van fossiele brandstoffen"]
[null,"Dit effect beschrijft de bijdrage aan de uitputting van fossiele brandstoffen, zoals olie, aardgas en steenkool."]
[null,"Omdat de voorraad fossiele brandstoffen op aarde eindig is, kunnen er door winning van deze grondstoffen tekorten ontstaan. Daarnaast zorgt schaarste van fossiele brandstoffen voor leveringsrisico's en afhankelijkheid van geopolitieke ontwikkelingen. "]
[]
[null,"global warming (GWP) - klimaatverandering"]
[null,"Klimaatverandering veroorzaakt een aantal mechanismes die van invloed zijn op de ecosystemen op aarde, maar ook op de gezondheid van de mens."]
[null,"De voorspelde effecten van klimaatverandering door toedoen van menselijk handelen manifesteert het duidelijkst in een stijging of daling van de gemiddelde temperatuur, veranderingen van windrichtingen en van de waterkringloop en daarmee van de bewolking en de hoeveelheid neerslag op aarde. Deze veranderingen hebben invloed op verwoestijning, overstromingen en de grootte van ijskappen en gletsjers. Op langere termijn heeft klimaatverandering ook invloed op zeestromingen, het zeeniveau en het zoutgehalte van het zeewater."]
[null,"De bijdrage aan klimaatverandering wordt uitgedrukt in kg CO2equivalenten. "]
[null,"Nederland heeft in de klimaatwet vastgelegd dat de CO2 emissie in 2030 49% CO2 mlager moet zijn dan in 1990 en in 2050 95% lager dan in 1990 (https://www.rijksoverheid.nl/onderwerpen/klimaatverandering/klimaatbeleid)"]
[null,"Klimaatverandering: wat zijn de gevolgen? | Milieu Centraal"]
[]
[null,"ozone layer depletion (ODP) - aantasting van de ozonlaag"]
[null,"Ozone layer depletion beschrijft de afbraak van ozon door chemische reacties in de atmosfeer onder invloed van zonlicht. "]
[null,"Ozon is belangrijk voor het leven op aarde omdat de ozonlaag ons beschermt tegen schadelijk UV-licht. Blootstelling aan UV-licht kan huidkanker en staar veroorzaken."]
[]
[null,"photochemical oxidation (POCP) - fotochemische oxidatie (zomersmog)"]
[null,"Fotochemische oxidatie is een vorm van luchtvervuiling en wordt ook wel zomersmog genoemd. Deze zomersmog kan in de troposfeer onder bepaalde omstandigheden (lage luchtvochtigheid, weinig wind) ontstaan als zonlicht reageert met stiklstofoxiden en vluchtige organische stoffen (VOS), bijv door de verbranding van fossiele brandstoffen. Door deze reactie ontstaan verontreinigende stoffen zoals ozon. Op grote hoogte beschermt ozon ons, maar in de lagere atmosfeer is ozon schadelijk.\n"]
[null,"Fotochemische oxidatie veroorzaakt ademhalingsproblemen, oogirritatie, schade aan sommigen materialen (bijvoorbeeld: plastic, rubber) en schade aan gewassen."]
[null,"Smog | Luchtvervuiling | Milieu Centraal"]
[]
[null,"acidification (AP) - verzuring"]
[null,"Verzuring beschrijft de verandering van de chemische samenstelling, het zuurder worden, van de bodem of waterlichamen."]
[null,"Verzuring van bodem of water wordt veroorzaakt door de uitstoot van zwaveloxiden (SOx), stikstofoxiden (NOx),  ammoniak (NH3) en vluchtige organische stoffen (VOS). Landbouw, verkeer en de industrie zijn de belangrijkste bronnen van verzurende stoffen."]
[null,"Verzuring tast het ecosysteem aan. De vervuilende stoffen dringen via bladeren en wortels planten en bomen binnen, waardoor deze vatbaarder worden voor ziekten. Ook rivieren en meren raken verzuurd, wat negatieve gevolgen heeft voor planten en dieren die in het water leven leven of eruit drinken. Verzuring tast ook het grondwater aan. Omdat twee derde van het Nederlandse drinkwater uit de grond komt, is het een mogelijke bedreiging voor de volksgezondheid. "]
[]
[null,"eutrophication (EP) - vermesting"]
[null,"Vermesting is een toename van het gehalte aan stikstof en fosfor in de bodem of het waterlichaam. Hierdoor wordt de natuurlijke chemische balans in de bodem of het water verstoort."]
[null,"Vermesting ontstaat door verontreiniging van de lucht met de stoffen ammoniak en stikstofoxiden. Dezelfde stoffen plus zwaveldioxide zorgen voor verzuring. Landbouw, verkeer en de industrie zijn de belangrijkste bronnen van vermestende en verzurende stoffen."]
[null,"Vermesting veroorzaakt schade aan ecosystemen en verlies aan biodiversiteit."]
[]
[null,"human toxicity (HT) - humane toxiciteit"]
[null,"De uitstoot van sommige stoffen (zoals zware metalen) kan gevolgen hebben voor de menselijke gezondheid. De schadelijkheid van de stof en de mate van blootstelling aan de stof bepaalt uiteindelijk de gezondheidsschade. Toxische stoffen komen het menselijk lichaam binnen via lucht (ademhaling) en via ons voedsel."]
[]
[null,"Ecotoxicity, fresh water (FAETP) - zoetwater ecotoxiciteit"]
[null,"Zoetwater ecotoxiciteit beschrijft de impact die toxische stoffen hebben op het zoetwaterlichaam en het leven erin. De schadelijkheid van de stof en de hoeveelheid die in het water terecht komt bepaalt de mate vaan verstoring van het zoetwater ecosysteem."]
[]
[null,"Ecotoxcity, marine water (MAETP) - zoutwater ecotoxiciteit"]
[null,"Zoutwater ecotoxiciteit beschrijft de impact die toxische stoffen hebben op zeeen en oceanen en het leven erin. De schadelijkheid van de stof en de hoeveelheid die in het water terecht komt bepaalt de mate vaan verstoring van het zoutwater ecosysteem."]
[]
[null,"Ecotoxicity, terrestric (TETP) - terrestische ecotoxiciteit"]
[null,"Terrestische ecotoxiciteit beschrijft de impact die toxische stoffen hebben op ecosystemen op het land. De schadelijkheid van de stof en de hoeveelheid die in het terrestische milieu terecht komt bepaalt de mate vaan verstoring van het ecosysteem op land."]
[]
[null,"Energy, primary, renewable (MJ) - Hernieuwbaar primair energiegebruik"]
[null,"Hernieuwbare energie komt van bronnen waarvan de voorraad op aarde oneindig is (bijv. zonne energie, wind energie) of aangevuld kan worden binnen de termijn waarmee ze gewonnen worden (bijv. biomassa)."]
[null,"Deze impactcategorie beschrijft de energie die tijdens de hele levensloop van het product (van winning grondstoffen tot en met afdanking) gebruikt wordt en die gewonnen wordt uit hernieuwbare bronnen."]
[]
[null,"Energy, primary, non-renewable (MJ) - Niet-hernieuwbaar primair energiegebruik"]
[null,"Niet hernieuwbare energie komt van bronnen waarvan de voorraad op aarde eindig is of waarvan het aanvullen van de voorraad veel meer tijd kost dan de snelheid waarmee ze gewonnen worden. Voorbeelden van niet hernieuwbare energiebronnen zijn olie, aardgas, steenkool."]
[null,"Deze impactcategorie beschrijft de energie die tijdens de hele levensloop van het product (van winning grondstoffen tot en met afdanking) gebruikt wordt en die gewonnen wordt uit niet-hernieuwbare bronnen."]
[]
[null,"Water, fresh water use (m3) - Zoetwatergebruik"]
[null,"Zoetwater is essentieel voor het leven op aarde. Deze milieu indicator geeft aan hoeveel zoetwater er nodig is tijdens de hele levenscyclus van het product (van winning grondstoffen tot en met afdanking)."]
[null,"Wanneer zoetwatervoorraden overmatig gebruikt worden kunnen er watertekorten ontstaan. Ook kan de kwaliteit van het beschibare water verminderen, wat een risico is voor de gezondheid van de mens."]
[]
[null,"Waste, hazardous (kg) - gevaarlijk afval"]
[null,"Hazardous waste is een maat voor de hoeveelheid gevaarlijk afval die tijdens de levenscyclus (van winning grondstoffen tot en met afdanking) van het product ontstaat."]
[null,"Gevaarlijk afval is afval dat substantiële schade kn veroorzamekn aan ecosystemen en/of de menselijke gezondheid. Voorbeelden van gevaarlijk afval is afval dat zware metalen, polychloorbifenylen (pcb's) of (landbouw)chemicaliën bevat. Ook afgewerkte olie, oliefilters, batterijen, accu's, oplosmiddelen en beitsbaden zijn gevaarlijk afval. Vanwege de schadelijke bestanddelen mag gevaarlijk afval niet bij het gewone afval. Het moet apart ingezameld en verwerkt worden."]
[null,"Radioactief afval is weliswaar gevaarlijk, maar valt volgens de Nederlandse wetgeving niet onder gevaarlijk afval. Hiervoor gelden aparte regels."]
[]
[null,"Waste, non hazardous (kg) - niet-gevaarlijk afval"]
[null,"Non-hazardous waste is een maat voor de hoeveelheid niet-gevaarlijk afval die tijdens de levenscyclus (van winning grondstoffen tot en met afdanking) van het product ontstaat."]
[null,"Niet-gevaarlijk afval vormt in tegenstelling tot gevaarlijk geen directe bedreiging voor de menselijke gezondheid of het milieu. Papier, plastic, glas,  enz. zijn ongevaarlijk afval omdat ze van nature niet giftig zijn.Echter, wanneer niet-gevaarlijk afval in het milieu terecht komt kan het wel degelijk schade veroorzaken aan het ecosysteem. Een voorbeeld van vervuiling door niet-gevaarlijk plastic is de plastic soep."]
[]
[null,"Waste, radioactive (kg) - Radioactief afval"]
[null,"Radioactief afval, ook wel nucleair afval of kernafval genoemd,  is afval dat radioactieve isotopen bevat of daarmee gecontamineerd is, in concentraties hoger dan wat minimaal meetbaar is en waarvoor geen praktische toepassingen bekend zijn. Afhankelijk van onder meer de halveringstijd is dit afval gedurende korte of langere tijd (tot wel honderdduizenden jaren) gevaarlijk voor de volksgezondheid en het milieu als het in het milieu terecht komt."]